{"text_format":"1","workbook":"xlsx","n_sheets":18,"sheets":["ACCUEIL","TCD GRAPHIQUE","TCD","SP - 3","SP - 2","SP - 1","ETUDIANTS","LISTE DES SITUATIONS","COUVERTURE SP","COUVERTURE ET","MODELE","PROFIL AUTOMATIQUE","COMPETENCES","SYNTHESE","PARAMETRES","CCF - E4","CCF - E4 MANUEL","NOTATIONS"],"not_rendered":{"charts":2,"images":1,"macros":1,"external_links":0,"defined_names":24,"comments":0,"pivot_tables":1},"unopened":[{"sheet":"TCD GRAPHIQUE","index":1,"reason":"not_a_worksheet"}],"bounds":{"document_bytes":16777216,"sheet_cells":100000,"rows_first":2000,"rows_last":500,"rows_between":2000,"halvings":0,"cell_chars":16384,"cell_head_chars":4096},"cells_cut":0,"cells_raw":0,"read":"whole","date_system":"1900"}

{"sheet":"ACCUEIL","index":0,"n_rows":24,"n_cols":12,"rows_kept":24,"cut":false,"hidden":false,"merged":[[2,4,2,6],[4,4,4,6],[2,0,2,2],[16,8,17,9],[18,8,18,9],[4,0,4,2],[22,8,22,9],[23,8,23,9],[16,11,20,13],[6,0,8,2],[19,8,19,9],[20,8,20,9],[12,0,12,2],[19,4,20,6]]}
[]
[]
["Gestion de la relation avec les clients et fournisseurs",null,null,null,"GESTION DES OBSERVATIONS ET ÉVALUATIONS PAR COMPÉTENCES"]
[]
[{"$f":"IF(PARAMETRES!A4=\"\",\"\",CONCATENATE(PARAMETRES!A4,\" - \",PARAMETRES!A6,\" - \",PARAMETRES!A8))","v":"Établissement de démo - DUNKERQUE - 2022"},null,null,null,"SITUATION A"]
[]
["BTS Gestion de la PME",null,null,null,"GÉRER LES ÉTUDIANTS",null,"GÉRER LES PARAMÈTRES GLOBAUX"]
[]
[null,null,null,null,"CRÉER UNE SITUATION D'ÉVALUATION",null,"GÉRER LA LISTE DES ÉVALUATIONS"]
[]
[null,null,null,null,"AFFICHER LA SYNTHÈSE DES ÉVALUATIONS"]
[]
[null,null,null,null,"VÉRIFIER LA COUVERTURE DES COMPÉTENCES PAR SP",null,"VÉRIFIER LA COUVERTURE DES COMPÉTENCES PAR ÉTUDIANT"]
[]
[null,null,null,null,"ACCÉDER À LA GRILLE D'ÉVALUATION SITUATION A - AUTOMATIQUE",null,"ACCÉDER À LA GRILLE D'ÉVALUATION SITUATION A - MANUELLE"]
[]
[null,null,null,null,null,null,null,null,"C. KYDTS ®",null,null,"AIDE EN LIGNE"]
[]
[null,null,null,null,null,null,null,null,"Enseignant Eco-Gestion"]
[null,null,null,null,"Toute réutilisation commerciale est interdite sans accord de l'auteur.",null,null,null,"Académie de Lille"]
[null,null,null,null,null,null,null,null,"christophe.kydts@ac-lille.fr"]
[]
[null,null,null,null,null,null,null,null,"Numéro de version"]
[null,null,null,null,null,null,null,null,"V2.21"]

{"sheet":"TCD","index":2,"n_rows":12,"n_cols":2,"rows_kept":12,"cut":false,"hidden":false,"merged":[]}
["ETUDIANT","C"]
["TYPE SITUATION APPRENTISSAGE","(Tous)"]
[]
["Étiquettes de lignes","Moyenne de VALEUR COMPETENCE"]
["C111 - Rechercher des clients par prospection",4]
["C112 - Rechercher des clients  pour répondre à un appel d'offres",3]
["C12.1 - Traiter la demande du client (de la demande de devis jusqu'à la facturation)",3]
["C13.1 - Informer, conseiller, orienter",3.5]
["C14 - Rechercher et sélectionner les fournisseurs",3]
["C15.1 - Passer des commandes d'achat et d'immobilisation et les contrôler, valider le règlement",3]
["C13.2 - Traiter les réclamations",2]
["Total général",3]

{"sheet":"SP - 3","index":3,"n_rows":14,"n_cols":19,"rows_kept":14,"cut":false,"hidden":false,"merged":[[0,15,0,16],[0,17,0,18],[1,3,1,4],[1,5,1,6],[1,7,1,8],[1,9,1,10],[1,11,1,12],[1,13,1,14],[1,15,1,16],[1,17,1,18],[0,3,0,4],[0,5,0,6],[0,7,0,8],[0,9,0,10],[0,11,0,12],[0,13,0,14],[2,15,2,16],[2,17,2,18],[3,3,3,4],[3,5,3,6],[3,7,3,8],[3,9,3,10],[3,11,3,12],[3,13,3,14],[3,15,3,16],[3,17,3,18],[2,3,2,4],[2,5,2,6],[2,7,2,8],[2,9,2,10],[2,11,2,12],[2,13,2,14],[8,11,8,12],[8,13,8,14],[8,15,8,16],[8,17,8,18],[6,2,6,4],[8,1,8,2],[8,3,8,4],[8,5,8,6],[8,7,8,8],[8,9,8,10]]}
["Subit",1,{"$f":"IFERROR(VLOOKUP(B8,INDIC_PERF,2,FALSE),\"\")","v":"Besoin non compris ou non évalués."},{"$f":"IFERROR(VLOOKUP($D$8,INDIC_PERF,2,FALSE),\"\")","v":"Réponse à la demande du client inexistante ou non adaptée car demande non comprise ou contexte de la situation professionnelle non appréhendé."},null,{"$f":"IFERROR(VLOOKUP(F8,INDIC_PERF,2,FALSE),\"\")","v":""},null,{"$f":"IFERROR(VLOOKUP(H8,INDIC_PERF,2,FALSE),\"\")","v":""},null,{"$f":"IFERROR(VLOOKUP(J8,INDIC_PERF,2,FALSE),\"\")","v":""},null,{"$f":"IFERROR(VLOOKUP(L8,INDIC_PERF,2,FALSE),\"\")","v":""},null,{"$f":"IFERROR(VLOOKUP(N8,INDIC_PERF,2,FALSE),\"\")","v":""},null,{"$f":"IFERROR(VLOOKUP(P8,INDIC_PERF,2,FALSE),\"\")","v":""},null,{"$f":"IFERROR(VLOOKUP(R8,INDIC_PERF,2,FALSE),\"\")","v":""}]
["Exécute",2,{"$f":"IFERROR(VLOOKUP(B8,INDIC_PERF,3,FALSE),\"\")","v":"Traitement du besoin partiellement conduit et/ou adapté."},{"$f":"IFERROR(VLOOKUP(D8,INDIC_PERF,3,FALSE),\"\")","v":"Analyse insuffisante de la situation professionnelle nécessitant une aide extérieure pour traiter les réclamations. Des ajustements sont encore nécessaires pour parvenir au résultat attendu."},null,{"$f":"IFERROR(VLOOKUP(F8,INDIC_PERF,3,FALSE),\"\")","v":""},null,{"$f":"IFERROR(VLOOKUP(H8,INDIC_PERF,3,FALSE),\"\")","v":""},null,{"$f":"IFERROR(VLOOKUP(J8,INDIC_PERF,3,FALSE),\"\")","v":""},null,{"$f":"IFERROR(VLOOKUP(L8,INDIC_PERF,3,FALSE),\"\")","v":""},null,{"$f":"IFERROR(VLOOKUP(N8,INDIC_PERF,3,FALSE),\"\")","v":""},null,{"$f":"IFERROR(VLOOKUP(P8,INDIC_PERF,3,FALSE),\"\")","v":""},null,{"$f":"IFERROR(VLOOKUP(R8,INDIC_PERF,3,FALSE),\"\")","v":""}]
["Maîtrise",3,{"$f":"IFERROR(VLOOKUP(B8,INDIC_PERF,4,FALSE),\"\")","v":"Opérations d’achats conformes au besoin, suivies et contrôlées (réception, règlements) en lien avec le contexte (processus d’achat, CGA, fournisseurs qualifiés)."},{"$f":"IFERROR(VLOOKUP(D8,INDIC_PERF,4,FALSE),\"\")","v":"Analyse de la situation professionnelle permettant un traitement efficace des réclamations formulées par le client."},null,{"$f":"IFERROR(VLOOKUP(F8,INDIC_PERF,4,FALSE),\"\")","v":""},null,{"$f":"IFERROR(VLOOKUP(H8,INDIC_PERF,4,FALSE),\"\")","v":""},null,{"$f":"IFERROR(VLOOKUP(J8,INDIC_PERF,4,FALSE),\"\")","v":""},null,{"$f":"IFERROR(VLOOKUP(L8,INDIC_PERF,4,FALSE),\"\")","v":""},null,{"$f":"IFERROR(VLOOKUP(N8,INDIC_PERF,4,FALSE),\"\")","v":""},null,{"$f":"IFERROR(VLOOKUP(P8,INDIC_PERF,4,FALSE),\"\")","v":""},null,{"$f":"IFERROR(VLOOKUP(R8,INDIC_PERF,4,FALSE),\"\")","v":""}]
["Est expert",4,{"$f":"IFERROR(VLOOKUP(B8,INDIC_PERF,5,FALSE),\"\")","v":"Capacité à repérer les procédures de contrôles et à les améliorer si nécessaire."},{"$f":"IFERROR(VLOOKUP(D8,INDIC_PERF,5,FALSE),\"\")","v":"Capacité à analyser et à améliorer le traitement des réclamations, en fonction notamment des coûts de non qualité (seulement si l’amélioration se justifie)."},null,{"$f":"IFERROR(VLOOKUP(F8,INDIC_PERF,5,FALSE),\"\")","v":""},null,{"$f":"IFERROR(VLOOKUP(H8,INDIC_PERF,5,FALSE),\"\")","v":""},null,{"$f":"IFERROR(VLOOKUP(J8,INDIC_PERF,5,FALSE),\"\")","v":""},null,{"$f":"IFERROR(VLOOKUP(L8,INDIC_PERF,5,FALSE),\"\")","v":""},null,{"$f":"IFERROR(VLOOKUP(N8,INDIC_PERF,5,FALSE),\"\")","v":""},null,{"$f":"IFERROR(VLOOKUP(P8,INDIC_PERF,5,FALSE),\"\")","v":""},null,{"$f":"IFERROR(VLOOKUP(R8,INDIC_PERF,5,FALSE),\"\")","v":""}]
["NON ÉVALUÉ","NE","masque"]
["ACCUEIL",null,"NB COMPÉTENCES ÉVALUÉES",{"$f":"COUNTA(B9:S9)","v":2},"NUMERO DE LA SP",3]
["Accéder à la synthèse","TITRE","TEST 03",null,null,"DATE","2021-12-01","SP","EVALUATION COMPETENCE SURVEILLÉE"]
["Accéder à la liste des SP",{"$f":"IFERROR(VLOOKUP(B9,COMPET,2,FALSE),\"\")","v":"C151"},{"$f":"IF(B9=\"\",\"Sélectionnez une compétence à évaluer\", \"\")","v":""},{"$f":"IFERROR(VLOOKUP(D9,COMPET,2,FALSE),\"\")","v":"C132"},{"$f":"IF(D9=\"\",\"Sélectionnez une compétence à évaluer\", \"\")","v":""},{"$f":"IFERROR(VLOOKUP(F9,COMPET,2,FALSE),\"\")","v":""},{"$f":"IF(F9=\"\",\"Sélectionnez une compétence à évaluer\", \"\")","v":"Sélectionnez une compétence à évaluer"},{"$f":"IFERROR(VLOOKUP(H9,COMPET,2,FALSE),\"\")","v":""},{"$f":"IF(H9=\"\",\"Sélectionnez une compétence à évaluer\", \"\")","v":"Sélectionnez une compétence à évaluer"},{"$f":"IFERROR(VLOOKUP(J9,COMPET,2,FALSE),\"\")","v":""},{"$f":"IF(J9=\"\",\"Sélectionnez une compétence à évaluer\", \"\")","v":"Sélectionnez une compétence à évaluer"},{"$f":"IFERROR(VLOOKUP(L9,COMPET,2,FALSE),\"\")","v":""},{"$f":"IF(L9=\"\",\"Sélectionnez une compétence à évaluer\", \"\")","v":"Sélectionnez une compétence à évaluer"},{"$f":"IFERROR(VLOOKUP(N9,COMPET,2,FALSE),\"\")","v":""},{"$f":"IF(N9=\"\",\"Sélectionnez une compétence à évaluer\", \"\")","v":"Sélectionnez une compétence à évaluer"},{"$f":"IFERROR(VLOOKUP(P9,COMPET,2,FALSE),\"\")","v":""},{"$f":"IF(P9=\"\",\"Sélectionnez une compétence à évaluer\", \"\")","v":"Sélectionnez une compétence à évaluer"},{"$f":"IFERROR(VLOOKUP(R9,COMPET,2,FALSE),\"\")","v":""},{"$f":"IF(R9=\"\",\"Sélectionnez une compétence à évaluer\", \"\")","v":"Sélectionnez une compétence à évaluer"}]
["Sélectionnez les compétences à évaluer -->","C15.1 - Passer des commandes d'achat et d'immobilisation et les contrôler, valider le règlement",null,"C13.2 - Traiter les réclamations"]
["ETUDIANTS","ÉVAL","Commentaire","ÉVAL","Commentaire","ÉVAL","Commentaire","ÉVAL","Commentaire","ÉVAL","Commentaire","ÉVAL","Commentaire","ÉVAL","Commentaire","ÉVAL","Commentaire","ÉVAL","Commentaire"]
["A",4,null,3]
["B",2,null,4]
["C",3,null,2]
["D",4,null,1]

{"sheet":"SP - 2","index":4,"n_rows":14,"n_cols":19,"rows_kept":14,"cut":false,"hidden":false,"merged":[[8,11,8,12],[8,13,8,14],[8,15,8,16],[8,17,8,18],[6,2,6,4],[8,1,8,2],[8,3,8,4],[8,5,8,6],[8,7,8,8],[8,9,8,10],[2,15,2,16],[2,17,2,18],[3,3,3,4],[3,5,3,6],[3,7,3,8],[3,9,3,10],[3,11,3,12],[3,13,3,14],[3,15,3,16],[3,17,3,18],[2,3,2,4],[2,5,2,6],[2,7,2,8],[2,9,2,10],[2,11,2,12],[2,13,2,14],[0,15,0,16],[0,17,0,18],[1,3,1,4],[1,5,1,6],[1,7,1,8],[1,9,1,10],[1,11,1,12],[1,13,1,14],[1,15,1,16],[1,17,1,18],[0,3,0,4],[0,5,0,6],[0,7,0,8],[0,9,0,10],[0,11,0,12],[0,13,0,14]]}
["Subit",1,{"$f":"IFERROR(VLOOKUP(B8,INDIC_PERF,2,FALSE),\"\")","v":"Réponse à la demande du client inexistante ou non adaptée car demande non comprise ou contexte de la situation professionnelle non appréhendé."},{"$f":"IFERROR(VLOOKUP($D$8,INDIC_PERF,2,FALSE),\"\")","v":"Réponse à la demande du client inexistante ou non adaptée car demande non comprise ou contexte de la situation professionnelle non appréhendé."},null,{"$f":"IFERROR(VLOOKUP(F8,INDIC_PERF,2,FALSE),\"\")","v":"Choix non adapté car la demande n’est pas comprise ou le contexte de la situation professionnelle n’est pas appréhendé."},null,{"$f":"IFERROR(VLOOKUP(H8,INDIC_PERF,2,FALSE),\"\")","v":"Besoin non compris ou non évalués."},null,{"$f":"IFERROR(VLOOKUP(J8,INDIC_PERF,2,FALSE),\"\")","v":""},null,{"$f":"IFERROR(VLOOKUP(L8,INDIC_PERF,2,FALSE),\"\")","v":""},null,{"$f":"IFERROR(VLOOKUP(N8,INDIC_PERF,2,FALSE),\"\")","v":""},null,{"$f":"IFERROR(VLOOKUP(P8,INDIC_PERF,2,FALSE),\"\")","v":""},null,{"$f":"IFERROR(VLOOKUP(R8,INDIC_PERF,2,FALSE),\"\")","v":""}]
["Exécute",2,{"$f":"IFERROR(VLOOKUP(B8,INDIC_PERF,3,FALSE),\"\")","v":"Analyse insuffisante de la situation professionnelle nécessitant une aide extérieure pour accueillir, informer, conseiller. \nDes ajustements sont encore nécessaires pour parvenir au résultat attendu."},{"$f":"IFERROR(VLOOKUP(D8,INDIC_PERF,3,FALSE),\"\")","v":"Analyse insuffisante de la situation professionnelle nécessitant une aide extérieure pour traiter les réclamations. Des ajustements sont encore nécessaires pour parvenir au résultat attendu."},null,{"$f":"IFERROR(VLOOKUP(F8,INDIC_PERF,3,FALSE),\"\")","v":"Analyse et démarche insuffisantes de la situation professionnelle nécessitant une aide extérieure systématique pour élaborer le cahier des charges et pour choisir et mettre en œuvre l’outil de comparaison."},null,{"$f":"IFERROR(VLOOKUP(H8,INDIC_PERF,3,FALSE),\"\")","v":"Traitement du besoin partiellement conduit et/ou adapté."},null,{"$f":"IFERROR(VLOOKUP(J8,INDIC_PERF,3,FALSE),\"\")","v":""},null,{"$f":"IFERROR(VLOOKUP(L8,INDIC_PERF,3,FALSE),\"\")","v":""},null,{"$f":"IFERROR(VLOOKUP(N8,INDIC_PERF,3,FALSE),\"\")","v":""},null,{"$f":"IFERROR(VLOOKUP(P8,INDIC_PERF,3,FALSE),\"\")","v":""},null,{"$f":"IFERROR(VLOOKUP(R8,INDIC_PERF,3,FALSE),\"\")","v":""}]
["Maîtrise",3,{"$f":"IFERROR(VLOOKUP(B8,INDIC_PERF,4,FALSE),\"\")","v":"Analyse de la situation professionnelle permettant un accueil adapté, une délivrance d’informations et de conseils adaptés à la demande du client."},{"$f":"IFERROR(VLOOKUP(D8,INDIC_PERF,4,FALSE),\"\")","v":"Analyse de la situation professionnelle permettant un traitement efficace des réclamations formulées par le client."},null,{"$f":"IFERROR(VLOOKUP(F8,INDIC_PERF,4,FALSE),\"\")","v":"Analyse de la situation professionnelle nécessitant quelques explications complémentaires quant à l’élaboration du cahier des charges reflétant les besoins de la PME. Choix du fournisseur et sélection argumentée et justifiée, en toute autonomie."},null,{"$f":"IFERROR(VLOOKUP(H8,INDIC_PERF,4,FALSE),\"\")","v":"Opérations d’achats conformes au besoin, suivies et contrôlées (réception, règlements) en lien avec le contexte (processus d’achat, CGA, fournisseurs qualifiés)."},null,{"$f":"IFERROR(VLOOKUP(J8,INDIC_PERF,4,FALSE),\"\")","v":""},null,{"$f":"IFERROR(VLOOKUP(L8,INDIC_PERF,4,FALSE),\"\")","v":""},null,{"$f":"IFERROR(VLOOKUP(N8,INDIC_PERF,4,FALSE),\"\")","v":""},null,{"$f":"IFERROR(VLOOKUP(P8,INDIC_PERF,4,FALSE),\"\")","v":""},null,{"$f":"IFERROR(VLOOKUP(R8,INDIC_PERF,4,FALSE),\"\")","v":""}]
["Est expert",4,{"$f":"IFERROR(VLOOKUP(B8,INDIC_PERF,5,FALSE),\"\")","v":"Capacité à analyser et à améliorer la procédure d’accueil (seulement si l’amélioration se justifie)."},{"$f":"IFERROR(VLOOKUP(D8,INDIC_PERF,5,FALSE),\"\")","v":"Capacité à analyser et à améliorer le traitement des réclamations, en fonction notamment des coûts de non qualité (seulement si l’amélioration se justifie)."},null,{"$f":"IFERROR(VLOOKUP(F8,INDIC_PERF,5,FALSE),\"\")","v":"Capacité à analyser, et à améliorer la procédure de qualification des fournisseurs si nécessaire."},null,{"$f":"IFERROR(VLOOKUP(H8,INDIC_PERF,5,FALSE),\"\")","v":"Capacité à repérer les procédures de contrôles et à les améliorer si nécessaire."},null,{"$f":"IFERROR(VLOOKUP(J8,INDIC_PERF,5,FALSE),\"\")","v":""},null,{"$f":"IFERROR(VLOOKUP(L8,INDIC_PERF,5,FALSE),\"\")","v":""},null,{"$f":"IFERROR(VLOOKUP(N8,INDIC_PERF,5,FALSE),\"\")","v":""},null,{"$f":"IFERROR(VLOOKUP(P8,INDIC_PERF,5,FALSE),\"\")","v":""},null,{"$f":"IFERROR(VLOOKUP(R8,INDIC_PERF,5,FALSE),\"\")","v":""}]
["NON ÉVALUÉ","NE","masque"]
["ACCUEIL",null,"NB COMPÉTENCES ÉVALUÉES",{"$f":"COUNTA(B9:S9)","v":4},"NUMERO DE LA SP",2]
["Accéder à la synthèse","TITRE","test 02",null,null,"DATE","2021-10-01","SP","EVALUATION COMPETENCE SURVEILLÉE"]
["Accéder à la liste des SP",{"$f":"IFERROR(VLOOKUP(B9,COMPET,2,FALSE),\"\")","v":"C131"},{"$f":"IF(B9=\"\",\"Sélectionnez une compétence à évaluer\", \"\")","v":""},{"$f":"IFERROR(VLOOKUP(D9,COMPET,2,FALSE),\"\")","v":"C132"},{"$f":"IF(D9=\"\",\"Sélectionnez une compétence à évaluer\", \"\")","v":""},{"$f":"IFERROR(VLOOKUP(F9,COMPET,2,FALSE),\"\")","v":"C140"},{"$f":"IF(F9=\"\",\"Sélectionnez une compétence à évaluer\", \"\")","v":""},{"$f":"IFERROR(VLOOKUP(H9,COMPET,2,FALSE),\"\")","v":"C151"},{"$f":"IF(H9=\"\",\"Sélectionnez une compétence à évaluer\", \"\")","v":""},{"$f":"IFERROR(VLOOKUP(J9,COMPET,2,FALSE),\"\")","v":""},{"$f":"IF(J9=\"\",\"Sélectionnez une compétence à évaluer\", \"\")","v":"Sélectionnez une compétence à évaluer"},{"$f":"IFERROR(VLOOKUP(L9,COMPET,2,FALSE),\"\")","v":""},{"$f":"IF(L9=\"\",\"Sélectionnez une compétence à évaluer\", \"\")","v":"Sélectionnez une compétence à évaluer"},{"$f":"IFERROR(VLOOKUP(N9,COMPET,2,FALSE),\"\")","v":""},{"$f":"IF(N9=\"\",\"Sélectionnez une compétence à évaluer\", \"\")","v":"Sélectionnez une compétence à évaluer"},{"$f":"IFERROR(VLOOKUP(P9,COMPET,2,FALSE),\"\")","v":""},{"$f":"IF(P9=\"\",\"Sélectionnez une compétence à évaluer\", \"\")","v":"Sélectionnez une compétence à évaluer"},{"$f":"IFERROR(VLOOKUP(R9,COMPET,2,FALSE),\"\")","v":""},{"$f":"IF(R9=\"\",\"Sélectionnez une compétence à évaluer\", \"\")","v":"Sélectionnez une compétence à évaluer"}]
["Sélectionnez les compétences à évaluer -->","C13.1 - Informer, conseiller, orienter",null,"C13.2 - Traiter les réclamations",null,"C14 - Rechercher et sélectionner les fournisseurs",null,"C15.1 - Passer des commandes d'achat et d'immobilisation et les contrôler, valider le règlement"]
["ETUDIANTS","ÉVAL","Commentaire","ÉVAL","Commentaire","ÉVAL","Commentaire","ÉVAL","Commentaire","ÉVAL","Commentaire","ÉVAL","Commentaire","ÉVAL","Commentaire","ÉVAL","Commentaire","ÉVAL","Commentaire"]
["A",4,null,3,null,3,null,3]
["B",4,null,4,null,2,null,3]
["C",4,null,2,null,3,null,3]
["D",3,null,2,null,2,null,3]

{"sheet":"SP - 1","index":5,"n_rows":14,"n_cols":19,"rows_kept":14,"cut":false,"hidden":false,"merged":[[8,11,8,12],[8,13,8,14],[8,15,8,16],[8,17,8,18],[6,2,6,4],[8,1,8,2],[8,3,8,4],[8,5,8,6],[8,7,8,8],[8,9,8,10],[2,15,2,16],[2,17,2,18],[3,3,3,4],[3,5,3,6],[3,7,3,8],[3,9,3,10],[3,11,3,12],[3,13,3,14],[3,15,3,16],[3,17,3,18],[2,3,2,4],[2,5,2,6],[2,7,2,8],[2,9,2,10],[2,11,2,12],[2,13,2,14],[0,15,0,16],[0,17,0,18],[1,3,1,4],[1,5,1,6],[1,7,1,8],[1,9,1,10],[1,11,1,12],[1,13,1,14],[1,15,1,16],[1,17,1,18],[0,3,0,4],[0,5,0,6],[0,7,0,8],[0,9,0,10],[0,11,0,12],[0,13,0,14]]}
["Subit",1,{"$f":"IFERROR(VLOOKUP(B8,INDIC_PERF,2,FALSE),\"\")","v":"Pas d’identification de la cible, démarche de prospection suivant un protocole sans que le choix soit argumenté. Documents présentant l’offre commerciale pas adaptés à la cible et au contexte."},{"$f":"IFERROR(VLOOKUP($D$8,INDIC_PERF,2,FALSE),\"\")","v":"Dossier de réponse à l’avis de marché public ne respectant pas la procédure.\nDossier d’appel d’offres irrecevable."},null,{"$f":"IFERROR(VLOOKUP(F8,INDIC_PERF,2,FALSE),\"\")","v":"Réponse à la demande n’est pas adaptée car la demande n’est pas comprise ou le contexte de la situation professionnelle n’est pas appréhendé"},null,{"$f":"IFERROR(VLOOKUP(H8,INDIC_PERF,2,FALSE),\"\")","v":"Réponse à la demande du client inexistante ou non adaptée car demande non comprise ou contexte de la situation professionnelle non appréhendé."},null,{"$f":"IFERROR(VLOOKUP(J8,INDIC_PERF,2,FALSE),\"\")","v":""},null,{"$f":"IFERROR(VLOOKUP(L8,INDIC_PERF,2,FALSE),\"\")","v":""},null,{"$f":"IFERROR(VLOOKUP(N8,INDIC_PERF,2,FALSE),\"\")","v":""},null,{"$f":"IFERROR(VLOOKUP(P8,INDIC_PERF,2,FALSE),\"\")","v":""},null,{"$f":"IFERROR(VLOOKUP(R8,INDIC_PERF,2,FALSE),\"\")","v":""}]
["Exécute",2,{"$f":"IFERROR(VLOOKUP(B8,INDIC_PERF,3,FALSE),\"\")","v":"Prospection conduite partiellement : Cible de prospection identifiée. Les documents présentant l’offre sont conçus à partir d’indications quant à la méthode et au plan d’action. Mise en place imprécise d’outils de suivi mais pas d’évaluation (ou non adaptés)."},{"$f":"IFERROR(VLOOKUP(D8,INDIC_PERF,3,FALSE),\"\")","v":"Identification partielle des pièces justificatives pour constituer le dossier de réponse.\nMise en place d’outils de suivi mais pas d’évaluation (ou non adaptés)."},null,{"$f":"IFERROR(VLOOKUP(F8,INDIC_PERF,3,FALSE),\"\")","v":"Réponse partiellement adaptée \nRéponse nécessitant systématiquement une aide extérieure (parvient à répondre mais systématiquement guidé par exemple : il faut créer le client, réaliser un devis …)."},null,{"$f":"IFERROR(VLOOKUP(H8,INDIC_PERF,3,FALSE),\"\")","v":"Analyse insuffisante de la situation professionnelle nécessitant une aide extérieure pour accueillir, informer, conseiller. \nDes ajustements sont encore nécessaires pour parvenir au résultat attendu."},null,{"$f":"IFERROR(VLOOKUP(J8,INDIC_PERF,3,FALSE),\"\")","v":""},null,{"$f":"IFERROR(VLOOKUP(L8,INDIC_PERF,3,FALSE),\"\")","v":""},null,{"$f":"IFERROR(VLOOKUP(N8,INDIC_PERF,3,FALSE),\"\")","v":""},null,{"$f":"IFERROR(VLOOKUP(P8,INDIC_PERF,3,FALSE),\"\")","v":""},null,{"$f":"IFERROR(VLOOKUP(R8,INDIC_PERF,3,FALSE),\"\")","v":""}]
["Maîtrise",3,{"$f":"IFERROR(VLOOKUP(B8,INDIC_PERF,4,FALSE),\"\")","v":"Analyse de la situation de gestion qui permet une identification pertinente de la cible, la mise en œuvre d’une méthode de prospection avec des documents adaptés et d’un plan d’action aidée par le questionnement des enseignants. \nMise en place d’outils de suivi et d’évaluation adaptés"},{"$f":"IFERROR(VLOOKUP(D8,INDIC_PERF,4,FALSE),\"\")","v":"Analyse de l’avis de marché public, la constitution d’un dossier de réponse respectant la procédure (avec une aide minime extérieure) et les délais. \nMise en place d’outils de suivi et d’évaluation adaptés."},null,{"$f":"IFERROR(VLOOKUP(F8,INDIC_PERF,4,FALSE),\"\")","v":"Réponse adaptée au client en autonomie en lien avec le contexte (en fonction de la demande, de la relation avec le client, du processus de vente, des CGV…) : actualisation des données, documents commerciaux conformes en toute autonomie.\nCapacité à assurer le suivi de cette demande, le contrôle et apporter d’éventuelles modifications."},null,{"$f":"IFERROR(VLOOKUP(H8,INDIC_PERF,4,FALSE),\"\")","v":"Analyse de la situation professionnelle permettant un accueil adapté, une délivrance d’informations et de conseils adaptés à la demande du client."},null,{"$f":"IFERROR(VLOOKUP(J8,INDIC_PERF,4,FALSE),\"\")","v":""},null,{"$f":"IFERROR(VLOOKUP(L8,INDIC_PERF,4,FALSE),\"\")","v":""},null,{"$f":"IFERROR(VLOOKUP(N8,INDIC_PERF,4,FALSE),\"\")","v":""},null,{"$f":"IFERROR(VLOOKUP(P8,INDIC_PERF,4,FALSE),\"\")","v":""},null,{"$f":"IFERROR(VLOOKUP(R8,INDIC_PERF,4,FALSE),\"\")","v":""}]
["Est expert",4,{"$f":"IFERROR(VLOOKUP(B8,INDIC_PERF,5,FALSE),\"\")","v":"Capacité à identifier d’autres cibles de prospection.\nEst capable de proposer d’autres actions de prospection avec des méthodes et des plans d’actions adaptés. "},{"$f":"IFERROR(VLOOKUP(D8,INDIC_PERF,5,FALSE),\"\")","v":"Constitution du dossier de réponse en toute autonomie."},null,{"$f":"IFERROR(VLOOKUP(F8,INDIC_PERF,5,FALSE),\"\")","v":"Capacité à prendre en charge la demande du client et les opérations de suivi, de contrôle, de modification en toute autonomie et avec réactivité et anticipation."},null,{"$f":"IFERROR(VLOOKUP(H8,INDIC_PERF,5,FALSE),\"\")","v":"Capacité à analyser et à améliorer la procédure d’accueil (seulement si l’amélioration se justifie)."},null,{"$f":"IFERROR(VLOOKUP(J8,INDIC_PERF,5,FALSE),\"\")","v":""},null,{"$f":"IFERROR(VLOOKUP(L8,INDIC_PERF,5,FALSE),\"\")","v":""},null,{"$f":"IFERROR(VLOOKUP(N8,INDIC_PERF,5,FALSE),\"\")","v":""},null,{"$f":"IFERROR(VLOOKUP(P8,INDIC_PERF,5,FALSE),\"\")","v":""},null,{"$f":"IFERROR(VLOOKUP(R8,INDIC_PERF,5,FALSE),\"\")","v":""}]
["NON ÉVALUÉ","NE","masque"]
["ACCUEIL",null,"NB COMPÉTENCES ÉVALUÉES",{"$f":"COUNTA(B9:S9)","v":4},"NUMERO DE LA SP",1]
["Accéder à la synthèse","TITRE","TEST 01",null,null,"DATE","2021-09-01","SP","DEVOIR MAISON"]
["Accéder à la liste des SP",{"$f":"IFERROR(VLOOKUP(B9,COMPET,2,FALSE),\"\")","v":"C111"},{"$f":"IF(B9=\"\",\"Sélectionnez une compétence à évaluer\", \"\")","v":""},{"$f":"IFERROR(VLOOKUP(D9,COMPET,2,FALSE),\"\")","v":"C112"},{"$f":"IF(D9=\"\",\"Sélectionnez une compétence à évaluer\", \"\")","v":""},{"$f":"IFERROR(VLOOKUP(F9,COMPET,2,FALSE),\"\")","v":"C121"},{"$f":"IF(F9=\"\",\"Sélectionnez une compétence à évaluer\", \"\")","v":""},{"$f":"IFERROR(VLOOKUP(H9,COMPET,2,FALSE),\"\")","v":"C131"},{"$f":"IF(H9=\"\",\"Sélectionnez une compétence à évaluer\", \"\")","v":""},{"$f":"IFERROR(VLOOKUP(J9,COMPET,2,FALSE),\"\")","v":""},{"$f":"IF(J9=\"\",\"Sélectionnez une compétence à évaluer\", \"\")","v":"Sélectionnez une compétence à évaluer"},{"$f":"IFERROR(VLOOKUP(L9,COMPET,2,FALSE),\"\")","v":""},{"$f":"IF(L9=\"\",\"Sélectionnez une compétence à évaluer\", \"\")","v":"Sélectionnez une compétence à évaluer"},{"$f":"IFERROR(VLOOKUP(N9,COMPET,2,FALSE),\"\")","v":""},{"$f":"IF(N9=\"\",\"Sélectionnez une compétence à évaluer\", \"\")","v":"Sélectionnez une compétence à évaluer"},{"$f":"IFERROR(VLOOKUP(P9,COMPET,2,FALSE),\"\")","v":""},{"$f":"IF(P9=\"\",\"Sélectionnez une compétence à évaluer\", \"\")","v":"Sélectionnez une compétence à évaluer"},{"$f":"IFERROR(VLOOKUP(R9,COMPET,2,FALSE),\"\")","v":""},{"$f":"IF(R9=\"\",\"Sélectionnez une compétence à évaluer\", \"\")","v":"Sélectionnez une compétence à évaluer"}]
["Sélectionnez les compétences à évaluer -->","C111 - Rechercher des clients par prospection",null,"C112 - Rechercher des clients  pour répondre à un appel d'offres",null,"C12.1 - Traiter la demande du client (de la demande de devis jusqu'à la facturation)",null,"C13.1 - Informer, conseiller, orienter"]
["ETUDIANTS","ÉVAL","Commentaire","ÉVAL","Commentaire","ÉVAL","Commentaire","ÉVAL","Commentaire","ÉVAL","Commentaire","ÉVAL","Commentaire","ÉVAL","Commentaire","ÉVAL","Commentaire","ÉVAL","Commentaire"]
["A",3,null,3,null,2,null,3]
["B",2,null,3,null,1,null,2]
["C",4,null,3,null,3,null,3]
["D",1,null,3,null,4,null,4]

{"sheet":"ETUDIANTS","index":6,"n_rows":7,"n_cols":9,"rows_kept":7,"cut":false,"hidden":false,"merged":[[0,8,1,9],[2,2,7,7]]}
[null,null,null,null,null,null,null,null,"RETOURNER À ACCUEIL"]
["ÉTUDIANT.ES",{"$f":"COUNTA(A:A)-1","v":5}]
["A",null,"é\nCLIQUER SUR LE BOUTON POUR RECOPIER LA NOUVELLE LISTE DANS LE MODELE"]
["B"]
["C"]
["D"]
["E"]

{"sheet":"LISTE DES SITUATIONS","index":7,"n_rows":4,"n_cols":8,"rows_kept":4,"cut":false,"hidden":false,"merged":[[0,7,0,8]]}
["NUM SP","NOM SP","DATE SP","TYPE SP","COMPETENCES VISEES","LIEN HYPERTEXTE POUR ARRIVER A LA SP SAUVEGARDÉE","Données transférées","RETOURNER À L'ACCUEIL"]
[1,"TEST 01","2021-09-01","DEVOIR MAISON","C111 - C112 - C121 - C131 - ","SP - 1","ok"]
[2,"test 02","2021-10-01","EVALUATION COMPETENCE SURVEILLÉE","C131 - C132 - C140 - C151 - ","SP - 2","ok"]
[3,"TEST 03","2021-12-01","EVALUATION COMPETENCE SURVEILLÉE","C151 - C132 - ","SP - 3","ok"]

{"sheet":"COUVERTURE SP","index":8,"n_rows":82,"n_cols":27,"rows_kept":82,"cut":false,"hidden":false,"merged":[[1,2,1,25]]}
[null,"RETOURNER A L'ACCUEIL","C111 - Rechercher des clients par prospection","C112 - Rechercher des clients  pour répondre à un appel d'offres","C12.1 - Traiter la demande du client (de la demande de devis jusqu'à la facturation)","C12.2 - Relancer les éventuels impayés","C13.1 - Informer, conseiller, orienter","C13.2 - Traiter les réclamations","C14 - Rechercher et sélectionner les fournisseurs","C15.1 - Passer des commandes d'achat et d'immobilisation et les contrôler, valider le règlement","C15.2 - Evaluer les fournisseurs","C16.1 - Contrôler les enregistrements comptables","C16.2 - Analyser les comptes de tiers","C16.4 - Réaliser un rapprochement bancaire","C16.5- Calculer et déclarer la TVA","Mettre en œuvre l'environnement numérique","Sélectionner des outils ou services informatiques et numériques de communication adaptés au contexte et usages","Maîtriser et utiliser des fonctionnalités du PGI et du tableur","Maîtriser et utiliser des fonctionnalités des outils de messagerie, du traitement de texte et du logiciel de PREAO","Communiquer des informations fiables","Valoriser l'image de l'entreprise","Analyser des contextes de communication écrite","Produire des documents écrits de qualité professionnelle ","Etre efficace dans sa communication écrite","Analyser des contextes de communication orale","Etre efficace dans sa communication orale"]
[null,"Accéder à la synthèse des évaluations",null,null,null,null,null,null,null,null,null,null,null,null,null,null,null,null,null,null,null,null,null,null,null,null,"pok"]
["NUMSP","LIBELLE SP","C111","C112","C121","C122","C131","C132","C140","C151","C152","C161","C162","C164","C165","INF1","INF2","INF3","INF4","COM1","COM2","COM3","COM4","COM5","COM6","COM7","TOTAL"]
[null,"TOTAUX",{"$f":"SUM(C5:C82)","v":0},0,0,0,0,0,0,0,0,0,0,0,0,0,0,0,0,0,0,0,0,0,0,0]
[{"$f":"IF('LISTE DES SITUATIONS'!A2=\"\",\"\",'LISTE DES SITUATIONS'!A2)","v":1},{"$f":"IF(A5=\"\",\"\",VLOOKUP(A5,'LISTE DES SITUATIONS'!A:B,2,FALSE))","v":"TEST 01"},{"$f":"IF($AA$2=\"pok\",\"\",IF(A5=\"\",\"\",IFERROR(IF(SEARCH($C$3,'LISTE DES SITUATIONS'!E2)>=1,1,\"\"),\"\")))","v":""},{"$f":"IF($AA$2=\"pok\",\"\",IF(A5=\"\",\"\",IFERROR(IF(SEARCH($D$3,'LISTE DES SITUATIONS'!E2)>=1,1,\"\"),\"\")))","v":""},{"$f":"IF($AA$2=\"pok\",\"\",IF(A5=\"\",\"\",IFERROR(IF(SEARCH($E$3,'LISTE DES SITUATIONS'!E2)>=1,1,\"\"),\"\")))","v":""},{"$f":"IF($AA$2=\"pok\",\"\",IF(A5=\"\",\"\",IFERROR(IF(SEARCH($F$3,'LISTE DES SITUATIONS'!E2)>=1,1,\"\"),\"\")))","v":""},{"$f":"IF($AA$2=\"pok\",\"\",IF(A5=\"\",\"\",IFERROR(IF(SEARCH($G$3,'LISTE DES SITUATIONS'!E2)>=1,1,\"\"),\"\")))","v":""},{"$f":"IF($AA$2=\"pok\",\"\",IF(A5=\"\",\"\",IFERROR(IF(SEARCH($H$3,'LISTE DES SITUATIONS'!E2)>=1,1,\"\"),\"\")))","v":""},{"$f":"IF($AA$2=\"pok\",\"\",IF(A5=\"\",\"\",IFERROR(IF(SEARCH($I$3,'LISTE DES SITUATIONS'!E2)>=1,1,\"\"),\"\")))","v":""},{"$f":"IF($AA$2=\"pok\",\"\",IF(A5=\"\",\"\",IFERROR(IF(SEARCH($J$3,'LISTE DES SITUATIONS'!E2)>=1,1,\"\"),\"\")))","v":""},{"$f":"IF($AA$2=\"pok\",\"\",IF(A5=\"\",\"\",IFERROR(IF(SEARCH($K$3,'LISTE DES SITUATIONS'!E2)>=1,1,\"\"),\"\")))","v":""},{"$f":"IF($AA$2=\"pok\",\"\",IF(A5=\"\",\"\",IFERROR(IF(SEARCH($L$3,'LISTE DES SITUATIONS'!E2)>=1,1,\"\"),\"\")))","v":""},{"$f":"IF($AA$2=\"pok\",\"\",IF(A5=\"\",\"\",IFERROR(IF(SEARCH($M$3,'LISTE DES SITUATIONS'!E2)>=1,1,\"\"),\"\")))","v":""},{"$f":"IF($AA$2=\"pok\",\"\",IF(A5=\"\",\"\",IFERROR(IF(SEARCH($N$3,'LISTE DES SITUATIONS'!E2)>=1,1,\"\"),\"\")))","v":""},{"$f":"IF($AA$2=\"pok\",\"\",IF(A5=\"\",\"\",IFERROR(IF(SEARCH($O$3,'LISTE DES SITUATIONS'!E2)>=1,1,\"\"),\"\")))","v":""},{"$f":"IF($AA$2=\"pok\",\"\",IF(A5=\"\",\"\",IFERROR(IF(SEARCH($P$3,'LISTE DES SITUATIONS'!E2)>=1,1,\"\"),\"\")))","v":""},{"$f":"IF($AA$2=\"pok\",\"\",IF(A5=\"\",\"\",IFERROR(IF(SEARCH($Q$3,'LISTE DES SITUATIONS'!E2)>=1,1,\"\"),\"\")))","v":""},{"$f":"IF($AA$2=\"pok\",\"\",IF(A5=\"\",\"\",IFERROR(IF(SEARCH($R$3,'LISTE DES SITUATIONS'!E2)>=1,1,\"\"),\"\")))","v":""},{"$f":"IF($AA$2=\"pok\",\"\",IF(A5=\"\",\"\",IFERROR(IF(SEARCH($S$3,'LISTE DES SITUATIONS'!E2)>=1,1,\"\"),\"\")))","v":""},{"$f":"IF($AA$2=\"pok\",\"\",IF(A5=\"\",\"\",IFERROR(IF(SEARCH($T$3,'LISTE DES SITUATIONS'!E2)>=1,1,\"\"),\"\")))","v":""},{"$f":"IF($AA$2=\"pok\",\"\",IF(A5=\"\",\"\",IFERROR(IF(SEARCH($U$3,'LISTE DES SITUATIONS'!E2)>=1,1,\"\"),\"\")))","v":""},{"$f":"IF($AA$2=\"pok\",\"\",IF(A5=\"\",\"\",IFERROR(IF(SEARCH($V$3,'LISTE DES SITUATIONS'!E2)>=1,1,\"\"),\"\")))","v":""},{"$f":"IF($AA$2=\"pok\",\"\",IF(A5=\"\",\"\",IFERROR(IF(SEARCH($W$3,'LISTE DES SITUATIONS'!E2)>=1,1,\"\"),\"\")))","v":""},{"$f":"IF($AA$2=\"pok\",\"\",IF(A5=\"\",\"\",IFERROR(IF(SEARCH($X$3,'LISTE DES SITUATIONS'!E2)>=1,1,\"\"),\"\")))","v":""},{"$f":"IF($AA$2=\"pok\",\"\",IF(A5=\"\",\"\",IFERROR(IF(SEARCH($Y$3,'LISTE DES SITUATIONS'!E2)>=1,1,\"\"),\"\")))","v":""},{"$f":"IF($AA$2=\"pok\",\"\",IF(A5=\"\",\"\",IFERROR(IF(SEARCH($Z$3,'LISTE DES SITUATIONS'!E2)>=1,1,\"\"),\"\")))","v":""},{"$f":"SUM(C5:Z5)","v":0}]
[{"$f":"IF('LISTE DES SITUATIONS'!A3=\"\",\"\",'LISTE DES SITUATIONS'!A3)","v":2},{"$f":"IF(A6=\"\",\"\",VLOOKUP(A6,'LISTE DES SITUATIONS'!A:B,2,FALSE))","v":"test 02"},{"$f":"IF($AA$2=\"pok\",\"\",IF(A6=\"\",\"\",IFERROR(IF(SEARCH($C$3,'LISTE DES SITUATIONS'!E3)>=1,1,\"\"),\"\")))","v":""},{"$f":"IF($AA$2=\"pok\",\"\",IF(A6=\"\",\"\",IFERROR(IF(SEARCH($D$3,'LISTE DES SITUATIONS'!E3)>=1,1,\"\"),\"\")))","v":""},{"$f":"IF($AA$2=\"pok\",\"\",IF(A6=\"\",\"\",IFERROR(IF(SEARCH($E$3,'LISTE DES SITUATIONS'!E3)>=1,1,\"\"),\"\")))","v":""},{"$f":"IF($AA$2=\"pok\",\"\",IF(A6=\"\",\"\",IFERROR(IF(SEARCH($F$3,'LISTE DES SITUATIONS'!E3)>=1,1,\"\"),\"\")))","v":""},{"$f":"IF($AA$2=\"pok\",\"\",IF(A6=\"\",\"\",IFERROR(IF(SEARCH($G$3,'LISTE DES SITUATIONS'!E3)>=1,1,\"\"),\"\")))","v":""},{"$f":"IF($AA$2=\"pok\",\"\",IF(A6=\"\",\"\",IFERROR(IF(SEARCH($H$3,'LISTE DES SITUATIONS'!E3)>=1,1,\"\"),\"\")))","v":""},{"$f":"IF($AA$2=\"pok\",\"\",IF(A6=\"\",\"\",IFERROR(IF(SEARCH($I$3,'LISTE DES SITUATIONS'!E3)>=1,1,\"\"),\"\")))","v":""},{"$f":"IF($AA$2=\"pok\",\"\",IF(A6=\"\",\"\",IFERROR(IF(SEARCH($J$3,'LISTE DES SITUATIONS'!E3)>=1,1,\"\"),\"\")))","v":""},{"$f":"IF($AA$2=\"pok\",\"\",IF(A6=\"\",\"\",IFERROR(IF(SEARCH($K$3,'LISTE DES SITUATIONS'!E3)>=1,1,\"\"),\"\")))","v":""},{"$f":"IF($AA$2=\"pok\",\"\",IF(A6=\"\",\"\",IFERROR(IF(SEARCH($L$3,'LISTE DES SITUATIONS'!E3)>=1,1,\"\"),\"\")))","v":""},{"$f":"IF($AA$2=\"pok\",\"\",IF(A6=\"\",\"\",IFERROR(IF(SEARCH($M$3,'LISTE DES SITUATIONS'!E3)>=1,1,\"\"),\"\")))","v":""},{"$f":"IF($AA$2=\"pok\",\"\",IF(A6=\"\",\"\",IFERROR(IF(SEARCH($N$3,'LISTE DES SITUATIONS'!E3)>=1,1,\"\"),\"\")))","v":""},{"$f":"IF($AA$2=\"pok\",\"\",IF(A6=\"\",\"\",IFERROR(IF(SEARCH($O$3,'LISTE DES SITUATIONS'!E3)>=1,1,\"\"),\"\")))","v":""},{"$f":"IF($AA$2=\"pok\",\"\",IF(A6=\"\",\"\",IFERROR(IF(SEARCH($P$3,'LISTE DES SITUATIONS'!E3)>=1,1,\"\"),\"\")))","v":""},{"$f":"IF($AA$2=\"pok\",\"\",IF(A6=\"\",\"\",IFERROR(IF(SEARCH($Q$3,'LISTE DES SITUATIONS'!E3)>=1,1,\"\"),\"\")))","v":""},{"$f":"IF($AA$2=\"pok\",\"\",IF(A6=\"\",\"\",IFERROR(IF(SEARCH($R$3,'LISTE DES SITUATIONS'!E3)>=1,1,\"\"),\"\")))","v":""},{"$f":"IF($AA$2=\"pok\",\"\",IF(A6=\"\",\"\",IFERROR(IF(SEARCH($S$3,'LISTE DES SITUATIONS'!E3)>=1,1,\"\"),\"\")))","v":""},{"$f":"IF($AA$2=\"pok\",\"\",IF(A6=\"\",\"\",IFERROR(IF(SEARCH($T$3,'LISTE DES SITUATIONS'!E3)>=1,1,\"\"),\"\")))","v":""},{"$f":"IF($AA$2=\"pok\",\"\",IF(A6=\"\",\"\",IFERROR(IF(SEARCH($U$3,'LISTE DES SITUATIONS'!E3)>=1,1,\"\"),\"\")))","v":""},{"$f":"IF($AA$2=\"pok\",\"\",IF(A6=\"\",\"\",IFERROR(IF(SEARCH($V$3,'LISTE DES SITUATIONS'!E3)>=1,1,\"\"),\"\")))","v":""},{"$f":"IF($AA$2=\"pok\",\"\",IF(A6=\"\",\"\",IFERROR(IF(SEARCH($W$3,'LISTE DES SITUATIONS'!E3)>=1,1,\"\"),\"\")))","v":""},{"$f":"IF($AA$2=\"pok\",\"\",IF(A6=\"\",\"\",IFERROR(IF(SEARCH($X$3,'LISTE DES SITUATIONS'!E3)>=1,1,\"\"),\"\")))","v":""},{"$f":"IF($AA$2=\"pok\",\"\",IF(A6=\"\",\"\",IFERROR(IF(SEARCH($Y$3,'LISTE DES SITUATIONS'!E3)>=1,1,\"\"),\"\")))","v":""},{"$f":"IF($AA$2=\"pok\",\"\",IF(A6=\"\",\"\",IFERROR(IF(SEARCH($Z$3,'LISTE DES SITUATIONS'!E3)>=1,1,\"\"),\"\")))","v":""},0]
[{"$f":"IF('LISTE DES SITUATIONS'!A4=\"\",\"\",'LISTE DES SITUATIONS'!A4)","v":3},{"$f":"IF(A7=\"\",\"\",VLOOKUP(A7,'LISTE DES SITUATIONS'!A:B,2,FALSE))","v":"TEST 03"},{"$f":"IF($AA$2=\"pok\",\"\",IF(A7=\"\",\"\",IFERROR(IF(SEARCH($C$3,'LISTE DES SITUATIONS'!E4)>=1,1,\"\"),\"\")))","v":""},{"$f":"IF($AA$2=\"pok\",\"\",IF(A7=\"\",\"\",IFERROR(IF(SEARCH($D$3,'LISTE DES SITUATIONS'!E4)>=1,1,\"\"),\"\")))","v":""},{"$f":"IF($AA$2=\"pok\",\"\",IF(A7=\"\",\"\",IFERROR(IF(SEARCH($E$3,'LISTE DES SITUATIONS'!E4)>=1,1,\"\"),\"\")))","v":""},{"$f":"IF($AA$2=\"pok\",\"\",IF(A7=\"\",\"\",IFERROR(IF(SEARCH($F$3,'LISTE DES SITUATIONS'!E4)>=1,1,\"\"),\"\")))","v":""},{"$f":"IF($AA$2=\"pok\",\"\",IF(A7=\"\",\"\",IFERROR(IF(SEARCH($G$3,'LISTE DES SITUATIONS'!E4)>=1,1,\"\"),\"\")))","v":""},{"$f":"IF($AA$2=\"pok\",\"\",IF(A7=\"\",\"\",IFERROR(IF(SEARCH($H$3,'LISTE DES SITUATIONS'!E4)>=1,1,\"\"),\"\")))","v":""},{"$f":"IF($AA$2=\"pok\",\"\",IF(A7=\"\",\"\",IFERROR(IF(SEARCH($I$3,'LISTE DES SITUATIONS'!E4)>=1,1,\"\"),\"\")))","v":""},{"$f":"IF($AA$2=\"pok\",\"\",IF(A7=\"\",\"\",IFERROR(IF(SEARCH($J$3,'LISTE DES SITUATIONS'!E4)>=1,1,\"\"),\"\")))","v":""},{"$f":"IF($AA$2=\"pok\",\"\",IF(A7=\"\",\"\",IFERROR(IF(SEARCH($K$3,'LISTE DES SITUATIONS'!E4)>=1,1,\"\"),\"\")))","v":""},{"$f":"IF($AA$2=\"pok\",\"\",IF(A7=\"\",\"\",IFERROR(IF(SEARCH($L$3,'LISTE DES SITUATIONS'!E4)>=1,1,\"\"),\"\")))","v":""},{"$f":"IF($AA$2=\"pok\",\"\",IF(A7=\"\",\"\",IFERROR(IF(SEARCH($M$3,'LISTE DES SITUATIONS'!E4)>=1,1,\"\"),\"\")))","v":""},{"$f":"IF($AA$2=\"pok\",\"\",IF(A7=\"\",\"\",IFERROR(IF(SEARCH($N$3,'LISTE DES SITUATIONS'!E4)>=1,1,\"\"),\"\")))","v":""},{"$f":"IF($AA$2=\"pok\",\"\",IF(A7=\"\",\"\",IFERROR(IF(SEARCH($O$3,'LISTE DES SITUATIONS'!E4)>=1,1,\"\"),\"\")))","v":""},{"$f":"IF($AA$2=\"pok\",\"\",IF(A7=\"\",\"\",IFERROR(IF(SEARCH($P$3,'LISTE DES SITUATIONS'!E4)>=1,1,\"\"),\"\")))","v":""},{"$f":"IF($AA$2=\"pok\",\"\",IF(A7=\"\",\"\",IFERROR(IF(SEARCH($Q$3,'LISTE DES SITUATIONS'!E4)>=1,1,\"\"),\"\")))","v":""},{"$f":"IF($AA$2=\"pok\",\"\",IF(A7=\"\",\"\",IFERROR(IF(SEARCH($R$3,'LISTE DES SITUATIONS'!E4)>=1,1,\"\"),\"\")))","v":""},{"$f":"IF($AA$2=\"pok\",\"\",IF(A7=\"\",\"\",IFERROR(IF(SEARCH($S$3,'LISTE DES SITUATIONS'!E4)>=1,1,\"\"),\"\")))","v":""},{"$f":"IF($AA$2=\"pok\",\"\",IF(A7=\"\",\"\",IFERROR(IF(SEARCH($T$3,'LISTE DES SITUATIONS'!E4)>=1,1,\"\"),\"\")))","v":""},{"$f":"IF($AA$2=\"pok\",\"\",IF(A7=\"\",\"\",IFERROR(IF(SEARCH($U$3,'LISTE DES SITUATIONS'!E4)>=1,1,\"\"),\"\")))","v":""},{"$f":"IF($AA$2=\"pok\",\"\",IF(A7=\"\",\"\",IFERROR(IF(SEARCH($V$3,'LISTE DES SITUATIONS'!E4)>=1,1,\"\"),\"\")))","v":""},{"$f":"IF($AA$2=\"pok\",\"\",IF(A7=\"\",\"\",IFERROR(IF(SEARCH($W$3,'LISTE DES SITUATIONS'!E4)>=1,1,\"\"),\"\")))","v":""},{"$f":"IF($AA$2=\"pok\",\"\",IF(A7=\"\",\"\",IFERROR(IF(SEARCH($X$3,'LISTE DES SITUATIONS'!E4)>=1,1,\"\"),\"\")))","v":""},{"$f":"IF($AA$2=\"pok\",\"\",IF(A7=\"\",\"\",IFERROR(IF(SEARCH($Y$3,'LISTE DES SITUATIONS'!E4)>=1,1,\"\"),\"\")))","v":""},{"$f":"IF($AA$2=\"pok\",\"\",IF(A7=\"\",\"\",IFERROR(IF(SEARCH($Z$3,'LISTE DES SITUATIONS'!E4)>=1,1,\"\"),\"\")))","v":""},0]
[{"$f":"IF('LISTE DES SITUATIONS'!A5=\"\",\"\",'LISTE DES SITUATIONS'!A5)","v":""},{"$f":"IF(A8=\"\",\"\",VLOOKUP(A8,'LISTE DES SITUATIONS'!A:B,2,FALSE))","v":""},{"$f":"IF($AA$2=\"pok\",\"\",IF(A8=\"\",\"\",IFERROR(IF(SEARCH($C$3,'LISTE DES SITUATIONS'!E5)>=1,1,\"\"),\"\")))","v":""},{"$f":"IF($AA$2=\"pok\",\"\",IF(A8=\"\",\"\",IFERROR(IF(SEARCH($D$3,'LISTE DES SITUATIONS'!E5)>=1,1,\"\"),\"\")))","v":""},{"$f":"IF($AA$2=\"pok\",\"\",IF(A8=\"\",\"\",IFERROR(IF(SEARCH($E$3,'LISTE DES SITUATIONS'!E5)>=1,1,\"\"),\"\")))","v":""},{"$f":"IF($AA$2=\"pok\",\"\",IF(A8=\"\",\"\",IFERROR(IF(SEARCH($F$3,'LISTE DES SITUATIONS'!E5)>=1,1,\"\"),\"\")))","v":""},{"$f":"IF($AA$2=\"pok\",\"\",IF(A8=\"\",\"\",IFERROR(IF(SEARCH($G$3,'LISTE DES SITUATIONS'!E5)>=1,1,\"\"),\"\")))","v":""},{"$f":"IF($AA$2=\"pok\",\"\",IF(A8=\"\",\"\",IFERROR(IF(SEARCH($H$3,'LISTE DES SITUATIONS'!E5)>=1,1,\"\"),\"\")))","v":""},{"$f":"IF($AA$2=\"pok\",\"\",IF(A8=\"\",\"\",IFERROR(IF(SEARCH($I$3,'LISTE DES SITUATIONS'!E5)>=1,1,\"\"),\"\")))","v":""},{"$f":"IF($AA$2=\"pok\",\"\",IF(A8=\"\",\"\",IFERROR(IF(SEARCH($J$3,'LISTE DES SITUATIONS'!E5)>=1,1,\"\"),\"\")))","v":""},{"$f":"IF($AA$2=\"pok\",\"\",IF(A8=\"\",\"\",IFERROR(IF(SEARCH($K$3,'LISTE DES SITUATIONS'!E5)>=1,1,\"\"),\"\")))","v":""},{"$f":"IF($AA$2=\"pok\",\"\",IF(A8=\"\",\"\",IFERROR(IF(SEARCH($L$3,'LISTE DES SITUATIONS'!E5)>=1,1,\"\"),\"\")))","v":""},{"$f":"IF($AA$2=\"pok\",\"\",IF(A8=\"\",\"\",IFERROR(IF(SEARCH($M$3,'LISTE DES SITUATIONS'!E5)>=1,1,\"\"),\"\")))","v":""},{"$f":"IF($AA$2=\"pok\",\"\",IF(A8=\"\",\"\",IFERROR(IF(SEARCH($N$3,'LISTE DES SITUATIONS'!E5)>=1,1,\"\"),\"\")))","v":""},{"$f":"IF($AA$2=\"pok\",\"\",IF(A8=\"\",\"\",IFERROR(IF(SEARCH($O$3,'LISTE DES SITUATIONS'!E5)>=1,1,\"\"),\"\")))","v":""},{"$f":"IF($AA$2=\"pok\",\"\",IF(A8=\"\",\"\",IFERROR(IF(SEARCH($P$3,'LISTE DES SITUATIONS'!E5)>=1,1,\"\"),\"\")))","v":""},{"$f":"IF($AA$2=\"pok\",\"\",IF(A8=\"\",\"\",IFERROR(IF(SEARCH($Q$3,'LISTE DES SITUATIONS'!E5)>=1,1,\"\"),\"\")))","v":""},{"$f":"IF($AA$2=\"pok\",\"\",IF(A8=\"\",\"\",IFERROR(IF(SEARCH($R$3,'LISTE DES SITUATIONS'!E5)>=1,1,\"\"),\"\")))","v":""},{"$f":"IF($AA$2=\"pok\",\"\",IF(A8=\"\",\"\",IFERROR(IF(SEARCH($S$3,'LISTE DES SITUATIONS'!E5)>=1,1,\"\"),\"\")))","v":""},{"$f":"IF($AA$2=\"pok\",\"\",IF(A8=\"\",\"\",IFERROR(IF(SEARCH($T$3,'LISTE DES SITUATIONS'!E5)>=1,1,\"\"),\"\")))","v":""},{"$f":"IF($AA$2=\"pok\",\"\",IF(A8=\"\",\"\",IFERROR(IF(SEARCH($U$3,'LISTE DES SITUATIONS'!E5)>=1,1,\"\"),\"\")))","v":""},{"$f":"IF($AA$2=\"pok\",\"\",IF(A8=\"\",\"\",IFERROR(IF(SEARCH($V$3,'LISTE DES SITUATIONS'!E5)>=1,1,\"\"),\"\")))","v":""},{"$f":"IF($AA$2=\"pok\",\"\",IF(A8=\"\",\"\",IFERROR(IF(SEARCH($W$3,'LISTE DES SITUATIONS'!E5)>=1,1,\"\"),\"\")))","v":""},{"$f":"IF($AA$2=\"pok\",\"\",IF(A8=\"\",\"\",IFERROR(IF(SEARCH($X$3,'LISTE DES SITUATIONS'!E5)>=1,1,\"\"),\"\")))","v":""},{"$f":"IF($AA$2=\"pok\",\"\",IF(A8=\"\",\"\",IFERROR(IF(SEARCH($Y$3,'LISTE DES SITUATIONS'!E5)>=1,1,\"\"),\"\")))","v":""},{"$f":"IF($AA$2=\"pok\",\"\",IF(A8=\"\",\"\",IFERROR(IF(SEARCH($Z$3,'LISTE DES SITUATIONS'!E5)>=1,1,\"\"),\"\")))","v":""},0]
[{"$f":"IF('LISTE DES SITUATIONS'!A6=\"\",\"\",'LISTE DES SITUATIONS'!A6)","v":""},{"$f":"IF(A9=\"\",\"\",VLOOKUP(A9,'LISTE DES SITUATIONS'!A:B,2,FALSE))","v":""},{"$f":"IF($AA$2=\"pok\",\"\",IF(A9=\"\",\"\",IFERROR(IF(SEARCH($C$3,'LISTE DES SITUATIONS'!E6)>=1,1,\"\"),\"\")))","v":""},{"$f":"IF($AA$2=\"pok\",\"\",IF(A9=\"\",\"\",IFERROR(IF(SEARCH($D$3,'LISTE DES SITUATIONS'!E6)>=1,1,\"\"),\"\")))","v":""},{"$f":"IF($AA$2=\"pok\",\"\",IF(A9=\"\",\"\",IFERROR(IF(SEARCH($E$3,'LISTE DES SITUATIONS'!E6)>=1,1,\"\"),\"\")))","v":""},{"$f":"IF($AA$2=\"pok\",\"\",IF(A9=\"\",\"\",IFERROR(IF(SEARCH($F$3,'LISTE DES SITUATIONS'!E6)>=1,1,\"\"),\"\")))","v":""},{"$f":"IF($AA$2=\"pok\",\"\",IF(A9=\"\",\"\",IFERROR(IF(SEARCH($G$3,'LISTE DES SITUATIONS'!E6)>=1,1,\"\"),\"\")))","v":""},{"$f":"IF($AA$2=\"pok\",\"\",IF(A9=\"\",\"\",IFERROR(IF(SEARCH($H$3,'LISTE DES SITUATIONS'!E6)>=1,1,\"\"),\"\")))","v":""},{"$f":"IF($AA$2=\"pok\",\"\",IF(A9=\"\",\"\",IFERROR(IF(SEARCH($I$3,'LISTE DES SITUATIONS'!E6)>=1,1,\"\"),\"\")))","v":""},{"$f":"IF($AA$2=\"pok\",\"\",IF(A9=\"\",\"\",IFERROR(IF(SEARCH($J$3,'LISTE DES SITUATIONS'!E6)>=1,1,\"\"),\"\")))","v":""},{"$f":"IF($AA$2=\"pok\",\"\",IF(A9=\"\",\"\",IFERROR(IF(SEARCH($K$3,'LISTE DES SITUATIONS'!E6)>=1,1,\"\"),\"\")))","v":""},{"$f":"IF($AA$2=\"pok\",\"\",IF(A9=\"\",\"\",IFERROR(IF(SEARCH($L$3,'LISTE DES SITUATIONS'!E6)>=1,1,\"\"),\"\")))","v":""},{"$f":"IF($AA$2=\"pok\",\"\",IF(A9=\"\",\"\",IFERROR(IF(SEARCH($M$3,'LISTE DES SITUATIONS'!E6)>=1,1,\"\"),\"\")))","v":""},{"$f":"IF($AA$2=\"pok\",\"\",IF(A9=\"\",\"\",IFERROR(IF(SEARCH($N$3,'LISTE DES SITUATIONS'!E6)>=1,1,\"\"),\"\")))","v":""},{"$f":"IF($AA$2=\"pok\",\"\",IF(A9=\"\",\"\",IFERROR(IF(SEARCH($O$3,'LISTE DES SITUATIONS'!E6)>=1,1,\"\"),\"\")))","v":""},{"$f":"IF($AA$2=\"pok\",\"\",IF(A9=\"\",\"\",IFERROR(IF(SEARCH($P$3,'LISTE DES SITUATIONS'!E6)>=1,1,\"\"),\"\")))","v":""},{"$f":"IF($AA$2=\"pok\",\"\",IF(A9=\"\",\"\",IFERROR(IF(SEARCH($Q$3,'LISTE DES SITUATIONS'!E6)>=1,1,\"\"),\"\")))","v":""},{"$f":"IF($AA$2=\"pok\",\"\",IF(A9=\"\",\"\",IFERROR(IF(SEARCH($R$3,'LISTE DES SITUATIONS'!E6)>=1,1,\"\"),\"\")))","v":""},{"$f":"IF($AA$2=\"pok\",\"\",IF(A9=\"\",\"\",IFERROR(IF(SEARCH($S$3,'LISTE DES SITUATIONS'!E6)>=1,1,\"\"),\"\")))","v":""},{"$f":"IF($AA$2=\"pok\",\"\",IF(A9=\"\",\"\",IFERROR(IF(SEARCH($T$3,'LISTE DES SITUATIONS'!E6)>=1,1,\"\"),\"\")))","v":""},{"$f":"IF($AA$2=\"pok\",\"\",IF(A9=\"\",\"\",IFERROR(IF(SEARCH($U$3,'LISTE DES SITUATIONS'!E6)>=1,1,\"\"),\"\")))","v":""},{"$f":"IF($AA$2=\"pok\",\"\",IF(A9=\"\",\"\",IFERROR(IF(SEARCH($V$3,'LISTE DES SITUATIONS'!E6)>=1,1,\"\"),\"\")))","v":""},{"$f":"IF($AA$2=\"pok\",\"\",IF(A9=\"\",\"\",IFERROR(IF(SEARCH($W$3,'LISTE DES SITUATIONS'!E6)>=1,1,\"\"),\"\")))","v":""},{"$f":"IF($AA$2=\"pok\",\"\",IF(A9=\"\",\"\",IFERROR(IF(SEARCH($X$3,'LISTE DES SITUATIONS'!E6)>=1,1,\"\"),\"\")))","v":""},{"$f":"IF($AA$2=\"pok\",\"\",IF(A9=\"\",\"\",IFERROR(IF(SEARCH($Y$3,'LISTE DES SITUATIONS'!E6)>=1,1,\"\"),\"\")))","v":""},{"$f":"IF($AA$2=\"pok\",\"\",IF(A9=\"\",\"\",IFERROR(IF(SEARCH($Z$3,'LISTE DES SITUATIONS'!E6)>=1,1,\"\"),\"\")))","v":""},0]
[{"$f":"IF('LISTE DES SITUATIONS'!A7=\"\",\"\",'LISTE DES SITUATIONS'!A7)","v":""},{"$f":"IF(A10=\"\",\"\",VLOOKUP(A10,'LISTE DES SITUATIONS'!A:B,2,FALSE))","v":""},{"$f":"IF($AA$2=\"pok\",\"\",IF(A10=\"\",\"\",IFERROR(IF(SEARCH($C$3,'LISTE DES SITUATIONS'!E7)>=1,1,\"\"),\"\")))","v":""},{"$f":"IF($AA$2=\"pok\",\"\",IF(A10=\"\",\"\",IFERROR(IF(SEARCH($D$3,'LISTE DES SITUATIONS'!E7)>=1,1,\"\"),\"\")))","v":""},{"$f":"IF($AA$2=\"pok\",\"\",IF(A10=\"\",\"\",IFERROR(IF(SEARCH($E$3,'LISTE DES SITUATIONS'!E7)>=1,1,\"\"),\"\")))","v":""},{"$f":"IF($AA$2=\"pok\",\"\",IF(A10=\"\",\"\",IFERROR(IF(SEARCH($F$3,'LISTE DES SITUATIONS'!E7)>=1,1,\"\"),\"\")))","v":""},{"$f":"IF($AA$2=\"pok\",\"\",IF(A10=\"\",\"\",IFERROR(IF(SEARCH($G$3,'LISTE DES SITUATIONS'!E7)>=1,1,\"\"),\"\")))","v":""},{"$f":"IF($AA$2=\"pok\",\"\",IF(A10=\"\",\"\",IFERROR(IF(SEARCH($H$3,'LISTE DES SITUATIONS'!E7)>=1,1,\"\"),\"\")))","v":""},{"$f":"IF($AA$2=\"pok\",\"\",IF(A10=\"\",\"\",IFERROR(IF(SEARCH($I$3,'LISTE DES SITUATIONS'!E7)>=1,1,\"\"),\"\")))","v":""},{"$f":"IF($AA$2=\"pok\",\"\",IF(A10=\"\",\"\",IFERROR(IF(SEARCH($J$3,'LISTE DES SITUATIONS'!E7)>=1,1,\"\"),\"\")))","v":""},{"$f":"IF($AA$2=\"pok\",\"\",IF(A10=\"\",\"\",IFERROR(IF(SEARCH($K$3,'LISTE DES SITUATIONS'!E7)>=1,1,\"\"),\"\")))","v":""},{"$f":"IF($AA$2=\"pok\",\"\",IF(A10=\"\",\"\",IFERROR(IF(SEARCH($L$3,'LISTE DES SITUATIONS'!E7)>=1,1,\"\"),\"\")))","v":""},{"$f":"IF($AA$2=\"pok\",\"\",IF(A10=\"\",\"\",IFERROR(IF(SEARCH($M$3,'LISTE DES SITUATIONS'!E7)>=1,1,\"\"),\"\")))","v":""},{"$f":"IF($AA$2=\"pok\",\"\",IF(A10=\"\",\"\",IFERROR(IF(SEARCH($N$3,'LISTE DES SITUATIONS'!E7)>=1,1,\"\"),\"\")))","v":""},{"$f":"IF($AA$2=\"pok\",\"\",IF(A10=\"\",\"\",IFERROR(IF(SEARCH($O$3,'LISTE DES SITUATIONS'!E7)>=1,1,\"\"),\"\")))","v":""},{"$f":"IF($AA$2=\"pok\",\"\",IF(A10=\"\",\"\",IFERROR(IF(SEARCH($P$3,'LISTE DES SITUATIONS'!E7)>=1,1,\"\"),\"\")))","v":""},{"$f":"IF($AA$2=\"pok\",\"\",IF(A10=\"\",\"\",IFERROR(IF(SEARCH($Q$3,'LISTE DES SITUATIONS'!E7)>=1,1,\"\"),\"\")))","v":""},{"$f":"IF($AA$2=\"pok\",\"\",IF(A10=\"\",\"\",IFERROR(IF(SEARCH($R$3,'LISTE DES SITUATIONS'!E7)>=1,1,\"\"),\"\")))","v":""},{"$f":"IF($AA$2=\"pok\",\"\",IF(A10=\"\",\"\",IFERROR(IF(SEARCH($S$3,'LISTE DES SITUATIONS'!E7)>=1,1,\"\"),\"\")))","v":""},{"$f":"IF($AA$2=\"pok\",\"\",IF(A10=\"\",\"\",IFERROR(IF(SEARCH($T$3,'LISTE DES SITUATIONS'!E7)>=1,1,\"\"),\"\")))","v":""},{"$f":"IF($AA$2=\"pok\",\"\",IF(A10=\"\",\"\",IFERROR(IF(SEARCH($U$3,'LISTE DES SITUATIONS'!E7)>=1,1,\"\"),\"\")))","v":""},{"$f":"IF($AA$2=\"pok\",\"\",IF(A10=\"\",\"\",IFERROR(IF(SEARCH($V$3,'LISTE DES SITUATIONS'!E7)>=1,1,\"\"),\"\")))","v":""},{"$f":"IF($AA$2=\"pok\",\"\",IF(A10=\"\",\"\",IFERROR(IF(SEARCH($W$3,'LISTE DES SITUATIONS'!E7)>=1,1,\"\"),\"\")))","v":""},{"$f":"IF($AA$2=\"pok\",\"\",IF(A10=\"\",\"\",IFERROR(IF(SEARCH($X$3,'LISTE DES SITUATIONS'!E7)>=1,1,\"\"),\"\")))","v":""},{"$f":"IF($AA$2=\"pok\",\"\",IF(A10=\"\",\"\",IFERROR(IF(SEARCH($Y$3,'LISTE DES SITUATIONS'!E7)>=1,1,\"\"),\"\")))","v":""},{"$f":"IF($AA$2=\"pok\",\"\",IF(A10=\"\",\"\",IFERROR(IF(SEARCH($Z$3,'LISTE DES SITUATIONS'!E7)>=1,1,\"\"),\"\")))","v":""},0]
[{"$f":"IF('LISTE DES SITUATIONS'!A8=\"\",\"\",'LISTE DES SITUATIONS'!A8)","v":""},{"$f":"IF(A11=\"\",\"\",VLOOKUP(A11,'LISTE DES SITUATIONS'!A:B,2,FALSE))","v":""},{"$f":"IF($AA$2=\"pok\",\"\",IF(A11=\"\",\"\",IFERROR(IF(SEARCH($C$3,'LISTE DES SITUATIONS'!E8)>=1,1,\"\"),\"\")))","v":""},{"$f":"IF($AA$2=\"pok\",\"\",IF(A11=\"\",\"\",IFERROR(IF(SEARCH($D$3,'LISTE DES SITUATIONS'!E8)>=1,1,\"\"),\"\")))","v":""},{"$f":"IF($AA$2=\"pok\",\"\",IF(A11=\"\",\"\",IFERROR(IF(SEARCH($E$3,'LISTE DES SITUATIONS'!E8)>=1,1,\"\"),\"\")))","v":""},{"$f":"IF($AA$2=\"pok\",\"\",IF(A11=\"\",\"\",IFERROR(IF(SEARCH($F$3,'LISTE DES SITUATIONS'!E8)>=1,1,\"\"),\"\")))","v":""},{"$f":"IF($AA$2=\"pok\",\"\",IF(A11=\"\",\"\",IFERROR(IF(SEARCH($G$3,'LISTE DES SITUATIONS'!E8)>=1,1,\"\"),\"\")))","v":""},{"$f":"IF($AA$2=\"pok\",\"\",IF(A11=\"\",\"\",IFERROR(IF(SEARCH($H$3,'LISTE DES SITUATIONS'!E8)>=1,1,\"\"),\"\")))","v":""},{"$f":"IF($AA$2=\"pok\",\"\",IF(A11=\"\",\"\",IFERROR(IF(SEARCH($I$3,'LISTE DES SITUATIONS'!E8)>=1,1,\"\"),\"\")))","v":""},{"$f":"IF($AA$2=\"pok\",\"\",IF(A11=\"\",\"\",IFERROR(IF(SEARCH($J$3,'LISTE DES SITUATIONS'!E8)>=1,1,\"\"),\"\")))","v":""},{"$f":"IF($AA$2=\"pok\",\"\",IF(A11=\"\",\"\",IFERROR(IF(SEARCH($K$3,'LISTE DES SITUATIONS'!E8)>=1,1,\"\"),\"\")))","v":""},{"$f":"IF($AA$2=\"pok\",\"\",IF(A11=\"\",\"\",IFERROR(IF(SEARCH($L$3,'LISTE DES SITUATIONS'!E8)>=1,1,\"\"),\"\")))","v":""},{"$f":"IF($AA$2=\"pok\",\"\",IF(A11=\"\",\"\",IFERROR(IF(SEARCH($M$3,'LISTE DES SITUATIONS'!E8)>=1,1,\"\"),\"\")))","v":""},{"$f":"IF($AA$2=\"pok\",\"\",IF(A11=\"\",\"\",IFERROR(IF(SEARCH($N$3,'LISTE DES SITUATIONS'!E8)>=1,1,\"\"),\"\")))","v":""},{"$f":"IF($AA$2=\"pok\",\"\",IF(A11=\"\",\"\",IFERROR(IF(SEARCH($O$3,'LISTE DES SITUATIONS'!E8)>=1,1,\"\"),\"\")))","v":""},{"$f":"IF($AA$2=\"pok\",\"\",IF(A11=\"\",\"\",IFERROR(IF(SEARCH($P$3,'LISTE DES SITUATIONS'!E8)>=1,1,\"\"),\"\")))","v":""},{"$f":"IF($AA$2=\"pok\",\"\",IF(A11=\"\",\"\",IFERROR(IF(SEARCH($Q$3,'LISTE DES SITUATIONS'!E8)>=1,1,\"\"),\"\")))","v":""},{"$f":"IF($AA$2=\"pok\",\"\",IF(A11=\"\",\"\",IFERROR(IF(SEARCH($R$3,'LISTE DES SITUATIONS'!E8)>=1,1,\"\"),\"\")))","v":""},{"$f":"IF($AA$2=\"pok\",\"\",IF(A11=\"\",\"\",IFERROR(IF(SEARCH($S$3,'LISTE DES SITUATIONS'!E8)>=1,1,\"\"),\"\")))","v":""},{"$f":"IF($AA$2=\"pok\",\"\",IF(A11=\"\",\"\",IFERROR(IF(SEARCH($T$3,'LISTE DES SITUATIONS'!E8)>=1,1,\"\"),\"\")))","v":""},{"$f":"IF($AA$2=\"pok\",\"\",IF(A11=\"\",\"\",IFERROR(IF(SEARCH($U$3,'LISTE DES SITUATIONS'!E8)>=1,1,\"\"),\"\")))","v":""},{"$f":"IF($AA$2=\"pok\",\"\",IF(A11=\"\",\"\",IFERROR(IF(SEARCH($V$3,'LISTE DES SITUATIONS'!E8)>=1,1,\"\"),\"\")))","v":""},{"$f":"IF($AA$2=\"pok\",\"\",IF(A11=\"\",\"\",IFERROR(IF(SEARCH($W$3,'LISTE DES SITUATIONS'!E8)>=1,1,\"\"),\"\")))","v":""},{"$f":"IF($AA$2=\"pok\",\"\",IF(A11=\"\",\"\",IFERROR(IF(SEARCH($X$3,'LISTE DES SITUATIONS'!E8)>=1,1,\"\"),\"\")))","v":""},{"$f":"IF($AA$2=\"pok\",\"\",IF(A11=\"\",\"\",IFERROR(IF(SEARCH($Y$3,'LISTE DES SITUATIONS'!E8)>=1,1,\"\"),\"\")))","v":""},{"$f":"IF($AA$2=\"pok\",\"\",IF(A11=\"\",\"\",IFERROR(IF(SEARCH($Z$3,'LISTE DES SITUATIONS'!E8)>=1,1,\"\"),\"\")))","v":""},0]
[{"$f":"IF('LISTE DES SITUATIONS'!A9=\"\",\"\",'LISTE DES SITUATIONS'!A9)","v":""},{"$f":"IF(A12=\"\",\"\",VLOOKUP(A12,'LISTE DES SITUATIONS'!A:B,2,FALSE))","v":""},{"$f":"IF($AA$2=\"pok\",\"\",IF(A12=\"\",\"\",IFERROR(IF(SEARCH($C$3,'LISTE DES SITUATIONS'!E9)>=1,1,\"\"),\"\")))","v":""},{"$f":"IF($AA$2=\"pok\",\"\",IF(A12=\"\",\"\",IFERROR(IF(SEARCH($D$3,'LISTE DES SITUATIONS'!E9)>=1,1,\"\"),\"\")))","v":""},{"$f":"IF($AA$2=\"pok\",\"\",IF(A12=\"\",\"\",IFERROR(IF(SEARCH($E$3,'LISTE DES SITUATIONS'!E9)>=1,1,\"\"),\"\")))","v":""},{"$f":"IF($AA$2=\"pok\",\"\",IF(A12=\"\",\"\",IFERROR(IF(SEARCH($F$3,'LISTE DES SITUATIONS'!E9)>=1,1,\"\"),\"\")))","v":""},{"$f":"IF($AA$2=\"pok\",\"\",IF(A12=\"\",\"\",IFERROR(IF(SEARCH($G$3,'LISTE DES SITUATIONS'!E9)>=1,1,\"\"),\"\")))","v":""},{"$f":"IF($AA$2=\"pok\",\"\",IF(A12=\"\",\"\",IFERROR(IF(SEARCH($H$3,'LISTE DES SITUATIONS'!E9)>=1,1,\"\"),\"\")))","v":""},{"$f":"IF($AA$2=\"pok\",\"\",IF(A12=\"\",\"\",IFERROR(IF(SEARCH($I$3,'LISTE DES SITUATIONS'!E9)>=1,1,\"\"),\"\")))","v":""},{"$f":"IF($AA$2=\"pok\",\"\",IF(A12=\"\",\"\",IFERROR(IF(SEARCH($J$3,'LISTE DES SITUATIONS'!E9)>=1,1,\"\"),\"\")))","v":""},{"$f":"IF($AA$2=\"pok\",\"\",IF(A12=\"\",\"\",IFERROR(IF(SEARCH($K$3,'LISTE DES SITUATIONS'!E9)>=1,1,\"\"),\"\")))","v":""},{"$f":"IF($AA$2=\"pok\",\"\",IF(A12=\"\",\"\",IFERROR(IF(SEARCH($L$3,'LISTE DES SITUATIONS'!E9)>=1,1,\"\"),\"\")))","v":""},{"$f":"IF($AA$2=\"pok\",\"\",IF(A12=\"\",\"\",IFERROR(IF(SEARCH($M$3,'LISTE DES SITUATIONS'!E9)>=1,1,\"\"),\"\")))","v":""},{"$f":"IF($AA$2=\"pok\",\"\",IF(A12=\"\",\"\",IFERROR(IF(SEARCH($N$3,'LISTE DES SITUATIONS'!E9)>=1,1,\"\"),\"\")))","v":""},{"$f":"IF($AA$2=\"pok\",\"\",IF(A12=\"\",\"\",IFERROR(IF(SEARCH($O$3,'LISTE DES SITUATIONS'!E9)>=1,1,\"\"),\"\")))","v":""},{"$f":"IF($AA$2=\"pok\",\"\",IF(A12=\"\",\"\",IFERROR(IF(SEARCH($P$3,'LISTE DES SITUATIONS'!E9)>=1,1,\"\"),\"\")))","v":""},{"$f":"IF($AA$2=\"pok\",\"\",IF(A12=\"\",\"\",IFERROR(IF(SEARCH($Q$3,'LISTE DES SITUATIONS'!E9)>=1,1,\"\"),\"\")))","v":""},{"$f":"IF($AA$2=\"pok\",\"\",IF(A12=\"\",\"\",IFERROR(IF(SEARCH($R$3,'LISTE DES SITUATIONS'!E9)>=1,1,\"\"),\"\")))","v":""},{"$f":"IF($AA$2=\"pok\",\"\",IF(A12=\"\",\"\",IFERROR(IF(SEARCH($S$3,'LISTE DES SITUATIONS'!E9)>=1,1,\"\"),\"\")))","v":""},{"$f":"IF($AA$2=\"pok\",\"\",IF(A12=\"\",\"\",IFERROR(IF(SEARCH($T$3,'LISTE DES SITUATIONS'!E9)>=1,1,\"\"),\"\")))","v":""},{"$f":"IF($AA$2=\"pok\",\"\",IF(A12=\"\",\"\",IFERROR(IF(SEARCH($U$3,'LISTE DES SITUATIONS'!E9)>=1,1,\"\"),\"\")))","v":""},{"$f":"IF($AA$2=\"pok\",\"\",IF(A12=\"\",\"\",IFERROR(IF(SEARCH($V$3,'LISTE DES SITUATIONS'!E9)>=1,1,\"\"),\"\")))","v":""},{"$f":"IF($AA$2=\"pok\",\"\",IF(A12=\"\",\"\",IFERROR(IF(SEARCH($W$3,'LISTE DES SITUATIONS'!E9)>=1,1,\"\"),\"\")))","v":""},{"$f":"IF($AA$2=\"pok\",\"\",IF(A12=\"\",\"\",IFERROR(IF(SEARCH($X$3,'LISTE DES SITUATIONS'!E9)>=1,1,\"\"),\"\")))","v":""},{"$f":"IF($AA$2=\"pok\",\"\",IF(A12=\"\",\"\",IFERROR(IF(SEARCH($Y$3,'LISTE DES SITUATIONS'!E9)>=1,1,\"\"),\"\")))","v":""},{"$f":"IF($AA$2=\"pok\",\"\",IF(A12=\"\",\"\",IFERROR(IF(SEARCH($Z$3,'LISTE DES SITUATIONS'!E9)>=1,1,\"\"),\"\")))","v":""},0]
[{"$f":"IF('LISTE DES SITUATIONS'!A10=\"\",\"\",'LISTE DES SITUATIONS'!A10)","v":""},{"$f":"IF(A13=\"\",\"\",VLOOKUP(A13,'LISTE DES SITUATIONS'!A:B,2,FALSE))","v":""},{"$f":"IF($AA$2=\"pok\",\"\",IF(A13=\"\",\"\",IFERROR(IF(SEARCH($C$3,'LISTE DES SITUATIONS'!E10)>=1,1,\"\"),\"\")))","v":""},{"$f":"IF($AA$2=\"pok\",\"\",IF(A13=\"\",\"\",IFERROR(IF(SEARCH($D$3,'LISTE DES SITUATIONS'!E10)>=1,1,\"\"),\"\")))","v":""},{"$f":"IF($AA$2=\"pok\",\"\",IF(A13=\"\",\"\",IFERROR(IF(SEARCH($E$3,'LISTE DES SITUATIONS'!E10)>=1,1,\"\"),\"\")))","v":""},{"$f":"IF($AA$2=\"pok\",\"\",IF(A13=\"\",\"\",IFERROR(IF(SEARCH($F$3,'LISTE DES SITUATIONS'!E10)>=1,1,\"\"),\"\")))","v":""},{"$f":"IF($AA$2=\"pok\",\"\",IF(A13=\"\",\"\",IFERROR(IF(SEARCH($G$3,'LISTE DES SITUATIONS'!E10)>=1,1,\"\"),\"\")))","v":""},{"$f":"IF($AA$2=\"pok\",\"\",IF(A13=\"\",\"\",IFERROR(IF(SEARCH($H$3,'LISTE DES SITUATIONS'!E10)>=1,1,\"\"),\"\")))","v":""},{"$f":"IF($AA$2=\"pok\",\"\",IF(A13=\"\",\"\",IFERROR(IF(SEARCH($I$3,'LISTE DES SITUATIONS'!E10)>=1,1,\"\"),\"\")))","v":""},{"$f":"IF($AA$2=\"pok\",\"\",IF(A13=\"\",\"\",IFERROR(IF(SEARCH($J$3,'LISTE DES SITUATIONS'!E10)>=1,1,\"\"),\"\")))","v":""},{"$f":"IF($AA$2=\"pok\",\"\",IF(A13=\"\",\"\",IFERROR(IF(SEARCH($K$3,'LISTE DES SITUATIONS'!E10)>=1,1,\"\"),\"\")))","v":""},{"$f":"IF($AA$2=\"pok\",\"\",IF(A13=\"\",\"\",IFERROR(IF(SEARCH($L$3,'LISTE DES SITUATIONS'!E10)>=1,1,\"\"),\"\")))","v":""},{"$f":"IF($AA$2=\"pok\",\"\",IF(A13=\"\",\"\",IFERROR(IF(SEARCH($M$3,'LISTE DES SITUATIONS'!E10)>=1,1,\"\"),\"\")))","v":""},{"$f":"IF($AA$2=\"pok\",\"\",IF(A13=\"\",\"\",IFERROR(IF(SEARCH($N$3,'LISTE DES SITUATIONS'!E10)>=1,1,\"\"),\"\")))","v":""},{"$f":"IF($AA$2=\"pok\",\"\",IF(A13=\"\",\"\",IFERROR(IF(SEARCH($O$3,'LISTE DES SITUATIONS'!E10)>=1,1,\"\"),\"\")))","v":""},{"$f":"IF($AA$2=\"pok\",\"\",IF(A13=\"\",\"\",IFERROR(IF(SEARCH($P$3,'LISTE DES SITUATIONS'!E10)>=1,1,\"\"),\"\")))","v":""},{"$f":"IF($AA$2=\"pok\",\"\",IF(A13=\"\",\"\",IFERROR(IF(SEARCH($Q$3,'LISTE DES SITUATIONS'!E10)>=1,1,\"\"),\"\")))","v":""},{"$f":"IF($AA$2=\"pok\",\"\",IF(A13=\"\",\"\",IFERROR(IF(SEARCH($R$3,'LISTE DES SITUATIONS'!E10)>=1,1,\"\"),\"\")))","v":""},{"$f":"IF($AA$2=\"pok\",\"\",IF(A13=\"\",\"\",IFERROR(IF(SEARCH($S$3,'LISTE DES SITUATIONS'!E10)>=1,1,\"\"),\"\")))","v":""},{"$f":"IF($AA$2=\"pok\",\"\",IF(A13=\"\",\"\",IFERROR(IF(SEARCH($T$3,'LISTE DES SITUATIONS'!E10)>=1,1,\"\"),\"\")))","v":""},{"$f":"IF($AA$2=\"pok\",\"\",IF(A13=\"\",\"\",IFERROR(IF(SEARCH($U$3,'LISTE DES SITUATIONS'!E10)>=1,1,\"\"),\"\")))","v":""},{"$f":"IF($AA$2=\"pok\",\"\",IF(A13=\"\",\"\",IFERROR(IF(SEARCH($V$3,'LISTE DES SITUATIONS'!E10)>=1,1,\"\"),\"\")))","v":""},{"$f":"IF($AA$2=\"pok\",\"\",IF(A13=\"\",\"\",IFERROR(IF(SEARCH($W$3,'LISTE DES SITUATIONS'!E10)>=1,1,\"\"),\"\")))","v":""},{"$f":"IF($AA$2=\"pok\",\"\",IF(A13=\"\",\"\",IFERROR(IF(SEARCH($X$3,'LISTE DES SITUATIONS'!E10)>=1,1,\"\"),\"\")))","v":""},{"$f":"IF($AA$2=\"pok\",\"\",IF(A13=\"\",\"\",IFERROR(IF(SEARCH($Y$3,'LISTE DES SITUATIONS'!E10)>=1,1,\"\"),\"\")))","v":""},{"$f":"IF($AA$2=\"pok\",\"\",IF(A13=\"\",\"\",IFERROR(IF(SEARCH($Z$3,'LISTE DES SITUATIONS'!E10)>=1,1,\"\"),\"\")))","v":""},0]
[{"$f":"IF('LISTE DES SITUATIONS'!A11=\"\",\"\",'LISTE DES SITUATIONS'!A11)","v":""},{"$f":"IF(A14=\"\",\"\",VLOOKUP(A14,'LISTE DES SITUATIONS'!A:B,2,FALSE))","v":""},{"$f":"IF($AA$2=\"pok\",\"\",IF(A14=\"\",\"\",IFERROR(IF(SEARCH($C$3,'LISTE DES SITUATIONS'!E11)>=1,1,\"\"),\"\")))","v":""},{"$f":"IF($AA$2=\"pok\",\"\",IF(A14=\"\",\"\",IFERROR(IF(SEARCH($D$3,'LISTE DES SITUATIONS'!E11)>=1,1,\"\"),\"\")))","v":""},{"$f":"IF($AA$2=\"pok\",\"\",IF(A14=\"\",\"\",IFERROR(IF(SEARCH($E$3,'LISTE DES SITUATIONS'!E11)>=1,1,\"\"),\"\")))","v":""},{"$f":"IF($AA$2=\"pok\",\"\",IF(A14=\"\",\"\",IFERROR(IF(SEARCH($F$3,'LISTE DES SITUATIONS'!E11)>=1,1,\"\"),\"\")))","v":""},{"$f":"IF($AA$2=\"pok\",\"\",IF(A14=\"\",\"\",IFERROR(IF(SEARCH($G$3,'LISTE DES SITUATIONS'!E11)>=1,1,\"\"),\"\")))","v":""},{"$f":"IF($AA$2=\"pok\",\"\",IF(A14=\"\",\"\",IFERROR(IF(SEARCH($H$3,'LISTE DES SITUATIONS'!E11)>=1,1,\"\"),\"\")))","v":""},{"$f":"IF($AA$2=\"pok\",\"\",IF(A14=\"\",\"\",IFERROR(IF(SEARCH($I$3,'LISTE DES SITUATIONS'!E11)>=1,1,\"\"),\"\")))","v":""},{"$f":"IF($AA$2=\"pok\",\"\",IF(A14=\"\",\"\",IFERROR(IF(SEARCH($J$3,'LISTE DES SITUATIONS'!E11)>=1,1,\"\"),\"\")))","v":""},{"$f":"IF($AA$2=\"pok\",\"\",IF(A14=\"\",\"\",IFERROR(IF(SEARCH($K$3,'LISTE DES SITUATIONS'!E11)>=1,1,\"\"),\"\")))","v":""},{"$f":"IF($AA$2=\"pok\",\"\",IF(A14=\"\",\"\",IFERROR(IF(SEARCH($L$3,'LISTE DES SITUATIONS'!E11)>=1,1,\"\"),\"\")))","v":""},{"$f":"IF($AA$2=\"pok\",\"\",IF(A14=\"\",\"\",IFERROR(IF(SEARCH($M$3,'LISTE DES SITUATIONS'!E11)>=1,1,\"\"),\"\")))","v":""},{"$f":"IF($AA$2=\"pok\",\"\",IF(A14=\"\",\"\",IFERROR(IF(SEARCH($N$3,'LISTE DES SITUATIONS'!E11)>=1,1,\"\"),\"\")))","v":""},{"$f":"IF($AA$2=\"pok\",\"\",IF(A14=\"\",\"\",IFERROR(IF(SEARCH($O$3,'LISTE DES SITUATIONS'!E11)>=1,1,\"\"),\"\")))","v":""},{"$f":"IF($AA$2=\"pok\",\"\",IF(A14=\"\",\"\",IFERROR(IF(SEARCH($P$3,'LISTE DES SITUATIONS'!E11)>=1,1,\"\"),\"\")))","v":""},{"$f":"IF($AA$2=\"pok\",\"\",IF(A14=\"\",\"\",IFERROR(IF(SEARCH($Q$3,'LISTE DES SITUATIONS'!E11)>=1,1,\"\"),\"\")))","v":""},{"$f":"IF($AA$2=\"pok\",\"\",IF(A14=\"\",\"\",IFERROR(IF(SEARCH($R$3,'LISTE DES SITUATIONS'!E11)>=1,1,\"\"),\"\")))","v":""},{"$f":"IF($AA$2=\"pok\",\"\",IF(A14=\"\",\"\",IFERROR(IF(SEARCH($S$3,'LISTE DES SITUATIONS'!E11)>=1,1,\"\"),\"\")))","v":""},{"$f":"IF($AA$2=\"pok\",\"\",IF(A14=\"\",\"\",IFERROR(IF(SEARCH($T$3,'LISTE DES SITUATIONS'!E11)>=1,1,\"\"),\"\")))","v":""},{"$f":"IF($AA$2=\"pok\",\"\",IF(A14=\"\",\"\",IFERROR(IF(SEARCH($U$3,'LISTE DES SITUATIONS'!E11)>=1,1,\"\"),\"\")))","v":""},{"$f":"IF($AA$2=\"pok\",\"\",IF(A14=\"\",\"\",IFERROR(IF(SEARCH($V$3,'LISTE DES SITUATIONS'!E11)>=1,1,\"\"),\"\")))","v":""},{"$f":"IF($AA$2=\"pok\",\"\",IF(A14=\"\",\"\",IFERROR(IF(SEARCH($W$3,'LISTE DES SITUATIONS'!E11)>=1,1,\"\"),\"\")))","v":""},{"$f":"IF($AA$2=\"pok\",\"\",IF(A14=\"\",\"\",IFERROR(IF(SEARCH($X$3,'LISTE DES SITUATIONS'!E11)>=1,1,\"\"),\"\")))","v":""},{"$f":"IF($AA$2=\"pok\",\"\",IF(A14=\"\",\"\",IFERROR(IF(SEARCH($Y$3,'LISTE DES SITUATIONS'!E11)>=1,1,\"\"),\"\")))","v":""},{"$f":"IF($AA$2=\"pok\",\"\",IF(A14=\"\",\"\",IFERROR(IF(SEARCH($Z$3,'LISTE DES SITUATIONS'!E11)>=1,1,\"\"),\"\")))","v":""},0]
[{"$f":"IF('LISTE DES SITUATIONS'!A12=\"\",\"\",'LISTE DES SITUATIONS'!A12)","v":""},{"$f":"IF(A15=\"\",\"\",VLOOKUP(A15,'LISTE DES SITUATIONS'!A:B,2,FALSE))","v":""},{"$f":"IF($AA$2=\"pok\",\"\",IF(A15=\"\",\"\",IFERROR(IF(SEARCH($C$3,'LISTE DES SITUATIONS'!E12)>=1,1,\"\"),\"\")))","v":""},{"$f":"IF($AA$2=\"pok\",\"\",IF(A15=\"\",\"\",IFERROR(IF(SEARCH($D$3,'LISTE DES SITUATIONS'!E12)>=1,1,\"\"),\"\")))","v":""},{"$f":"IF($AA$2=\"pok\",\"\",IF(A15=\"\",\"\",IFERROR(IF(SEARCH($E$3,'LISTE DES SITUATIONS'!E12)>=1,1,\"\"),\"\")))","v":""},{"$f":"IF($AA$2=\"pok\",\"\",IF(A15=\"\",\"\",IFERROR(IF(SEARCH($F$3,'LISTE DES SITUATIONS'!E12)>=1,1,\"\"),\"\")))","v":""},{"$f":"IF($AA$2=\"pok\",\"\",IF(A15=\"\",\"\",IFERROR(IF(SEARCH($G$3,'LISTE DES SITUATIONS'!E12)>=1,1,\"\"),\"\")))","v":""},{"$f":"IF($AA$2=\"pok\",\"\",IF(A15=\"\",\"\",IFERROR(IF(SEARCH($H$3,'LISTE DES SITUATIONS'!E12)>=1,1,\"\"),\"\")))","v":""},{"$f":"IF($AA$2=\"pok\",\"\",IF(A15=\"\",\"\",IFERROR(IF(SEARCH($I$3,'LISTE DES SITUATIONS'!E12)>=1,1,\"\"),\"\")))","v":""},{"$f":"IF($AA$2=\"pok\",\"\",IF(A15=\"\",\"\",IFERROR(IF(SEARCH($J$3,'LISTE DES SITUATIONS'!E12)>=1,1,\"\"),\"\")))","v":""},{"$f":"IF($AA$2=\"pok\",\"\",IF(A15=\"\",\"\",IFERROR(IF(SEARCH($K$3,'LISTE DES SITUATIONS'!E12)>=1,1,\"\"),\"\")))","v":""},{"$f":"IF($AA$2=\"pok\",\"\",IF(A15=\"\",\"\",IFERROR(IF(SEARCH($L$3,'LISTE DES SITUATIONS'!E12)>=1,1,\"\"),\"\")))","v":""},{"$f":"IF($AA$2=\"pok\",\"\",IF(A15=\"\",\"\",IFERROR(IF(SEARCH($M$3,'LISTE DES SITUATIONS'!E12)>=1,1,\"\"),\"\")))","v":""},{"$f":"IF($AA$2=\"pok\",\"\",IF(A15=\"\",\"\",IFERROR(IF(SEARCH($N$3,'LISTE DES SITUATIONS'!E12)>=1,1,\"\"),\"\")))","v":""},{"$f":"IF($AA$2=\"pok\",\"\",IF(A15=\"\",\"\",IFERROR(IF(SEARCH($O$3,'LISTE DES SITUATIONS'!E12)>=1,1,\"\"),\"\")))","v":""},{"$f":"IF($AA$2=\"pok\",\"\",IF(A15=\"\",\"\",IFERROR(IF(SEARCH($P$3,'LISTE DES SITUATIONS'!E12)>=1,1,\"\"),\"\")))","v":""},{"$f":"IF($AA$2=\"pok\",\"\",IF(A15=\"\",\"\",IFERROR(IF(SEARCH($Q$3,'LISTE DES SITUATIONS'!E12)>=1,1,\"\"),\"\")))","v":""},{"$f":"IF($AA$2=\"pok\",\"\",IF(A15=\"\",\"\",IFERROR(IF(SEARCH($R$3,'LISTE DES SITUATIONS'!E12)>=1,1,\"\"),\"\")))","v":""},{"$f":"IF($AA$2=\"pok\",\"\",IF(A15=\"\",\"\",IFERROR(IF(SEARCH($S$3,'LISTE DES SITUATIONS'!E12)>=1,1,\"\"),\"\")))","v":""},{"$f":"IF($AA$2=\"pok\",\"\",IF(A15=\"\",\"\",IFERROR(IF(SEARCH($T$3,'LISTE DES SITUATIONS'!E12)>=1,1,\"\"),\"\")))","v":""},{"$f":"IF($AA$2=\"pok\",\"\",IF(A15=\"\",\"\",IFERROR(IF(SEARCH($U$3,'LISTE DES SITUATIONS'!E12)>=1,1,\"\"),\"\")))","v":""},{"$f":"IF($AA$2=\"pok\",\"\",IF(A15=\"\",\"\",IFERROR(IF(SEARCH($V$3,'LISTE DES SITUATIONS'!E12)>=1,1,\"\"),\"\")))","v":""},{"$f":"IF($AA$2=\"pok\",\"\",IF(A15=\"\",\"\",IFERROR(IF(SEARCH($W$3,'LISTE DES SITUATIONS'!E12)>=1,1,\"\"),\"\")))","v":""},{"$f":"IF($AA$2=\"pok\",\"\",IF(A15=\"\",\"\",IFERROR(IF(SEARCH($X$3,'LISTE DES SITUATIONS'!E12)>=1,1,\"\"),\"\")))","v":""},{"$f":"IF($AA$2=\"pok\",\"\",IF(A15=\"\",\"\",IFERROR(IF(SEARCH($Y$3,'LISTE DES SITUATIONS'!E12)>=1,1,\"\"),\"\")))","v":""},{"$f":"IF($AA$2=\"pok\",\"\",IF(A15=\"\",\"\",IFERROR(IF(SEARCH($Z$3,'LISTE DES SITUATIONS'!E12)>=1,1,\"\"),\"\")))","v":""},0]
[{"$f":"IF('LISTE DES SITUATIONS'!A13=\"\",\"\",'LISTE DES SITUATIONS'!A13)","v":""},{"$f":"IF(A16=\"\",\"\",VLOOKUP(A16,'LISTE DES SITUATIONS'!A:B,2,FALSE))","v":""},{"$f":"IF($AA$2=\"pok\",\"\",IF(A16=\"\",\"\",IFERROR(IF(SEARCH($C$3,'LISTE DES SITUATIONS'!E13)>=1,1,\"\"),\"\")))","v":""},{"$f":"IF($AA$2=\"pok\",\"\",IF(A16=\"\",\"\",IFERROR(IF(SEARCH($D$3,'LISTE DES SITUATIONS'!E13)>=1,1,\"\"),\"\")))","v":""},{"$f":"IF($AA$2=\"pok\",\"\",IF(A16=\"\",\"\",IFERROR(IF(SEARCH($E$3,'LISTE DES SITUATIONS'!E13)>=1,1,\"\"),\"\")))","v":""},{"$f":"IF($AA$2=\"pok\",\"\",IF(A16=\"\",\"\",IFERROR(IF(SEARCH($F$3,'LISTE DES SITUATIONS'!E13)>=1,1,\"\"),\"\")))","v":""},{"$f":"IF($AA$2=\"pok\",\"\",IF(A16=\"\",\"\",IFERROR(IF(SEARCH($G$3,'LISTE DES SITUATIONS'!E13)>=1,1,\"\"),\"\")))","v":""},{"$f":"IF($AA$2=\"pok\",\"\",IF(A16=\"\",\"\",IFERROR(IF(SEARCH($H$3,'LISTE DES SITUATIONS'!E13)>=1,1,\"\"),\"\")))","v":""},{"$f":"IF($AA$2=\"pok\",\"\",IF(A16=\"\",\"\",IFERROR(IF(SEARCH($I$3,'LISTE DES SITUATIONS'!E13)>=1,1,\"\"),\"\")))","v":""},{"$f":"IF($AA$2=\"pok\",\"\",IF(A16=\"\",\"\",IFERROR(IF(SEARCH($J$3,'LISTE DES SITUATIONS'!E13)>=1,1,\"\"),\"\")))","v":""},{"$f":"IF($AA$2=\"pok\",\"\",IF(A16=\"\",\"\",IFERROR(IF(SEARCH($K$3,'LISTE DES SITUATIONS'!E13)>=1,1,\"\"),\"\")))","v":""},{"$f":"IF($AA$2=\"pok\",\"\",IF(A16=\"\",\"\",IFERROR(IF(SEARCH($L$3,'LISTE DES SITUATIONS'!E13)>=1,1,\"\"),\"\")))","v":""},{"$f":"IF($AA$2=\"pok\",\"\",IF(A16=\"\",\"\",IFERROR(IF(SEARCH($M$3,'LISTE DES SITUATIONS'!E13)>=1,1,\"\"),\"\")))","v":""},{"$f":"IF($AA$2=\"pok\",\"\",IF(A16=\"\",\"\",IFERROR(IF(SEARCH($N$3,'LISTE DES SITUATIONS'!E13)>=1,1,\"\"),\"\")))","v":""},{"$f":"IF($AA$2=\"pok\",\"\",IF(A16=\"\",\"\",IFERROR(IF(SEARCH($O$3,'LISTE DES SITUATIONS'!E13)>=1,1,\"\"),\"\")))","v":""},{"$f":"IF($AA$2=\"pok\",\"\",IF(A16=\"\",\"\",IFERROR(IF(SEARCH($P$3,'LISTE DES SITUATIONS'!E13)>=1,1,\"\"),\"\")))","v":""},{"$f":"IF($AA$2=\"pok\",\"\",IF(A16=\"\",\"\",IFERROR(IF(SEARCH($Q$3,'LISTE DES SITUATIONS'!E13)>=1,1,\"\"),\"\")))","v":""},{"$f":"IF($AA$2=\"pok\",\"\",IF(A16=\"\",\"\",IFERROR(IF(SEARCH($R$3,'LISTE DES SITUATIONS'!E13)>=1,1,\"\"),\"\")))","v":""},{"$f":"IF($AA$2=\"pok\",\"\",IF(A16=\"\",\"\",IFERROR(IF(SEARCH($S$3,'LISTE DES SITUATIONS'!E13)>=1,1,\"\"),\"\")))","v":""},{"$f":"IF($AA$2=\"pok\",\"\",IF(A16=\"\",\"\",IFERROR(IF(SEARCH($T$3,'LISTE DES SITUATIONS'!E13)>=1,1,\"\"),\"\")))","v":""},{"$f":"IF($AA$2=\"pok\",\"\",IF(A16=\"\",\"\",IFERROR(IF(SEARCH($U$3,'LISTE DES SITUATIONS'!E13)>=1,1,\"\"),\"\")))","v":""},{"$f":"IF($AA$2=\"pok\",\"\",IF(A16=\"\",\"\",IFERROR(IF(SEARCH($V$3,'LISTE DES SITUATIONS'!E13)>=1,1,\"\"),\"\")))","v":""},{"$f":"IF($AA$2=\"pok\",\"\",IF(A16=\"\",\"\",IFERROR(IF(SEARCH($W$3,'LISTE DES SITUATIONS'!E13)>=1,1,\"\"),\"\")))","v":""},{"$f":"IF($AA$2=\"pok\",\"\",IF(A16=\"\",\"\",IFERROR(IF(SEARCH($X$3,'LISTE DES SITUATIONS'!E13)>=1,1,\"\"),\"\")))","v":""},{"$f":"IF($AA$2=\"pok\",\"\",IF(A16=\"\",\"\",IFERROR(IF(SEARCH($Y$3,'LISTE DES SITUATIONS'!E13)>=1,1,\"\"),\"\")))","v":""},{"$f":"IF($AA$2=\"pok\",\"\",IF(A16=\"\",\"\",IFERROR(IF(SEARCH($Z$3,'LISTE DES SITUATIONS'!E13)>=1,1,\"\"),\"\")))","v":""},0]
[{"$f":"IF('LISTE DES SITUATIONS'!A14=\"\",\"\",'LISTE DES SITUATIONS'!A14)","v":""},{"$f":"IF(A17=\"\",\"\",VLOOKUP(A17,'LISTE DES SITUATIONS'!A:B,2,FALSE))","v":""},{"$f":"IF($AA$2=\"pok\",\"\",IF(A17=\"\",\"\",IFERROR(IF(SEARCH($C$3,'LISTE DES SITUATIONS'!E14)>=1,1,\"\"),\"\")))","v":""},{"$f":"IF($AA$2=\"pok\",\"\",IF(A17=\"\",\"\",IFERROR(IF(SEARCH($D$3,'LISTE DES SITUATIONS'!E14)>=1,1,\"\"),\"\")))","v":""},{"$f":"IF($AA$2=\"pok\",\"\",IF(A17=\"\",\"\",IFERROR(IF(SEARCH($E$3,'LISTE DES SITUATIONS'!E14)>=1,1,\"\"),\"\")))","v":""},{"$f":"IF($AA$2=\"pok\",\"\",IF(A17=\"\",\"\",IFERROR(IF(SEARCH($F$3,'LISTE DES SITUATIONS'!E14)>=1,1,\"\"),\"\")))","v":""},{"$f":"IF($AA$2=\"pok\",\"\",IF(A17=\"\",\"\",IFERROR(IF(SEARCH($G$3,'LISTE DES SITUATIONS'!E14)>=1,1,\"\"),\"\")))","v":""},{"$f":"IF($AA$2=\"pok\",\"\",IF(A17=\"\",\"\",IFERROR(IF(SEARCH($H$3,'LISTE DES SITUATIONS'!E14)>=1,1,\"\"),\"\")))","v":""},{"$f":"IF($AA$2=\"pok\",\"\",IF(A17=\"\",\"\",IFERROR(IF(SEARCH($I$3,'LISTE DES SITUATIONS'!E14)>=1,1,\"\"),\"\")))","v":""},{"$f":"IF($AA$2=\"pok\",\"\",IF(A17=\"\",\"\",IFERROR(IF(SEARCH($J$3,'LISTE DES SITUATIONS'!E14)>=1,1,\"\"),\"\")))","v":""},{"$f":"IF($AA$2=\"pok\",\"\",IF(A17=\"\",\"\",IFERROR(IF(SEARCH($K$3,'LISTE DES SITUATIONS'!E14)>=1,1,\"\"),\"\")))","v":""},{"$f":"IF($AA$2=\"pok\",\"\",IF(A17=\"\",\"\",IFERROR(IF(SEARCH($L$3,'LISTE DES SITUATIONS'!E14)>=1,1,\"\"),\"\")))","v":""},{"$f":"IF($AA$2=\"pok\",\"\",IF(A17=\"\",\"\",IFERROR(IF(SEARCH($M$3,'LISTE DES SITUATIONS'!E14)>=1,1,\"\"),\"\")))","v":""},{"$f":"IF($AA$2=\"pok\",\"\",IF(A17=\"\",\"\",IFERROR(IF(SEARCH($N$3,'LISTE DES SITUATIONS'!E14)>=1,1,\"\"),\"\")))","v":""},{"$f":"IF($AA$2=\"pok\",\"\",IF(A17=\"\",\"\",IFERROR(IF(SEARCH($O$3,'LISTE DES SITUATIONS'!E14)>=1,1,\"\"),\"\")))","v":""},{"$f":"IF($AA$2=\"pok\",\"\",IF(A17=\"\",\"\",IFERROR(IF(SEARCH($P$3,'LISTE DES SITUATIONS'!E14)>=1,1,\"\"),\"\")))","v":""},{"$f":"IF($AA$2=\"pok\",\"\",IF(A17=\"\",\"\",IFERROR(IF(SEARCH($Q$3,'LISTE DES SITUATIONS'!E14)>=1,1,\"\"),\"\")))","v":""},{"$f":"IF($AA$2=\"pok\",\"\",IF(A17=\"\",\"\",IFERROR(IF(SEARCH($R$3,'LISTE DES SITUATIONS'!E14)>=1,1,\"\"),\"\")))","v":""},{"$f":"IF($AA$2=\"pok\",\"\",IF(A17=\"\",\"\",IFERROR(IF(SEARCH($S$3,'LISTE DES SITUATIONS'!E14)>=1,1,\"\"),\"\")))","v":""},{"$f":"IF($AA$2=\"pok\",\"\",IF(A17=\"\",\"\",IFERROR(IF(SEARCH($T$3,'LISTE DES SITUATIONS'!E14)>=1,1,\"\"),\"\")))","v":""},{"$f":"IF($AA$2=\"pok\",\"\",IF(A17=\"\",\"\",IFERROR(IF(SEARCH($U$3,'LISTE DES SITUATIONS'!E14)>=1,1,\"\"),\"\")))","v":""},{"$f":"IF($AA$2=\"pok\",\"\",IF(A17=\"\",\"\",IFERROR(IF(SEARCH($V$3,'LISTE DES SITUATIONS'!E14)>=1,1,\"\"),\"\")))","v":""},{"$f":"IF($AA$2=\"pok\",\"\",IF(A17=\"\",\"\",IFERROR(IF(SEARCH($W$3,'LISTE DES SITUATIONS'!E14)>=1,1,\"\"),\"\")))","v":""},{"$f":"IF($AA$2=\"pok\",\"\",IF(A17=\"\",\"\",IFERROR(IF(SEARCH($X$3,'LISTE DES SITUATIONS'!E14)>=1,1,\"\"),\"\")))","v":""},{"$f":"IF($AA$2=\"pok\",\"\",IF(A17=\"\",\"\",IFERROR(IF(SEARCH($Y$3,'LISTE DES SITUATIONS'!E14)>=1,1,\"\"),\"\")))","v":""},{"$f":"IF($AA$2=\"pok\",\"\",IF(A17=\"\",\"\",IFERROR(IF(SEARCH($Z$3,'LISTE DES SITUATIONS'!E14)>=1,1,\"\"),\"\")))","v":""},0]
[{"$f":"IF('LISTE DES SITUATIONS'!A15=\"\",\"\",'LISTE DES SITUATIONS'!A15)","v":""},{"$f":"IF(A18=\"\",\"\",VLOOKUP(A18,'LISTE DES SITUATIONS'!A:B,2,FALSE))","v":""},{"$f":"IF($AA$2=\"pok\",\"\",IF(A18=\"\",\"\",IFERROR(IF(SEARCH($C$3,'LISTE DES SITUATIONS'!E15)>=1,1,\"\"),\"\")))","v":""},{"$f":"IF($AA$2=\"pok\",\"\",IF(A18=\"\",\"\",IFERROR(IF(SEARCH($D$3,'LISTE DES SITUATIONS'!E15)>=1,1,\"\"),\"\")))","v":""},{"$f":"IF($AA$2=\"pok\",\"\",IF(A18=\"\",\"\",IFERROR(IF(SEARCH($E$3,'LISTE DES SITUATIONS'!E15)>=1,1,\"\"),\"\")))","v":""},{"$f":"IF($AA$2=\"pok\",\"\",IF(A18=\"\",\"\",IFERROR(IF(SEARCH($F$3,'LISTE DES SITUATIONS'!E15)>=1,1,\"\"),\"\")))","v":""},{"$f":"IF($AA$2=\"pok\",\"\",IF(A18=\"\",\"\",IFERROR(IF(SEARCH($G$3,'LISTE DES SITUATIONS'!E15)>=1,1,\"\"),\"\")))","v":""},{"$f":"IF($AA$2=\"pok\",\"\",IF(A18=\"\",\"\",IFERROR(IF(SEARCH($H$3,'LISTE DES SITUATIONS'!E15)>=1,1,\"\"),\"\")))","v":""},{"$f":"IF($AA$2=\"pok\",\"\",IF(A18=\"\",\"\",IFERROR(IF(SEARCH($I$3,'LISTE DES SITUATIONS'!E15)>=1,1,\"\"),\"\")))","v":""},{"$f":"IF($AA$2=\"pok\",\"\",IF(A18=\"\",\"\",IFERROR(IF(SEARCH($J$3,'LISTE DES SITUATIONS'!E15)>=1,1,\"\"),\"\")))","v":""},{"$f":"IF($AA$2=\"pok\",\"\",IF(A18=\"\",\"\",IFERROR(IF(SEARCH($K$3,'LISTE DES SITUATIONS'!E15)>=1,1,\"\"),\"\")))","v":""},{"$f":"IF($AA$2=\"pok\",\"\",IF(A18=\"\",\"\",IFERROR(IF(SEARCH($L$3,'LISTE DES SITUATIONS'!E15)>=1,1,\"\"),\"\")))","v":""},{"$f":"IF($AA$2=\"pok\",\"\",IF(A18=\"\",\"\",IFERROR(IF(SEARCH($M$3,'LISTE DES SITUATIONS'!E15)>=1,1,\"\"),\"\")))","v":""},{"$f":"IF($AA$2=\"pok\",\"\",IF(A18=\"\",\"\",IFERROR(IF(SEARCH($N$3,'LISTE DES SITUATIONS'!E15)>=1,1,\"\"),\"\")))","v":""},{"$f":"IF($AA$2=\"pok\",\"\",IF(A18=\"\",\"\",IFERROR(IF(SEARCH($O$3,'LISTE DES SITUATIONS'!E15)>=1,1,\"\"),\"\")))","v":""},{"$f":"IF($AA$2=\"pok\",\"\",IF(A18=\"\",\"\",IFERROR(IF(SEARCH($P$3,'LISTE DES SITUATIONS'!E15)>=1,1,\"\"),\"\")))","v":""},{"$f":"IF($AA$2=\"pok\",\"\",IF(A18=\"\",\"\",IFERROR(IF(SEARCH($Q$3,'LISTE DES SITUATIONS'!E15)>=1,1,\"\"),\"\")))","v":""},{"$f":"IF($AA$2=\"pok\",\"\",IF(A18=\"\",\"\",IFERROR(IF(SEARCH($R$3,'LISTE DES SITUATIONS'!E15)>=1,1,\"\"),\"\")))","v":""},{"$f":"IF($AA$2=\"pok\",\"\",IF(A18=\"\",\"\",IFERROR(IF(SEARCH($S$3,'LISTE DES SITUATIONS'!E15)>=1,1,\"\"),\"\")))","v":""},{"$f":"IF($AA$2=\"pok\",\"\",IF(A18=\"\",\"\",IFERROR(IF(SEARCH($T$3,'LISTE DES SITUATIONS'!E15)>=1,1,\"\"),\"\")))","v":""},{"$f":"IF($AA$2=\"pok\",\"\",IF(A18=\"\",\"\",IFERROR(IF(SEARCH($U$3,'LISTE DES SITUATIONS'!E15)>=1,1,\"\"),\"\")))","v":""},{"$f":"IF($AA$2=\"pok\",\"\",IF(A18=\"\",\"\",IFERROR(IF(SEARCH($V$3,'LISTE DES SITUATIONS'!E15)>=1,1,\"\"),\"\")))","v":""},{"$f":"IF($AA$2=\"pok\",\"\",IF(A18=\"\",\"\",IFERROR(IF(SEARCH($W$3,'LISTE DES SITUATIONS'!E15)>=1,1,\"\"),\"\")))","v":""},{"$f":"IF($AA$2=\"pok\",\"\",IF(A18=\"\",\"\",IFERROR(IF(SEARCH($X$3,'LISTE DES SITUATIONS'!E15)>=1,1,\"\"),\"\")))","v":""},{"$f":"IF($AA$2=\"pok\",\"\",IF(A18=\"\",\"\",IFERROR(IF(SEARCH($Y$3,'LISTE DES SITUATIONS'!E15)>=1,1,\"\"),\"\")))","v":""},{"$f":"IF($AA$2=\"pok\",\"\",IF(A18=\"\",\"\",IFERROR(IF(SEARCH($Z$3,'LISTE DES SITUATIONS'!E15)>=1,1,\"\"),\"\")))","v":""},0]
[{"$f":"IF('LISTE DES SITUATIONS'!A16=\"\",\"\",'LISTE DES SITUATIONS'!A16)","v":""},{"$f":"IF(A19=\"\",\"\",VLOOKUP(A19,'LISTE DES SITUATIONS'!A:B,2,FALSE))","v":""},{"$f":"IF($AA$2=\"pok\",\"\",IF(A19=\"\",\"\",IFERROR(IF(SEARCH($C$3,'LISTE DES SITUATIONS'!E16)>=1,1,\"\"),\"\")))","v":""},{"$f":"IF($AA$2=\"pok\",\"\",IF(A19=\"\",\"\",IFERROR(IF(SEARCH($D$3,'LISTE DES SITUATIONS'!E16)>=1,1,\"\"),\"\")))","v":""},{"$f":"IF($AA$2=\"pok\",\"\",IF(A19=\"\",\"\",IFERROR(IF(SEARCH($E$3,'LISTE DES SITUATIONS'!E16)>=1,1,\"\"),\"\")))","v":""},{"$f":"IF($AA$2=\"pok\",\"\",IF(A19=\"\",\"\",IFERROR(IF(SEARCH($F$3,'LISTE DES SITUATIONS'!E16)>=1,1,\"\"),\"\")))","v":""},{"$f":"IF($AA$2=\"pok\",\"\",IF(A19=\"\",\"\",IFERROR(IF(SEARCH($G$3,'LISTE DES SITUATIONS'!E16)>=1,1,\"\"),\"\")))","v":""},{"$f":"IF($AA$2=\"pok\",\"\",IF(A19=\"\",\"\",IFERROR(IF(SEARCH($H$3,'LISTE DES SITUATIONS'!E16)>=1,1,\"\"),\"\")))","v":""},{"$f":"IF($AA$2=\"pok\",\"\",IF(A19=\"\",\"\",IFERROR(IF(SEARCH($I$3,'LISTE DES SITUATIONS'!E16)>=1,1,\"\"),\"\")))","v":""},{"$f":"IF($AA$2=\"pok\",\"\",IF(A19=\"\",\"\",IFERROR(IF(SEARCH($J$3,'LISTE DES SITUATIONS'!E16)>=1,1,\"\"),\"\")))","v":""},{"$f":"IF($AA$2=\"pok\",\"\",IF(A19=\"\",\"\",IFERROR(IF(SEARCH($K$3,'LISTE DES SITUATIONS'!E16)>=1,1,\"\"),\"\")))","v":""},{"$f":"IF($AA$2=\"pok\",\"\",IF(A19=\"\",\"\",IFERROR(IF(SEARCH($L$3,'LISTE DES SITUATIONS'!E16)>=1,1,\"\"),\"\")))","v":""},{"$f":"IF($AA$2=\"pok\",\"\",IF(A19=\"\",\"\",IFERROR(IF(SEARCH($M$3,'LISTE DES SITUATIONS'!E16)>=1,1,\"\"),\"\")))","v":""},{"$f":"IF($AA$2=\"pok\",\"\",IF(A19=\"\",\"\",IFERROR(IF(SEARCH($N$3,'LISTE DES SITUATIONS'!E16)>=1,1,\"\"),\"\")))","v":""},{"$f":"IF($AA$2=\"pok\",\"\",IF(A19=\"\",\"\",IFERROR(IF(SEARCH($O$3,'LISTE DES SITUATIONS'!E16)>=1,1,\"\"),\"\")))","v":""},{"$f":"IF($AA$2=\"pok\",\"\",IF(A19=\"\",\"\",IFERROR(IF(SEARCH($P$3,'LISTE DES SITUATIONS'!E16)>=1,1,\"\"),\"\")))","v":""},{"$f":"IF($AA$2=\"pok\",\"\",IF(A19=\"\",\"\",IFERROR(IF(SEARCH($Q$3,'LISTE DES SITUATIONS'!E16)>=1,1,\"\"),\"\")))","v":""},{"$f":"IF($AA$2=\"pok\",\"\",IF(A19=\"\",\"\",IFERROR(IF(SEARCH($R$3,'LISTE DES SITUATIONS'!E16)>=1,1,\"\"),\"\")))","v":""},{"$f":"IF($AA$2=\"pok\",\"\",IF(A19=\"\",\"\",IFERROR(IF(SEARCH($S$3,'LISTE DES SITUATIONS'!E16)>=1,1,\"\"),\"\")))","v":""},{"$f":"IF($AA$2=\"pok\",\"\",IF(A19=\"\",\"\",IFERROR(IF(SEARCH($T$3,'LISTE DES SITUATIONS'!E16)>=1,1,\"\"),\"\")))","v":""},{"$f":"IF($AA$2=\"pok\",\"\",IF(A19=\"\",\"\",IFERROR(IF(SEARCH($U$3,'LISTE DES SITUATIONS'!E16)>=1,1,\"\"),\"\")))","v":""},{"$f":"IF($AA$2=\"pok\",\"\",IF(A19=\"\",\"\",IFERROR(IF(SEARCH($V$3,'LISTE DES SITUATIONS'!E16)>=1,1,\"\"),\"\")))","v":""},{"$f":"IF($AA$2=\"pok\",\"\",IF(A19=\"\",\"\",IFERROR(IF(SEARCH($W$3,'LISTE DES SITUATIONS'!E16)>=1,1,\"\"),\"\")))","v":""},{"$f":"IF($AA$2=\"pok\",\"\",IF(A19=\"\",\"\",IFERROR(IF(SEARCH($X$3,'LISTE DES SITUATIONS'!E16)>=1,1,\"\"),\"\")))","v":""},{"$f":"IF($AA$2=\"pok\",\"\",IF(A19=\"\",\"\",IFERROR(IF(SEARCH($Y$3,'LISTE DES SITUATIONS'!E16)>=1,1,\"\"),\"\")))","v":""},{"$f":"IF($AA$2=\"pok\",\"\",IF(A19=\"\",\"\",IFERROR(IF(SEARCH($Z$3,'LISTE DES SITUATIONS'!E16)>=1,1,\"\"),\"\")))","v":""},0]
[{"$f":"IF('LISTE DES SITUATIONS'!A17=\"\",\"\",'LISTE DES SITUATIONS'!A17)","v":""},{"$f":"IF(A20=\"\",\"\",VLOOKUP(A20,'LISTE DES SITUATIONS'!A:B,2,FALSE))","v":""},{"$f":"IF($AA$2=\"pok\",\"\",IF(A20=\"\",\"\",IFERROR(IF(SEARCH($C$3,'LISTE DES SITUATIONS'!E17)>=1,1,\"\"),\"\")))","v":""},{"$f":"IF($AA$2=\"pok\",\"\",IF(A20=\"\",\"\",IFERROR(IF(SEARCH($D$3,'LISTE DES SITUATIONS'!E17)>=1,1,\"\"),\"\")))","v":""},{"$f":"IF($AA$2=\"pok\",\"\",IF(A20=\"\",\"\",IFERROR(IF(SEARCH($E$3,'LISTE DES SITUATIONS'!E17)>=1,1,\"\"),\"\")))","v":""},{"$f":"IF($AA$2=\"pok\",\"\",IF(A20=\"\",\"\",IFERROR(IF(SEARCH($F$3,'LISTE DES SITUATIONS'!E17)>=1,1,\"\"),\"\")))","v":""},{"$f":"IF($AA$2=\"pok\",\"\",IF(A20=\"\",\"\",IFERROR(IF(SEARCH($G$3,'LISTE DES SITUATIONS'!E17)>=1,1,\"\"),\"\")))","v":""},{"$f":"IF($AA$2=\"pok\",\"\",IF(A20=\"\",\"\",IFERROR(IF(SEARCH($H$3,'LISTE DES SITUATIONS'!E17)>=1,1,\"\"),\"\")))","v":""},{"$f":"IF($AA$2=\"pok\",\"\",IF(A20=\"\",\"\",IFERROR(IF(SEARCH($I$3,'LISTE DES SITUATIONS'!E17)>=1,1,\"\"),\"\")))","v":""},{"$f":"IF($AA$2=\"pok\",\"\",IF(A20=\"\",\"\",IFERROR(IF(SEARCH($J$3,'LISTE DES SITUATIONS'!E17)>=1,1,\"\"),\"\")))","v":""},{"$f":"IF($AA$2=\"pok\",\"\",IF(A20=\"\",\"\",IFERROR(IF(SEARCH($K$3,'LISTE DES SITUATIONS'!E17)>=1,1,\"\"),\"\")))","v":""},{"$f":"IF($AA$2=\"pok\",\"\",IF(A20=\"\",\"\",IFERROR(IF(SEARCH($L$3,'LISTE DES SITUATIONS'!E17)>=1,1,\"\"),\"\")))","v":""},{"$f":"IF($AA$2=\"pok\",\"\",IF(A20=\"\",\"\",IFERROR(IF(SEARCH($M$3,'LISTE DES SITUATIONS'!E17)>=1,1,\"\"),\"\")))","v":""},{"$f":"IF($AA$2=\"pok\",\"\",IF(A20=\"\",\"\",IFERROR(IF(SEARCH($N$3,'LISTE DES SITUATIONS'!E17)>=1,1,\"\"),\"\")))","v":""},{"$f":"IF($AA$2=\"pok\",\"\",IF(A20=\"\",\"\",IFERROR(IF(SEARCH($O$3,'LISTE DES SITUATIONS'!E17)>=1,1,\"\"),\"\")))","v":""},{"$f":"IF($AA$2=\"pok\",\"\",IF(A20=\"\",\"\",IFERROR(IF(SEARCH($P$3,'LISTE DES SITUATIONS'!E17)>=1,1,\"\"),\"\")))","v":""},{"$f":"IF($AA$2=\"pok\",\"\",IF(A20=\"\",\"\",IFERROR(IF(SEARCH($Q$3,'LISTE DES SITUATIONS'!E17)>=1,1,\"\"),\"\")))","v":""},{"$f":"IF($AA$2=\"pok\",\"\",IF(A20=\"\",\"\",IFERROR(IF(SEARCH($R$3,'LISTE DES SITUATIONS'!E17)>=1,1,\"\"),\"\")))","v":""},{"$f":"IF($AA$2=\"pok\",\"\",IF(A20=\"\",\"\",IFERROR(IF(SEARCH($S$3,'LISTE DES SITUATIONS'!E17)>=1,1,\"\"),\"\")))","v":""},{"$f":"IF($AA$2=\"pok\",\"\",IF(A20=\"\",\"\",IFERROR(IF(SEARCH($T$3,'LISTE DES SITUATIONS'!E17)>=1,1,\"\"),\"\")))","v":""},{"$f":"IF($AA$2=\"pok\",\"\",IF(A20=\"\",\"\",IFERROR(IF(SEARCH($U$3,'LISTE DES SITUATIONS'!E17)>=1,1,\"\"),\"\")))","v":""},{"$f":"IF($AA$2=\"pok\",\"\",IF(A20=\"\",\"\",IFERROR(IF(SEARCH($V$3,'LISTE DES SITUATIONS'!E17)>=1,1,\"\"),\"\")))","v":""},{"$f":"IF($AA$2=\"pok\",\"\",IF(A20=\"\",\"\",IFERROR(IF(SEARCH($W$3,'LISTE DES SITUATIONS'!E17)>=1,1,\"\"),\"\")))","v":""},{"$f":"IF($AA$2=\"pok\",\"\",IF(A20=\"\",\"\",IFERROR(IF(SEARCH($X$3,'LISTE DES SITUATIONS'!E17)>=1,1,\"\"),\"\")))","v":""},{"$f":"IF($AA$2=\"pok\",\"\",IF(A20=\"\",\"\",IFERROR(IF(SEARCH($Y$3,'LISTE DES SITUATIONS'!E17)>=1,1,\"\"),\"\")))","v":""},{"$f":"IF($AA$2=\"pok\",\"\",IF(A20=\"\",\"\",IFERROR(IF(SEARCH($Z$3,'LISTE DES SITUATIONS'!E17)>=1,1,\"\"),\"\")))","v":""},0]
[{"$f":"IF('LISTE DES SITUATIONS'!A18=\"\",\"\",'LISTE DES SITUATIONS'!A18)","v":""},{"$f":"IF(A21=\"\",\"\",VLOOKUP(A21,'LISTE DES SITUATIONS'!A:B,2,FALSE))","v":""},{"$f":"IF($AA$2=\"pok\",\"\",IF(A21=\"\",\"\",IFERROR(IF(SEARCH($C$3,'LISTE DES SITUATIONS'!E18)>=1,1,\"\"),\"\")))","v":""},{"$f":"IF($AA$2=\"pok\",\"\",IF(A21=\"\",\"\",IFERROR(IF(SEARCH($D$3,'LISTE DES SITUATIONS'!E18)>=1,1,\"\"),\"\")))","v":""},{"$f":"IF($AA$2=\"pok\",\"\",IF(A21=\"\",\"\",IFERROR(IF(SEARCH($E$3,'LISTE DES SITUATIONS'!E18)>=1,1,\"\"),\"\")))","v":""},{"$f":"IF($AA$2=\"pok\",\"\",IF(A21=\"\",\"\",IFERROR(IF(SEARCH($F$3,'LISTE DES SITUATIONS'!E18)>=1,1,\"\"),\"\")))","v":""},{"$f":"IF($AA$2=\"pok\",\"\",IF(A21=\"\",\"\",IFERROR(IF(SEARCH($G$3,'LISTE DES SITUATIONS'!E18)>=1,1,\"\"),\"\")))","v":""},{"$f":"IF($AA$2=\"pok\",\"\",IF(A21=\"\",\"\",IFERROR(IF(SEARCH($H$3,'LISTE DES SITUATIONS'!E18)>=1,1,\"\"),\"\")))","v":""},{"$f":"IF($AA$2=\"pok\",\"\",IF(A21=\"\",\"\",IFERROR(IF(SEARCH($I$3,'LISTE DES SITUATIONS'!E18)>=1,1,\"\"),\"\")))","v":""},{"$f":"IF($AA$2=\"pok\",\"\",IF(A21=\"\",\"\",IFERROR(IF(SEARCH($J$3,'LISTE DES SITUATIONS'!E18)>=1,1,\"\"),\"\")))","v":""},{"$f":"IF($AA$2=\"pok\",\"\",IF(A21=\"\",\"\",IFERROR(IF(SEARCH($K$3,'LISTE DES SITUATIONS'!E18)>=1,1,\"\"),\"\")))","v":""},{"$f":"IF($AA$2=\"pok\",\"\",IF(A21=\"\",\"\",IFERROR(IF(SEARCH($L$3,'LISTE DES SITUATIONS'!E18)>=1,1,\"\"),\"\")))","v":""},{"$f":"IF($AA$2=\"pok\",\"\",IF(A21=\"\",\"\",IFERROR(IF(SEARCH($M$3,'LISTE DES SITUATIONS'!E18)>=1,1,\"\"),\"\")))","v":""},{"$f":"IF($AA$2=\"pok\",\"\",IF(A21=\"\",\"\",IFERROR(IF(SEARCH($N$3,'LISTE DES SITUATIONS'!E18)>=1,1,\"\"),\"\")))","v":""},{"$f":"IF($AA$2=\"pok\",\"\",IF(A21=\"\",\"\",IFERROR(IF(SEARCH($O$3,'LISTE DES SITUATIONS'!E18)>=1,1,\"\"),\"\")))","v":""},{"$f":"IF($AA$2=\"pok\",\"\",IF(A21=\"\",\"\",IFERROR(IF(SEARCH($P$3,'LISTE DES SITUATIONS'!E18)>=1,1,\"\"),\"\")))","v":""},{"$f":"IF($AA$2=\"pok\",\"\",IF(A21=\"\",\"\",IFERROR(IF(SEARCH($Q$3,'LISTE DES SITUATIONS'!E18)>=1,1,\"\"),\"\")))","v":""},{"$f":"IF($AA$2=\"pok\",\"\",IF(A21=\"\",\"\",IFERROR(IF(SEARCH($R$3,'LISTE DES SITUATIONS'!E18)>=1,1,\"\"),\"\")))","v":""},{"$f":"IF($AA$2=\"pok\",\"\",IF(A21=\"\",\"\",IFERROR(IF(SEARCH($S$3,'LISTE DES SITUATIONS'!E18)>=1,1,\"\"),\"\")))","v":""},{"$f":"IF($AA$2=\"pok\",\"\",IF(A21=\"\",\"\",IFERROR(IF(SEARCH($T$3,'LISTE DES SITUATIONS'!E18)>=1,1,\"\"),\"\")))","v":""},{"$f":"IF($AA$2=\"pok\",\"\",IF(A21=\"\",\"\",IFERROR(IF(SEARCH($U$3,'LISTE DES SITUATIONS'!E18)>=1,1,\"\"),\"\")))","v":""},{"$f":"IF($AA$2=\"pok\",\"\",IF(A21=\"\",\"\",IFERROR(IF(SEARCH($V$3,'LISTE DES SITUATIONS'!E18)>=1,1,\"\"),\"\")))","v":""},{"$f":"IF($AA$2=\"pok\",\"\",IF(A21=\"\",\"\",IFERROR(IF(SEARCH($W$3,'LISTE DES SITUATIONS'!E18)>=1,1,\"\"),\"\")))","v":""},{"$f":"IF($AA$2=\"pok\",\"\",IF(A21=\"\",\"\",IFERROR(IF(SEARCH($X$3,'LISTE DES SITUATIONS'!E18)>=1,1,\"\"),\"\")))","v":""},{"$f":"IF($AA$2=\"pok\",\"\",IF(A21=\"\",\"\",IFERROR(IF(SEARCH($Y$3,'LISTE DES SITUATIONS'!E18)>=1,1,\"\"),\"\")))","v":""},{"$f":"IF($AA$2=\"pok\",\"\",IF(A21=\"\",\"\",IFERROR(IF(SEARCH($Z$3,'LISTE DES SITUATIONS'!E18)>=1,1,\"\"),\"\")))","v":""},0]
[{"$f":"IF('LISTE DES SITUATIONS'!A19=\"\",\"\",'LISTE DES SITUATIONS'!A19)","v":""},{"$f":"IF(A22=\"\",\"\",VLOOKUP(A22,'LISTE DES SITUATIONS'!A:B,2,FALSE))","v":""},{"$f":"IF($AA$2=\"pok\",\"\",IF(A22=\"\",\"\",IFERROR(IF(SEARCH($C$3,'LISTE DES SITUATIONS'!E19)>=1,1,\"\"),\"\")))","v":""},{"$f":"IF($AA$2=\"pok\",\"\",IF(A22=\"\",\"\",IFERROR(IF(SEARCH($D$3,'LISTE DES SITUATIONS'!E19)>=1,1,\"\"),\"\")))","v":""},{"$f":"IF($AA$2=\"pok\",\"\",IF(A22=\"\",\"\",IFERROR(IF(SEARCH($E$3,'LISTE DES SITUATIONS'!E19)>=1,1,\"\"),\"\")))","v":""},{"$f":"IF($AA$2=\"pok\",\"\",IF(A22=\"\",\"\",IFERROR(IF(SEARCH($F$3,'LISTE DES SITUATIONS'!E19)>=1,1,\"\"),\"\")))","v":""},{"$f":"IF($AA$2=\"pok\",\"\",IF(A22=\"\",\"\",IFERROR(IF(SEARCH($G$3,'LISTE DES SITUATIONS'!E19)>=1,1,\"\"),\"\")))","v":""},{"$f":"IF($AA$2=\"pok\",\"\",IF(A22=\"\",\"\",IFERROR(IF(SEARCH($H$3,'LISTE DES SITUATIONS'!E19)>=1,1,\"\"),\"\")))","v":""},{"$f":"IF($AA$2=\"pok\",\"\",IF(A22=\"\",\"\",IFERROR(IF(SEARCH($I$3,'LISTE DES SITUATIONS'!E19)>=1,1,\"\"),\"\")))","v":""},{"$f":"IF($AA$2=\"pok\",\"\",IF(A22=\"\",\"\",IFERROR(IF(SEARCH($J$3,'LISTE DES SITUATIONS'!E19)>=1,1,\"\"),\"\")))","v":""},{"$f":"IF($AA$2=\"pok\",\"\",IF(A22=\"\",\"\",IFERROR(IF(SEARCH($K$3,'LISTE DES SITUATIONS'!E19)>=1,1,\"\"),\"\")))","v":""},{"$f":"IF($AA$2=\"pok\",\"\",IF(A22=\"\",\"\",IFERROR(IF(SEARCH($L$3,'LISTE DES SITUATIONS'!E19)>=1,1,\"\"),\"\")))","v":""},{"$f":"IF($AA$2=\"pok\",\"\",IF(A22=\"\",\"\",IFERROR(IF(SEARCH($M$3,'LISTE DES SITUATIONS'!E19)>=1,1,\"\"),\"\")))","v":""},{"$f":"IF($AA$2=\"pok\",\"\",IF(A22=\"\",\"\",IFERROR(IF(SEARCH($N$3,'LISTE DES SITUATIONS'!E19)>=1,1,\"\"),\"\")))","v":""},{"$f":"IF($AA$2=\"pok\",\"\",IF(A22=\"\",\"\",IFERROR(IF(SEARCH($O$3,'LISTE DES SITUATIONS'!E19)>=1,1,\"\"),\"\")))","v":""},{"$f":"IF($AA$2=\"pok\",\"\",IF(A22=\"\",\"\",IFERROR(IF(SEARCH($P$3,'LISTE DES SITUATIONS'!E19)>=1,1,\"\"),\"\")))","v":""},{"$f":"IF($AA$2=\"pok\",\"\",IF(A22=\"\",\"\",IFERROR(IF(SEARCH($Q$3,'LISTE DES SITUATIONS'!E19)>=1,1,\"\"),\"\")))","v":""},{"$f":"IF($AA$2=\"pok\",\"\",IF(A22=\"\",\"\",IFERROR(IF(SEARCH($R$3,'LISTE DES SITUATIONS'!E19)>=1,1,\"\"),\"\")))","v":""},{"$f":"IF($AA$2=\"pok\",\"\",IF(A22=\"\",\"\",IFERROR(IF(SEARCH($S$3,'LISTE DES SITUATIONS'!E19)>=1,1,\"\"),\"\")))","v":""},{"$f":"IF($AA$2=\"pok\",\"\",IF(A22=\"\",\"\",IFERROR(IF(SEARCH($T$3,'LISTE DES SITUATIONS'!E19)>=1,1,\"\"),\"\")))","v":""},{"$f":"IF($AA$2=\"pok\",\"\",IF(A22=\"\",\"\",IFERROR(IF(SEARCH($U$3,'LISTE DES SITUATIONS'!E19)>=1,1,\"\"),\"\")))","v":""},{"$f":"IF($AA$2=\"pok\",\"\",IF(A22=\"\",\"\",IFERROR(IF(SEARCH($V$3,'LISTE DES SITUATIONS'!E19)>=1,1,\"\"),\"\")))","v":""},{"$f":"IF($AA$2=\"pok\",\"\",IF(A22=\"\",\"\",IFERROR(IF(SEARCH($W$3,'LISTE DES SITUATIONS'!E19)>=1,1,\"\"),\"\")))","v":""},{"$f":"IF($AA$2=\"pok\",\"\",IF(A22=\"\",\"\",IFERROR(IF(SEARCH($X$3,'LISTE DES SITUATIONS'!E19)>=1,1,\"\"),\"\")))","v":""},{"$f":"IF($AA$2=\"pok\",\"\",IF(A22=\"\",\"\",IFERROR(IF(SEARCH($Y$3,'LISTE DES SITUATIONS'!E19)>=1,1,\"\"),\"\")))","v":""},{"$f":"IF($AA$2=\"pok\",\"\",IF(A22=\"\",\"\",IFERROR(IF(SEARCH($Z$3,'LISTE DES SITUATIONS'!E19)>=1,1,\"\"),\"\")))","v":""},0]
[{"$f":"IF('LISTE DES SITUATIONS'!A20=\"\",\"\",'LISTE DES SITUATIONS'!A20)","v":""},{"$f":"IF(A23=\"\",\"\",VLOOKUP(A23,'LISTE DES SITUATIONS'!A:B,2,FALSE))","v":""},{"$f":"IF($AA$2=\"pok\",\"\",IF(A23=\"\",\"\",IFERROR(IF(SEARCH($C$3,'LISTE DES SITUATIONS'!E20)>=1,1,\"\"),\"\")))","v":""},{"$f":"IF($AA$2=\"pok\",\"\",IF(A23=\"\",\"\",IFERROR(IF(SEARCH($D$3,'LISTE DES SITUATIONS'!E20)>=1,1,\"\"),\"\")))","v":""},{"$f":"IF($AA$2=\"pok\",\"\",IF(A23=\"\",\"\",IFERROR(IF(SEARCH($E$3,'LISTE DES SITUATIONS'!E20)>=1,1,\"\"),\"\")))","v":""},{"$f":"IF($AA$2=\"pok\",\"\",IF(A23=\"\",\"\",IFERROR(IF(SEARCH($F$3,'LISTE DES SITUATIONS'!E20)>=1,1,\"\"),\"\")))","v":""},{"$f":"IF($AA$2=\"pok\",\"\",IF(A23=\"\",\"\",IFERROR(IF(SEARCH($G$3,'LISTE DES SITUATIONS'!E20)>=1,1,\"\"),\"\")))","v":""},{"$f":"IF($AA$2=\"pok\",\"\",IF(A23=\"\",\"\",IFERROR(IF(SEARCH($H$3,'LISTE DES SITUATIONS'!E20)>=1,1,\"\"),\"\")))","v":""},{"$f":"IF($AA$2=\"pok\",\"\",IF(A23=\"\",\"\",IFERROR(IF(SEARCH($I$3,'LISTE DES SITUATIONS'!E20)>=1,1,\"\"),\"\")))","v":""},{"$f":"IF($AA$2=\"pok\",\"\",IF(A23=\"\",\"\",IFERROR(IF(SEARCH($J$3,'LISTE DES SITUATIONS'!E20)>=1,1,\"\"),\"\")))","v":""},{"$f":"IF($AA$2=\"pok\",\"\",IF(A23=\"\",\"\",IFERROR(IF(SEARCH($K$3,'LISTE DES SITUATIONS'!E20)>=1,1,\"\"),\"\")))","v":""},{"$f":"IF($AA$2=\"pok\",\"\",IF(A23=\"\",\"\",IFERROR(IF(SEARCH($L$3,'LISTE DES SITUATIONS'!E20)>=1,1,\"\"),\"\")))","v":""},{"$f":"IF($AA$2=\"pok\",\"\",IF(A23=\"\",\"\",IFERROR(IF(SEARCH($M$3,'LISTE DES SITUATIONS'!E20)>=1,1,\"\"),\"\")))","v":""},{"$f":"IF($AA$2=\"pok\",\"\",IF(A23=\"\",\"\",IFERROR(IF(SEARCH($N$3,'LISTE DES SITUATIONS'!E20)>=1,1,\"\"),\"\")))","v":""},{"$f":"IF($AA$2=\"pok\",\"\",IF(A23=\"\",\"\",IFERROR(IF(SEARCH($O$3,'LISTE DES SITUATIONS'!E20)>=1,1,\"\"),\"\")))","v":""},{"$f":"IF($AA$2=\"pok\",\"\",IF(A23=\"\",\"\",IFERROR(IF(SEARCH($P$3,'LISTE DES SITUATIONS'!E20)>=1,1,\"\"),\"\")))","v":""},{"$f":"IF($AA$2=\"pok\",\"\",IF(A23=\"\",\"\",IFERROR(IF(SEARCH($Q$3,'LISTE DES SITUATIONS'!E20)>=1,1,\"\"),\"\")))","v":""},{"$f":"IF($AA$2=\"pok\",\"\",IF(A23=\"\",\"\",IFERROR(IF(SEARCH($R$3,'LISTE DES SITUATIONS'!E20)>=1,1,\"\"),\"\")))","v":""},{"$f":"IF($AA$2=\"pok\",\"\",IF(A23=\"\",\"\",IFERROR(IF(SEARCH($S$3,'LISTE DES SITUATIONS'!E20)>=1,1,\"\"),\"\")))","v":""},{"$f":"IF($AA$2=\"pok\",\"\",IF(A23=\"\",\"\",IFERROR(IF(SEARCH($T$3,'LISTE DES SITUATIONS'!E20)>=1,1,\"\"),\"\")))","v":""},{"$f":"IF($AA$2=\"pok\",\"\",IF(A23=\"\",\"\",IFERROR(IF(SEARCH($U$3,'LISTE DES SITUATIONS'!E20)>=1,1,\"\"),\"\")))","v":""},{"$f":"IF($AA$2=\"pok\",\"\",IF(A23=\"\",\"\",IFERROR(IF(SEARCH($V$3,'LISTE DES SITUATIONS'!E20)>=1,1,\"\"),\"\")))","v":""},{"$f":"IF($AA$2=\"pok\",\"\",IF(A23=\"\",\"\",IFERROR(IF(SEARCH($W$3,'LISTE DES SITUATIONS'!E20)>=1,1,\"\"),\"\")))","v":""},{"$f":"IF($AA$2=\"pok\",\"\",IF(A23=\"\",\"\",IFERROR(IF(SEARCH($X$3,'LISTE DES SITUATIONS'!E20)>=1,1,\"\"),\"\")))","v":""},{"$f":"IF($AA$2=\"pok\",\"\",IF(A23=\"\",\"\",IFERROR(IF(SEARCH($Y$3,'LISTE DES SITUATIONS'!E20)>=1,1,\"\"),\"\")))","v":""},{"$f":"IF($AA$2=\"pok\",\"\",IF(A23=\"\",\"\",IFERROR(IF(SEARCH($Z$3,'LISTE DES SITUATIONS'!E20)>=1,1,\"\"),\"\")))","v":""},0]
[{"$f":"IF('LISTE DES SITUATIONS'!A21=\"\",\"\",'LISTE DES SITUATIONS'!A21)","v":""},{"$f":"IF(A24=\"\",\"\",VLOOKUP(A24,'LISTE DES SITUATIONS'!A:B,2,FALSE))","v":""},{"$f":"IF($AA$2=\"pok\",\"\",IF(A24=\"\",\"\",IFERROR(IF(SEARCH($C$3,'LISTE DES SITUATIONS'!E21)>=1,1,\"\"),\"\")))","v":""},{"$f":"IF($AA$2=\"pok\",\"\",IF(A24=\"\",\"\",IFERROR(IF(SEARCH($D$3,'LISTE DES SITUATIONS'!E21)>=1,1,\"\"),\"\")))","v":""},{"$f":"IF($AA$2=\"pok\",\"\",IF(A24=\"\",\"\",IFERROR(IF(SEARCH($E$3,'LISTE DES SITUATIONS'!E21)>=1,1,\"\"),\"\")))","v":""},{"$f":"IF($AA$2=\"pok\",\"\",IF(A24=\"\",\"\",IFERROR(IF(SEARCH($F$3,'LISTE DES SITUATIONS'!E21)>=1,1,\"\"),\"\")))","v":""},{"$f":"IF($AA$2=\"pok\",\"\",IF(A24=\"\",\"\",IFERROR(IF(SEARCH($G$3,'LISTE DES SITUATIONS'!E21)>=1,1,\"\"),\"\")))","v":""},{"$f":"IF($AA$2=\"pok\",\"\",IF(A24=\"\",\"\",IFERROR(IF(SEARCH($H$3,'LISTE DES SITUATIONS'!E21)>=1,1,\"\"),\"\")))","v":""},{"$f":"IF($AA$2=\"pok\",\"\",IF(A24=\"\",\"\",IFERROR(IF(SEARCH($I$3,'LISTE DES SITUATIONS'!E21)>=1,1,\"\"),\"\")))","v":""},{"$f":"IF($AA$2=\"pok\",\"\",IF(A24=\"\",\"\",IFERROR(IF(SEARCH($J$3,'LISTE DES SITUATIONS'!E21)>=1,1,\"\"),\"\")))","v":""},{"$f":"IF($AA$2=\"pok\",\"\",IF(A24=\"\",\"\",IFERROR(IF(SEARCH($K$3,'LISTE DES SITUATIONS'!E21)>=1,1,\"\"),\"\")))","v":""},{"$f":"IF($AA$2=\"pok\",\"\",IF(A24=\"\",\"\",IFERROR(IF(SEARCH($L$3,'LISTE DES SITUATIONS'!E21)>=1,1,\"\"),\"\")))","v":""},{"$f":"IF($AA$2=\"pok\",\"\",IF(A24=\"\",\"\",IFERROR(IF(SEARCH($M$3,'LISTE DES SITUATIONS'!E21)>=1,1,\"\"),\"\")))","v":""},{"$f":"IF($AA$2=\"pok\",\"\",IF(A24=\"\",\"\",IFERROR(IF(SEARCH($N$3,'LISTE DES SITUATIONS'!E21)>=1,1,\"\"),\"\")))","v":""},{"$f":"IF($AA$2=\"pok\",\"\",IF(A24=\"\",\"\",IFERROR(IF(SEARCH($O$3,'LISTE DES SITUATIONS'!E21)>=1,1,\"\"),\"\")))","v":""},{"$f":"IF($AA$2=\"pok\",\"\",IF(A24=\"\",\"\",IFERROR(IF(SEARCH($P$3,'LISTE DES SITUATIONS'!E21)>=1,1,\"\"),\"\")))","v":""},{"$f":"IF($AA$2=\"pok\",\"\",IF(A24=\"\",\"\",IFERROR(IF(SEARCH($Q$3,'LISTE DES SITUATIONS'!E21)>=1,1,\"\"),\"\")))","v":""},{"$f":"IF($AA$2=\"pok\",\"\",IF(A24=\"\",\"\",IFERROR(IF(SEARCH($R$3,'LISTE DES SITUATIONS'!E21)>=1,1,\"\"),\"\")))","v":""},{"$f":"IF($AA$2=\"pok\",\"\",IF(A24=\"\",\"\",IFERROR(IF(SEARCH($S$3,'LISTE DES SITUATIONS'!E21)>=1,1,\"\"),\"\")))","v":""},{"$f":"IF($AA$2=\"pok\",\"\",IF(A24=\"\",\"\",IFERROR(IF(SEARCH($T$3,'LISTE DES SITUATIONS'!E21)>=1,1,\"\"),\"\")))","v":""},{"$f":"IF($AA$2=\"pok\",\"\",IF(A24=\"\",\"\",IFERROR(IF(SEARCH($U$3,'LISTE DES SITUATIONS'!E21)>=1,1,\"\"),\"\")))","v":""},{"$f":"IF($AA$2=\"pok\",\"\",IF(A24=\"\",\"\",IFERROR(IF(SEARCH($V$3,'LISTE DES SITUATIONS'!E21)>=1,1,\"\"),\"\")))","v":""},{"$f":"IF($AA$2=\"pok\",\"\",IF(A24=\"\",\"\",IFERROR(IF(SEARCH($W$3,'LISTE DES SITUATIONS'!E21)>=1,1,\"\"),\"\")))","v":""},{"$f":"IF($AA$2=\"pok\",\"\",IF(A24=\"\",\"\",IFERROR(IF(SEARCH($X$3,'LISTE DES SITUATIONS'!E21)>=1,1,\"\"),\"\")))","v":""},{"$f":"IF($AA$2=\"pok\",\"\",IF(A24=\"\",\"\",IFERROR(IF(SEARCH($Y$3,'LISTE DES SITUATIONS'!E21)>=1,1,\"\"),\"\")))","v":""},{"$f":"IF($AA$2=\"pok\",\"\",IF(A24=\"\",\"\",IFERROR(IF(SEARCH($Z$3,'LISTE DES SITUATIONS'!E21)>=1,1,\"\"),\"\")))","v":""},0]
[{"$f":"IF('LISTE DES SITUATIONS'!A22=\"\",\"\",'LISTE DES SITUATIONS'!A22)","v":""},{"$f":"IF(A25=\"\",\"\",VLOOKUP(A25,'LISTE DES SITUATIONS'!A:B,2,FALSE))","v":""},{"$f":"IF($AA$2=\"pok\",\"\",IF(A25=\"\",\"\",IFERROR(IF(SEARCH($C$3,'LISTE DES SITUATIONS'!E22)>=1,1,\"\"),\"\")))","v":""},{"$f":"IF($AA$2=\"pok\",\"\",IF(A25=\"\",\"\",IFERROR(IF(SEARCH($D$3,'LISTE DES SITUATIONS'!E22)>=1,1,\"\"),\"\")))","v":""},{"$f":"IF($AA$2=\"pok\",\"\",IF(A25=\"\",\"\",IFERROR(IF(SEARCH($E$3,'LISTE DES SITUATIONS'!E22)>=1,1,\"\"),\"\")))","v":""},{"$f":"IF($AA$2=\"pok\",\"\",IF(A25=\"\",\"\",IFERROR(IF(SEARCH($F$3,'LISTE DES SITUATIONS'!E22)>=1,1,\"\"),\"\")))","v":""},{"$f":"IF($AA$2=\"pok\",\"\",IF(A25=\"\",\"\",IFERROR(IF(SEARCH($G$3,'LISTE DES SITUATIONS'!E22)>=1,1,\"\"),\"\")))","v":""},{"$f":"IF($AA$2=\"pok\",\"\",IF(A25=\"\",\"\",IFERROR(IF(SEARCH($H$3,'LISTE DES SITUATIONS'!E22)>=1,1,\"\"),\"\")))","v":""},{"$f":"IF($AA$2=\"pok\",\"\",IF(A25=\"\",\"\",IFERROR(IF(SEARCH($I$3,'LISTE DES SITUATIONS'!E22)>=1,1,\"\"),\"\")))","v":""},{"$f":"IF($AA$2=\"pok\",\"\",IF(A25=\"\",\"\",IFERROR(IF(SEARCH($J$3,'LISTE DES SITUATIONS'!E22)>=1,1,\"\"),\"\")))","v":""},{"$f":"IF($AA$2=\"pok\",\"\",IF(A25=\"\",\"\",IFERROR(IF(SEARCH($K$3,'LISTE DES SITUATIONS'!E22)>=1,1,\"\"),\"\")))","v":""},{"$f":"IF($AA$2=\"pok\",\"\",IF(A25=\"\",\"\",IFERROR(IF(SEARCH($L$3,'LISTE DES SITUATIONS'!E22)>=1,1,\"\"),\"\")))","v":""},{"$f":"IF($AA$2=\"pok\",\"\",IF(A25=\"\",\"\",IFERROR(IF(SEARCH($M$3,'LISTE DES SITUATIONS'!E22)>=1,1,\"\"),\"\")))","v":""},{"$f":"IF($AA$2=\"pok\",\"\",IF(A25=\"\",\"\",IFERROR(IF(SEARCH($N$3,'LISTE DES SITUATIONS'!E22)>=1,1,\"\"),\"\")))","v":""},{"$f":"IF($AA$2=\"pok\",\"\",IF(A25=\"\",\"\",IFERROR(IF(SEARCH($O$3,'LISTE DES SITUATIONS'!E22)>=1,1,\"\"),\"\")))","v":""},{"$f":"IF($AA$2=\"pok\",\"\",IF(A25=\"\",\"\",IFERROR(IF(SEARCH($P$3,'LISTE DES SITUATIONS'!E22)>=1,1,\"\"),\"\")))","v":""},{"$f":"IF($AA$2=\"pok\",\"\",IF(A25=\"\",\"\",IFERROR(IF(SEARCH($Q$3,'LISTE DES SITUATIONS'!E22)>=1,1,\"\"),\"\")))","v":""},{"$f":"IF($AA$2=\"pok\",\"\",IF(A25=\"\",\"\",IFERROR(IF(SEARCH($R$3,'LISTE DES SITUATIONS'!E22)>=1,1,\"\"),\"\")))","v":""},{"$f":"IF($AA$2=\"pok\",\"\",IF(A25=\"\",\"\",IFERROR(IF(SEARCH($S$3,'LISTE DES SITUATIONS'!E22)>=1,1,\"\"),\"\")))","v":""},{"$f":"IF($AA$2=\"pok\",\"\",IF(A25=\"\",\"\",IFERROR(IF(SEARCH($T$3,'LISTE DES SITUATIONS'!E22)>=1,1,\"\"),\"\")))","v":""},{"$f":"IF($AA$2=\"pok\",\"\",IF(A25=\"\",\"\",IFERROR(IF(SEARCH($U$3,'LISTE DES SITUATIONS'!E22)>=1,1,\"\"),\"\")))","v":""},{"$f":"IF($AA$2=\"pok\",\"\",IF(A25=\"\",\"\",IFERROR(IF(SEARCH($V$3,'LISTE DES SITUATIONS'!E22)>=1,1,\"\"),\"\")))","v":""},{"$f":"IF($AA$2=\"pok\",\"\",IF(A25=\"\",\"\",IFERROR(IF(SEARCH($W$3,'LISTE DES SITUATIONS'!E22)>=1,1,\"\"),\"\")))","v":""},{"$f":"IF($AA$2=\"pok\",\"\",IF(A25=\"\",\"\",IFERROR(IF(SEARCH($X$3,'LISTE DES SITUATIONS'!E22)>=1,1,\"\"),\"\")))","v":""},{"$f":"IF($AA$2=\"pok\",\"\",IF(A25=\"\",\"\",IFERROR(IF(SEARCH($Y$3,'LISTE DES SITUATIONS'!E22)>=1,1,\"\"),\"\")))","v":""},{"$f":"IF($AA$2=\"pok\",\"\",IF(A25=\"\",\"\",IFERROR(IF(SEARCH($Z$3,'LISTE DES SITUATIONS'!E22)>=1,1,\"\"),\"\")))","v":""},0]
[{"$f":"IF('LISTE DES SITUATIONS'!A23=\"\",\"\",'LISTE DES SITUATIONS'!A23)","v":""},{"$f":"IF(A26=\"\",\"\",VLOOKUP(A26,'LISTE DES SITUATIONS'!A:B,2,FALSE))","v":""},{"$f":"IF($AA$2=\"pok\",\"\",IF(A26=\"\",\"\",IFERROR(IF(SEARCH($C$3,'LISTE DES SITUATIONS'!E23)>=1,1,\"\"),\"\")))","v":""},{"$f":"IF($AA$2=\"pok\",\"\",IF(A26=\"\",\"\",IFERROR(IF(SEARCH($D$3,'LISTE DES SITUATIONS'!E23)>=1,1,\"\"),\"\")))","v":""},{"$f":"IF($AA$2=\"pok\",\"\",IF(A26=\"\",\"\",IFERROR(IF(SEARCH($E$3,'LISTE DES SITUATIONS'!E23)>=1,1,\"\"),\"\")))","v":""},{"$f":"IF($AA$2=\"pok\",\"\",IF(A26=\"\",\"\",IFERROR(IF(SEARCH($F$3,'LISTE DES SITUATIONS'!E23)>=1,1,\"\"),\"\")))","v":""},{"$f":"IF($AA$2=\"pok\",\"\",IF(A26=\"\",\"\",IFERROR(IF(SEARCH($G$3,'LISTE DES SITUATIONS'!E23)>=1,1,\"\"),\"\")))","v":""},{"$f":"IF($AA$2=\"pok\",\"\",IF(A26=\"\",\"\",IFERROR(IF(SEARCH($H$3,'LISTE DES SITUATIONS'!E23)>=1,1,\"\"),\"\")))","v":""},{"$f":"IF($AA$2=\"pok\",\"\",IF(A26=\"\",\"\",IFERROR(IF(SEARCH($I$3,'LISTE DES SITUATIONS'!E23)>=1,1,\"\"),\"\")))","v":""},{"$f":"IF($AA$2=\"pok\",\"\",IF(A26=\"\",\"\",IFERROR(IF(SEARCH($J$3,'LISTE DES SITUATIONS'!E23)>=1,1,\"\"),\"\")))","v":""},{"$f":"IF($AA$2=\"pok\",\"\",IF(A26=\"\",\"\",IFERROR(IF(SEARCH($K$3,'LISTE DES SITUATIONS'!E23)>=1,1,\"\"),\"\")))","v":""},{"$f":"IF($AA$2=\"pok\",\"\",IF(A26=\"\",\"\",IFERROR(IF(SEARCH($L$3,'LISTE DES SITUATIONS'!E23)>=1,1,\"\"),\"\")))","v":""},{"$f":"IF($AA$2=\"pok\",\"\",IF(A26=\"\",\"\",IFERROR(IF(SEARCH($M$3,'LISTE DES SITUATIONS'!E23)>=1,1,\"\"),\"\")))","v":""},{"$f":"IF($AA$2=\"pok\",\"\",IF(A26=\"\",\"\",IFERROR(IF(SEARCH($N$3,'LISTE DES SITUATIONS'!E23)>=1,1,\"\"),\"\")))","v":""},{"$f":"IF($AA$2=\"pok\",\"\",IF(A26=\"\",\"\",IFERROR(IF(SEARCH($O$3,'LISTE DES SITUATIONS'!E23)>=1,1,\"\"),\"\")))","v":""},{"$f":"IF($AA$2=\"pok\",\"\",IF(A26=\"\",\"\",IFERROR(IF(SEARCH($P$3,'LISTE DES SITUATIONS'!E23)>=1,1,\"\"),\"\")))","v":""},{"$f":"IF($AA$2=\"pok\",\"\",IF(A26=\"\",\"\",IFERROR(IF(SEARCH($Q$3,'LISTE DES SITUATIONS'!E23)>=1,1,\"\"),\"\")))","v":""},{"$f":"IF($AA$2=\"pok\",\"\",IF(A26=\"\",\"\",IFERROR(IF(SEARCH($R$3,'LISTE DES SITUATIONS'!E23)>=1,1,\"\"),\"\")))","v":""},{"$f":"IF($AA$2=\"pok\",\"\",IF(A26=\"\",\"\",IFERROR(IF(SEARCH($S$3,'LISTE DES SITUATIONS'!E23)>=1,1,\"\"),\"\")))","v":""},{"$f":"IF($AA$2=\"pok\",\"\",IF(A26=\"\",\"\",IFERROR(IF(SEARCH($T$3,'LISTE DES SITUATIONS'!E23)>=1,1,\"\"),\"\")))","v":""},{"$f":"IF($AA$2=\"pok\",\"\",IF(A26=\"\",\"\",IFERROR(IF(SEARCH($U$3,'LISTE DES SITUATIONS'!E23)>=1,1,\"\"),\"\")))","v":""},{"$f":"IF($AA$2=\"pok\",\"\",IF(A26=\"\",\"\",IFERROR(IF(SEARCH($V$3,'LISTE DES SITUATIONS'!E23)>=1,1,\"\"),\"\")))","v":""},{"$f":"IF($AA$2=\"pok\",\"\",IF(A26=\"\",\"\",IFERROR(IF(SEARCH($W$3,'LISTE DES SITUATIONS'!E23)>=1,1,\"\"),\"\")))","v":""},{"$f":"IF($AA$2=\"pok\",\"\",IF(A26=\"\",\"\",IFERROR(IF(SEARCH($X$3,'LISTE DES SITUATIONS'!E23)>=1,1,\"\"),\"\")))","v":""},{"$f":"IF($AA$2=\"pok\",\"\",IF(A26=\"\",\"\",IFERROR(IF(SEARCH($Y$3,'LISTE DES SITUATIONS'!E23)>=1,1,\"\"),\"\")))","v":""},{"$f":"IF($AA$2=\"pok\",\"\",IF(A26=\"\",\"\",IFERROR(IF(SEARCH($Z$3,'LISTE DES SITUATIONS'!E23)>=1,1,\"\"),\"\")))","v":""},0]
[{"$f":"IF('LISTE DES SITUATIONS'!A24=\"\",\"\",'LISTE DES SITUATIONS'!A24)","v":""},{"$f":"IF(A27=\"\",\"\",VLOOKUP(A27,'LISTE DES SITUATIONS'!A:B,2,FALSE))","v":""},{"$f":"IF($AA$2=\"pok\",\"\",IF(A27=\"\",\"\",IFERROR(IF(SEARCH($C$3,'LISTE DES SITUATIONS'!E24)>=1,1,\"\"),\"\")))","v":""},{"$f":"IF($AA$2=\"pok\",\"\",IF(A27=\"\",\"\",IFERROR(IF(SEARCH($D$3,'LISTE DES SITUATIONS'!E24)>=1,1,\"\"),\"\")))","v":""},{"$f":"IF($AA$2=\"pok\",\"\",IF(A27=\"\",\"\",IFERROR(IF(SEARCH($E$3,'LISTE DES SITUATIONS'!E24)>=1,1,\"\"),\"\")))","v":""},{"$f":"IF($AA$2=\"pok\",\"\",IF(A27=\"\",\"\",IFERROR(IF(SEARCH($F$3,'LISTE DES SITUATIONS'!E24)>=1,1,\"\"),\"\")))","v":""},{"$f":"IF($AA$2=\"pok\",\"\",IF(A27=\"\",\"\",IFERROR(IF(SEARCH($G$3,'LISTE DES SITUATIONS'!E24)>=1,1,\"\"),\"\")))","v":""},{"$f":"IF($AA$2=\"pok\",\"\",IF(A27=\"\",\"\",IFERROR(IF(SEARCH($H$3,'LISTE DES SITUATIONS'!E24)>=1,1,\"\"),\"\")))","v":""},{"$f":"IF($AA$2=\"pok\",\"\",IF(A27=\"\",\"\",IFERROR(IF(SEARCH($I$3,'LISTE DES SITUATIONS'!E24)>=1,1,\"\"),\"\")))","v":""},{"$f":"IF($AA$2=\"pok\",\"\",IF(A27=\"\",\"\",IFERROR(IF(SEARCH($J$3,'LISTE DES SITUATIONS'!E24)>=1,1,\"\"),\"\")))","v":""},{"$f":"IF($AA$2=\"pok\",\"\",IF(A27=\"\",\"\",IFERROR(IF(SEARCH($K$3,'LISTE DES SITUATIONS'!E24)>=1,1,\"\"),\"\")))","v":""},{"$f":"IF($AA$2=\"pok\",\"\",IF(A27=\"\",\"\",IFERROR(IF(SEARCH($L$3,'LISTE DES SITUATIONS'!E24)>=1,1,\"\"),\"\")))","v":""},{"$f":"IF($AA$2=\"pok\",\"\",IF(A27=\"\",\"\",IFERROR(IF(SEARCH($M$3,'LISTE DES SITUATIONS'!E24)>=1,1,\"\"),\"\")))","v":""},{"$f":"IF($AA$2=\"pok\",\"\",IF(A27=\"\",\"\",IFERROR(IF(SEARCH($N$3,'LISTE DES SITUATIONS'!E24)>=1,1,\"\"),\"\")))","v":""},{"$f":"IF($AA$2=\"pok\",\"\",IF(A27=\"\",\"\",IFERROR(IF(SEARCH($O$3,'LISTE DES SITUATIONS'!E24)>=1,1,\"\"),\"\")))","v":""},{"$f":"IF($AA$2=\"pok\",\"\",IF(A27=\"\",\"\",IFERROR(IF(SEARCH($P$3,'LISTE DES SITUATIONS'!E24)>=1,1,\"\"),\"\")))","v":""},{"$f":"IF($AA$2=\"pok\",\"\",IF(A27=\"\",\"\",IFERROR(IF(SEARCH($Q$3,'LISTE DES SITUATIONS'!E24)>=1,1,\"\"),\"\")))","v":""},{"$f":"IF($AA$2=\"pok\",\"\",IF(A27=\"\",\"\",IFERROR(IF(SEARCH($R$3,'LISTE DES SITUATIONS'!E24)>=1,1,\"\"),\"\")))","v":""},{"$f":"IF($AA$2=\"pok\",\"\",IF(A27=\"\",\"\",IFERROR(IF(SEARCH($S$3,'LISTE DES SITUATIONS'!E24)>=1,1,\"\"),\"\")))","v":""},{"$f":"IF($AA$2=\"pok\",\"\",IF(A27=\"\",\"\",IFERROR(IF(SEARCH($T$3,'LISTE DES SITUATIONS'!E24)>=1,1,\"\"),\"\")))","v":""},{"$f":"IF($AA$2=\"pok\",\"\",IF(A27=\"\",\"\",IFERROR(IF(SEARCH($U$3,'LISTE DES SITUATIONS'!E24)>=1,1,\"\"),\"\")))","v":""},{"$f":"IF($AA$2=\"pok\",\"\",IF(A27=\"\",\"\",IFERROR(IF(SEARCH($V$3,'LISTE DES SITUATIONS'!E24)>=1,1,\"\"),\"\")))","v":""},{"$f":"IF($AA$2=\"pok\",\"\",IF(A27=\"\",\"\",IFERROR(IF(SEARCH($W$3,'LISTE DES SITUATIONS'!E24)>=1,1,\"\"),\"\")))","v":""},{"$f":"IF($AA$2=\"pok\",\"\",IF(A27=\"\",\"\",IFERROR(IF(SEARCH($X$3,'LISTE DES SITUATIONS'!E24)>=1,1,\"\"),\"\")))","v":""},{"$f":"IF($AA$2=\"pok\",\"\",IF(A27=\"\",\"\",IFERROR(IF(SEARCH($Y$3,'LISTE DES SITUATIONS'!E24)>=1,1,\"\"),\"\")))","v":""},{"$f":"IF($AA$2=\"pok\",\"\",IF(A27=\"\",\"\",IFERROR(IF(SEARCH($Z$3,'LISTE DES SITUATIONS'!E24)>=1,1,\"\"),\"\")))","v":""},0]
[{"$f":"IF('LISTE DES SITUATIONS'!A25=\"\",\"\",'LISTE DES SITUATIONS'!A25)","v":""},{"$f":"IF(A28=\"\",\"\",VLOOKUP(A28,'LISTE DES SITUATIONS'!A:B,2,FALSE))","v":""},{"$f":"IF($AA$2=\"pok\",\"\",IF(A28=\"\",\"\",IFERROR(IF(SEARCH($C$3,'LISTE DES SITUATIONS'!E25)>=1,1,\"\"),\"\")))","v":""},{"$f":"IF($AA$2=\"pok\",\"\",IF(A28=\"\",\"\",IFERROR(IF(SEARCH($D$3,'LISTE DES SITUATIONS'!E25)>=1,1,\"\"),\"\")))","v":""},{"$f":"IF($AA$2=\"pok\",\"\",IF(A28=\"\",\"\",IFERROR(IF(SEARCH($E$3,'LISTE DES SITUATIONS'!E25)>=1,1,\"\"),\"\")))","v":""},{"$f":"IF($AA$2=\"pok\",\"\",IF(A28=\"\",\"\",IFERROR(IF(SEARCH($F$3,'LISTE DES SITUATIONS'!E25)>=1,1,\"\"),\"\")))","v":""},{"$f":"IF($AA$2=\"pok\",\"\",IF(A28=\"\",\"\",IFERROR(IF(SEARCH($G$3,'LISTE DES SITUATIONS'!E25)>=1,1,\"\"),\"\")))","v":""},{"$f":"IF($AA$2=\"pok\",\"\",IF(A28=\"\",\"\",IFERROR(IF(SEARCH($H$3,'LISTE DES SITUATIONS'!E25)>=1,1,\"\"),\"\")))","v":""},{"$f":"IF($AA$2=\"pok\",\"\",IF(A28=\"\",\"\",IFERROR(IF(SEARCH($I$3,'LISTE DES SITUATIONS'!E25)>=1,1,\"\"),\"\")))","v":""},{"$f":"IF($AA$2=\"pok\",\"\",IF(A28=\"\",\"\",IFERROR(IF(SEARCH($J$3,'LISTE DES SITUATIONS'!E25)>=1,1,\"\"),\"\")))","v":""},{"$f":"IF($AA$2=\"pok\",\"\",IF(A28=\"\",\"\",IFERROR(IF(SEARCH($K$3,'LISTE DES SITUATIONS'!E25)>=1,1,\"\"),\"\")))","v":""},{"$f":"IF($AA$2=\"pok\",\"\",IF(A28=\"\",\"\",IFERROR(IF(SEARCH($L$3,'LISTE DES SITUATIONS'!E25)>=1,1,\"\"),\"\")))","v":""},{"$f":"IF($AA$2=\"pok\",\"\",IF(A28=\"\",\"\",IFERROR(IF(SEARCH($M$3,'LISTE DES SITUATIONS'!E25)>=1,1,\"\"),\"\")))","v":""},{"$f":"IF($AA$2=\"pok\",\"\",IF(A28=\"\",\"\",IFERROR(IF(SEARCH($N$3,'LISTE DES SITUATIONS'!E25)>=1,1,\"\"),\"\")))","v":""},{"$f":"IF($AA$2=\"pok\",\"\",IF(A28=\"\",\"\",IFERROR(IF(SEARCH($O$3,'LISTE DES SITUATIONS'!E25)>=1,1,\"\"),\"\")))","v":""},{"$f":"IF($AA$2=\"pok\",\"\",IF(A28=\"\",\"\",IFERROR(IF(SEARCH($P$3,'LISTE DES SITUATIONS'!E25)>=1,1,\"\"),\"\")))","v":""},{"$f":"IF($AA$2=\"pok\",\"\",IF(A28=\"\",\"\",IFERROR(IF(SEARCH($Q$3,'LISTE DES SITUATIONS'!E25)>=1,1,\"\"),\"\")))","v":""},{"$f":"IF($AA$2=\"pok\",\"\",IF(A28=\"\",\"\",IFERROR(IF(SEARCH($R$3,'LISTE DES SITUATIONS'!E25)>=1,1,\"\"),\"\")))","v":""},{"$f":"IF($AA$2=\"pok\",\"\",IF(A28=\"\",\"\",IFERROR(IF(SEARCH($S$3,'LISTE DES SITUATIONS'!E25)>=1,1,\"\"),\"\")))","v":""},{"$f":"IF($AA$2=\"pok\",\"\",IF(A28=\"\",\"\",IFERROR(IF(SEARCH($T$3,'LISTE DES SITUATIONS'!E25)>=1,1,\"\"),\"\")))","v":""},{"$f":"IF($AA$2=\"pok\",\"\",IF(A28=\"\",\"\",IFERROR(IF(SEARCH($U$3,'LISTE DES SITUATIONS'!E25)>=1,1,\"\"),\"\")))","v":""},{"$f":"IF($AA$2=\"pok\",\"\",IF(A28=\"\",\"\",IFERROR(IF(SEARCH($V$3,'LISTE DES SITUATIONS'!E25)>=1,1,\"\"),\"\")))","v":""},{"$f":"IF($AA$2=\"pok\",\"\",IF(A28=\"\",\"\",IFERROR(IF(SEARCH($W$3,'LISTE DES SITUATIONS'!E25)>=1,1,\"\"),\"\")))","v":""},{"$f":"IF($AA$2=\"pok\",\"\",IF(A28=\"\",\"\",IFERROR(IF(SEARCH($X$3,'LISTE DES SITUATIONS'!E25)>=1,1,\"\"),\"\")))","v":""},{"$f":"IF($AA$2=\"pok\",\"\",IF(A28=\"\",\"\",IFERROR(IF(SEARCH($Y$3,'LISTE DES SITUATIONS'!E25)>=1,1,\"\"),\"\")))","v":""},{"$f":"IF($AA$2=\"pok\",\"\",IF(A28=\"\",\"\",IFERROR(IF(SEARCH($Z$3,'LISTE DES SITUATIONS'!E25)>=1,1,\"\"),\"\")))","v":""},0]
[{"$f":"IF('LISTE DES SITUATIONS'!A26=\"\",\"\",'LISTE DES SITUATIONS'!A26)","v":""},{"$f":"IF(A29=\"\",\"\",VLOOKUP(A29,'LISTE DES SITUATIONS'!A:B,2,FALSE))","v":""},{"$f":"IF($AA$2=\"pok\",\"\",IF(A29=\"\",\"\",IFERROR(IF(SEARCH($C$3,'LISTE DES SITUATIONS'!E26)>=1,1,\"\"),\"\")))","v":""},{"$f":"IF($AA$2=\"pok\",\"\",IF(A29=\"\",\"\",IFERROR(IF(SEARCH($D$3,'LISTE DES SITUATIONS'!E26)>=1,1,\"\"),\"\")))","v":""},{"$f":"IF($AA$2=\"pok\",\"\",IF(A29=\"\",\"\",IFERROR(IF(SEARCH($E$3,'LISTE DES SITUATIONS'!E26)>=1,1,\"\"),\"\")))","v":""},{"$f":"IF($AA$2=\"pok\",\"\",IF(A29=\"\",\"\",IFERROR(IF(SEARCH($F$3,'LISTE DES SITUATIONS'!E26)>=1,1,\"\"),\"\")))","v":""},{"$f":"IF($AA$2=\"pok\",\"\",IF(A29=\"\",\"\",IFERROR(IF(SEARCH($G$3,'LISTE DES SITUATIONS'!E26)>=1,1,\"\"),\"\")))","v":""},{"$f":"IF($AA$2=\"pok\",\"\",IF(A29=\"\",\"\",IFERROR(IF(SEARCH($H$3,'LISTE DES SITUATIONS'!E26)>=1,1,\"\"),\"\")))","v":""},{"$f":"IF($AA$2=\"pok\",\"\",IF(A29=\"\",\"\",IFERROR(IF(SEARCH($I$3,'LISTE DES SITUATIONS'!E26)>=1,1,\"\"),\"\")))","v":""},{"$f":"IF($AA$2=\"pok\",\"\",IF(A29=\"\",\"\",IFERROR(IF(SEARCH($J$3,'LISTE DES SITUATIONS'!E26)>=1,1,\"\"),\"\")))","v":""},{"$f":"IF($AA$2=\"pok\",\"\",IF(A29=\"\",\"\",IFERROR(IF(SEARCH($K$3,'LISTE DES SITUATIONS'!E26)>=1,1,\"\"),\"\")))","v":""},{"$f":"IF($AA$2=\"pok\",\"\",IF(A29=\"\",\"\",IFERROR(IF(SEARCH($L$3,'LISTE DES SITUATIONS'!E26)>=1,1,\"\"),\"\")))","v":""},{"$f":"IF($AA$2=\"pok\",\"\",IF(A29=\"\",\"\",IFERROR(IF(SEARCH($M$3,'LISTE DES SITUATIONS'!E26)>=1,1,\"\"),\"\")))","v":""},{"$f":"IF($AA$2=\"pok\",\"\",IF(A29=\"\",\"\",IFERROR(IF(SEARCH($N$3,'LISTE DES SITUATIONS'!E26)>=1,1,\"\"),\"\")))","v":""},{"$f":"IF($AA$2=\"pok\",\"\",IF(A29=\"\",\"\",IFERROR(IF(SEARCH($O$3,'LISTE DES SITUATIONS'!E26)>=1,1,\"\"),\"\")))","v":""},{"$f":"IF($AA$2=\"pok\",\"\",IF(A29=\"\",\"\",IFERROR(IF(SEARCH($P$3,'LISTE DES SITUATIONS'!E26)>=1,1,\"\"),\"\")))","v":""},{"$f":"IF($AA$2=\"pok\",\"\",IF(A29=\"\",\"\",IFERROR(IF(SEARCH($Q$3,'LISTE DES SITUATIONS'!E26)>=1,1,\"\"),\"\")))","v":""},{"$f":"IF($AA$2=\"pok\",\"\",IF(A29=\"\",\"\",IFERROR(IF(SEARCH($R$3,'LISTE DES SITUATIONS'!E26)>=1,1,\"\"),\"\")))","v":""},{"$f":"IF($AA$2=\"pok\",\"\",IF(A29=\"\",\"\",IFERROR(IF(SEARCH($S$3,'LISTE DES SITUATIONS'!E26)>=1,1,\"\"),\"\")))","v":""},{"$f":"IF($AA$2=\"pok\",\"\",IF(A29=\"\",\"\",IFERROR(IF(SEARCH($T$3,'LISTE DES SITUATIONS'!E26)>=1,1,\"\"),\"\")))","v":""},{"$f":"IF($AA$2=\"pok\",\"\",IF(A29=\"\",\"\",IFERROR(IF(SEARCH($U$3,'LISTE DES SITUATIONS'!E26)>=1,1,\"\"),\"\")))","v":""},{"$f":"IF($AA$2=\"pok\",\"\",IF(A29=\"\",\"\",IFERROR(IF(SEARCH($V$3,'LISTE DES SITUATIONS'!E26)>=1,1,\"\"),\"\")))","v":""},{"$f":"IF($AA$2=\"pok\",\"\",IF(A29=\"\",\"\",IFERROR(IF(SEARCH($W$3,'LISTE DES SITUATIONS'!E26)>=1,1,\"\"),\"\")))","v":""},{"$f":"IF($AA$2=\"pok\",\"\",IF(A29=\"\",\"\",IFERROR(IF(SEARCH($X$3,'LISTE DES SITUATIONS'!E26)>=1,1,\"\"),\"\")))","v":""},{"$f":"IF($AA$2=\"pok\",\"\",IF(A29=\"\",\"\",IFERROR(IF(SEARCH($Y$3,'LISTE DES SITUATIONS'!E26)>=1,1,\"\"),\"\")))","v":""},{"$f":"IF($AA$2=\"pok\",\"\",IF(A29=\"\",\"\",IFERROR(IF(SEARCH($Z$3,'LISTE DES SITUATIONS'!E26)>=1,1,\"\"),\"\")))","v":""},0]
[{"$f":"IF('LISTE DES SITUATIONS'!A27=\"\",\"\",'LISTE DES SITUATIONS'!A27)","v":""},{"$f":"IF(A30=\"\",\"\",VLOOKUP(A30,'LISTE DES SITUATIONS'!A:B,2,FALSE))","v":""},{"$f":"IF($AA$2=\"pok\",\"\",IF(A30=\"\",\"\",IFERROR(IF(SEARCH($C$3,'LISTE DES SITUATIONS'!E27)>=1,1,\"\"),\"\")))","v":""},{"$f":"IF($AA$2=\"pok\",\"\",IF(A30=\"\",\"\",IFERROR(IF(SEARCH($D$3,'LISTE DES SITUATIONS'!E27)>=1,1,\"\"),\"\")))","v":""},{"$f":"IF($AA$2=\"pok\",\"\",IF(A30=\"\",\"\",IFERROR(IF(SEARCH($E$3,'LISTE DES SITUATIONS'!E27)>=1,1,\"\"),\"\")))","v":""},{"$f":"IF($AA$2=\"pok\",\"\",IF(A30=\"\",\"\",IFERROR(IF(SEARCH($F$3,'LISTE DES SITUATIONS'!E27)>=1,1,\"\"),\"\")))","v":""},{"$f":"IF($AA$2=\"pok\",\"\",IF(A30=\"\",\"\",IFERROR(IF(SEARCH($G$3,'LISTE DES SITUATIONS'!E27)>=1,1,\"\"),\"\")))","v":""},{"$f":"IF($AA$2=\"pok\",\"\",IF(A30=\"\",\"\",IFERROR(IF(SEARCH($H$3,'LISTE DES SITUATIONS'!E27)>=1,1,\"\"),\"\")))","v":""},{"$f":"IF($AA$2=\"pok\",\"\",IF(A30=\"\",\"\",IFERROR(IF(SEARCH($I$3,'LISTE DES SITUATIONS'!E27)>=1,1,\"\"),\"\")))","v":""},{"$f":"IF($AA$2=\"pok\",\"\",IF(A30=\"\",\"\",IFERROR(IF(SEARCH($J$3,'LISTE DES SITUATIONS'!E27)>=1,1,\"\"),\"\")))","v":""},{"$f":"IF($AA$2=\"pok\",\"\",IF(A30=\"\",\"\",IFERROR(IF(SEARCH($K$3,'LISTE DES SITUATIONS'!E27)>=1,1,\"\"),\"\")))","v":""},{"$f":"IF($AA$2=\"pok\",\"\",IF(A30=\"\",\"\",IFERROR(IF(SEARCH($L$3,'LISTE DES SITUATIONS'!E27)>=1,1,\"\"),\"\")))","v":""},{"$f":"IF($AA$2=\"pok\",\"\",IF(A30=\"\",\"\",IFERROR(IF(SEARCH($M$3,'LISTE DES SITUATIONS'!E27)>=1,1,\"\"),\"\")))","v":""},{"$f":"IF($AA$2=\"pok\",\"\",IF(A30=\"\",\"\",IFERROR(IF(SEARCH($N$3,'LISTE DES SITUATIONS'!E27)>=1,1,\"\"),\"\")))","v":""},{"$f":"IF($AA$2=\"pok\",\"\",IF(A30=\"\",\"\",IFERROR(IF(SEARCH($O$3,'LISTE DES SITUATIONS'!E27)>=1,1,\"\"),\"\")))","v":""},{"$f":"IF($AA$2=\"pok\",\"\",IF(A30=\"\",\"\",IFERROR(IF(SEARCH($P$3,'LISTE DES SITUATIONS'!E27)>=1,1,\"\"),\"\")))","v":""},{"$f":"IF($AA$2=\"pok\",\"\",IF(A30=\"\",\"\",IFERROR(IF(SEARCH($Q$3,'LISTE DES SITUATIONS'!E27)>=1,1,\"\"),\"\")))","v":""},{"$f":"IF($AA$2=\"pok\",\"\",IF(A30=\"\",\"\",IFERROR(IF(SEARCH($R$3,'LISTE DES SITUATIONS'!E27)>=1,1,\"\"),\"\")))","v":""},{"$f":"IF($AA$2=\"pok\",\"\",IF(A30=\"\",\"\",IFERROR(IF(SEARCH($S$3,'LISTE DES SITUATIONS'!E27)>=1,1,\"\"),\"\")))","v":""},{"$f":"IF($AA$2=\"pok\",\"\",IF(A30=\"\",\"\",IFERROR(IF(SEARCH($T$3,'LISTE DES SITUATIONS'!E27)>=1,1,\"\"),\"\")))","v":""},{"$f":"IF($AA$2=\"pok\",\"\",IF(A30=\"\",\"\",IFERROR(IF(SEARCH($U$3,'LISTE DES SITUATIONS'!E27)>=1,1,\"\"),\"\")))","v":""},{"$f":"IF($AA$2=\"pok\",\"\",IF(A30=\"\",\"\",IFERROR(IF(SEARCH($V$3,'LISTE DES SITUATIONS'!E27)>=1,1,\"\"),\"\")))","v":""},{"$f":"IF($AA$2=\"pok\",\"\",IF(A30=\"\",\"\",IFERROR(IF(SEARCH($W$3,'LISTE DES SITUATIONS'!E27)>=1,1,\"\"),\"\")))","v":""},{"$f":"IF($AA$2=\"pok\",\"\",IF(A30=\"\",\"\",IFERROR(IF(SEARCH($X$3,'LISTE DES SITUATIONS'!E27)>=1,1,\"\"),\"\")))","v":""},{"$f":"IF($AA$2=\"pok\",\"\",IF(A30=\"\",\"\",IFERROR(IF(SEARCH($Y$3,'LISTE DES SITUATIONS'!E27)>=1,1,\"\"),\"\")))","v":""},{"$f":"IF($AA$2=\"pok\",\"\",IF(A30=\"\",\"\",IFERROR(IF(SEARCH($Z$3,'LISTE DES SITUATIONS'!E27)>=1,1,\"\"),\"\")))","v":""},0]
[{"$f":"IF('LISTE DES SITUATIONS'!A28=\"\",\"\",'LISTE DES SITUATIONS'!A28)","v":""},{"$f":"IF(A31=\"\",\"\",VLOOKUP(A31,'LISTE DES SITUATIONS'!A:B,2,FALSE))","v":""},{"$f":"IF($AA$2=\"pok\",\"\",IF(A31=\"\",\"\",IFERROR(IF(SEARCH($C$3,'LISTE DES SITUATIONS'!E28)>=1,1,\"\"),\"\")))","v":""},{"$f":"IF($AA$2=\"pok\",\"\",IF(A31=\"\",\"\",IFERROR(IF(SEARCH($D$3,'LISTE DES SITUATIONS'!E28)>=1,1,\"\"),\"\")))","v":""},{"$f":"IF($AA$2=\"pok\",\"\",IF(A31=\"\",\"\",IFERROR(IF(SEARCH($E$3,'LISTE DES SITUATIONS'!E28)>=1,1,\"\"),\"\")))","v":""},{"$f":"IF($AA$2=\"pok\",\"\",IF(A31=\"\",\"\",IFERROR(IF(SEARCH($F$3,'LISTE DES SITUATIONS'!E28)>=1,1,\"\"),\"\")))","v":""},{"$f":"IF($AA$2=\"pok\",\"\",IF(A31=\"\",\"\",IFERROR(IF(SEARCH($G$3,'LISTE DES SITUATIONS'!E28)>=1,1,\"\"),\"\")))","v":""},{"$f":"IF($AA$2=\"pok\",\"\",IF(A31=\"\",\"\",IFERROR(IF(SEARCH($H$3,'LISTE DES SITUATIONS'!E28)>=1,1,\"\"),\"\")))","v":""},{"$f":"IF($AA$2=\"pok\",\"\",IF(A31=\"\",\"\",IFERROR(IF(SEARCH($I$3,'LISTE DES SITUATIONS'!E28)>=1,1,\"\"),\"\")))","v":""},{"$f":"IF($AA$2=\"pok\",\"\",IF(A31=\"\",\"\",IFERROR(IF(SEARCH($J$3,'LISTE DES SITUATIONS'!E28)>=1,1,\"\"),\"\")))","v":""},{"$f":"IF($AA$2=\"pok\",\"\",IF(A31=\"\",\"\",IFERROR(IF(SEARCH($K$3,'LISTE DES SITUATIONS'!E28)>=1,1,\"\"),\"\")))","v":""},{"$f":"IF($AA$2=\"pok\",\"\",IF(A31=\"\",\"\",IFERROR(IF(SEARCH($L$3,'LISTE DES SITUATIONS'!E28)>=1,1,\"\"),\"\")))","v":""},{"$f":"IF($AA$2=\"pok\",\"\",IF(A31=\"\",\"\",IFERROR(IF(SEARCH($M$3,'LISTE DES SITUATIONS'!E28)>=1,1,\"\"),\"\")))","v":""},{"$f":"IF($AA$2=\"pok\",\"\",IF(A31=\"\",\"\",IFERROR(IF(SEARCH($N$3,'LISTE DES SITUATIONS'!E28)>=1,1,\"\"),\"\")))","v":""},{"$f":"IF($AA$2=\"pok\",\"\",IF(A31=\"\",\"\",IFERROR(IF(SEARCH($O$3,'LISTE DES SITUATIONS'!E28)>=1,1,\"\"),\"\")))","v":""},{"$f":"IF($AA$2=\"pok\",\"\",IF(A31=\"\",\"\",IFERROR(IF(SEARCH($P$3,'LISTE DES SITUATIONS'!E28)>=1,1,\"\"),\"\")))","v":""},{"$f":"IF($AA$2=\"pok\",\"\",IF(A31=\"\",\"\",IFERROR(IF(SEARCH($Q$3,'LISTE DES SITUATIONS'!E28)>=1,1,\"\"),\"\")))","v":""},{"$f":"IF($AA$2=\"pok\",\"\",IF(A31=\"\",\"\",IFERROR(IF(SEARCH($R$3,'LISTE DES SITUATIONS'!E28)>=1,1,\"\"),\"\")))","v":""},{"$f":"IF($AA$2=\"pok\",\"\",IF(A31=\"\",\"\",IFERROR(IF(SEARCH($S$3,'LISTE DES SITUATIONS'!E28)>=1,1,\"\"),\"\")))","v":""},{"$f":"IF($AA$2=\"pok\",\"\",IF(A31=\"\",\"\",IFERROR(IF(SEARCH($T$3,'LISTE DES SITUATIONS'!E28)>=1,1,\"\"),\"\")))","v":""},{"$f":"IF($AA$2=\"pok\",\"\",IF(A31=\"\",\"\",IFERROR(IF(SEARCH($U$3,'LISTE DES SITUATIONS'!E28)>=1,1,\"\"),\"\")))","v":""},{"$f":"IF($AA$2=\"pok\",\"\",IF(A31=\"\",\"\",IFERROR(IF(SEARCH($V$3,'LISTE DES SITUATIONS'!E28)>=1,1,\"\"),\"\")))","v":""},{"$f":"IF($AA$2=\"pok\",\"\",IF(A31=\"\",\"\",IFERROR(IF(SEARCH($W$3,'LISTE DES SITUATIONS'!E28)>=1,1,\"\"),\"\")))","v":""},{"$f":"IF($AA$2=\"pok\",\"\",IF(A31=\"\",\"\",IFERROR(IF(SEARCH($X$3,'LISTE DES SITUATIONS'!E28)>=1,1,\"\"),\"\")))","v":""},{"$f":"IF($AA$2=\"pok\",\"\",IF(A31=\"\",\"\",IFERROR(IF(SEARCH($Y$3,'LISTE DES SITUATIONS'!E28)>=1,1,\"\"),\"\")))","v":""},{"$f":"IF($AA$2=\"pok\",\"\",IF(A31=\"\",\"\",IFERROR(IF(SEARCH($Z$3,'LISTE DES SITUATIONS'!E28)>=1,1,\"\"),\"\")))","v":""},0]
[{"$f":"IF('LISTE DES SITUATIONS'!A29=\"\",\"\",'LISTE DES SITUATIONS'!A29)","v":""},{"$f":"IF(A32=\"\",\"\",VLOOKUP(A32,'LISTE DES SITUATIONS'!A:B,2,FALSE))","v":""},{"$f":"IF($AA$2=\"pok\",\"\",IF(A32=\"\",\"\",IFERROR(IF(SEARCH($C$3,'LISTE DES SITUATIONS'!E29)>=1,1,\"\"),\"\")))","v":""},{"$f":"IF($AA$2=\"pok\",\"\",IF(A32=\"\",\"\",IFERROR(IF(SEARCH($D$3,'LISTE DES SITUATIONS'!E29)>=1,1,\"\"),\"\")))","v":""},{"$f":"IF($AA$2=\"pok\",\"\",IF(A32=\"\",\"\",IFERROR(IF(SEARCH($E$3,'LISTE DES SITUATIONS'!E29)>=1,1,\"\"),\"\")))","v":""},{"$f":"IF($AA$2=\"pok\",\"\",IF(A32=\"\",\"\",IFERROR(IF(SEARCH($F$3,'LISTE DES SITUATIONS'!E29)>=1,1,\"\"),\"\")))","v":""},{"$f":"IF($AA$2=\"pok\",\"\",IF(A32=\"\",\"\",IFERROR(IF(SEARCH($G$3,'LISTE DES SITUATIONS'!E29)>=1,1,\"\"),\"\")))","v":""},{"$f":"IF($AA$2=\"pok\",\"\",IF(A32=\"\",\"\",IFERROR(IF(SEARCH($H$3,'LISTE DES SITUATIONS'!E29)>=1,1,\"\"),\"\")))","v":""},{"$f":"IF($AA$2=\"pok\",\"\",IF(A32=\"\",\"\",IFERROR(IF(SEARCH($I$3,'LISTE DES SITUATIONS'!E29)>=1,1,\"\"),\"\")))","v":""},{"$f":"IF($AA$2=\"pok\",\"\",IF(A32=\"\",\"\",IFERROR(IF(SEARCH($J$3,'LISTE DES SITUATIONS'!E29)>=1,1,\"\"),\"\")))","v":""},{"$f":"IF($AA$2=\"pok\",\"\",IF(A32=\"\",\"\",IFERROR(IF(SEARCH($K$3,'LISTE DES SITUATIONS'!E29)>=1,1,\"\"),\"\")))","v":""},{"$f":"IF($AA$2=\"pok\",\"\",IF(A32=\"\",\"\",IFERROR(IF(SEARCH($L$3,'LISTE DES SITUATIONS'!E29)>=1,1,\"\"),\"\")))","v":""},{"$f":"IF($AA$2=\"pok\",\"\",IF(A32=\"\",\"\",IFERROR(IF(SEARCH($M$3,'LISTE DES SITUATIONS'!E29)>=1,1,\"\"),\"\")))","v":""},{"$f":"IF($AA$2=\"pok\",\"\",IF(A32=\"\",\"\",IFERROR(IF(SEARCH($N$3,'LISTE DES SITUATIONS'!E29)>=1,1,\"\"),\"\")))","v":""},{"$f":"IF($AA$2=\"pok\",\"\",IF(A32=\"\",\"\",IFERROR(IF(SEARCH($O$3,'LISTE DES SITUATIONS'!E29)>=1,1,\"\"),\"\")))","v":""},{"$f":"IF($AA$2=\"pok\",\"\",IF(A32=\"\",\"\",IFERROR(IF(SEARCH($P$3,'LISTE DES SITUATIONS'!E29)>=1,1,\"\"),\"\")))","v":""},{"$f":"IF($AA$2=\"pok\",\"\",IF(A32=\"\",\"\",IFERROR(IF(SEARCH($Q$3,'LISTE DES SITUATIONS'!E29)>=1,1,\"\"),\"\")))","v":""},{"$f":"IF($AA$2=\"pok\",\"\",IF(A32=\"\",\"\",IFERROR(IF(SEARCH($R$3,'LISTE DES SITUATIONS'!E29)>=1,1,\"\"),\"\")))","v":""},{"$f":"IF($AA$2=\"pok\",\"\",IF(A32=\"\",\"\",IFERROR(IF(SEARCH($S$3,'LISTE DES SITUATIONS'!E29)>=1,1,\"\"),\"\")))","v":""},{"$f":"IF($AA$2=\"pok\",\"\",IF(A32=\"\",\"\",IFERROR(IF(SEARCH($T$3,'LISTE DES SITUATIONS'!E29)>=1,1,\"\"),\"\")))","v":""},{"$f":"IF($AA$2=\"pok\",\"\",IF(A32=\"\",\"\",IFERROR(IF(SEARCH($U$3,'LISTE DES SITUATIONS'!E29)>=1,1,\"\"),\"\")))","v":""},{"$f":"IF($AA$2=\"pok\",\"\",IF(A32=\"\",\"\",IFERROR(IF(SEARCH($V$3,'LISTE DES SITUATIONS'!E29)>=1,1,\"\"),\"\")))","v":""},{"$f":"IF($AA$2=\"pok\",\"\",IF(A32=\"\",\"\",IFERROR(IF(SEARCH($W$3,'LISTE DES SITUATIONS'!E29)>=1,1,\"\"),\"\")))","v":""},{"$f":"IF($AA$2=\"pok\",\"\",IF(A32=\"\",\"\",IFERROR(IF(SEARCH($X$3,'LISTE DES SITUATIONS'!E29)>=1,1,\"\"),\"\")))","v":""},{"$f":"IF($AA$2=\"pok\",\"\",IF(A32=\"\",\"\",IFERROR(IF(SEARCH($Y$3,'LISTE DES SITUATIONS'!E29)>=1,1,\"\"),\"\")))","v":""},{"$f":"IF($AA$2=\"pok\",\"\",IF(A32=\"\",\"\",IFERROR(IF(SEARCH($Z$3,'LISTE DES SITUATIONS'!E29)>=1,1,\"\"),\"\")))","v":""},0]
[{"$f":"IF('LISTE DES SITUATIONS'!A30=\"\",\"\",'LISTE DES SITUATIONS'!A30)","v":""},{"$f":"IF(A33=\"\",\"\",VLOOKUP(A33,'LISTE DES SITUATIONS'!A:B,2,FALSE))","v":""},{"$f":"IF($AA$2=\"pok\",\"\",IF(A33=\"\",\"\",IFERROR(IF(SEARCH($C$3,'LISTE DES SITUATIONS'!E30)>=1,1,\"\"),\"\")))","v":""},{"$f":"IF($AA$2=\"pok\",\"\",IF(A33=\"\",\"\",IFERROR(IF(SEARCH($D$3,'LISTE DES SITUATIONS'!E30)>=1,1,\"\"),\"\")))","v":""},{"$f":"IF($AA$2=\"pok\",\"\",IF(A33=\"\",\"\",IFERROR(IF(SEARCH($E$3,'LISTE DES SITUATIONS'!E30)>=1,1,\"\"),\"\")))","v":""},{"$f":"IF($AA$2=\"pok\",\"\",IF(A33=\"\",\"\",IFERROR(IF(SEARCH($F$3,'LISTE DES SITUATIONS'!E30)>=1,1,\"\"),\"\")))","v":""},{"$f":"IF($AA$2=\"pok\",\"\",IF(A33=\"\",\"\",IFERROR(IF(SEARCH($G$3,'LISTE DES SITUATIONS'!E30)>=1,1,\"\"),\"\")))","v":""},{"$f":"IF($AA$2=\"pok\",\"\",IF(A33=\"\",\"\",IFERROR(IF(SEARCH($H$3,'LISTE DES SITUATIONS'!E30)>=1,1,\"\"),\"\")))","v":""},{"$f":"IF($AA$2=\"pok\",\"\",IF(A33=\"\",\"\",IFERROR(IF(SEARCH($I$3,'LISTE DES SITUATIONS'!E30)>=1,1,\"\"),\"\")))","v":""},{"$f":"IF($AA$2=\"pok\",\"\",IF(A33=\"\",\"\",IFERROR(IF(SEARCH($J$3,'LISTE DES SITUATIONS'!E30)>=1,1,\"\"),\"\")))","v":""},{"$f":"IF($AA$2=\"pok\",\"\",IF(A33=\"\",\"\",IFERROR(IF(SEARCH($K$3,'LISTE DES SITUATIONS'!E30)>=1,1,\"\"),\"\")))","v":""},{"$f":"IF($AA$2=\"pok\",\"\",IF(A33=\"\",\"\",IFERROR(IF(SEARCH($L$3,'LISTE DES SITUATIONS'!E30)>=1,1,\"\"),\"\")))","v":""},{"$f":"IF($AA$2=\"pok\",\"\",IF(A33=\"\",\"\",IFERROR(IF(SEARCH($M$3,'LISTE DES SITUATIONS'!E30)>=1,1,\"\"),\"\")))","v":""},{"$f":"IF($AA$2=\"pok\",\"\",IF(A33=\"\",\"\",IFERROR(IF(SEARCH($N$3,'LISTE DES SITUATIONS'!E30)>=1,1,\"\"),\"\")))","v":""},{"$f":"IF($AA$2=\"pok\",\"\",IF(A33=\"\",\"\",IFERROR(IF(SEARCH($O$3,'LISTE DES SITUATIONS'!E30)>=1,1,\"\"),\"\")))","v":""},{"$f":"IF($AA$2=\"pok\",\"\",IF(A33=\"\",\"\",IFERROR(IF(SEARCH($P$3,'LISTE DES SITUATIONS'!E30)>=1,1,\"\"),\"\")))","v":""},{"$f":"IF($AA$2=\"pok\",\"\",IF(A33=\"\",\"\",IFERROR(IF(SEARCH($Q$3,'LISTE DES SITUATIONS'!E30)>=1,1,\"\"),\"\")))","v":""},{"$f":"IF($AA$2=\"pok\",\"\",IF(A33=\"\",\"\",IFERROR(IF(SEARCH($R$3,'LISTE DES SITUATIONS'!E30)>=1,1,\"\"),\"\")))","v":""},{"$f":"IF($AA$2=\"pok\",\"\",IF(A33=\"\",\"\",IFERROR(IF(SEARCH($S$3,'LISTE DES SITUATIONS'!E30)>=1,1,\"\"),\"\")))","v":""},{"$f":"IF($AA$2=\"pok\",\"\",IF(A33=\"\",\"\",IFERROR(IF(SEARCH($T$3,'LISTE DES SITUATIONS'!E30)>=1,1,\"\"),\"\")))","v":""},{"$f":"IF($AA$2=\"pok\",\"\",IF(A33=\"\",\"\",IFERROR(IF(SEARCH($U$3,'LISTE DES SITUATIONS'!E30)>=1,1,\"\"),\"\")))","v":""},{"$f":"IF($AA$2=\"pok\",\"\",IF(A33=\"\",\"\",IFERROR(IF(SEARCH($V$3,'LISTE DES SITUATIONS'!E30)>=1,1,\"\"),\"\")))","v":""},{"$f":"IF($AA$2=\"pok\",\"\",IF(A33=\"\",\"\",IFERROR(IF(SEARCH($W$3,'LISTE DES SITUATIONS'!E30)>=1,1,\"\"),\"\")))","v":""},{"$f":"IF($AA$2=\"pok\",\"\",IF(A33=\"\",\"\",IFERROR(IF(SEARCH($X$3,'LISTE DES SITUATIONS'!E30)>=1,1,\"\"),\"\")))","v":""},{"$f":"IF($AA$2=\"pok\",\"\",IF(A33=\"\",\"\",IFERROR(IF(SEARCH($Y$3,'LISTE DES SITUATIONS'!E30)>=1,1,\"\"),\"\")))","v":""},{"$f":"IF($AA$2=\"pok\",\"\",IF(A33=\"\",\"\",IFERROR(IF(SEARCH($Z$3,'LISTE DES SITUATIONS'!E30)>=1,1,\"\"),\"\")))","v":""},0]
[{"$f":"IF('LISTE DES SITUATIONS'!A31=\"\",\"\",'LISTE DES SITUATIONS'!A31)","v":""},{"$f":"IF(A34=\"\",\"\",VLOOKUP(A34,'LISTE DES SITUATIONS'!A:B,2,FALSE))","v":""},{"$f":"IF($AA$2=\"pok\",\"\",IF(A34=\"\",\"\",IFERROR(IF(SEARCH($C$3,'LISTE DES SITUATIONS'!E31)>=1,1,\"\"),\"\")))","v":""},{"$f":"IF($AA$2=\"pok\",\"\",IF(A34=\"\",\"\",IFERROR(IF(SEARCH($D$3,'LISTE DES SITUATIONS'!E31)>=1,1,\"\"),\"\")))","v":""},{"$f":"IF($AA$2=\"pok\",\"\",IF(A34=\"\",\"\",IFERROR(IF(SEARCH($E$3,'LISTE DES SITUATIONS'!E31)>=1,1,\"\"),\"\")))","v":""},{"$f":"IF($AA$2=\"pok\",\"\",IF(A34=\"\",\"\",IFERROR(IF(SEARCH($F$3,'LISTE DES SITUATIONS'!E31)>=1,1,\"\"),\"\")))","v":""},{"$f":"IF($AA$2=\"pok\",\"\",IF(A34=\"\",\"\",IFERROR(IF(SEARCH($G$3,'LISTE DES SITUATIONS'!E31)>=1,1,\"\"),\"\")))","v":""},{"$f":"IF($AA$2=\"pok\",\"\",IF(A34=\"\",\"\",IFERROR(IF(SEARCH($H$3,'LISTE DES SITUATIONS'!E31)>=1,1,\"\"),\"\")))","v":""},{"$f":"IF($AA$2=\"pok\",\"\",IF(A34=\"\",\"\",IFERROR(IF(SEARCH($I$3,'LISTE DES SITUATIONS'!E31)>=1,1,\"\"),\"\")))","v":""},{"$f":"IF($AA$2=\"pok\",\"\",IF(A34=\"\",\"\",IFERROR(IF(SEARCH($J$3,'LISTE DES SITUATIONS'!E31)>=1,1,\"\"),\"\")))","v":""},{"$f":"IF($AA$2=\"pok\",\"\",IF(A34=\"\",\"\",IFERROR(IF(SEARCH($K$3,'LISTE DES SITUATIONS'!E31)>=1,1,\"\"),\"\")))","v":""},{"$f":"IF($AA$2=\"pok\",\"\",IF(A34=\"\",\"\",IFERROR(IF(SEARCH($L$3,'LISTE DES SITUATIONS'!E31)>=1,1,\"\"),\"\")))","v":""},{"$f":"IF($AA$2=\"pok\",\"\",IF(A34=\"\",\"\",IFERROR(IF(SEARCH($M$3,'LISTE DES SITUATIONS'!E31)>=1,1,\"\"),\"\")))","v":""},{"$f":"IF($AA$2=\"pok\",\"\",IF(A34=\"\",\"\",IFERROR(IF(SEARCH($N$3,'LISTE DES SITUATIONS'!E31)>=1,1,\"\"),\"\")))","v":""},{"$f":"IF($AA$2=\"pok\",\"\",IF(A34=\"\",\"\",IFERROR(IF(SEARCH($O$3,'LISTE DES SITUATIONS'!E31)>=1,1,\"\"),\"\")))","v":""},{"$f":"IF($AA$2=\"pok\",\"\",IF(A34=\"\",\"\",IFERROR(IF(SEARCH($P$3,'LISTE DES SITUATIONS'!E31)>=1,1,\"\"),\"\")))","v":""},{"$f":"IF($AA$2=\"pok\",\"\",IF(A34=\"\",\"\",IFERROR(IF(SEARCH($Q$3,'LISTE DES SITUATIONS'!E31)>=1,1,\"\"),\"\")))","v":""},{"$f":"IF($AA$2=\"pok\",\"\",IF(A34=\"\",\"\",IFERROR(IF(SEARCH($R$3,'LISTE DES SITUATIONS'!E31)>=1,1,\"\"),\"\")))","v":""},{"$f":"IF($AA$2=\"pok\",\"\",IF(A34=\"\",\"\",IFERROR(IF(SEARCH($S$3,'LISTE DES SITUATIONS'!E31)>=1,1,\"\"),\"\")))","v":""},{"$f":"IF($AA$2=\"pok\",\"\",IF(A34=\"\",\"\",IFERROR(IF(SEARCH($T$3,'LISTE DES SITUATIONS'!E31)>=1,1,\"\"),\"\")))","v":""},{"$f":"IF($AA$2=\"pok\",\"\",IF(A34=\"\",\"\",IFERROR(IF(SEARCH($U$3,'LISTE DES SITUATIONS'!E31)>=1,1,\"\"),\"\")))","v":""},{"$f":"IF($AA$2=\"pok\",\"\",IF(A34=\"\",\"\",IFERROR(IF(SEARCH($V$3,'LISTE DES SITUATIONS'!E31)>=1,1,\"\"),\"\")))","v":""},{"$f":"IF($AA$2=\"pok\",\"\",IF(A34=\"\",\"\",IFERROR(IF(SEARCH($W$3,'LISTE DES SITUATIONS'!E31)>=1,1,\"\"),\"\")))","v":""},{"$f":"IF($AA$2=\"pok\",\"\",IF(A34=\"\",\"\",IFERROR(IF(SEARCH($X$3,'LISTE DES SITUATIONS'!E31)>=1,1,\"\"),\"\")))","v":""},{"$f":"IF($AA$2=\"pok\",\"\",IF(A34=\"\",\"\",IFERROR(IF(SEARCH($Y$3,'LISTE DES SITUATIONS'!E31)>=1,1,\"\"),\"\")))","v":""},{"$f":"IF($AA$2=\"pok\",\"\",IF(A34=\"\",\"\",IFERROR(IF(SEARCH($Z$3,'LISTE DES SITUATIONS'!E31)>=1,1,\"\"),\"\")))","v":""},0]
[{"$f":"IF('LISTE DES SITUATIONS'!A32=\"\",\"\",'LISTE DES SITUATIONS'!A32)","v":""},{"$f":"IF(A35=\"\",\"\",VLOOKUP(A35,'LISTE DES SITUATIONS'!A:B,2,FALSE))","v":""},{"$f":"IF($AA$2=\"pok\",\"\",IF(A35=\"\",\"\",IFERROR(IF(SEARCH($C$3,'LISTE DES SITUATIONS'!E32)>=1,1,\"\"),\"\")))","v":""},{"$f":"IF($AA$2=\"pok\",\"\",IF(A35=\"\",\"\",IFERROR(IF(SEARCH($D$3,'LISTE DES SITUATIONS'!E32)>=1,1,\"\"),\"\")))","v":""},{"$f":"IF($AA$2=\"pok\",\"\",IF(A35=\"\",\"\",IFERROR(IF(SEARCH($E$3,'LISTE DES SITUATIONS'!E32)>=1,1,\"\"),\"\")))","v":""},{"$f":"IF($AA$2=\"pok\",\"\",IF(A35=\"\",\"\",IFERROR(IF(SEARCH($F$3,'LISTE DES SITUATIONS'!E32)>=1,1,\"\"),\"\")))","v":""},{"$f":"IF($AA$2=\"pok\",\"\",IF(A35=\"\",\"\",IFERROR(IF(SEARCH($G$3,'LISTE DES SITUATIONS'!E32)>=1,1,\"\"),\"\")))","v":""},{"$f":"IF($AA$2=\"pok\",\"\",IF(A35=\"\",\"\",IFERROR(IF(SEARCH($H$3,'LISTE DES SITUATIONS'!E32)>=1,1,\"\"),\"\")))","v":""},{"$f":"IF($AA$2=\"pok\",\"\",IF(A35=\"\",\"\",IFERROR(IF(SEARCH($I$3,'LISTE DES SITUATIONS'!E32)>=1,1,\"\"),\"\")))","v":""},{"$f":"IF($AA$2=\"pok\",\"\",IF(A35=\"\",\"\",IFERROR(IF(SEARCH($J$3,'LISTE DES SITUATIONS'!E32)>=1,1,\"\"),\"\")))","v":""},{"$f":"IF($AA$2=\"pok\",\"\",IF(A35=\"\",\"\",IFERROR(IF(SEARCH($K$3,'LISTE DES SITUATIONS'!E32)>=1,1,\"\"),\"\")))","v":""},{"$f":"IF($AA$2=\"pok\",\"\",IF(A35=\"\",\"\",IFERROR(IF(SEARCH($L$3,'LISTE DES SITUATIONS'!E32)>=1,1,\"\"),\"\")))","v":""},{"$f":"IF($AA$2=\"pok\",\"\",IF(A35=\"\",\"\",IFERROR(IF(SEARCH($M$3,'LISTE DES SITUATIONS'!E32)>=1,1,\"\"),\"\")))","v":""},{"$f":"IF($AA$2=\"pok\",\"\",IF(A35=\"\",\"\",IFERROR(IF(SEARCH($N$3,'LISTE DES SITUATIONS'!E32)>=1,1,\"\"),\"\")))","v":""},{"$f":"IF($AA$2=\"pok\",\"\",IF(A35=\"\",\"\",IFERROR(IF(SEARCH($O$3,'LISTE DES SITUATIONS'!E32)>=1,1,\"\"),\"\")))","v":""},{"$f":"IF($AA$2=\"pok\",\"\",IF(A35=\"\",\"\",IFERROR(IF(SEARCH($P$3,'LISTE DES SITUATIONS'!E32)>=1,1,\"\"),\"\")))","v":""},{"$f":"IF($AA$2=\"pok\",\"\",IF(A35=\"\",\"\",IFERROR(IF(SEARCH($Q$3,'LISTE DES SITUATIONS'!E32)>=1,1,\"\"),\"\")))","v":""},{"$f":"IF($AA$2=\"pok\",\"\",IF(A35=\"\",\"\",IFERROR(IF(SEARCH($R$3,'LISTE DES SITUATIONS'!E32)>=1,1,\"\"),\"\")))","v":""},{"$f":"IF($AA$2=\"pok\",\"\",IF(A35=\"\",\"\",IFERROR(IF(SEARCH($S$3,'LISTE DES SITUATIONS'!E32)>=1,1,\"\"),\"\")))","v":""},{"$f":"IF($AA$2=\"pok\",\"\",IF(A35=\"\",\"\",IFERROR(IF(SEARCH($T$3,'LISTE DES SITUATIONS'!E32)>=1,1,\"\"),\"\")))","v":""},{"$f":"IF($AA$2=\"pok\",\"\",IF(A35=\"\",\"\",IFERROR(IF(SEARCH($U$3,'LISTE DES SITUATIONS'!E32)>=1,1,\"\"),\"\")))","v":""},{"$f":"IF($AA$2=\"pok\",\"\",IF(A35=\"\",\"\",IFERROR(IF(SEARCH($V$3,'LISTE DES SITUATIONS'!E32)>=1,1,\"\"),\"\")))","v":""},{"$f":"IF($AA$2=\"pok\",\"\",IF(A35=\"\",\"\",IFERROR(IF(SEARCH($W$3,'LISTE DES SITUATIONS'!E32)>=1,1,\"\"),\"\")))","v":""},{"$f":"IF($AA$2=\"pok\",\"\",IF(A35=\"\",\"\",IFERROR(IF(SEARCH($X$3,'LISTE DES SITUATIONS'!E32)>=1,1,\"\"),\"\")))","v":""},{"$f":"IF($AA$2=\"pok\",\"\",IF(A35=\"\",\"\",IFERROR(IF(SEARCH($Y$3,'LISTE DES SITUATIONS'!E32)>=1,1,\"\"),\"\")))","v":""},{"$f":"IF($AA$2=\"pok\",\"\",IF(A35=\"\",\"\",IFERROR(IF(SEARCH($Z$3,'LISTE DES SITUATIONS'!E32)>=1,1,\"\"),\"\")))","v":""},0]
[{"$f":"IF('LISTE DES SITUATIONS'!A33=\"\",\"\",'LISTE DES SITUATIONS'!A33)","v":""},{"$f":"IF(A36=\"\",\"\",VLOOKUP(A36,'LISTE DES SITUATIONS'!A:B,2,FALSE))","v":""},{"$f":"IF($AA$2=\"pok\",\"\",IF(A36=\"\",\"\",IFERROR(IF(SEARCH($C$3,'LISTE DES SITUATIONS'!E33)>=1,1,\"\"),\"\")))","v":""},{"$f":"IF($AA$2=\"pok\",\"\",IF(A36=\"\",\"\",IFERROR(IF(SEARCH($D$3,'LISTE DES SITUATIONS'!E33)>=1,1,\"\"),\"\")))","v":""},{"$f":"IF($AA$2=\"pok\",\"\",IF(A36=\"\",\"\",IFERROR(IF(SEARCH($E$3,'LISTE DES SITUATIONS'!E33)>=1,1,\"\"),\"\")))","v":""},{"$f":"IF($AA$2=\"pok\",\"\",IF(A36=\"\",\"\",IFERROR(IF(SEARCH($F$3,'LISTE DES SITUATIONS'!E33)>=1,1,\"\"),\"\")))","v":""},{"$f":"IF($AA$2=\"pok\",\"\",IF(A36=\"\",\"\",IFERROR(IF(SEARCH($G$3,'LISTE DES SITUATIONS'!E33)>=1,1,\"\"),\"\")))","v":""},{"$f":"IF($AA$2=\"pok\",\"\",IF(A36=\"\",\"\",IFERROR(IF(SEARCH($H$3,'LISTE DES SITUATIONS'!E33)>=1,1,\"\"),\"\")))","v":""},{"$f":"IF($AA$2=\"pok\",\"\",IF(A36=\"\",\"\",IFERROR(IF(SEARCH($I$3,'LISTE DES SITUATIONS'!E33)>=1,1,\"\"),\"\")))","v":""},{"$f":"IF($AA$2=\"pok\",\"\",IF(A36=\"\",\"\",IFERROR(IF(SEARCH($J$3,'LISTE DES SITUATIONS'!E33)>=1,1,\"\"),\"\")))","v":""},{"$f":"IF($AA$2=\"pok\",\"\",IF(A36=\"\",\"\",IFERROR(IF(SEARCH($K$3,'LISTE DES SITUATIONS'!E33)>=1,1,\"\"),\"\")))","v":""},{"$f":"IF($AA$2=\"pok\",\"\",IF(A36=\"\",\"\",IFERROR(IF(SEARCH($L$3,'LISTE DES SITUATIONS'!E33)>=1,1,\"\"),\"\")))","v":""},{"$f":"IF($AA$2=\"pok\",\"\",IF(A36=\"\",\"\",IFERROR(IF(SEARCH($M$3,'LISTE DES SITUATIONS'!E33)>=1,1,\"\"),\"\")))","v":""},{"$f":"IF($AA$2=\"pok\",\"\",IF(A36=\"\",\"\",IFERROR(IF(SEARCH($N$3,'LISTE DES SITUATIONS'!E33)>=1,1,\"\"),\"\")))","v":""},{"$f":"IF($AA$2=\"pok\",\"\",IF(A36=\"\",\"\",IFERROR(IF(SEARCH($O$3,'LISTE DES SITUATIONS'!E33)>=1,1,\"\"),\"\")))","v":""},{"$f":"IF($AA$2=\"pok\",\"\",IF(A36=\"\",\"\",IFERROR(IF(SEARCH($P$3,'LISTE DES SITUATIONS'!E33)>=1,1,\"\"),\"\")))","v":""},{"$f":"IF($AA$2=\"pok\",\"\",IF(A36=\"\",\"\",IFERROR(IF(SEARCH($Q$3,'LISTE DES SITUATIONS'!E33)>=1,1,\"\"),\"\")))","v":""},{"$f":"IF($AA$2=\"pok\",\"\",IF(A36=\"\",\"\",IFERROR(IF(SEARCH($R$3,'LISTE DES SITUATIONS'!E33)>=1,1,\"\"),\"\")))","v":""},{"$f":"IF($AA$2=\"pok\",\"\",IF(A36=\"\",\"\",IFERROR(IF(SEARCH($S$3,'LISTE DES SITUATIONS'!E33)>=1,1,\"\"),\"\")))","v":""},{"$f":"IF($AA$2=\"pok\",\"\",IF(A36=\"\",\"\",IFERROR(IF(SEARCH($T$3,'LISTE DES SITUATIONS'!E33)>=1,1,\"\"),\"\")))","v":""},{"$f":"IF($AA$2=\"pok\",\"\",IF(A36=\"\",\"\",IFERROR(IF(SEARCH($U$3,'LISTE DES SITUATIONS'!E33)>=1,1,\"\"),\"\")))","v":""},{"$f":"IF($AA$2=\"pok\",\"\",IF(A36=\"\",\"\",IFERROR(IF(SEARCH($V$3,'LISTE DES SITUATIONS'!E33)>=1,1,\"\"),\"\")))","v":""},{"$f":"IF($AA$2=\"pok\",\"\",IF(A36=\"\",\"\",IFERROR(IF(SEARCH($W$3,'LISTE DES SITUATIONS'!E33)>=1,1,\"\"),\"\")))","v":""},{"$f":"IF($AA$2=\"pok\",\"\",IF(A36=\"\",\"\",IFERROR(IF(SEARCH($X$3,'LISTE DES SITUATIONS'!E33)>=1,1,\"\"),\"\")))","v":""},{"$f":"IF($AA$2=\"pok\",\"\",IF(A36=\"\",\"\",IFERROR(IF(SEARCH($Y$3,'LISTE DES SITUATIONS'!E33)>=1,1,\"\"),\"\")))","v":""},{"$f":"IF($AA$2=\"pok\",\"\",IF(A36=\"\",\"\",IFERROR(IF(SEARCH($Z$3,'LISTE DES SITUATIONS'!E33)>=1,1,\"\"),\"\")))","v":""},0]
[{"$f":"IF('LISTE DES SITUATIONS'!A34=\"\",\"\",'LISTE DES SITUATIONS'!A34)","v":""},{"$f":"IF(A37=\"\",\"\",VLOOKUP(A37,'LISTE DES SITUATIONS'!A:B,2,FALSE))","v":""},{"$f":"IF($AA$2=\"pok\",\"\",IF(A37=\"\",\"\",IFERROR(IF(SEARCH($C$3,'LISTE DES SITUATIONS'!E34)>=1,1,\"\"),\"\")))","v":""},{"$f":"IF($AA$2=\"pok\",\"\",IF(A37=\"\",\"\",IFERROR(IF(SEARCH($D$3,'LISTE DES SITUATIONS'!E34)>=1,1,\"\"),\"\")))","v":""},{"$f":"IF($AA$2=\"pok\",\"\",IF(A37=\"\",\"\",IFERROR(IF(SEARCH($E$3,'LISTE DES SITUATIONS'!E34)>=1,1,\"\"),\"\")))","v":""},{"$f":"IF($AA$2=\"pok\",\"\",IF(A37=\"\",\"\",IFERROR(IF(SEARCH($F$3,'LISTE DES SITUATIONS'!E34)>=1,1,\"\"),\"\")))","v":""},{"$f":"IF($AA$2=\"pok\",\"\",IF(A37=\"\",\"\",IFERROR(IF(SEARCH($G$3,'LISTE DES SITUATIONS'!E34)>=1,1,\"\"),\"\")))","v":""},{"$f":"IF($AA$2=\"pok\",\"\",IF(A37=\"\",\"\",IFERROR(IF(SEARCH($H$3,'LISTE DES SITUATIONS'!E34)>=1,1,\"\"),\"\")))","v":""},{"$f":"IF($AA$2=\"pok\",\"\",IF(A37=\"\",\"\",IFERROR(IF(SEARCH($I$3,'LISTE DES SITUATIONS'!E34)>=1,1,\"\"),\"\")))","v":""},{"$f":"IF($AA$2=\"pok\",\"\",IF(A37=\"\",\"\",IFERROR(IF(SEARCH($J$3,'LISTE DES SITUATIONS'!E34)>=1,1,\"\"),\"\")))","v":""},{"$f":"IF($AA$2=\"pok\",\"\",IF(A37=\"\",\"\",IFERROR(IF(SEARCH($K$3,'LISTE DES SITUATIONS'!E34)>=1,1,\"\"),\"\")))","v":""},{"$f":"IF($AA$2=\"pok\",\"\",IF(A37=\"\",\"\",IFERROR(IF(SEARCH($L$3,'LISTE DES SITUATIONS'!E34)>=1,1,\"\"),\"\")))","v":""},{"$f":"IF($AA$2=\"pok\",\"\",IF(A37=\"\",\"\",IFERROR(IF(SEARCH($M$3,'LISTE DES SITUATIONS'!E34)>=1,1,\"\"),\"\")))","v":""},{"$f":"IF($AA$2=\"pok\",\"\",IF(A37=\"\",\"\",IFERROR(IF(SEARCH($N$3,'LISTE DES SITUATIONS'!E34)>=1,1,\"\"),\"\")))","v":""},{"$f":"IF($AA$2=\"pok\",\"\",IF(A37=\"\",\"\",IFERROR(IF(SEARCH($O$3,'LISTE DES SITUATIONS'!E34)>=1,1,\"\"),\"\")))","v":""},{"$f":"IF($AA$2=\"pok\",\"\",IF(A37=\"\",\"\",IFERROR(IF(SEARCH($P$3,'LISTE DES SITUATIONS'!E34)>=1,1,\"\"),\"\")))","v":""},{"$f":"IF($AA$2=\"pok\",\"\",IF(A37=\"\",\"\",IFERROR(IF(SEARCH($Q$3,'LISTE DES SITUATIONS'!E34)>=1,1,\"\"),\"\")))","v":""},{"$f":"IF($AA$2=\"pok\",\"\",IF(A37=\"\",\"\",IFERROR(IF(SEARCH($R$3,'LISTE DES SITUATIONS'!E34)>=1,1,\"\"),\"\")))","v":""},{"$f":"IF($AA$2=\"pok\",\"\",IF(A37=\"\",\"\",IFERROR(IF(SEARCH($S$3,'LISTE DES SITUATIONS'!E34)>=1,1,\"\"),\"\")))","v":""},{"$f":"IF($AA$2=\"pok\",\"\",IF(A37=\"\",\"\",IFERROR(IF(SEARCH($T$3,'LISTE DES SITUATIONS'!E34)>=1,1,\"\"),\"\")))","v":""},{"$f":"IF($AA$2=\"pok\",\"\",IF(A37=\"\",\"\",IFERROR(IF(SEARCH($U$3,'LISTE DES SITUATIONS'!E34)>=1,1,\"\"),\"\")))","v":""},{"$f":"IF($AA$2=\"pok\",\"\",IF(A37=\"\",\"\",IFERROR(IF(SEARCH($V$3,'LISTE DES SITUATIONS'!E34)>=1,1,\"\"),\"\")))","v":""},{"$f":"IF($AA$2=\"pok\",\"\",IF(A37=\"\",\"\",IFERROR(IF(SEARCH($W$3,'LISTE DES SITUATIONS'!E34)>=1,1,\"\"),\"\")))","v":""},{"$f":"IF($AA$2=\"pok\",\"\",IF(A37=\"\",\"\",IFERROR(IF(SEARCH($X$3,'LISTE DES SITUATIONS'!E34)>=1,1,\"\"),\"\")))","v":""},{"$f":"IF($AA$2=\"pok\",\"\",IF(A37=\"\",\"\",IFERROR(IF(SEARCH($Y$3,'LISTE DES SITUATIONS'!E34)>=1,1,\"\"),\"\")))","v":""},{"$f":"IF($AA$2=\"pok\",\"\",IF(A37=\"\",\"\",IFERROR(IF(SEARCH($Z$3,'LISTE DES SITUATIONS'!E34)>=1,1,\"\"),\"\")))","v":""},0]
[{"$f":"IF('LISTE DES SITUATIONS'!A35=\"\",\"\",'LISTE DES SITUATIONS'!A35)","v":""},{"$f":"IF(A38=\"\",\"\",VLOOKUP(A38,'LISTE DES SITUATIONS'!A:B,2,FALSE))","v":""},{"$f":"IF($AA$2=\"pok\",\"\",IF(A38=\"\",\"\",IFERROR(IF(SEARCH($C$3,'LISTE DES SITUATIONS'!E35)>=1,1,\"\"),\"\")))","v":""},{"$f":"IF($AA$2=\"pok\",\"\",IF(A38=\"\",\"\",IFERROR(IF(SEARCH($D$3,'LISTE DES SITUATIONS'!E35)>=1,1,\"\"),\"\")))","v":""},{"$f":"IF($AA$2=\"pok\",\"\",IF(A38=\"\",\"\",IFERROR(IF(SEARCH($E$3,'LISTE DES SITUATIONS'!E35)>=1,1,\"\"),\"\")))","v":""},{"$f":"IF($AA$2=\"pok\",\"\",IF(A38=\"\",\"\",IFERROR(IF(SEARCH($F$3,'LISTE DES SITUATIONS'!E35)>=1,1,\"\"),\"\")))","v":""},{"$f":"IF($AA$2=\"pok\",\"\",IF(A38=\"\",\"\",IFERROR(IF(SEARCH($G$3,'LISTE DES SITUATIONS'!E35)>=1,1,\"\"),\"\")))","v":""},{"$f":"IF($AA$2=\"pok\",\"\",IF(A38=\"\",\"\",IFERROR(IF(SEARCH($H$3,'LISTE DES SITUATIONS'!E35)>=1,1,\"\"),\"\")))","v":""},{"$f":"IF($AA$2=\"pok\",\"\",IF(A38=\"\",\"\",IFERROR(IF(SEARCH($I$3,'LISTE DES SITUATIONS'!E35)>=1,1,\"\"),\"\")))","v":""},{"$f":"IF($AA$2=\"pok\",\"\",IF(A38=\"\",\"\",IFERROR(IF(SEARCH($J$3,'LISTE DES SITUATIONS'!E35)>=1,1,\"\"),\"\")))","v":""},{"$f":"IF($AA$2=\"pok\",\"\",IF(A38=\"\",\"\",IFERROR(IF(SEARCH($K$3,'LISTE DES SITUATIONS'!E35)>=1,1,\"\"),\"\")))","v":""},{"$f":"IF($AA$2=\"pok\",\"\",IF(A38=\"\",\"\",IFERROR(IF(SEARCH($L$3,'LISTE DES SITUATIONS'!E35)>=1,1,\"\"),\"\")))","v":""},{"$f":"IF($AA$2=\"pok\",\"\",IF(A38=\"\",\"\",IFERROR(IF(SEARCH($M$3,'LISTE DES SITUATIONS'!E35)>=1,1,\"\"),\"\")))","v":""},{"$f":"IF($AA$2=\"pok\",\"\",IF(A38=\"\",\"\",IFERROR(IF(SEARCH($N$3,'LISTE DES SITUATIONS'!E35)>=1,1,\"\"),\"\")))","v":""},{"$f":"IF($AA$2=\"pok\",\"\",IF(A38=\"\",\"\",IFERROR(IF(SEARCH($O$3,'LISTE DES SITUATIONS'!E35)>=1,1,\"\"),\"\")))","v":""},{"$f":"IF($AA$2=\"pok\",\"\",IF(A38=\"\",\"\",IFERROR(IF(SEARCH($P$3,'LISTE DES SITUATIONS'!E35)>=1,1,\"\"),\"\")))","v":""},{"$f":"IF($AA$2=\"pok\",\"\",IF(A38=\"\",\"\",IFERROR(IF(SEARCH($Q$3,'LISTE DES SITUATIONS'!E35)>=1,1,\"\"),\"\")))","v":""},{"$f":"IF($AA$2=\"pok\",\"\",IF(A38=\"\",\"\",IFERROR(IF(SEARCH($R$3,'LISTE DES SITUATIONS'!E35)>=1,1,\"\"),\"\")))","v":""},{"$f":"IF($AA$2=\"pok\",\"\",IF(A38=\"\",\"\",IFERROR(IF(SEARCH($S$3,'LISTE DES SITUATIONS'!E35)>=1,1,\"\"),\"\")))","v":""},{"$f":"IF($AA$2=\"pok\",\"\",IF(A38=\"\",\"\",IFERROR(IF(SEARCH($T$3,'LISTE DES SITUATIONS'!E35)>=1,1,\"\"),\"\")))","v":""},{"$f":"IF($AA$2=\"pok\",\"\",IF(A38=\"\",\"\",IFERROR(IF(SEARCH($U$3,'LISTE DES SITUATIONS'!E35)>=1,1,\"\"),\"\")))","v":""},{"$f":"IF($AA$2=\"pok\",\"\",IF(A38=\"\",\"\",IFERROR(IF(SEARCH($V$3,'LISTE DES SITUATIONS'!E35)>=1,1,\"\"),\"\")))","v":""},{"$f":"IF($AA$2=\"pok\",\"\",IF(A38=\"\",\"\",IFERROR(IF(SEARCH($W$3,'LISTE DES SITUATIONS'!E35)>=1,1,\"\"),\"\")))","v":""},{"$f":"IF($AA$2=\"pok\",\"\",IF(A38=\"\",\"\",IFERROR(IF(SEARCH($X$3,'LISTE DES SITUATIONS'!E35)>=1,1,\"\"),\"\")))","v":""},{"$f":"IF($AA$2=\"pok\",\"\",IF(A38=\"\",\"\",IFERROR(IF(SEARCH($Y$3,'LISTE DES SITUATIONS'!E35)>=1,1,\"\"),\"\")))","v":""},{"$f":"IF($AA$2=\"pok\",\"\",IF(A38=\"\",\"\",IFERROR(IF(SEARCH($Z$3,'LISTE DES SITUATIONS'!E35)>=1,1,\"\"),\"\")))","v":""},0]
[{"$f":"IF('LISTE DES SITUATIONS'!A36=\"\",\"\",'LISTE DES SITUATIONS'!A36)","v":""},{"$f":"IF(A39=\"\",\"\",VLOOKUP(A39,'LISTE DES SITUATIONS'!A:B,2,FALSE))","v":""},{"$f":"IF($AA$2=\"pok\",\"\",IF(A39=\"\",\"\",IFERROR(IF(SEARCH($C$3,'LISTE DES SITUATIONS'!E36)>=1,1,\"\"),\"\")))","v":""},{"$f":"IF($AA$2=\"pok\",\"\",IF(A39=\"\",\"\",IFERROR(IF(SEARCH($D$3,'LISTE DES SITUATIONS'!E36)>=1,1,\"\"),\"\")))","v":""},{"$f":"IF($AA$2=\"pok\",\"\",IF(A39=\"\",\"\",IFERROR(IF(SEARCH($E$3,'LISTE DES SITUATIONS'!E36)>=1,1,\"\"),\"\")))","v":""},{"$f":"IF($AA$2=\"pok\",\"\",IF(A39=\"\",\"\",IFERROR(IF(SEARCH($F$3,'LISTE DES SITUATIONS'!E36)>=1,1,\"\"),\"\")))","v":""},{"$f":"IF($AA$2=\"pok\",\"\",IF(A39=\"\",\"\",IFERROR(IF(SEARCH($G$3,'LISTE DES SITUATIONS'!E36)>=1,1,\"\"),\"\")))","v":""},{"$f":"IF($AA$2=\"pok\",\"\",IF(A39=\"\",\"\",IFERROR(IF(SEARCH($H$3,'LISTE DES SITUATIONS'!E36)>=1,1,\"\"),\"\")))","v":""},{"$f":"IF($AA$2=\"pok\",\"\",IF(A39=\"\",\"\",IFERROR(IF(SEARCH($I$3,'LISTE DES SITUATIONS'!E36)>=1,1,\"\"),\"\")))","v":""},{"$f":"IF($AA$2=\"pok\",\"\",IF(A39=\"\",\"\",IFERROR(IF(SEARCH($J$3,'LISTE DES SITUATIONS'!E36)>=1,1,\"\"),\"\")))","v":""},{"$f":"IF($AA$2=\"pok\",\"\",IF(A39=\"\",\"\",IFERROR(IF(SEARCH($K$3,'LISTE DES SITUATIONS'!E36)>=1,1,\"\"),\"\")))","v":""},{"$f":"IF($AA$2=\"pok\",\"\",IF(A39=\"\",\"\",IFERROR(IF(SEARCH($L$3,'LISTE DES SITUATIONS'!E36)>=1,1,\"\"),\"\")))","v":""},{"$f":"IF($AA$2=\"pok\",\"\",IF(A39=\"\",\"\",IFERROR(IF(SEARCH($M$3,'LISTE DES SITUATIONS'!E36)>=1,1,\"\"),\"\")))","v":""},{"$f":"IF($AA$2=\"pok\",\"\",IF(A39=\"\",\"\",IFERROR(IF(SEARCH($N$3,'LISTE DES SITUATIONS'!E36)>=1,1,\"\"),\"\")))","v":""},{"$f":"IF($AA$2=\"pok\",\"\",IF(A39=\"\",\"\",IFERROR(IF(SEARCH($O$3,'LISTE DES SITUATIONS'!E36)>=1,1,\"\"),\"\")))","v":""},{"$f":"IF($AA$2=\"pok\",\"\",IF(A39=\"\",\"\",IFERROR(IF(SEARCH($P$3,'LISTE DES SITUATIONS'!E36)>=1,1,\"\"),\"\")))","v":""},{"$f":"IF($AA$2=\"pok\",\"\",IF(A39=\"\",\"\",IFERROR(IF(SEARCH($Q$3,'LISTE DES SITUATIONS'!E36)>=1,1,\"\"),\"\")))","v":""},{"$f":"IF($AA$2=\"pok\",\"\",IF(A39=\"\",\"\",IFERROR(IF(SEARCH($R$3,'LISTE DES SITUATIONS'!E36)>=1,1,\"\"),\"\")))","v":""},{"$f":"IF($AA$2=\"pok\",\"\",IF(A39=\"\",\"\",IFERROR(IF(SEARCH($S$3,'LISTE DES SITUATIONS'!E36)>=1,1,\"\"),\"\")))","v":""},{"$f":"IF($AA$2=\"pok\",\"\",IF(A39=\"\",\"\",IFERROR(IF(SEARCH($T$3,'LISTE DES SITUATIONS'!E36)>=1,1,\"\"),\"\")))","v":""},{"$f":"IF($AA$2=\"pok\",\"\",IF(A39=\"\",\"\",IFERROR(IF(SEARCH($U$3,'LISTE DES SITUATIONS'!E36)>=1,1,\"\"),\"\")))","v":""},{"$f":"IF($AA$2=\"pok\",\"\",IF(A39=\"\",\"\",IFERROR(IF(SEARCH($V$3,'LISTE DES SITUATIONS'!E36)>=1,1,\"\"),\"\")))","v":""},{"$f":"IF($AA$2=\"pok\",\"\",IF(A39=\"\",\"\",IFERROR(IF(SEARCH($W$3,'LISTE DES SITUATIONS'!E36)>=1,1,\"\"),\"\")))","v":""},{"$f":"IF($AA$2=\"pok\",\"\",IF(A39=\"\",\"\",IFERROR(IF(SEARCH($X$3,'LISTE DES SITUATIONS'!E36)>=1,1,\"\"),\"\")))","v":""},{"$f":"IF($AA$2=\"pok\",\"\",IF(A39=\"\",\"\",IFERROR(IF(SEARCH($Y$3,'LISTE DES SITUATIONS'!E36)>=1,1,\"\"),\"\")))","v":""},{"$f":"IF($AA$2=\"pok\",\"\",IF(A39=\"\",\"\",IFERROR(IF(SEARCH($Z$3,'LISTE DES SITUATIONS'!E36)>=1,1,\"\"),\"\")))","v":""},0]
[{"$f":"IF('LISTE DES SITUATIONS'!A37=\"\",\"\",'LISTE DES SITUATIONS'!A37)","v":""},{"$f":"IF(A40=\"\",\"\",VLOOKUP(A40,'LISTE DES SITUATIONS'!A:B,2,FALSE))","v":""},{"$f":"IF($AA$2=\"pok\",\"\",IF(A40=\"\",\"\",IFERROR(IF(SEARCH($C$3,'LISTE DES SITUATIONS'!E37)>=1,1,\"\"),\"\")))","v":""},{"$f":"IF($AA$2=\"pok\",\"\",IF(A40=\"\",\"\",IFERROR(IF(SEARCH($D$3,'LISTE DES SITUATIONS'!E37)>=1,1,\"\"),\"\")))","v":""},{"$f":"IF($AA$2=\"pok\",\"\",IF(A40=\"\",\"\",IFERROR(IF(SEARCH($E$3,'LISTE DES SITUATIONS'!E37)>=1,1,\"\"),\"\")))","v":""},{"$f":"IF($AA$2=\"pok\",\"\",IF(A40=\"\",\"\",IFERROR(IF(SEARCH($F$3,'LISTE DES SITUATIONS'!E37)>=1,1,\"\"),\"\")))","v":""},{"$f":"IF($AA$2=\"pok\",\"\",IF(A40=\"\",\"\",IFERROR(IF(SEARCH($G$3,'LISTE DES SITUATIONS'!E37)>=1,1,\"\"),\"\")))","v":""},{"$f":"IF($AA$2=\"pok\",\"\",IF(A40=\"\",\"\",IFERROR(IF(SEARCH($H$3,'LISTE DES SITUATIONS'!E37)>=1,1,\"\"),\"\")))","v":""},{"$f":"IF($AA$2=\"pok\",\"\",IF(A40=\"\",\"\",IFERROR(IF(SEARCH($I$3,'LISTE DES SITUATIONS'!E37)>=1,1,\"\"),\"\")))","v":""},{"$f":"IF($AA$2=\"pok\",\"\",IF(A40=\"\",\"\",IFERROR(IF(SEARCH($J$3,'LISTE DES SITUATIONS'!E37)>=1,1,\"\"),\"\")))","v":""},{"$f":"IF($AA$2=\"pok\",\"\",IF(A40=\"\",\"\",IFERROR(IF(SEARCH($K$3,'LISTE DES SITUATIONS'!E37)>=1,1,\"\"),\"\")))","v":""},{"$f":"IF($AA$2=\"pok\",\"\",IF(A40=\"\",\"\",IFERROR(IF(SEARCH($L$3,'LISTE DES SITUATIONS'!E37)>=1,1,\"\"),\"\")))","v":""},{"$f":"IF($AA$2=\"pok\",\"\",IF(A40=\"\",\"\",IFERROR(IF(SEARCH($M$3,'LISTE DES SITUATIONS'!E37)>=1,1,\"\"),\"\")))","v":""},{"$f":"IF($AA$2=\"pok\",\"\",IF(A40=\"\",\"\",IFERROR(IF(SEARCH($N$3,'LISTE DES SITUATIONS'!E37)>=1,1,\"\"),\"\")))","v":""},{"$f":"IF($AA$2=\"pok\",\"\",IF(A40=\"\",\"\",IFERROR(IF(SEARCH($O$3,'LISTE DES SITUATIONS'!E37)>=1,1,\"\"),\"\")))","v":""},{"$f":"IF($AA$2=\"pok\",\"\",IF(A40=\"\",\"\",IFERROR(IF(SEARCH($P$3,'LISTE DES SITUATIONS'!E37)>=1,1,\"\"),\"\")))","v":""},{"$f":"IF($AA$2=\"pok\",\"\",IF(A40=\"\",\"\",IFERROR(IF(SEARCH($Q$3,'LISTE DES SITUATIONS'!E37)>=1,1,\"\"),\"\")))","v":""},{"$f":"IF($AA$2=\"pok\",\"\",IF(A40=\"\",\"\",IFERROR(IF(SEARCH($R$3,'LISTE DES SITUATIONS'!E37)>=1,1,\"\"),\"\")))","v":""},{"$f":"IF($AA$2=\"pok\",\"\",IF(A40=\"\",\"\",IFERROR(IF(SEARCH($S$3,'LISTE DES SITUATIONS'!E37)>=1,1,\"\"),\"\")))","v":""},{"$f":"IF($AA$2=\"pok\",\"\",IF(A40=\"\",\"\",IFERROR(IF(SEARCH($T$3,'LISTE DES SITUATIONS'!E37)>=1,1,\"\"),\"\")))","v":""},{"$f":"IF($AA$2=\"pok\",\"\",IF(A40=\"\",\"\",IFERROR(IF(SEARCH($U$3,'LISTE DES SITUATIONS'!E37)>=1,1,\"\"),\"\")))","v":""},{"$f":"IF($AA$2=\"pok\",\"\",IF(A40=\"\",\"\",IFERROR(IF(SEARCH($V$3,'LISTE DES SITUATIONS'!E37)>=1,1,\"\"),\"\")))","v":""},{"$f":"IF($AA$2=\"pok\",\"\",IF(A40=\"\",\"\",IFERROR(IF(SEARCH($W$3,'LISTE DES SITUATIONS'!E37)>=1,1,\"\"),\"\")))","v":""},{"$f":"IF($AA$2=\"pok\",\"\",IF(A40=\"\",\"\",IFERROR(IF(SEARCH($X$3,'LISTE DES SITUATIONS'!E37)>=1,1,\"\"),\"\")))","v":""},{"$f":"IF($AA$2=\"pok\",\"\",IF(A40=\"\",\"\",IFERROR(IF(SEARCH($Y$3,'LISTE DES SITUATIONS'!E37)>=1,1,\"\"),\"\")))","v":""},{"$f":"IF($AA$2=\"pok\",\"\",IF(A40=\"\",\"\",IFERROR(IF(SEARCH($Z$3,'LISTE DES SITUATIONS'!E37)>=1,1,\"\"),\"\")))","v":""},0]
[{"$f":"IF('LISTE DES SITUATIONS'!A38=\"\",\"\",'LISTE DES SITUATIONS'!A38)","v":""},{"$f":"IF(A41=\"\",\"\",VLOOKUP(A41,'LISTE DES SITUATIONS'!A:B,2,FALSE))","v":""},{"$f":"IF($AA$2=\"pok\",\"\",IF(A41=\"\",\"\",IFERROR(IF(SEARCH($C$3,'LISTE DES SITUATIONS'!E38)>=1,1,\"\"),\"\")))","v":""},{"$f":"IF($AA$2=\"pok\",\"\",IF(A41=\"\",\"\",IFERROR(IF(SEARCH($D$3,'LISTE DES SITUATIONS'!E38)>=1,1,\"\"),\"\")))","v":""},{"$f":"IF($AA$2=\"pok\",\"\",IF(A41=\"\",\"\",IFERROR(IF(SEARCH($E$3,'LISTE DES SITUATIONS'!E38)>=1,1,\"\"),\"\")))","v":""},{"$f":"IF($AA$2=\"pok\",\"\",IF(A41=\"\",\"\",IFERROR(IF(SEARCH($F$3,'LISTE DES SITUATIONS'!E38)>=1,1,\"\"),\"\")))","v":""},{"$f":"IF($AA$2=\"pok\",\"\",IF(A41=\"\",\"\",IFERROR(IF(SEARCH($G$3,'LISTE DES SITUATIONS'!E38)>=1,1,\"\"),\"\")))","v":""},{"$f":"IF($AA$2=\"pok\",\"\",IF(A41=\"\",\"\",IFERROR(IF(SEARCH($H$3,'LISTE DES SITUATIONS'!E38)>=1,1,\"\"),\"\")))","v":""},{"$f":"IF($AA$2=\"pok\",\"\",IF(A41=\"\",\"\",IFERROR(IF(SEARCH($I$3,'LISTE DES SITUATIONS'!E38)>=1,1,\"\"),\"\")))","v":""},{"$f":"IF($AA$2=\"pok\",\"\",IF(A41=\"\",\"\",IFERROR(IF(SEARCH($J$3,'LISTE DES SITUATIONS'!E38)>=1,1,\"\"),\"\")))","v":""},{"$f":"IF($AA$2=\"pok\",\"\",IF(A41=\"\",\"\",IFERROR(IF(SEARCH($K$3,'LISTE DES SITUATIONS'!E38)>=1,1,\"\"),\"\")))","v":""},{"$f":"IF($AA$2=\"pok\",\"\",IF(A41=\"\",\"\",IFERROR(IF(SEARCH($L$3,'LISTE DES SITUATIONS'!E38)>=1,1,\"\"),\"\")))","v":""},{"$f":"IF($AA$2=\"pok\",\"\",IF(A41=\"\",\"\",IFERROR(IF(SEARCH($M$3,'LISTE DES SITUATIONS'!E38)>=1,1,\"\"),\"\")))","v":""},{"$f":"IF($AA$2=\"pok\",\"\",IF(A41=\"\",\"\",IFERROR(IF(SEARCH($N$3,'LISTE DES SITUATIONS'!E38)>=1,1,\"\"),\"\")))","v":""},{"$f":"IF($AA$2=\"pok\",\"\",IF(A41=\"\",\"\",IFERROR(IF(SEARCH($O$3,'LISTE DES SITUATIONS'!E38)>=1,1,\"\"),\"\")))","v":""},{"$f":"IF($AA$2=\"pok\",\"\",IF(A41=\"\",\"\",IFERROR(IF(SEARCH($P$3,'LISTE DES SITUATIONS'!E38)>=1,1,\"\"),\"\")))","v":""},{"$f":"IF($AA$2=\"pok\",\"\",IF(A41=\"\",\"\",IFERROR(IF(SEARCH($Q$3,'LISTE DES SITUATIONS'!E38)>=1,1,\"\"),\"\")))","v":""},{"$f":"IF($AA$2=\"pok\",\"\",IF(A41=\"\",\"\",IFERROR(IF(SEARCH($R$3,'LISTE DES SITUATIONS'!E38)>=1,1,\"\"),\"\")))","v":""},{"$f":"IF($AA$2=\"pok\",\"\",IF(A41=\"\",\"\",IFERROR(IF(SEARCH($S$3,'LISTE DES SITUATIONS'!E38)>=1,1,\"\"),\"\")))","v":""},{"$f":"IF($AA$2=\"pok\",\"\",IF(A41=\"\",\"\",IFERROR(IF(SEARCH($T$3,'LISTE DES SITUATIONS'!E38)>=1,1,\"\"),\"\")))","v":""},{"$f":"IF($AA$2=\"pok\",\"\",IF(A41=\"\",\"\",IFERROR(IF(SEARCH($U$3,'LISTE DES SITUATIONS'!E38)>=1,1,\"\"),\"\")))","v":""},{"$f":"IF($AA$2=\"pok\",\"\",IF(A41=\"\",\"\",IFERROR(IF(SEARCH($V$3,'LISTE DES SITUATIONS'!E38)>=1,1,\"\"),\"\")))","v":""},{"$f":"IF($AA$2=\"pok\",\"\",IF(A41=\"\",\"\",IFERROR(IF(SEARCH($W$3,'LISTE DES SITUATIONS'!E38)>=1,1,\"\"),\"\")))","v":""},{"$f":"IF($AA$2=\"pok\",\"\",IF(A41=\"\",\"\",IFERROR(IF(SEARCH($X$3,'LISTE DES SITUATIONS'!E38)>=1,1,\"\"),\"\")))","v":""},{"$f":"IF($AA$2=\"pok\",\"\",IF(A41=\"\",\"\",IFERROR(IF(SEARCH($Y$3,'LISTE DES SITUATIONS'!E38)>=1,1,\"\"),\"\")))","v":""},{"$f":"IF($AA$2=\"pok\",\"\",IF(A41=\"\",\"\",IFERROR(IF(SEARCH($Z$3,'LISTE DES SITUATIONS'!E38)>=1,1,\"\"),\"\")))","v":""},0]
[{"$f":"IF('LISTE DES SITUATIONS'!A39=\"\",\"\",'LISTE DES SITUATIONS'!A39)","v":""},{"$f":"IF(A42=\"\",\"\",VLOOKUP(A42,'LISTE DES SITUATIONS'!A:B,2,FALSE))","v":""},{"$f":"IF($AA$2=\"pok\",\"\",IF(A42=\"\",\"\",IFERROR(IF(SEARCH($C$3,'LISTE DES SITUATIONS'!E39)>=1,1,\"\"),\"\")))","v":""},{"$f":"IF($AA$2=\"pok\",\"\",IF(A42=\"\",\"\",IFERROR(IF(SEARCH($D$3,'LISTE DES SITUATIONS'!E39)>=1,1,\"\"),\"\")))","v":""},{"$f":"IF($AA$2=\"pok\",\"\",IF(A42=\"\",\"\",IFERROR(IF(SEARCH($E$3,'LISTE DES SITUATIONS'!E39)>=1,1,\"\"),\"\")))","v":""},{"$f":"IF($AA$2=\"pok\",\"\",IF(A42=\"\",\"\",IFERROR(IF(SEARCH($F$3,'LISTE DES SITUATIONS'!E39)>=1,1,\"\"),\"\")))","v":""},{"$f":"IF($AA$2=\"pok\",\"\",IF(A42=\"\",\"\",IFERROR(IF(SEARCH($G$3,'LISTE DES SITUATIONS'!E39)>=1,1,\"\"),\"\")))","v":""},{"$f":"IF($AA$2=\"pok\",\"\",IF(A42=\"\",\"\",IFERROR(IF(SEARCH($H$3,'LISTE DES SITUATIONS'!E39)>=1,1,\"\"),\"\")))","v":""},{"$f":"IF($AA$2=\"pok\",\"\",IF(A42=\"\",\"\",IFERROR(IF(SEARCH($I$3,'LISTE DES SITUATIONS'!E39)>=1,1,\"\"),\"\")))","v":""},{"$f":"IF($AA$2=\"pok\",\"\",IF(A42=\"\",\"\",IFERROR(IF(SEARCH($J$3,'LISTE DES SITUATIONS'!E39)>=1,1,\"\"),\"\")))","v":""},{"$f":"IF($AA$2=\"pok\",\"\",IF(A42=\"\",\"\",IFERROR(IF(SEARCH($K$3,'LISTE DES SITUATIONS'!E39)>=1,1,\"\"),\"\")))","v":""},{"$f":"IF($AA$2=\"pok\",\"\",IF(A42=\"\",\"\",IFERROR(IF(SEARCH($L$3,'LISTE DES SITUATIONS'!E39)>=1,1,\"\"),\"\")))","v":""},{"$f":"IF($AA$2=\"pok\",\"\",IF(A42=\"\",\"\",IFERROR(IF(SEARCH($M$3,'LISTE DES SITUATIONS'!E39)>=1,1,\"\"),\"\")))","v":""},{"$f":"IF($AA$2=\"pok\",\"\",IF(A42=\"\",\"\",IFERROR(IF(SEARCH($N$3,'LISTE DES SITUATIONS'!E39)>=1,1,\"\"),\"\")))","v":""},{"$f":"IF($AA$2=\"pok\",\"\",IF(A42=\"\",\"\",IFERROR(IF(SEARCH($O$3,'LISTE DES SITUATIONS'!E39)>=1,1,\"\"),\"\")))","v":""},{"$f":"IF($AA$2=\"pok\",\"\",IF(A42=\"\",\"\",IFERROR(IF(SEARCH($P$3,'LISTE DES SITUATIONS'!E39)>=1,1,\"\"),\"\")))","v":""},{"$f":"IF($AA$2=\"pok\",\"\",IF(A42=\"\",\"\",IFERROR(IF(SEARCH($Q$3,'LISTE DES SITUATIONS'!E39)>=1,1,\"\"),\"\")))","v":""},{"$f":"IF($AA$2=\"pok\",\"\",IF(A42=\"\",\"\",IFERROR(IF(SEARCH($R$3,'LISTE DES SITUATIONS'!E39)>=1,1,\"\"),\"\")))","v":""},{"$f":"IF($AA$2=\"pok\",\"\",IF(A42=\"\",\"\",IFERROR(IF(SEARCH($S$3,'LISTE DES SITUATIONS'!E39)>=1,1,\"\"),\"\")))","v":""},{"$f":"IF($AA$2=\"pok\",\"\",IF(A42=\"\",\"\",IFERROR(IF(SEARCH($T$3,'LISTE DES SITUATIONS'!E39)>=1,1,\"\"),\"\")))","v":""},{"$f":"IF($AA$2=\"pok\",\"\",IF(A42=\"\",\"\",IFERROR(IF(SEARCH($U$3,'LISTE DES SITUATIONS'!E39)>=1,1,\"\"),\"\")))","v":""},{"$f":"IF($AA$2=\"pok\",\"\",IF(A42=\"\",\"\",IFERROR(IF(SEARCH($V$3,'LISTE DES SITUATIONS'!E39)>=1,1,\"\"),\"\")))","v":""},{"$f":"IF($AA$2=\"pok\",\"\",IF(A42=\"\",\"\",IFERROR(IF(SEARCH($W$3,'LISTE DES SITUATIONS'!E39)>=1,1,\"\"),\"\")))","v":""},{"$f":"IF($AA$2=\"pok\",\"\",IF(A42=\"\",\"\",IFERROR(IF(SEARCH($X$3,'LISTE DES SITUATIONS'!E39)>=1,1,\"\"),\"\")))","v":""},{"$f":"IF($AA$2=\"pok\",\"\",IF(A42=\"\",\"\",IFERROR(IF(SEARCH($Y$3,'LISTE DES SITUATIONS'!E39)>=1,1,\"\"),\"\")))","v":""},{"$f":"IF($AA$2=\"pok\",\"\",IF(A42=\"\",\"\",IFERROR(IF(SEARCH($Z$3,'LISTE DES SITUATIONS'!E39)>=1,1,\"\"),\"\")))","v":""},0]
[{"$f":"IF('LISTE DES SITUATIONS'!A40=\"\",\"\",'LISTE DES SITUATIONS'!A40)","v":""},{"$f":"IF(A43=\"\",\"\",VLOOKUP(A43,'LISTE DES SITUATIONS'!A:B,2,FALSE))","v":""},{"$f":"IF($AA$2=\"pok\",\"\",IF(A43=\"\",\"\",IFERROR(IF(SEARCH($C$3,'LISTE DES SITUATIONS'!E40)>=1,1,\"\"),\"\")))","v":""},{"$f":"IF($AA$2=\"pok\",\"\",IF(A43=\"\",\"\",IFERROR(IF(SEARCH($D$3,'LISTE DES SITUATIONS'!E40)>=1,1,\"\"),\"\")))","v":""},{"$f":"IF($AA$2=\"pok\",\"\",IF(A43=\"\",\"\",IFERROR(IF(SEARCH($E$3,'LISTE DES SITUATIONS'!E40)>=1,1,\"\"),\"\")))","v":""},{"$f":"IF($AA$2=\"pok\",\"\",IF(A43=\"\",\"\",IFERROR(IF(SEARCH($F$3,'LISTE DES SITUATIONS'!E40)>=1,1,\"\"),\"\")))","v":""},{"$f":"IF($AA$2=\"pok\",\"\",IF(A43=\"\",\"\",IFERROR(IF(SEARCH($G$3,'LISTE DES SITUATIONS'!E40)>=1,1,\"\"),\"\")))","v":""},{"$f":"IF($AA$2=\"pok\",\"\",IF(A43=\"\",\"\",IFERROR(IF(SEARCH($H$3,'LISTE DES SITUATIONS'!E40)>=1,1,\"\"),\"\")))","v":""},{"$f":"IF($AA$2=\"pok\",\"\",IF(A43=\"\",\"\",IFERROR(IF(SEARCH($I$3,'LISTE DES SITUATIONS'!E40)>=1,1,\"\"),\"\")))","v":""},{"$f":"IF($AA$2=\"pok\",\"\",IF(A43=\"\",\"\",IFERROR(IF(SEARCH($J$3,'LISTE DES SITUATIONS'!E40)>=1,1,\"\"),\"\")))","v":""},{"$f":"IF($AA$2=\"pok\",\"\",IF(A43=\"\",\"\",IFERROR(IF(SEARCH($K$3,'LISTE DES SITUATIONS'!E40)>=1,1,\"\"),\"\")))","v":""},{"$f":"IF($AA$2=\"pok\",\"\",IF(A43=\"\",\"\",IFERROR(IF(SEARCH($L$3,'LISTE DES SITUATIONS'!E40)>=1,1,\"\"),\"\")))","v":""},{"$f":"IF($AA$2=\"pok\",\"\",IF(A43=\"\",\"\",IFERROR(IF(SEARCH($M$3,'LISTE DES SITUATIONS'!E40)>=1,1,\"\"),\"\")))","v":""},{"$f":"IF($AA$2=\"pok\",\"\",IF(A43=\"\",\"\",IFERROR(IF(SEARCH($N$3,'LISTE DES SITUATIONS'!E40)>=1,1,\"\"),\"\")))","v":""},{"$f":"IF($AA$2=\"pok\",\"\",IF(A43=\"\",\"\",IFERROR(IF(SEARCH($O$3,'LISTE DES SITUATIONS'!E40)>=1,1,\"\"),\"\")))","v":""},{"$f":"IF($AA$2=\"pok\",\"\",IF(A43=\"\",\"\",IFERROR(IF(SEARCH($P$3,'LISTE DES SITUATIONS'!E40)>=1,1,\"\"),\"\")))","v":""},{"$f":"IF($AA$2=\"pok\",\"\",IF(A43=\"\",\"\",IFERROR(IF(SEARCH($Q$3,'LISTE DES SITUATIONS'!E40)>=1,1,\"\"),\"\")))","v":""},{"$f":"IF($AA$2=\"pok\",\"\",IF(A43=\"\",\"\",IFERROR(IF(SEARCH($R$3,'LISTE DES SITUATIONS'!E40)>=1,1,\"\"),\"\")))","v":""},{"$f":"IF($AA$2=\"pok\",\"\",IF(A43=\"\",\"\",IFERROR(IF(SEARCH($S$3,'LISTE DES SITUATIONS'!E40)>=1,1,\"\"),\"\")))","v":""},{"$f":"IF($AA$2=\"pok\",\"\",IF(A43=\"\",\"\",IFERROR(IF(SEARCH($T$3,'LISTE DES SITUATIONS'!E40)>=1,1,\"\"),\"\")))","v":""},{"$f":"IF($AA$2=\"pok\",\"\",IF(A43=\"\",\"\",IFERROR(IF(SEARCH($U$3,'LISTE DES SITUATIONS'!E40)>=1,1,\"\"),\"\")))","v":""},{"$f":"IF($AA$2=\"pok\",\"\",IF(A43=\"\",\"\",IFERROR(IF(SEARCH($V$3,'LISTE DES SITUATIONS'!E40)>=1,1,\"\"),\"\")))","v":""},{"$f":"IF($AA$2=\"pok\",\"\",IF(A43=\"\",\"\",IFERROR(IF(SEARCH($W$3,'LISTE DES SITUATIONS'!E40)>=1,1,\"\"),\"\")))","v":""},{"$f":"IF($AA$2=\"pok\",\"\",IF(A43=\"\",\"\",IFERROR(IF(SEARCH($X$3,'LISTE DES SITUATIONS'!E40)>=1,1,\"\"),\"\")))","v":""},{"$f":"IF($AA$2=\"pok\",\"\",IF(A43=\"\",\"\",IFERROR(IF(SEARCH($Y$3,'LISTE DES SITUATIONS'!E40)>=1,1,\"\"),\"\")))","v":""},{"$f":"IF($AA$2=\"pok\",\"\",IF(A43=\"\",\"\",IFERROR(IF(SEARCH($Z$3,'LISTE DES SITUATIONS'!E40)>=1,1,\"\"),\"\")))","v":""},0]
[{"$f":"IF('LISTE DES SITUATIONS'!A41=\"\",\"\",'LISTE DES SITUATIONS'!A41)","v":""},{"$f":"IF(A44=\"\",\"\",VLOOKUP(A44,'LISTE DES SITUATIONS'!A:B,2,FALSE))","v":""},{"$f":"IF($AA$2=\"pok\",\"\",IF(A44=\"\",\"\",IFERROR(IF(SEARCH($C$3,'LISTE DES SITUATIONS'!E41)>=1,1,\"\"),\"\")))","v":""},{"$f":"IF($AA$2=\"pok\",\"\",IF(A44=\"\",\"\",IFERROR(IF(SEARCH($D$3,'LISTE DES SITUATIONS'!E41)>=1,1,\"\"),\"\")))","v":""},{"$f":"IF($AA$2=\"pok\",\"\",IF(A44=\"\",\"\",IFERROR(IF(SEARCH($E$3,'LISTE DES SITUATIONS'!E41)>=1,1,\"\"),\"\")))","v":""},{"$f":"IF($AA$2=\"pok\",\"\",IF(A44=\"\",\"\",IFERROR(IF(SEARCH($F$3,'LISTE DES SITUATIONS'!E41)>=1,1,\"\"),\"\")))","v":""},{"$f":"IF($AA$2=\"pok\",\"\",IF(A44=\"\",\"\",IFERROR(IF(SEARCH($G$3,'LISTE DES SITUATIONS'!E41)>=1,1,\"\"),\"\")))","v":""},{"$f":"IF($AA$2=\"pok\",\"\",IF(A44=\"\",\"\",IFERROR(IF(SEARCH($H$3,'LISTE DES SITUATIONS'!E41)>=1,1,\"\"),\"\")))","v":""},{"$f":"IF($AA$2=\"pok\",\"\",IF(A44=\"\",\"\",IFERROR(IF(SEARCH($I$3,'LISTE DES SITUATIONS'!E41)>=1,1,\"\"),\"\")))","v":""},{"$f":"IF($AA$2=\"pok\",\"\",IF(A44=\"\",\"\",IFERROR(IF(SEARCH($J$3,'LISTE DES SITUATIONS'!E41)>=1,1,\"\"),\"\")))","v":""},{"$f":"IF($AA$2=\"pok\",\"\",IF(A44=\"\",\"\",IFERROR(IF(SEARCH($K$3,'LISTE DES SITUATIONS'!E41)>=1,1,\"\"),\"\")))","v":""},{"$f":"IF($AA$2=\"pok\",\"\",IF(A44=\"\",\"\",IFERROR(IF(SEARCH($L$3,'LISTE DES SITUATIONS'!E41)>=1,1,\"\"),\"\")))","v":""},{"$f":"IF($AA$2=\"pok\",\"\",IF(A44=\"\",\"\",IFERROR(IF(SEARCH($M$3,'LISTE DES SITUATIONS'!E41)>=1,1,\"\"),\"\")))","v":""},{"$f":"IF($AA$2=\"pok\",\"\",IF(A44=\"\",\"\",IFERROR(IF(SEARCH($N$3,'LISTE DES SITUATIONS'!E41)>=1,1,\"\"),\"\")))","v":""},{"$f":"IF($AA$2=\"pok\",\"\",IF(A44=\"\",\"\",IFERROR(IF(SEARCH($O$3,'LISTE DES SITUATIONS'!E41)>=1,1,\"\"),\"\")))","v":""},{"$f":"IF($AA$2=\"pok\",\"\",IF(A44=\"\",\"\",IFERROR(IF(SEARCH($P$3,'LISTE DES SITUATIONS'!E41)>=1,1,\"\"),\"\")))","v":""},{"$f":"IF($AA$2=\"pok\",\"\",IF(A44=\"\",\"\",IFERROR(IF(SEARCH($Q$3,'LISTE DES SITUATIONS'!E41)>=1,1,\"\"),\"\")))","v":""},{"$f":"IF($AA$2=\"pok\",\"\",IF(A44=\"\",\"\",IFERROR(IF(SEARCH($R$3,'LISTE DES SITUATIONS'!E41)>=1,1,\"\"),\"\")))","v":""},{"$f":"IF($AA$2=\"pok\",\"\",IF(A44=\"\",\"\",IFERROR(IF(SEARCH($S$3,'LISTE DES SITUATIONS'!E41)>=1,1,\"\"),\"\")))","v":""},{"$f":"IF($AA$2=\"pok\",\"\",IF(A44=\"\",\"\",IFERROR(IF(SEARCH($T$3,'LISTE DES SITUATIONS'!E41)>=1,1,\"\"),\"\")))","v":""},{"$f":"IF($AA$2=\"pok\",\"\",IF(A44=\"\",\"\",IFERROR(IF(SEARCH($U$3,'LISTE DES SITUATIONS'!E41)>=1,1,\"\"),\"\")))","v":""},{"$f":"IF($AA$2=\"pok\",\"\",IF(A44=\"\",\"\",IFERROR(IF(SEARCH($V$3,'LISTE DES SITUATIONS'!E41)>=1,1,\"\"),\"\")))","v":""},{"$f":"IF($AA$2=\"pok\",\"\",IF(A44=\"\",\"\",IFERROR(IF(SEARCH($W$3,'LISTE DES SITUATIONS'!E41)>=1,1,\"\"),\"\")))","v":""},{"$f":"IF($AA$2=\"pok\",\"\",IF(A44=\"\",\"\",IFERROR(IF(SEARCH($X$3,'LISTE DES SITUATIONS'!E41)>=1,1,\"\"),\"\")))","v":""},{"$f":"IF($AA$2=\"pok\",\"\",IF(A44=\"\",\"\",IFERROR(IF(SEARCH($Y$3,'LISTE DES SITUATIONS'!E41)>=1,1,\"\"),\"\")))","v":""},{"$f":"IF($AA$2=\"pok\",\"\",IF(A44=\"\",\"\",IFERROR(IF(SEARCH($Z$3,'LISTE DES SITUATIONS'!E41)>=1,1,\"\"),\"\")))","v":""},0]
[{"$f":"IF('LISTE DES SITUATIONS'!A42=\"\",\"\",'LISTE DES SITUATIONS'!A42)","v":""},{"$f":"IF(A45=\"\",\"\",VLOOKUP(A45,'LISTE DES SITUATIONS'!A:B,2,FALSE))","v":""},{"$f":"IF($AA$2=\"pok\",\"\",IF(A45=\"\",\"\",IFERROR(IF(SEARCH($C$3,'LISTE DES SITUATIONS'!E42)>=1,1,\"\"),\"\")))","v":""},{"$f":"IF($AA$2=\"pok\",\"\",IF(A45=\"\",\"\",IFERROR(IF(SEARCH($D$3,'LISTE DES SITUATIONS'!E42)>=1,1,\"\"),\"\")))","v":""},{"$f":"IF($AA$2=\"pok\",\"\",IF(A45=\"\",\"\",IFERROR(IF(SEARCH($E$3,'LISTE DES SITUATIONS'!E42)>=1,1,\"\"),\"\")))","v":""},{"$f":"IF($AA$2=\"pok\",\"\",IF(A45=\"\",\"\",IFERROR(IF(SEARCH($F$3,'LISTE DES SITUATIONS'!E42)>=1,1,\"\"),\"\")))","v":""},{"$f":"IF($AA$2=\"pok\",\"\",IF(A45=\"\",\"\",IFERROR(IF(SEARCH($G$3,'LISTE DES SITUATIONS'!E42)>=1,1,\"\"),\"\")))","v":""},{"$f":"IF($AA$2=\"pok\",\"\",IF(A45=\"\",\"\",IFERROR(IF(SEARCH($H$3,'LISTE DES SITUATIONS'!E42)>=1,1,\"\"),\"\")))","v":""},{"$f":"IF($AA$2=\"pok\",\"\",IF(A45=\"\",\"\",IFERROR(IF(SEARCH($I$3,'LISTE DES SITUATIONS'!E42)>=1,1,\"\"),\"\")))","v":""},{"$f":"IF($AA$2=\"pok\",\"\",IF(A45=\"\",\"\",IFERROR(IF(SEARCH($J$3,'LISTE DES SITUATIONS'!E42)>=1,1,\"\"),\"\")))","v":""},{"$f":"IF($AA$2=\"pok\",\"\",IF(A45=\"\",\"\",IFERROR(IF(SEARCH($K$3,'LISTE DES SITUATIONS'!E42)>=1,1,\"\"),\"\")))","v":""},{"$f":"IF($AA$2=\"pok\",\"\",IF(A45=\"\",\"\",IFERROR(IF(SEARCH($L$3,'LISTE DES SITUATIONS'!E42)>=1,1,\"\"),\"\")))","v":""},{"$f":"IF($AA$2=\"pok\",\"\",IF(A45=\"\",\"\",IFERROR(IF(SEARCH($M$3,'LISTE DES SITUATIONS'!E42)>=1,1,\"\"),\"\")))","v":""},{"$f":"IF($AA$2=\"pok\",\"\",IF(A45=\"\",\"\",IFERROR(IF(SEARCH($N$3,'LISTE DES SITUATIONS'!E42)>=1,1,\"\"),\"\")))","v":""},{"$f":"IF($AA$2=\"pok\",\"\",IF(A45=\"\",\"\",IFERROR(IF(SEARCH($O$3,'LISTE DES SITUATIONS'!E42)>=1,1,\"\"),\"\")))","v":""},{"$f":"IF($AA$2=\"pok\",\"\",IF(A45=\"\",\"\",IFERROR(IF(SEARCH($P$3,'LISTE DES SITUATIONS'!E42)>=1,1,\"\"),\"\")))","v":""},{"$f":"IF($AA$2=\"pok\",\"\",IF(A45=\"\",\"\",IFERROR(IF(SEARCH($Q$3,'LISTE DES SITUATIONS'!E42)>=1,1,\"\"),\"\")))","v":""},{"$f":"IF($AA$2=\"pok\",\"\",IF(A45=\"\",\"\",IFERROR(IF(SEARCH($R$3,'LISTE DES SITUATIONS'!E42)>=1,1,\"\"),\"\")))","v":""},{"$f":"IF($AA$2=\"pok\",\"\",IF(A45=\"\",\"\",IFERROR(IF(SEARCH($S$3,'LISTE DES SITUATIONS'!E42)>=1,1,\"\"),\"\")))","v":""},{"$f":"IF($AA$2=\"pok\",\"\",IF(A45=\"\",\"\",IFERROR(IF(SEARCH($T$3,'LISTE DES SITUATIONS'!E42)>=1,1,\"\"),\"\")))","v":""},{"$f":"IF($AA$2=\"pok\",\"\",IF(A45=\"\",\"\",IFERROR(IF(SEARCH($U$3,'LISTE DES SITUATIONS'!E42)>=1,1,\"\"),\"\")))","v":""},{"$f":"IF($AA$2=\"pok\",\"\",IF(A45=\"\",\"\",IFERROR(IF(SEARCH($V$3,'LISTE DES SITUATIONS'!E42)>=1,1,\"\"),\"\")))","v":""},{"$f":"IF($AA$2=\"pok\",\"\",IF(A45=\"\",\"\",IFERROR(IF(SEARCH($W$3,'LISTE DES SITUATIONS'!E42)>=1,1,\"\"),\"\")))","v":""},{"$f":"IF($AA$2=\"pok\",\"\",IF(A45=\"\",\"\",IFERROR(IF(SEARCH($X$3,'LISTE DES SITUATIONS'!E42)>=1,1,\"\"),\"\")))","v":""},{"$f":"IF($AA$2=\"pok\",\"\",IF(A45=\"\",\"\",IFERROR(IF(SEARCH($Y$3,'LISTE DES SITUATIONS'!E42)>=1,1,\"\"),\"\")))","v":""},{"$f":"IF($AA$2=\"pok\",\"\",IF(A45=\"\",\"\",IFERROR(IF(SEARCH($Z$3,'LISTE DES SITUATIONS'!E42)>=1,1,\"\"),\"\")))","v":""},0]
[{"$f":"IF('LISTE DES SITUATIONS'!A43=\"\",\"\",'LISTE DES SITUATIONS'!A43)","v":""},{"$f":"IF(A46=\"\",\"\",VLOOKUP(A46,'LISTE DES SITUATIONS'!A:B,2,FALSE))","v":""},{"$f":"IF($AA$2=\"pok\",\"\",IF(A46=\"\",\"\",IFERROR(IF(SEARCH($C$3,'LISTE DES SITUATIONS'!E43)>=1,1,\"\"),\"\")))","v":""},{"$f":"IF($AA$2=\"pok\",\"\",IF(A46=\"\",\"\",IFERROR(IF(SEARCH($D$3,'LISTE DES SITUATIONS'!E43)>=1,1,\"\"),\"\")))","v":""},{"$f":"IF($AA$2=\"pok\",\"\",IF(A46=\"\",\"\",IFERROR(IF(SEARCH($E$3,'LISTE DES SITUATIONS'!E43)>=1,1,\"\"),\"\")))","v":""},{"$f":"IF($AA$2=\"pok\",\"\",IF(A46=\"\",\"\",IFERROR(IF(SEARCH($F$3,'LISTE DES SITUATIONS'!E43)>=1,1,\"\"),\"\")))","v":""},{"$f":"IF($AA$2=\"pok\",\"\",IF(A46=\"\",\"\",IFERROR(IF(SEARCH($G$3,'LISTE DES SITUATIONS'!E43)>=1,1,\"\"),\"\")))","v":""},{"$f":"IF($AA$2=\"pok\",\"\",IF(A46=\"\",\"\",IFERROR(IF(SEARCH($H$3,'LISTE DES SITUATIONS'!E43)>=1,1,\"\"),\"\")))","v":""},{"$f":"IF($AA$2=\"pok\",\"\",IF(A46=\"\",\"\",IFERROR(IF(SEARCH($I$3,'LISTE DES SITUATIONS'!E43)>=1,1,\"\"),\"\")))","v":""},{"$f":"IF($AA$2=\"pok\",\"\",IF(A46=\"\",\"\",IFERROR(IF(SEARCH($J$3,'LISTE DES SITUATIONS'!E43)>=1,1,\"\"),\"\")))","v":""},{"$f":"IF($AA$2=\"pok\",\"\",IF(A46=\"\",\"\",IFERROR(IF(SEARCH($K$3,'LISTE DES SITUATIONS'!E43)>=1,1,\"\"),\"\")))","v":""},{"$f":"IF($AA$2=\"pok\",\"\",IF(A46=\"\",\"\",IFERROR(IF(SEARCH($L$3,'LISTE DES SITUATIONS'!E43)>=1,1,\"\"),\"\")))","v":""},{"$f":"IF($AA$2=\"pok\",\"\",IF(A46=\"\",\"\",IFERROR(IF(SEARCH($M$3,'LISTE DES SITUATIONS'!E43)>=1,1,\"\"),\"\")))","v":""},{"$f":"IF($AA$2=\"pok\",\"\",IF(A46=\"\",\"\",IFERROR(IF(SEARCH($N$3,'LISTE DES SITUATIONS'!E43)>=1,1,\"\"),\"\")))","v":""},{"$f":"IF($AA$2=\"pok\",\"\",IF(A46=\"\",\"\",IFERROR(IF(SEARCH($O$3,'LISTE DES SITUATIONS'!E43)>=1,1,\"\"),\"\")))","v":""},{"$f":"IF($AA$2=\"pok\",\"\",IF(A46=\"\",\"\",IFERROR(IF(SEARCH($P$3,'LISTE DES SITUATIONS'!E43)>=1,1,\"\"),\"\")))","v":""},{"$f":"IF($AA$2=\"pok\",\"\",IF(A46=\"\",\"\",IFERROR(IF(SEARCH($Q$3,'LISTE DES SITUATIONS'!E43)>=1,1,\"\"),\"\")))","v":""},{"$f":"IF($AA$2=\"pok\",\"\",IF(A46=\"\",\"\",IFERROR(IF(SEARCH($R$3,'LISTE DES SITUATIONS'!E43)>=1,1,\"\"),\"\")))","v":""},{"$f":"IF($AA$2=\"pok\",\"\",IF(A46=\"\",\"\",IFERROR(IF(SEARCH($S$3,'LISTE DES SITUATIONS'!E43)>=1,1,\"\"),\"\")))","v":""},{"$f":"IF($AA$2=\"pok\",\"\",IF(A46=\"\",\"\",IFERROR(IF(SEARCH($T$3,'LISTE DES SITUATIONS'!E43)>=1,1,\"\"),\"\")))","v":""},{"$f":"IF($AA$2=\"pok\",\"\",IF(A46=\"\",\"\",IFERROR(IF(SEARCH($U$3,'LISTE DES SITUATIONS'!E43)>=1,1,\"\"),\"\")))","v":""},{"$f":"IF($AA$2=\"pok\",\"\",IF(A46=\"\",\"\",IFERROR(IF(SEARCH($V$3,'LISTE DES SITUATIONS'!E43)>=1,1,\"\"),\"\")))","v":""},{"$f":"IF($AA$2=\"pok\",\"\",IF(A46=\"\",\"\",IFERROR(IF(SEARCH($W$3,'LISTE DES SITUATIONS'!E43)>=1,1,\"\"),\"\")))","v":""},{"$f":"IF($AA$2=\"pok\",\"\",IF(A46=\"\",\"\",IFERROR(IF(SEARCH($X$3,'LISTE DES SITUATIONS'!E43)>=1,1,\"\"),\"\")))","v":""},{"$f":"IF($AA$2=\"pok\",\"\",IF(A46=\"\",\"\",IFERROR(IF(SEARCH($Y$3,'LISTE DES SITUATIONS'!E43)>=1,1,\"\"),\"\")))","v":""},{"$f":"IF($AA$2=\"pok\",\"\",IF(A46=\"\",\"\",IFERROR(IF(SEARCH($Z$3,'LISTE DES SITUATIONS'!E43)>=1,1,\"\"),\"\")))","v":""},0]
[{"$f":"IF('LISTE DES SITUATIONS'!A44=\"\",\"\",'LISTE DES SITUATIONS'!A44)","v":""},{"$f":"IF(A47=\"\",\"\",VLOOKUP(A47,'LISTE DES SITUATIONS'!A:B,2,FALSE))","v":""},{"$f":"IF($AA$2=\"pok\",\"\",IF(A47=\"\",\"\",IFERROR(IF(SEARCH($C$3,'LISTE DES SITUATIONS'!E44)>=1,1,\"\"),\"\")))","v":""},{"$f":"IF($AA$2=\"pok\",\"\",IF(A47=\"\",\"\",IFERROR(IF(SEARCH($D$3,'LISTE DES SITUATIONS'!E44)>=1,1,\"\"),\"\")))","v":""},{"$f":"IF($AA$2=\"pok\",\"\",IF(A47=\"\",\"\",IFERROR(IF(SEARCH($E$3,'LISTE DES SITUATIONS'!E44)>=1,1,\"\"),\"\")))","v":""},{"$f":"IF($AA$2=\"pok\",\"\",IF(A47=\"\",\"\",IFERROR(IF(SEARCH($F$3,'LISTE DES SITUATIONS'!E44)>=1,1,\"\"),\"\")))","v":""},{"$f":"IF($AA$2=\"pok\",\"\",IF(A47=\"\",\"\",IFERROR(IF(SEARCH($G$3,'LISTE DES SITUATIONS'!E44)>=1,1,\"\"),\"\")))","v":""},{"$f":"IF($AA$2=\"pok\",\"\",IF(A47=\"\",\"\",IFERROR(IF(SEARCH($H$3,'LISTE DES SITUATIONS'!E44)>=1,1,\"\"),\"\")))","v":""},{"$f":"IF($AA$2=\"pok\",\"\",IF(A47=\"\",\"\",IFERROR(IF(SEARCH($I$3,'LISTE DES SITUATIONS'!E44)>=1,1,\"\"),\"\")))","v":""},{"$f":"IF($AA$2=\"pok\",\"\",IF(A47=\"\",\"\",IFERROR(IF(SEARCH($J$3,'LISTE DES SITUATIONS'!E44)>=1,1,\"\"),\"\")))","v":""},{"$f":"IF($AA$2=\"pok\",\"\",IF(A47=\"\",\"\",IFERROR(IF(SEARCH($K$3,'LISTE DES SITUATIONS'!E44)>=1,1,\"\"),\"\")))","v":""},{"$f":"IF($AA$2=\"pok\",\"\",IF(A47=\"\",\"\",IFERROR(IF(SEARCH($L$3,'LISTE DES SITUATIONS'!E44)>=1,1,\"\"),\"\")))","v":""},{"$f":"IF($AA$2=\"pok\",\"\",IF(A47=\"\",\"\",IFERROR(IF(SEARCH($M$3,'LISTE DES SITUATIONS'!E44)>=1,1,\"\"),\"\")))","v":""},{"$f":"IF($AA$2=\"pok\",\"\",IF(A47=\"\",\"\",IFERROR(IF(SEARCH($N$3,'LISTE DES SITUATIONS'!E44)>=1,1,\"\"),\"\")))","v":""},{"$f":"IF($AA$2=\"pok\",\"\",IF(A47=\"\",\"\",IFERROR(IF(SEARCH($O$3,'LISTE DES SITUATIONS'!E44)>=1,1,\"\"),\"\")))","v":""},{"$f":"IF($AA$2=\"pok\",\"\",IF(A47=\"\",\"\",IFERROR(IF(SEARCH($P$3,'LISTE DES SITUATIONS'!E44)>=1,1,\"\"),\"\")))","v":""},{"$f":"IF($AA$2=\"pok\",\"\",IF(A47=\"\",\"\",IFERROR(IF(SEARCH($Q$3,'LISTE DES SITUATIONS'!E44)>=1,1,\"\"),\"\")))","v":""},{"$f":"IF($AA$2=\"pok\",\"\",IF(A47=\"\",\"\",IFERROR(IF(SEARCH($R$3,'LISTE DES SITUATIONS'!E44)>=1,1,\"\"),\"\")))","v":""},{"$f":"IF($AA$2=\"pok\",\"\",IF(A47=\"\",\"\",IFERROR(IF(SEARCH($S$3,'LISTE DES SITUATIONS'!E44)>=1,1,\"\"),\"\")))","v":""},{"$f":"IF($AA$2=\"pok\",\"\",IF(A47=\"\",\"\",IFERROR(IF(SEARCH($T$3,'LISTE DES SITUATIONS'!E44)>=1,1,\"\"),\"\")))","v":""},{"$f":"IF($AA$2=\"pok\",\"\",IF(A47=\"\",\"\",IFERROR(IF(SEARCH($U$3,'LISTE DES SITUATIONS'!E44)>=1,1,\"\"),\"\")))","v":""},{"$f":"IF($AA$2=\"pok\",\"\",IF(A47=\"\",\"\",IFERROR(IF(SEARCH($V$3,'LISTE DES SITUATIONS'!E44)>=1,1,\"\"),\"\")))","v":""},{"$f":"IF($AA$2=\"pok\",\"\",IF(A47=\"\",\"\",IFERROR(IF(SEARCH($W$3,'LISTE DES SITUATIONS'!E44)>=1,1,\"\"),\"\")))","v":""},{"$f":"IF($AA$2=\"pok\",\"\",IF(A47=\"\",\"\",IFERROR(IF(SEARCH($X$3,'LISTE DES SITUATIONS'!E44)>=1,1,\"\"),\"\")))","v":""},{"$f":"IF($AA$2=\"pok\",\"\",IF(A47=\"\",\"\",IFERROR(IF(SEARCH($Y$3,'LISTE DES SITUATIONS'!E44)>=1,1,\"\"),\"\")))","v":""},{"$f":"IF($AA$2=\"pok\",\"\",IF(A47=\"\",\"\",IFERROR(IF(SEARCH($Z$3,'LISTE DES SITUATIONS'!E44)>=1,1,\"\"),\"\")))","v":""},0]
[{"$f":"IF('LISTE DES SITUATIONS'!A45=\"\",\"\",'LISTE DES SITUATIONS'!A45)","v":""},{"$f":"IF(A48=\"\",\"\",VLOOKUP(A48,'LISTE DES SITUATIONS'!A:B,2,FALSE))","v":""},{"$f":"IF($AA$2=\"pok\",\"\",IF(A48=\"\",\"\",IFERROR(IF(SEARCH($C$3,'LISTE DES SITUATIONS'!E45)>=1,1,\"\"),\"\")))","v":""},{"$f":"IF($AA$2=\"pok\",\"\",IF(A48=\"\",\"\",IFERROR(IF(SEARCH($D$3,'LISTE DES SITUATIONS'!E45)>=1,1,\"\"),\"\")))","v":""},{"$f":"IF($AA$2=\"pok\",\"\",IF(A48=\"\",\"\",IFERROR(IF(SEARCH($E$3,'LISTE DES SITUATIONS'!E45)>=1,1,\"\"),\"\")))","v":""},{"$f":"IF($AA$2=\"pok\",\"\",IF(A48=\"\",\"\",IFERROR(IF(SEARCH($F$3,'LISTE DES SITUATIONS'!E45)>=1,1,\"\"),\"\")))","v":""},{"$f":"IF($AA$2=\"pok\",\"\",IF(A48=\"\",\"\",IFERROR(IF(SEARCH($G$3,'LISTE DES SITUATIONS'!E45)>=1,1,\"\"),\"\")))","v":""},{"$f":"IF($AA$2=\"pok\",\"\",IF(A48=\"\",\"\",IFERROR(IF(SEARCH($H$3,'LISTE DES SITUATIONS'!E45)>=1,1,\"\"),\"\")))","v":""},{"$f":"IF($AA$2=\"pok\",\"\",IF(A48=\"\",\"\",IFERROR(IF(SEARCH($I$3,'LISTE DES SITUATIONS'!E45)>=1,1,\"\"),\"\")))","v":""},{"$f":"IF($AA$2=\"pok\",\"\",IF(A48=\"\",\"\",IFERROR(IF(SEARCH($J$3,'LISTE DES SITUATIONS'!E45)>=1,1,\"\"),\"\")))","v":""},{"$f":"IF($AA$2=\"pok\",\"\",IF(A48=\"\",\"\",IFERROR(IF(SEARCH($K$3,'LISTE DES SITUATIONS'!E45)>=1,1,\"\"),\"\")))","v":""},{"$f":"IF($AA$2=\"pok\",\"\",IF(A48=\"\",\"\",IFERROR(IF(SEARCH($L$3,'LISTE DES SITUATIONS'!E45)>=1,1,\"\"),\"\")))","v":""},{"$f":"IF($AA$2=\"pok\",\"\",IF(A48=\"\",\"\",IFERROR(IF(SEARCH($M$3,'LISTE DES SITUATIONS'!E45)>=1,1,\"\"),\"\")))","v":""},{"$f":"IF($AA$2=\"pok\",\"\",IF(A48=\"\",\"\",IFERROR(IF(SEARCH($N$3,'LISTE DES SITUATIONS'!E45)>=1,1,\"\"),\"\")))","v":""},{"$f":"IF($AA$2=\"pok\",\"\",IF(A48=\"\",\"\",IFERROR(IF(SEARCH($O$3,'LISTE DES SITUATIONS'!E45)>=1,1,\"\"),\"\")))","v":""},{"$f":"IF($AA$2=\"pok\",\"\",IF(A48=\"\",\"\",IFERROR(IF(SEARCH($P$3,'LISTE DES SITUATIONS'!E45)>=1,1,\"\"),\"\")))","v":""},{"$f":"IF($AA$2=\"pok\",\"\",IF(A48=\"\",\"\",IFERROR(IF(SEARCH($Q$3,'LISTE DES SITUATIONS'!E45)>=1,1,\"\"),\"\")))","v":""},{"$f":"IF($AA$2=\"pok\",\"\",IF(A48=\"\",\"\",IFERROR(IF(SEARCH($R$3,'LISTE DES SITUATIONS'!E45)>=1,1,\"\"),\"\")))","v":""},{"$f":"IF($AA$2=\"pok\",\"\",IF(A48=\"\",\"\",IFERROR(IF(SEARCH($S$3,'LISTE DES SITUATIONS'!E45)>=1,1,\"\"),\"\")))","v":""},{"$f":"IF($AA$2=\"pok\",\"\",IF(A48=\"\",\"\",IFERROR(IF(SEARCH($T$3,'LISTE DES SITUATIONS'!E45)>=1,1,\"\"),\"\")))","v":""},{"$f":"IF($AA$2=\"pok\",\"\",IF(A48=\"\",\"\",IFERROR(IF(SEARCH($U$3,'LISTE DES SITUATIONS'!E45)>=1,1,\"\"),\"\")))","v":""},{"$f":"IF($AA$2=\"pok\",\"\",IF(A48=\"\",\"\",IFERROR(IF(SEARCH($V$3,'LISTE DES SITUATIONS'!E45)>=1,1,\"\"),\"\")))","v":""},{"$f":"IF($AA$2=\"pok\",\"\",IF(A48=\"\",\"\",IFERROR(IF(SEARCH($W$3,'LISTE DES SITUATIONS'!E45)>=1,1,\"\"),\"\")))","v":""},{"$f":"IF($AA$2=\"pok\",\"\",IF(A48=\"\",\"\",IFERROR(IF(SEARCH($X$3,'LISTE DES SITUATIONS'!E45)>=1,1,\"\"),\"\")))","v":""},{"$f":"IF($AA$2=\"pok\",\"\",IF(A48=\"\",\"\",IFERROR(IF(SEARCH($Y$3,'LISTE DES SITUATIONS'!E45)>=1,1,\"\"),\"\")))","v":""},{"$f":"IF($AA$2=\"pok\",\"\",IF(A48=\"\",\"\",IFERROR(IF(SEARCH($Z$3,'LISTE DES SITUATIONS'!E45)>=1,1,\"\"),\"\")))","v":""},0]
[{"$f":"IF('LISTE DES SITUATIONS'!A46=\"\",\"\",'LISTE DES SITUATIONS'!A46)","v":""},{"$f":"IF(A49=\"\",\"\",VLOOKUP(A49,'LISTE DES SITUATIONS'!A:B,2,FALSE))","v":""},{"$f":"IF($AA$2=\"pok\",\"\",IF(A49=\"\",\"\",IFERROR(IF(SEARCH($C$3,'LISTE DES SITUATIONS'!E46)>=1,1,\"\"),\"\")))","v":""},{"$f":"IF($AA$2=\"pok\",\"\",IF(A49=\"\",\"\",IFERROR(IF(SEARCH($D$3,'LISTE DES SITUATIONS'!E46)>=1,1,\"\"),\"\")))","v":""},{"$f":"IF($AA$2=\"pok\",\"\",IF(A49=\"\",\"\",IFERROR(IF(SEARCH($E$3,'LISTE DES SITUATIONS'!E46)>=1,1,\"\"),\"\")))","v":""},{"$f":"IF($AA$2=\"pok\",\"\",IF(A49=\"\",\"\",IFERROR(IF(SEARCH($F$3,'LISTE DES SITUATIONS'!E46)>=1,1,\"\"),\"\")))","v":""},{"$f":"IF($AA$2=\"pok\",\"\",IF(A49=\"\",\"\",IFERROR(IF(SEARCH($G$3,'LISTE DES SITUATIONS'!E46)>=1,1,\"\"),\"\")))","v":""},{"$f":"IF($AA$2=\"pok\",\"\",IF(A49=\"\",\"\",IFERROR(IF(SEARCH($H$3,'LISTE DES SITUATIONS'!E46)>=1,1,\"\"),\"\")))","v":""},{"$f":"IF($AA$2=\"pok\",\"\",IF(A49=\"\",\"\",IFERROR(IF(SEARCH($I$3,'LISTE DES SITUATIONS'!E46)>=1,1,\"\"),\"\")))","v":""},{"$f":"IF($AA$2=\"pok\",\"\",IF(A49=\"\",\"\",IFERROR(IF(SEARCH($J$3,'LISTE DES SITUATIONS'!E46)>=1,1,\"\"),\"\")))","v":""},{"$f":"IF($AA$2=\"pok\",\"\",IF(A49=\"\",\"\",IFERROR(IF(SEARCH($K$3,'LISTE DES SITUATIONS'!E46)>=1,1,\"\"),\"\")))","v":""},{"$f":"IF($AA$2=\"pok\",\"\",IF(A49=\"\",\"\",IFERROR(IF(SEARCH($L$3,'LISTE DES SITUATIONS'!E46)>=1,1,\"\"),\"\")))","v":""},{"$f":"IF($AA$2=\"pok\",\"\",IF(A49=\"\",\"\",IFERROR(IF(SEARCH($M$3,'LISTE DES SITUATIONS'!E46)>=1,1,\"\"),\"\")))","v":""},{"$f":"IF($AA$2=\"pok\",\"\",IF(A49=\"\",\"\",IFERROR(IF(SEARCH($N$3,'LISTE DES SITUATIONS'!E46)>=1,1,\"\"),\"\")))","v":""},{"$f":"IF($AA$2=\"pok\",\"\",IF(A49=\"\",\"\",IFERROR(IF(SEARCH($O$3,'LISTE DES SITUATIONS'!E46)>=1,1,\"\"),\"\")))","v":""},{"$f":"IF($AA$2=\"pok\",\"\",IF(A49=\"\",\"\",IFERROR(IF(SEARCH($P$3,'LISTE DES SITUATIONS'!E46)>=1,1,\"\"),\"\")))","v":""},{"$f":"IF($AA$2=\"pok\",\"\",IF(A49=\"\",\"\",IFERROR(IF(SEARCH($Q$3,'LISTE DES SITUATIONS'!E46)>=1,1,\"\"),\"\")))","v":""},{"$f":"IF($AA$2=\"pok\",\"\",IF(A49=\"\",\"\",IFERROR(IF(SEARCH($R$3,'LISTE DES SITUATIONS'!E46)>=1,1,\"\"),\"\")))","v":""},{"$f":"IF($AA$2=\"pok\",\"\",IF(A49=\"\",\"\",IFERROR(IF(SEARCH($S$3,'LISTE DES SITUATIONS'!E46)>=1,1,\"\"),\"\")))","v":""},{"$f":"IF($AA$2=\"pok\",\"\",IF(A49=\"\",\"\",IFERROR(IF(SEARCH($T$3,'LISTE DES SITUATIONS'!E46)>=1,1,\"\"),\"\")))","v":""},{"$f":"IF($AA$2=\"pok\",\"\",IF(A49=\"\",\"\",IFERROR(IF(SEARCH($U$3,'LISTE DES SITUATIONS'!E46)>=1,1,\"\"),\"\")))","v":""},{"$f":"IF($AA$2=\"pok\",\"\",IF(A49=\"\",\"\",IFERROR(IF(SEARCH($V$3,'LISTE DES SITUATIONS'!E46)>=1,1,\"\"),\"\")))","v":""},{"$f":"IF($AA$2=\"pok\",\"\",IF(A49=\"\",\"\",IFERROR(IF(SEARCH($W$3,'LISTE DES SITUATIONS'!E46)>=1,1,\"\"),\"\")))","v":""},{"$f":"IF($AA$2=\"pok\",\"\",IF(A49=\"\",\"\",IFERROR(IF(SEARCH($X$3,'LISTE DES SITUATIONS'!E46)>=1,1,\"\"),\"\")))","v":""},{"$f":"IF($AA$2=\"pok\",\"\",IF(A49=\"\",\"\",IFERROR(IF(SEARCH($Y$3,'LISTE DES SITUATIONS'!E46)>=1,1,\"\"),\"\")))","v":""},{"$f":"IF($AA$2=\"pok\",\"\",IF(A49=\"\",\"\",IFERROR(IF(SEARCH($Z$3,'LISTE DES SITUATIONS'!E46)>=1,1,\"\"),\"\")))","v":""},0]
[{"$f":"IF('LISTE DES SITUATIONS'!A47=\"\",\"\",'LISTE DES SITUATIONS'!A47)","v":""},{"$f":"IF(A50=\"\",\"\",VLOOKUP(A50,'LISTE DES SITUATIONS'!A:B,2,FALSE))","v":""},{"$f":"IF($AA$2=\"pok\",\"\",IF(A50=\"\",\"\",IFERROR(IF(SEARCH($C$3,'LISTE DES SITUATIONS'!E47)>=1,1,\"\"),\"\")))","v":""},{"$f":"IF($AA$2=\"pok\",\"\",IF(A50=\"\",\"\",IFERROR(IF(SEARCH($D$3,'LISTE DES SITUATIONS'!E47)>=1,1,\"\"),\"\")))","v":""},{"$f":"IF($AA$2=\"pok\",\"\",IF(A50=\"\",\"\",IFERROR(IF(SEARCH($E$3,'LISTE DES SITUATIONS'!E47)>=1,1,\"\"),\"\")))","v":""},{"$f":"IF($AA$2=\"pok\",\"\",IF(A50=\"\",\"\",IFERROR(IF(SEARCH($F$3,'LISTE DES SITUATIONS'!E47)>=1,1,\"\"),\"\")))","v":""},{"$f":"IF($AA$2=\"pok\",\"\",IF(A50=\"\",\"\",IFERROR(IF(SEARCH($G$3,'LISTE DES SITUATIONS'!E47)>=1,1,\"\"),\"\")))","v":""},{"$f":"IF($AA$2=\"pok\",\"\",IF(A50=\"\",\"\",IFERROR(IF(SEARCH($H$3,'LISTE DES SITUATIONS'!E47)>=1,1,\"\"),\"\")))","v":""},{"$f":"IF($AA$2=\"pok\",\"\",IF(A50=\"\",\"\",IFERROR(IF(SEARCH($I$3,'LISTE DES SITUATIONS'!E47)>=1,1,\"\"),\"\")))","v":""},{"$f":"IF($AA$2=\"pok\",\"\",IF(A50=\"\",\"\",IFERROR(IF(SEARCH($J$3,'LISTE DES SITUATIONS'!E47)>=1,1,\"\"),\"\")))","v":""},{"$f":"IF($AA$2=\"pok\",\"\",IF(A50=\"\",\"\",IFERROR(IF(SEARCH($K$3,'LISTE DES SITUATIONS'!E47)>=1,1,\"\"),\"\")))","v":""},{"$f":"IF($AA$2=\"pok\",\"\",IF(A50=\"\",\"\",IFERROR(IF(SEARCH($L$3,'LISTE DES SITUATIONS'!E47)>=1,1,\"\"),\"\")))","v":""},{"$f":"IF($AA$2=\"pok\",\"\",IF(A50=\"\",\"\",IFERROR(IF(SEARCH($M$3,'LISTE DES SITUATIONS'!E47)>=1,1,\"\"),\"\")))","v":""},{"$f":"IF($AA$2=\"pok\",\"\",IF(A50=\"\",\"\",IFERROR(IF(SEARCH($N$3,'LISTE DES SITUATIONS'!E47)>=1,1,\"\"),\"\")))","v":""},{"$f":"IF($AA$2=\"pok\",\"\",IF(A50=\"\",\"\",IFERROR(IF(SEARCH($O$3,'LISTE DES SITUATIONS'!E47)>=1,1,\"\"),\"\")))","v":""},{"$f":"IF($AA$2=\"pok\",\"\",IF(A50=\"\",\"\",IFERROR(IF(SEARCH($P$3,'LISTE DES SITUATIONS'!E47)>=1,1,\"\"),\"\")))","v":""},{"$f":"IF($AA$2=\"pok\",\"\",IF(A50=\"\",\"\",IFERROR(IF(SEARCH($Q$3,'LISTE DES SITUATIONS'!E47)>=1,1,\"\"),\"\")))","v":""},{"$f":"IF($AA$2=\"pok\",\"\",IF(A50=\"\",\"\",IFERROR(IF(SEARCH($R$3,'LISTE DES SITUATIONS'!E47)>=1,1,\"\"),\"\")))","v":""},{"$f":"IF($AA$2=\"pok\",\"\",IF(A50=\"\",\"\",IFERROR(IF(SEARCH($S$3,'LISTE DES SITUATIONS'!E47)>=1,1,\"\"),\"\")))","v":""},{"$f":"IF($AA$2=\"pok\",\"\",IF(A50=\"\",\"\",IFERROR(IF(SEARCH($T$3,'LISTE DES SITUATIONS'!E47)>=1,1,\"\"),\"\")))","v":""},{"$f":"IF($AA$2=\"pok\",\"\",IF(A50=\"\",\"\",IFERROR(IF(SEARCH($U$3,'LISTE DES SITUATIONS'!E47)>=1,1,\"\"),\"\")))","v":""},{"$f":"IF($AA$2=\"pok\",\"\",IF(A50=\"\",\"\",IFERROR(IF(SEARCH($V$3,'LISTE DES SITUATIONS'!E47)>=1,1,\"\"),\"\")))","v":""},{"$f":"IF($AA$2=\"pok\",\"\",IF(A50=\"\",\"\",IFERROR(IF(SEARCH($W$3,'LISTE DES SITUATIONS'!E47)>=1,1,\"\"),\"\")))","v":""},{"$f":"IF($AA$2=\"pok\",\"\",IF(A50=\"\",\"\",IFERROR(IF(SEARCH($X$3,'LISTE DES SITUATIONS'!E47)>=1,1,\"\"),\"\")))","v":""},{"$f":"IF($AA$2=\"pok\",\"\",IF(A50=\"\",\"\",IFERROR(IF(SEARCH($Y$3,'LISTE DES SITUATIONS'!E47)>=1,1,\"\"),\"\")))","v":""},{"$f":"IF($AA$2=\"pok\",\"\",IF(A50=\"\",\"\",IFERROR(IF(SEARCH($Z$3,'LISTE DES SITUATIONS'!E47)>=1,1,\"\"),\"\")))","v":""},0]
[{"$f":"IF('LISTE DES SITUATIONS'!A48=\"\",\"\",'LISTE DES SITUATIONS'!A48)","v":""},{"$f":"IF(A51=\"\",\"\",VLOOKUP(A51,'LISTE DES SITUATIONS'!A:B,2,FALSE))","v":""},{"$f":"IF($AA$2=\"pok\",\"\",IF(A51=\"\",\"\",IFERROR(IF(SEARCH($C$3,'LISTE DES SITUATIONS'!E48)>=1,1,\"\"),\"\")))","v":""},{"$f":"IF($AA$2=\"pok\",\"\",IF(A51=\"\",\"\",IFERROR(IF(SEARCH($D$3,'LISTE DES SITUATIONS'!E48)>=1,1,\"\"),\"\")))","v":""},{"$f":"IF($AA$2=\"pok\",\"\",IF(A51=\"\",\"\",IFERROR(IF(SEARCH($E$3,'LISTE DES SITUATIONS'!E48)>=1,1,\"\"),\"\")))","v":""},{"$f":"IF($AA$2=\"pok\",\"\",IF(A51=\"\",\"\",IFERROR(IF(SEARCH($F$3,'LISTE DES SITUATIONS'!E48)>=1,1,\"\"),\"\")))","v":""},{"$f":"IF($AA$2=\"pok\",\"\",IF(A51=\"\",\"\",IFERROR(IF(SEARCH($G$3,'LISTE DES SITUATIONS'!E48)>=1,1,\"\"),\"\")))","v":""},{"$f":"IF($AA$2=\"pok\",\"\",IF(A51=\"\",\"\",IFERROR(IF(SEARCH($H$3,'LISTE DES SITUATIONS'!E48)>=1,1,\"\"),\"\")))","v":""},{"$f":"IF($AA$2=\"pok\",\"\",IF(A51=\"\",\"\",IFERROR(IF(SEARCH($I$3,'LISTE DES SITUATIONS'!E48)>=1,1,\"\"),\"\")))","v":""},{"$f":"IF($AA$2=\"pok\",\"\",IF(A51=\"\",\"\",IFERROR(IF(SEARCH($J$3,'LISTE DES SITUATIONS'!E48)>=1,1,\"\"),\"\")))","v":""},{"$f":"IF($AA$2=\"pok\",\"\",IF(A51=\"\",\"\",IFERROR(IF(SEARCH($K$3,'LISTE DES SITUATIONS'!E48)>=1,1,\"\"),\"\")))","v":""},{"$f":"IF($AA$2=\"pok\",\"\",IF(A51=\"\",\"\",IFERROR(IF(SEARCH($L$3,'LISTE DES SITUATIONS'!E48)>=1,1,\"\"),\"\")))","v":""},{"$f":"IF($AA$2=\"pok\",\"\",IF(A51=\"\",\"\",IFERROR(IF(SEARCH($M$3,'LISTE DES SITUATIONS'!E48)>=1,1,\"\"),\"\")))","v":""},{"$f":"IF($AA$2=\"pok\",\"\",IF(A51=\"\",\"\",IFERROR(IF(SEARCH($N$3,'LISTE DES SITUATIONS'!E48)>=1,1,\"\"),\"\")))","v":""},{"$f":"IF($AA$2=\"pok\",\"\",IF(A51=\"\",\"\",IFERROR(IF(SEARCH($O$3,'LISTE DES SITUATIONS'!E48)>=1,1,\"\"),\"\")))","v":""},{"$f":"IF($AA$2=\"pok\",\"\",IF(A51=\"\",\"\",IFERROR(IF(SEARCH($P$3,'LISTE DES SITUATIONS'!E48)>=1,1,\"\"),\"\")))","v":""},{"$f":"IF($AA$2=\"pok\",\"\",IF(A51=\"\",\"\",IFERROR(IF(SEARCH($Q$3,'LISTE DES SITUATIONS'!E48)>=1,1,\"\"),\"\")))","v":""},{"$f":"IF($AA$2=\"pok\",\"\",IF(A51=\"\",\"\",IFERROR(IF(SEARCH($R$3,'LISTE DES SITUATIONS'!E48)>=1,1,\"\"),\"\")))","v":""},{"$f":"IF($AA$2=\"pok\",\"\",IF(A51=\"\",\"\",IFERROR(IF(SEARCH($S$3,'LISTE DES SITUATIONS'!E48)>=1,1,\"\"),\"\")))","v":""},{"$f":"IF($AA$2=\"pok\",\"\",IF(A51=\"\",\"\",IFERROR(IF(SEARCH($T$3,'LISTE DES SITUATIONS'!E48)>=1,1,\"\"),\"\")))","v":""},{"$f":"IF($AA$2=\"pok\",\"\",IF(A51=\"\",\"\",IFERROR(IF(SEARCH($U$3,'LISTE DES SITUATIONS'!E48)>=1,1,\"\"),\"\")))","v":""},{"$f":"IF($AA$2=\"pok\",\"\",IF(A51=\"\",\"\",IFERROR(IF(SEARCH($V$3,'LISTE DES SITUATIONS'!E48)>=1,1,\"\"),\"\")))","v":""},{"$f":"IF($AA$2=\"pok\",\"\",IF(A51=\"\",\"\",IFERROR(IF(SEARCH($W$3,'LISTE DES SITUATIONS'!E48)>=1,1,\"\"),\"\")))","v":""},{"$f":"IF($AA$2=\"pok\",\"\",IF(A51=\"\",\"\",IFERROR(IF(SEARCH($X$3,'LISTE DES SITUATIONS'!E48)>=1,1,\"\"),\"\")))","v":""},{"$f":"IF($AA$2=\"pok\",\"\",IF(A51=\"\",\"\",IFERROR(IF(SEARCH($Y$3,'LISTE DES SITUATIONS'!E48)>=1,1,\"\"),\"\")))","v":""},{"$f":"IF($AA$2=\"pok\",\"\",IF(A51=\"\",\"\",IFERROR(IF(SEARCH($Z$3,'LISTE DES SITUATIONS'!E48)>=1,1,\"\"),\"\")))","v":""},0]
[{"$f":"IF('LISTE DES SITUATIONS'!A49=\"\",\"\",'LISTE DES SITUATIONS'!A49)","v":""},{"$f":"IF(A52=\"\",\"\",VLOOKUP(A52,'LISTE DES SITUATIONS'!A:B,2,FALSE))","v":""},{"$f":"IF($AA$2=\"pok\",\"\",IF(A52=\"\",\"\",IFERROR(IF(SEARCH($C$3,'LISTE DES SITUATIONS'!E49)>=1,1,\"\"),\"\")))","v":""},{"$f":"IF($AA$2=\"pok\",\"\",IF(A52=\"\",\"\",IFERROR(IF(SEARCH($D$3,'LISTE DES SITUATIONS'!E49)>=1,1,\"\"),\"\")))","v":""},{"$f":"IF($AA$2=\"pok\",\"\",IF(A52=\"\",\"\",IFERROR(IF(SEARCH($E$3,'LISTE DES SITUATIONS'!E49)>=1,1,\"\"),\"\")))","v":""},{"$f":"IF($AA$2=\"pok\",\"\",IF(A52=\"\",\"\",IFERROR(IF(SEARCH($F$3,'LISTE DES SITUATIONS'!E49)>=1,1,\"\"),\"\")))","v":""},{"$f":"IF($AA$2=\"pok\",\"\",IF(A52=\"\",\"\",IFERROR(IF(SEARCH($G$3,'LISTE DES SITUATIONS'!E49)>=1,1,\"\"),\"\")))","v":""},{"$f":"IF($AA$2=\"pok\",\"\",IF(A52=\"\",\"\",IFERROR(IF(SEARCH($H$3,'LISTE DES SITUATIONS'!E49)>=1,1,\"\"),\"\")))","v":""},{"$f":"IF($AA$2=\"pok\",\"\",IF(A52=\"\",\"\",IFERROR(IF(SEARCH($I$3,'LISTE DES SITUATIONS'!E49)>=1,1,\"\"),\"\")))","v":""},{"$f":"IF($AA$2=\"pok\",\"\",IF(A52=\"\",\"\",IFERROR(IF(SEARCH($J$3,'LISTE DES SITUATIONS'!E49)>=1,1,\"\"),\"\")))","v":""},{"$f":"IF($AA$2=\"pok\",\"\",IF(A52=\"\",\"\",IFERROR(IF(SEARCH($K$3,'LISTE DES SITUATIONS'!E49)>=1,1,\"\"),\"\")))","v":""},{"$f":"IF($AA$2=\"pok\",\"\",IF(A52=\"\",\"\",IFERROR(IF(SEARCH($L$3,'LISTE DES SITUATIONS'!E49)>=1,1,\"\"),\"\")))","v":""},{"$f":"IF($AA$2=\"pok\",\"\",IF(A52=\"\",\"\",IFERROR(IF(SEARCH($M$3,'LISTE DES SITUATIONS'!E49)>=1,1,\"\"),\"\")))","v":""},{"$f":"IF($AA$2=\"pok\",\"\",IF(A52=\"\",\"\",IFERROR(IF(SEARCH($N$3,'LISTE DES SITUATIONS'!E49)>=1,1,\"\"),\"\")))","v":""},{"$f":"IF($AA$2=\"pok\",\"\",IF(A52=\"\",\"\",IFERROR(IF(SEARCH($O$3,'LISTE DES SITUATIONS'!E49)>=1,1,\"\"),\"\")))","v":""},{"$f":"IF($AA$2=\"pok\",\"\",IF(A52=\"\",\"\",IFERROR(IF(SEARCH($P$3,'LISTE DES SITUATIONS'!E49)>=1,1,\"\"),\"\")))","v":""},{"$f":"IF($AA$2=\"pok\",\"\",IF(A52=\"\",\"\",IFERROR(IF(SEARCH($Q$3,'LISTE DES SITUATIONS'!E49)>=1,1,\"\"),\"\")))","v":""},{"$f":"IF($AA$2=\"pok\",\"\",IF(A52=\"\",\"\",IFERROR(IF(SEARCH($R$3,'LISTE DES SITUATIONS'!E49)>=1,1,\"\"),\"\")))","v":""},{"$f":"IF($AA$2=\"pok\",\"\",IF(A52=\"\",\"\",IFERROR(IF(SEARCH($S$3,'LISTE DES SITUATIONS'!E49)>=1,1,\"\"),\"\")))","v":""},{"$f":"IF($AA$2=\"pok\",\"\",IF(A52=\"\",\"\",IFERROR(IF(SEARCH($T$3,'LISTE DES SITUATIONS'!E49)>=1,1,\"\"),\"\")))","v":""},{"$f":"IF($AA$2=\"pok\",\"\",IF(A52=\"\",\"\",IFERROR(IF(SEARCH($U$3,'LISTE DES SITUATIONS'!E49)>=1,1,\"\"),\"\")))","v":""},{"$f":"IF($AA$2=\"pok\",\"\",IF(A52=\"\",\"\",IFERROR(IF(SEARCH($V$3,'LISTE DES SITUATIONS'!E49)>=1,1,\"\"),\"\")))","v":""},{"$f":"IF($AA$2=\"pok\",\"\",IF(A52=\"\",\"\",IFERROR(IF(SEARCH($W$3,'LISTE DES SITUATIONS'!E49)>=1,1,\"\"),\"\")))","v":""},{"$f":"IF($AA$2=\"pok\",\"\",IF(A52=\"\",\"\",IFERROR(IF(SEARCH($X$3,'LISTE DES SITUATIONS'!E49)>=1,1,\"\"),\"\")))","v":""},{"$f":"IF($AA$2=\"pok\",\"\",IF(A52=\"\",\"\",IFERROR(IF(SEARCH($Y$3,'LISTE DES SITUATIONS'!E49)>=1,1,\"\"),\"\")))","v":""},{"$f":"IF($AA$2=\"pok\",\"\",IF(A52=\"\",\"\",IFERROR(IF(SEARCH($Z$3,'LISTE DES SITUATIONS'!E49)>=1,1,\"\"),\"\")))","v":""},{"$f":"SUM(C52:Z52)","v":0}]
[{"$f":"IF('LISTE DES SITUATIONS'!A50=\"\",\"\",'LISTE DES SITUATIONS'!A50)","v":""},{"$f":"IF(A53=\"\",\"\",VLOOKUP(A53,'LISTE DES SITUATIONS'!A:B,2,FALSE))","v":""},{"$f":"IF($AA$2=\"pok\",\"\",IF(A53=\"\",\"\",IFERROR(IF(SEARCH($C$3,'LISTE DES SITUATIONS'!E50)>=1,1,\"\"),\"\")))","v":""},{"$f":"IF($AA$2=\"pok\",\"\",IF(A53=\"\",\"\",IFERROR(IF(SEARCH($D$3,'LISTE DES SITUATIONS'!E50)>=1,1,\"\"),\"\")))","v":""},{"$f":"IF($AA$2=\"pok\",\"\",IF(A53=\"\",\"\",IFERROR(IF(SEARCH($E$3,'LISTE DES SITUATIONS'!E50)>=1,1,\"\"),\"\")))","v":""},{"$f":"IF($AA$2=\"pok\",\"\",IF(A53=\"\",\"\",IFERROR(IF(SEARCH($F$3,'LISTE DES SITUATIONS'!E50)>=1,1,\"\"),\"\")))","v":""},{"$f":"IF($AA$2=\"pok\",\"\",IF(A53=\"\",\"\",IFERROR(IF(SEARCH($G$3,'LISTE DES SITUATIONS'!E50)>=1,1,\"\"),\"\")))","v":""},{"$f":"IF($AA$2=\"pok\",\"\",IF(A53=\"\",\"\",IFERROR(IF(SEARCH($H$3,'LISTE DES SITUATIONS'!E50)>=1,1,\"\"),\"\")))","v":""},{"$f":"IF($AA$2=\"pok\",\"\",IF(A53=\"\",\"\",IFERROR(IF(SEARCH($I$3,'LISTE DES SITUATIONS'!E50)>=1,1,\"\"),\"\")))","v":""},{"$f":"IF($AA$2=\"pok\",\"\",IF(A53=\"\",\"\",IFERROR(IF(SEARCH($J$3,'LISTE DES SITUATIONS'!E50)>=1,1,\"\"),\"\")))","v":""},{"$f":"IF($AA$2=\"pok\",\"\",IF(A53=\"\",\"\",IFERROR(IF(SEARCH($K$3,'LISTE DES SITUATIONS'!E50)>=1,1,\"\"),\"\")))","v":""},{"$f":"IF($AA$2=\"pok\",\"\",IF(A53=\"\",\"\",IFERROR(IF(SEARCH($L$3,'LISTE DES SITUATIONS'!E50)>=1,1,\"\"),\"\")))","v":""},{"$f":"IF($AA$2=\"pok\",\"\",IF(A53=\"\",\"\",IFERROR(IF(SEARCH($M$3,'LISTE DES SITUATIONS'!E50)>=1,1,\"\"),\"\")))","v":""},{"$f":"IF($AA$2=\"pok\",\"\",IF(A53=\"\",\"\",IFERROR(IF(SEARCH($N$3,'LISTE DES SITUATIONS'!E50)>=1,1,\"\"),\"\")))","v":""},{"$f":"IF($AA$2=\"pok\",\"\",IF(A53=\"\",\"\",IFERROR(IF(SEARCH($O$3,'LISTE DES SITUATIONS'!E50)>=1,1,\"\"),\"\")))","v":""},{"$f":"IF($AA$2=\"pok\",\"\",IF(A53=\"\",\"\",IFERROR(IF(SEARCH($P$3,'LISTE DES SITUATIONS'!E50)>=1,1,\"\"),\"\")))","v":""},{"$f":"IF($AA$2=\"pok\",\"\",IF(A53=\"\",\"\",IFERROR(IF(SEARCH($Q$3,'LISTE DES SITUATIONS'!E50)>=1,1,\"\"),\"\")))","v":""},{"$f":"IF($AA$2=\"pok\",\"\",IF(A53=\"\",\"\",IFERROR(IF(SEARCH($R$3,'LISTE DES SITUATIONS'!E50)>=1,1,\"\"),\"\")))","v":""},{"$f":"IF($AA$2=\"pok\",\"\",IF(A53=\"\",\"\",IFERROR(IF(SEARCH($S$3,'LISTE DES SITUATIONS'!E50)>=1,1,\"\"),\"\")))","v":""},{"$f":"IF($AA$2=\"pok\",\"\",IF(A53=\"\",\"\",IFERROR(IF(SEARCH($T$3,'LISTE DES SITUATIONS'!E50)>=1,1,\"\"),\"\")))","v":""},{"$f":"IF($AA$2=\"pok\",\"\",IF(A53=\"\",\"\",IFERROR(IF(SEARCH($U$3,'LISTE DES SITUATIONS'!E50)>=1,1,\"\"),\"\")))","v":""},{"$f":"IF($AA$2=\"pok\",\"\",IF(A53=\"\",\"\",IFERROR(IF(SEARCH($V$3,'LISTE DES SITUATIONS'!E50)>=1,1,\"\"),\"\")))","v":""},{"$f":"IF($AA$2=\"pok\",\"\",IF(A53=\"\",\"\",IFERROR(IF(SEARCH($W$3,'LISTE DES SITUATIONS'!E50)>=1,1,\"\"),\"\")))","v":""},{"$f":"IF($AA$2=\"pok\",\"\",IF(A53=\"\",\"\",IFERROR(IF(SEARCH($X$3,'LISTE DES SITUATIONS'!E50)>=1,1,\"\"),\"\")))","v":""},{"$f":"IF($AA$2=\"pok\",\"\",IF(A53=\"\",\"\",IFERROR(IF(SEARCH($Y$3,'LISTE DES SITUATIONS'!E50)>=1,1,\"\"),\"\")))","v":""},{"$f":"IF($AA$2=\"pok\",\"\",IF(A53=\"\",\"\",IFERROR(IF(SEARCH($Z$3,'LISTE DES SITUATIONS'!E50)>=1,1,\"\"),\"\")))","v":""},0]
[{"$f":"IF('LISTE DES SITUATIONS'!A51=\"\",\"\",'LISTE DES SITUATIONS'!A51)","v":""},{"$f":"IF(A54=\"\",\"\",VLOOKUP(A54,'LISTE DES SITUATIONS'!A:B,2,FALSE))","v":""},{"$f":"IF($AA$2=\"pok\",\"\",IF(A54=\"\",\"\",IFERROR(IF(SEARCH($C$3,'LISTE DES SITUATIONS'!E51)>=1,1,\"\"),\"\")))","v":""},{"$f":"IF($AA$2=\"pok\",\"\",IF(A54=\"\",\"\",IFERROR(IF(SEARCH($D$3,'LISTE DES SITUATIONS'!E51)>=1,1,\"\"),\"\")))","v":""},{"$f":"IF($AA$2=\"pok\",\"\",IF(A54=\"\",\"\",IFERROR(IF(SEARCH($E$3,'LISTE DES SITUATIONS'!E51)>=1,1,\"\"),\"\")))","v":""},{"$f":"IF($AA$2=\"pok\",\"\",IF(A54=\"\",\"\",IFERROR(IF(SEARCH($F$3,'LISTE DES SITUATIONS'!E51)>=1,1,\"\"),\"\")))","v":""},{"$f":"IF($AA$2=\"pok\",\"\",IF(A54=\"\",\"\",IFERROR(IF(SEARCH($G$3,'LISTE DES SITUATIONS'!E51)>=1,1,\"\"),\"\")))","v":""},{"$f":"IF($AA$2=\"pok\",\"\",IF(A54=\"\",\"\",IFERROR(IF(SEARCH($H$3,'LISTE DES SITUATIONS'!E51)>=1,1,\"\"),\"\")))","v":""},{"$f":"IF($AA$2=\"pok\",\"\",IF(A54=\"\",\"\",IFERROR(IF(SEARCH($I$3,'LISTE DES SITUATIONS'!E51)>=1,1,\"\"),\"\")))","v":""},{"$f":"IF($AA$2=\"pok\",\"\",IF(A54=\"\",\"\",IFERROR(IF(SEARCH($J$3,'LISTE DES SITUATIONS'!E51)>=1,1,\"\"),\"\")))","v":""},{"$f":"IF($AA$2=\"pok\",\"\",IF(A54=\"\",\"\",IFERROR(IF(SEARCH($K$3,'LISTE DES SITUATIONS'!E51)>=1,1,\"\"),\"\")))","v":""},{"$f":"IF($AA$2=\"pok\",\"\",IF(A54=\"\",\"\",IFERROR(IF(SEARCH($L$3,'LISTE DES SITUATIONS'!E51)>=1,1,\"\"),\"\")))","v":""},{"$f":"IF($AA$2=\"pok\",\"\",IF(A54=\"\",\"\",IFERROR(IF(SEARCH($M$3,'LISTE DES SITUATIONS'!E51)>=1,1,\"\"),\"\")))","v":""},{"$f":"IF($AA$2=\"pok\",\"\",IF(A54=\"\",\"\",IFERROR(IF(SEARCH($N$3,'LISTE DES SITUATIONS'!E51)>=1,1,\"\"),\"\")))","v":""},{"$f":"IF($AA$2=\"pok\",\"\",IF(A54=\"\",\"\",IFERROR(IF(SEARCH($O$3,'LISTE DES SITUATIONS'!E51)>=1,1,\"\"),\"\")))","v":""},{"$f":"IF($AA$2=\"pok\",\"\",IF(A54=\"\",\"\",IFERROR(IF(SEARCH($P$3,'LISTE DES SITUATIONS'!E51)>=1,1,\"\"),\"\")))","v":""},{"$f":"IF($AA$2=\"pok\",\"\",IF(A54=\"\",\"\",IFERROR(IF(SEARCH($Q$3,'LISTE DES SITUATIONS'!E51)>=1,1,\"\"),\"\")))","v":""},{"$f":"IF($AA$2=\"pok\",\"\",IF(A54=\"\",\"\",IFERROR(IF(SEARCH($R$3,'LISTE DES SITUATIONS'!E51)>=1,1,\"\"),\"\")))","v":""},{"$f":"IF($AA$2=\"pok\",\"\",IF(A54=\"\",\"\",IFERROR(IF(SEARCH($S$3,'LISTE DES SITUATIONS'!E51)>=1,1,\"\"),\"\")))","v":""},{"$f":"IF($AA$2=\"pok\",\"\",IF(A54=\"\",\"\",IFERROR(IF(SEARCH($T$3,'LISTE DES SITUATIONS'!E51)>=1,1,\"\"),\"\")))","v":""},{"$f":"IF($AA$2=\"pok\",\"\",IF(A54=\"\",\"\",IFERROR(IF(SEARCH($U$3,'LISTE DES SITUATIONS'!E51)>=1,1,\"\"),\"\")))","v":""},{"$f":"IF($AA$2=\"pok\",\"\",IF(A54=\"\",\"\",IFERROR(IF(SEARCH($V$3,'LISTE DES SITUATIONS'!E51)>=1,1,\"\"),\"\")))","v":""},{"$f":"IF($AA$2=\"pok\",\"\",IF(A54=\"\",\"\",IFERROR(IF(SEARCH($W$3,'LISTE DES SITUATIONS'!E51)>=1,1,\"\"),\"\")))","v":""},{"$f":"IF($AA$2=\"pok\",\"\",IF(A54=\"\",\"\",IFERROR(IF(SEARCH($X$3,'LISTE DES SITUATIONS'!E51)>=1,1,\"\"),\"\")))","v":""},{"$f":"IF($AA$2=\"pok\",\"\",IF(A54=\"\",\"\",IFERROR(IF(SEARCH($Y$3,'LISTE DES SITUATIONS'!E51)>=1,1,\"\"),\"\")))","v":""},{"$f":"IF($AA$2=\"pok\",\"\",IF(A54=\"\",\"\",IFERROR(IF(SEARCH($Z$3,'LISTE DES SITUATIONS'!E51)>=1,1,\"\"),\"\")))","v":""},0]
[{"$f":"IF('LISTE DES SITUATIONS'!A52=\"\",\"\",'LISTE DES SITUATIONS'!A52)","v":""},{"$f":"IF(A55=\"\",\"\",VLOOKUP(A55,'LISTE DES SITUATIONS'!A:B,2,FALSE))","v":""},{"$f":"IF($AA$2=\"pok\",\"\",IF(A55=\"\",\"\",IFERROR(IF(SEARCH($C$3,'LISTE DES SITUATIONS'!E52)>=1,1,\"\"),\"\")))","v":""},{"$f":"IF($AA$2=\"pok\",\"\",IF(A55=\"\",\"\",IFERROR(IF(SEARCH($D$3,'LISTE DES SITUATIONS'!E52)>=1,1,\"\"),\"\")))","v":""},{"$f":"IF($AA$2=\"pok\",\"\",IF(A55=\"\",\"\",IFERROR(IF(SEARCH($E$3,'LISTE DES SITUATIONS'!E52)>=1,1,\"\"),\"\")))","v":""},{"$f":"IF($AA$2=\"pok\",\"\",IF(A55=\"\",\"\",IFERROR(IF(SEARCH($F$3,'LISTE DES SITUATIONS'!E52)>=1,1,\"\"),\"\")))","v":""},{"$f":"IF($AA$2=\"pok\",\"\",IF(A55=\"\",\"\",IFERROR(IF(SEARCH($G$3,'LISTE DES SITUATIONS'!E52)>=1,1,\"\"),\"\")))","v":""},{"$f":"IF($AA$2=\"pok\",\"\",IF(A55=\"\",\"\",IFERROR(IF(SEARCH($H$3,'LISTE DES SITUATIONS'!E52)>=1,1,\"\"),\"\")))","v":""},{"$f":"IF($AA$2=\"pok\",\"\",IF(A55=\"\",\"\",IFERROR(IF(SEARCH($I$3,'LISTE DES SITUATIONS'!E52)>=1,1,\"\"),\"\")))","v":""},{"$f":"IF($AA$2=\"pok\",\"\",IF(A55=\"\",\"\",IFERROR(IF(SEARCH($J$3,'LISTE DES SITUATIONS'!E52)>=1,1,\"\"),\"\")))","v":""},{"$f":"IF($AA$2=\"pok\",\"\",IF(A55=\"\",\"\",IFERROR(IF(SEARCH($K$3,'LISTE DES SITUATIONS'!E52)>=1,1,\"\"),\"\")))","v":""},{"$f":"IF($AA$2=\"pok\",\"\",IF(A55=\"\",\"\",IFERROR(IF(SEARCH($L$3,'LISTE DES SITUATIONS'!E52)>=1,1,\"\"),\"\")))","v":""},{"$f":"IF($AA$2=\"pok\",\"\",IF(A55=\"\",\"\",IFERROR(IF(SEARCH($M$3,'LISTE DES SITUATIONS'!E52)>=1,1,\"\"),\"\")))","v":""},{"$f":"IF($AA$2=\"pok\",\"\",IF(A55=\"\",\"\",IFERROR(IF(SEARCH($N$3,'LISTE DES SITUATIONS'!E52)>=1,1,\"\"),\"\")))","v":""},{"$f":"IF($AA$2=\"pok\",\"\",IF(A55=\"\",\"\",IFERROR(IF(SEARCH($O$3,'LISTE DES SITUATIONS'!E52)>=1,1,\"\"),\"\")))","v":""},{"$f":"IF($AA$2=\"pok\",\"\",IF(A55=\"\",\"\",IFERROR(IF(SEARCH($P$3,'LISTE DES SITUATIONS'!E52)>=1,1,\"\"),\"\")))","v":""},{"$f":"IF($AA$2=\"pok\",\"\",IF(A55=\"\",\"\",IFERROR(IF(SEARCH($Q$3,'LISTE DES SITUATIONS'!E52)>=1,1,\"\"),\"\")))","v":""},{"$f":"IF($AA$2=\"pok\",\"\",IF(A55=\"\",\"\",IFERROR(IF(SEARCH($R$3,'LISTE DES SITUATIONS'!E52)>=1,1,\"\"),\"\")))","v":""},{"$f":"IF($AA$2=\"pok\",\"\",IF(A55=\"\",\"\",IFERROR(IF(SEARCH($S$3,'LISTE DES SITUATIONS'!E52)>=1,1,\"\"),\"\")))","v":""},{"$f":"IF($AA$2=\"pok\",\"\",IF(A55=\"\",\"\",IFERROR(IF(SEARCH($T$3,'LISTE DES SITUATIONS'!E52)>=1,1,\"\"),\"\")))","v":""},{"$f":"IF($AA$2=\"pok\",\"\",IF(A55=\"\",\"\",IFERROR(IF(SEARCH($U$3,'LISTE DES SITUATIONS'!E52)>=1,1,\"\"),\"\")))","v":""},{"$f":"IF($AA$2=\"pok\",\"\",IF(A55=\"\",\"\",IFERROR(IF(SEARCH($V$3,'LISTE DES SITUATIONS'!E52)>=1,1,\"\"),\"\")))","v":""},{"$f":"IF($AA$2=\"pok\",\"\",IF(A55=\"\",\"\",IFERROR(IF(SEARCH($W$3,'LISTE DES SITUATIONS'!E52)>=1,1,\"\"),\"\")))","v":""},{"$f":"IF($AA$2=\"pok\",\"\",IF(A55=\"\",\"\",IFERROR(IF(SEARCH($X$3,'LISTE DES SITUATIONS'!E52)>=1,1,\"\"),\"\")))","v":""},{"$f":"IF($AA$2=\"pok\",\"\",IF(A55=\"\",\"\",IFERROR(IF(SEARCH($Y$3,'LISTE DES SITUATIONS'!E52)>=1,1,\"\"),\"\")))","v":""},{"$f":"IF($AA$2=\"pok\",\"\",IF(A55=\"\",\"\",IFERROR(IF(SEARCH($Z$3,'LISTE DES SITUATIONS'!E52)>=1,1,\"\"),\"\")))","v":""},0]
[{"$f":"IF('LISTE DES SITUATIONS'!A53=\"\",\"\",'LISTE DES SITUATIONS'!A53)","v":""},{"$f":"IF(A56=\"\",\"\",VLOOKUP(A56,'LISTE DES SITUATIONS'!A:B,2,FALSE))","v":""},{"$f":"IF($AA$2=\"pok\",\"\",IF(A56=\"\",\"\",IFERROR(IF(SEARCH($C$3,'LISTE DES SITUATIONS'!E53)>=1,1,\"\"),\"\")))","v":""},{"$f":"IF($AA$2=\"pok\",\"\",IF(A56=\"\",\"\",IFERROR(IF(SEARCH($D$3,'LISTE DES SITUATIONS'!E53)>=1,1,\"\"),\"\")))","v":""},{"$f":"IF($AA$2=\"pok\",\"\",IF(A56=\"\",\"\",IFERROR(IF(SEARCH($E$3,'LISTE DES SITUATIONS'!E53)>=1,1,\"\"),\"\")))","v":""},{"$f":"IF($AA$2=\"pok\",\"\",IF(A56=\"\",\"\",IFERROR(IF(SEARCH($F$3,'LISTE DES SITUATIONS'!E53)>=1,1,\"\"),\"\")))","v":""},{"$f":"IF($AA$2=\"pok\",\"\",IF(A56=\"\",\"\",IFERROR(IF(SEARCH($G$3,'LISTE DES SITUATIONS'!E53)>=1,1,\"\"),\"\")))","v":""},{"$f":"IF($AA$2=\"pok\",\"\",IF(A56=\"\",\"\",IFERROR(IF(SEARCH($H$3,'LISTE DES SITUATIONS'!E53)>=1,1,\"\"),\"\")))","v":""},{"$f":"IF($AA$2=\"pok\",\"\",IF(A56=\"\",\"\",IFERROR(IF(SEARCH($I$3,'LISTE DES SITUATIONS'!E53)>=1,1,\"\"),\"\")))","v":""},{"$f":"IF($AA$2=\"pok\",\"\",IF(A56=\"\",\"\",IFERROR(IF(SEARCH($J$3,'LISTE DES SITUATIONS'!E53)>=1,1,\"\"),\"\")))","v":""},{"$f":"IF($AA$2=\"pok\",\"\",IF(A56=\"\",\"\",IFERROR(IF(SEARCH($K$3,'LISTE DES SITUATIONS'!E53)>=1,1,\"\"),\"\")))","v":""},{"$f":"IF($AA$2=\"pok\",\"\",IF(A56=\"\",\"\",IFERROR(IF(SEARCH($L$3,'LISTE DES SITUATIONS'!E53)>=1,1,\"\"),\"\")))","v":""},{"$f":"IF($AA$2=\"pok\",\"\",IF(A56=\"\",\"\",IFERROR(IF(SEARCH($M$3,'LISTE DES SITUATIONS'!E53)>=1,1,\"\"),\"\")))","v":""},{"$f":"IF($AA$2=\"pok\",\"\",IF(A56=\"\",\"\",IFERROR(IF(SEARCH($N$3,'LISTE DES SITUATIONS'!E53)>=1,1,\"\"),\"\")))","v":""},{"$f":"IF($AA$2=\"pok\",\"\",IF(A56=\"\",\"\",IFERROR(IF(SEARCH($O$3,'LISTE DES SITUATIONS'!E53)>=1,1,\"\"),\"\")))","v":""},{"$f":"IF($AA$2=\"pok\",\"\",IF(A56=\"\",\"\",IFERROR(IF(SEARCH($P$3,'LISTE DES SITUATIONS'!E53)>=1,1,\"\"),\"\")))","v":""},{"$f":"IF($AA$2=\"pok\",\"\",IF(A56=\"\",\"\",IFERROR(IF(SEARCH($Q$3,'LISTE DES SITUATIONS'!E53)>=1,1,\"\"),\"\")))","v":""},{"$f":"IF($AA$2=\"pok\",\"\",IF(A56=\"\",\"\",IFERROR(IF(SEARCH($R$3,'LISTE DES SITUATIONS'!E53)>=1,1,\"\"),\"\")))","v":""},{"$f":"IF($AA$2=\"pok\",\"\",IF(A56=\"\",\"\",IFERROR(IF(SEARCH($S$3,'LISTE DES SITUATIONS'!E53)>=1,1,\"\"),\"\")))","v":""},{"$f":"IF($AA$2=\"pok\",\"\",IF(A56=\"\",\"\",IFERROR(IF(SEARCH($T$3,'LISTE DES SITUATIONS'!E53)>=1,1,\"\"),\"\")))","v":""},{"$f":"IF($AA$2=\"pok\",\"\",IF(A56=\"\",\"\",IFERROR(IF(SEARCH($U$3,'LISTE DES SITUATIONS'!E53)>=1,1,\"\"),\"\")))","v":""},{"$f":"IF($AA$2=\"pok\",\"\",IF(A56=\"\",\"\",IFERROR(IF(SEARCH($V$3,'LISTE DES SITUATIONS'!E53)>=1,1,\"\"),\"\")))","v":""},{"$f":"IF($AA$2=\"pok\",\"\",IF(A56=\"\",\"\",IFERROR(IF(SEARCH($W$3,'LISTE DES SITUATIONS'!E53)>=1,1,\"\"),\"\")))","v":""},{"$f":"IF($AA$2=\"pok\",\"\",IF(A56=\"\",\"\",IFERROR(IF(SEARCH($X$3,'LISTE DES SITUATIONS'!E53)>=1,1,\"\"),\"\")))","v":""},{"$f":"IF($AA$2=\"pok\",\"\",IF(A56=\"\",\"\",IFERROR(IF(SEARCH($Y$3,'LISTE DES SITUATIONS'!E53)>=1,1,\"\"),\"\")))","v":""},{"$f":"IF($AA$2=\"pok\",\"\",IF(A56=\"\",\"\",IFERROR(IF(SEARCH($Z$3,'LISTE DES SITUATIONS'!E53)>=1,1,\"\"),\"\")))","v":""},0]
[{"$f":"IF('LISTE DES SITUATIONS'!A54=\"\",\"\",'LISTE DES SITUATIONS'!A54)","v":""},{"$f":"IF(A57=\"\",\"\",VLOOKUP(A57,'LISTE DES SITUATIONS'!A:B,2,FALSE))","v":""},{"$f":"IF($AA$2=\"pok\",\"\",IF(A57=\"\",\"\",IFERROR(IF(SEARCH($C$3,'LISTE DES SITUATIONS'!E54)>=1,1,\"\"),\"\")))","v":""},{"$f":"IF($AA$2=\"pok\",\"\",IF(A57=\"\",\"\",IFERROR(IF(SEARCH($D$3,'LISTE DES SITUATIONS'!E54)>=1,1,\"\"),\"\")))","v":""},{"$f":"IF($AA$2=\"pok\",\"\",IF(A57=\"\",\"\",IFERROR(IF(SEARCH($E$3,'LISTE DES SITUATIONS'!E54)>=1,1,\"\"),\"\")))","v":""},{"$f":"IF($AA$2=\"pok\",\"\",IF(A57=\"\",\"\",IFERROR(IF(SEARCH($F$3,'LISTE DES SITUATIONS'!E54)>=1,1,\"\"),\"\")))","v":""},{"$f":"IF($AA$2=\"pok\",\"\",IF(A57=\"\",\"\",IFERROR(IF(SEARCH($G$3,'LISTE DES SITUATIONS'!E54)>=1,1,\"\"),\"\")))","v":""},{"$f":"IF($AA$2=\"pok\",\"\",IF(A57=\"\",\"\",IFERROR(IF(SEARCH($H$3,'LISTE DES SITUATIONS'!E54)>=1,1,\"\"),\"\")))","v":""},{"$f":"IF($AA$2=\"pok\",\"\",IF(A57=\"\",\"\",IFERROR(IF(SEARCH($I$3,'LISTE DES SITUATIONS'!E54)>=1,1,\"\"),\"\")))","v":""},{"$f":"IF($AA$2=\"pok\",\"\",IF(A57=\"\",\"\",IFERROR(IF(SEARCH($J$3,'LISTE DES SITUATIONS'!E54)>=1,1,\"\"),\"\")))","v":""},{"$f":"IF($AA$2=\"pok\",\"\",IF(A57=\"\",\"\",IFERROR(IF(SEARCH($K$3,'LISTE DES SITUATIONS'!E54)>=1,1,\"\"),\"\")))","v":""},{"$f":"IF($AA$2=\"pok\",\"\",IF(A57=\"\",\"\",IFERROR(IF(SEARCH($L$3,'LISTE DES SITUATIONS'!E54)>=1,1,\"\"),\"\")))","v":""},{"$f":"IF($AA$2=\"pok\",\"\",IF(A57=\"\",\"\",IFERROR(IF(SEARCH($M$3,'LISTE DES SITUATIONS'!E54)>=1,1,\"\"),\"\")))","v":""},{"$f":"IF($AA$2=\"pok\",\"\",IF(A57=\"\",\"\",IFERROR(IF(SEARCH($N$3,'LISTE DES SITUATIONS'!E54)>=1,1,\"\"),\"\")))","v":""},{"$f":"IF($AA$2=\"pok\",\"\",IF(A57=\"\",\"\",IFERROR(IF(SEARCH($O$3,'LISTE DES SITUATIONS'!E54)>=1,1,\"\"),\"\")))","v":""},{"$f":"IF($AA$2=\"pok\",\"\",IF(A57=\"\",\"\",IFERROR(IF(SEARCH($P$3,'LISTE DES SITUATIONS'!E54)>=1,1,\"\"),\"\")))","v":""},{"$f":"IF($AA$2=\"pok\",\"\",IF(A57=\"\",\"\",IFERROR(IF(SEARCH($Q$3,'LISTE DES SITUATIONS'!E54)>=1,1,\"\"),\"\")))","v":""},{"$f":"IF($AA$2=\"pok\",\"\",IF(A57=\"\",\"\",IFERROR(IF(SEARCH($R$3,'LISTE DES SITUATIONS'!E54)>=1,1,\"\"),\"\")))","v":""},{"$f":"IF($AA$2=\"pok\",\"\",IF(A57=\"\",\"\",IFERROR(IF(SEARCH($S$3,'LISTE DES SITUATIONS'!E54)>=1,1,\"\"),\"\")))","v":""},{"$f":"IF($AA$2=\"pok\",\"\",IF(A57=\"\",\"\",IFERROR(IF(SEARCH($T$3,'LISTE DES SITUATIONS'!E54)>=1,1,\"\"),\"\")))","v":""},{"$f":"IF($AA$2=\"pok\",\"\",IF(A57=\"\",\"\",IFERROR(IF(SEARCH($U$3,'LISTE DES SITUATIONS'!E54)>=1,1,\"\"),\"\")))","v":""},{"$f":"IF($AA$2=\"pok\",\"\",IF(A57=\"\",\"\",IFERROR(IF(SEARCH($V$3,'LISTE DES SITUATIONS'!E54)>=1,1,\"\"),\"\")))","v":""},{"$f":"IF($AA$2=\"pok\",\"\",IF(A57=\"\",\"\",IFERROR(IF(SEARCH($W$3,'LISTE DES SITUATIONS'!E54)>=1,1,\"\"),\"\")))","v":""},{"$f":"IF($AA$2=\"pok\",\"\",IF(A57=\"\",\"\",IFERROR(IF(SEARCH($X$3,'LISTE DES SITUATIONS'!E54)>=1,1,\"\"),\"\")))","v":""},{"$f":"IF($AA$2=\"pok\",\"\",IF(A57=\"\",\"\",IFERROR(IF(SEARCH($Y$3,'LISTE DES SITUATIONS'!E54)>=1,1,\"\"),\"\")))","v":""},{"$f":"IF($AA$2=\"pok\",\"\",IF(A57=\"\",\"\",IFERROR(IF(SEARCH($Z$3,'LISTE DES SITUATIONS'!E54)>=1,1,\"\"),\"\")))","v":""},0]
[{"$f":"IF('LISTE DES SITUATIONS'!A55=\"\",\"\",'LISTE DES SITUATIONS'!A55)","v":""},{"$f":"IF(A58=\"\",\"\",VLOOKUP(A58,'LISTE DES SITUATIONS'!A:B,2,FALSE))","v":""},{"$f":"IF($AA$2=\"pok\",\"\",IF(A58=\"\",\"\",IFERROR(IF(SEARCH($C$3,'LISTE DES SITUATIONS'!E55)>=1,1,\"\"),\"\")))","v":""},{"$f":"IF($AA$2=\"pok\",\"\",IF(A58=\"\",\"\",IFERROR(IF(SEARCH($D$3,'LISTE DES SITUATIONS'!E55)>=1,1,\"\"),\"\")))","v":""},{"$f":"IF($AA$2=\"pok\",\"\",IF(A58=\"\",\"\",IFERROR(IF(SEARCH($E$3,'LISTE DES SITUATIONS'!E55)>=1,1,\"\"),\"\")))","v":""},{"$f":"IF($AA$2=\"pok\",\"\",IF(A58=\"\",\"\",IFERROR(IF(SEARCH($F$3,'LISTE DES SITUATIONS'!E55)>=1,1,\"\"),\"\")))","v":""},{"$f":"IF($AA$2=\"pok\",\"\",IF(A58=\"\",\"\",IFERROR(IF(SEARCH($G$3,'LISTE DES SITUATIONS'!E55)>=1,1,\"\"),\"\")))","v":""},{"$f":"IF($AA$2=\"pok\",\"\",IF(A58=\"\",\"\",IFERROR(IF(SEARCH($H$3,'LISTE DES SITUATIONS'!E55)>=1,1,\"\"),\"\")))","v":""},{"$f":"IF($AA$2=\"pok\",\"\",IF(A58=\"\",\"\",IFERROR(IF(SEARCH($I$3,'LISTE DES SITUATIONS'!E55)>=1,1,\"\"),\"\")))","v":""},{"$f":"IF($AA$2=\"pok\",\"\",IF(A58=\"\",\"\",IFERROR(IF(SEARCH($J$3,'LISTE DES SITUATIONS'!E55)>=1,1,\"\"),\"\")))","v":""},{"$f":"IF($AA$2=\"pok\",\"\",IF(A58=\"\",\"\",IFERROR(IF(SEARCH($K$3,'LISTE DES SITUATIONS'!E55)>=1,1,\"\"),\"\")))","v":""},{"$f":"IF($AA$2=\"pok\",\"\",IF(A58=\"\",\"\",IFERROR(IF(SEARCH($L$3,'LISTE DES SITUATIONS'!E55)>=1,1,\"\"),\"\")))","v":""},{"$f":"IF($AA$2=\"pok\",\"\",IF(A58=\"\",\"\",IFERROR(IF(SEARCH($M$3,'LISTE DES SITUATIONS'!E55)>=1,1,\"\"),\"\")))","v":""},{"$f":"IF($AA$2=\"pok\",\"\",IF(A58=\"\",\"\",IFERROR(IF(SEARCH($N$3,'LISTE DES SITUATIONS'!E55)>=1,1,\"\"),\"\")))","v":""},{"$f":"IF($AA$2=\"pok\",\"\",IF(A58=\"\",\"\",IFERROR(IF(SEARCH($O$3,'LISTE DES SITUATIONS'!E55)>=1,1,\"\"),\"\")))","v":""},{"$f":"IF($AA$2=\"pok\",\"\",IF(A58=\"\",\"\",IFERROR(IF(SEARCH($P$3,'LISTE DES SITUATIONS'!E55)>=1,1,\"\"),\"\")))","v":""},{"$f":"IF($AA$2=\"pok\",\"\",IF(A58=\"\",\"\",IFERROR(IF(SEARCH($Q$3,'LISTE DES SITUATIONS'!E55)>=1,1,\"\"),\"\")))","v":""},{"$f":"IF($AA$2=\"pok\",\"\",IF(A58=\"\",\"\",IFERROR(IF(SEARCH($R$3,'LISTE DES SITUATIONS'!E55)>=1,1,\"\"),\"\")))","v":""},{"$f":"IF($AA$2=\"pok\",\"\",IF(A58=\"\",\"\",IFERROR(IF(SEARCH($S$3,'LISTE DES SITUATIONS'!E55)>=1,1,\"\"),\"\")))","v":""},{"$f":"IF($AA$2=\"pok\",\"\",IF(A58=\"\",\"\",IFERROR(IF(SEARCH($T$3,'LISTE DES SITUATIONS'!E55)>=1,1,\"\"),\"\")))","v":""},{"$f":"IF($AA$2=\"pok\",\"\",IF(A58=\"\",\"\",IFERROR(IF(SEARCH($U$3,'LISTE DES SITUATIONS'!E55)>=1,1,\"\"),\"\")))","v":""},{"$f":"IF($AA$2=\"pok\",\"\",IF(A58=\"\",\"\",IFERROR(IF(SEARCH($V$3,'LISTE DES SITUATIONS'!E55)>=1,1,\"\"),\"\")))","v":""},{"$f":"IF($AA$2=\"pok\",\"\",IF(A58=\"\",\"\",IFERROR(IF(SEARCH($W$3,'LISTE DES SITUATIONS'!E55)>=1,1,\"\"),\"\")))","v":""},{"$f":"IF($AA$2=\"pok\",\"\",IF(A58=\"\",\"\",IFERROR(IF(SEARCH($X$3,'LISTE DES SITUATIONS'!E55)>=1,1,\"\"),\"\")))","v":""},{"$f":"IF($AA$2=\"pok\",\"\",IF(A58=\"\",\"\",IFERROR(IF(SEARCH($Y$3,'LISTE DES SITUATIONS'!E55)>=1,1,\"\"),\"\")))","v":""},{"$f":"IF($AA$2=\"pok\",\"\",IF(A58=\"\",\"\",IFERROR(IF(SEARCH($Z$3,'LISTE DES SITUATIONS'!E55)>=1,1,\"\"),\"\")))","v":""},0]
[{"$f":"IF('LISTE DES SITUATIONS'!A56=\"\",\"\",'LISTE DES SITUATIONS'!A56)","v":""},{"$f":"IF(A59=\"\",\"\",VLOOKUP(A59,'LISTE DES SITUATIONS'!A:B,2,FALSE))","v":""},{"$f":"IF($AA$2=\"pok\",\"\",IF(A59=\"\",\"\",IFERROR(IF(SEARCH($C$3,'LISTE DES SITUATIONS'!E56)>=1,1,\"\"),\"\")))","v":""},{"$f":"IF($AA$2=\"pok\",\"\",IF(A59=\"\",\"\",IFERROR(IF(SEARCH($D$3,'LISTE DES SITUATIONS'!E56)>=1,1,\"\"),\"\")))","v":""},{"$f":"IF($AA$2=\"pok\",\"\",IF(A59=\"\",\"\",IFERROR(IF(SEARCH($E$3,'LISTE DES SITUATIONS'!E56)>=1,1,\"\"),\"\")))","v":""},{"$f":"IF($AA$2=\"pok\",\"\",IF(A59=\"\",\"\",IFERROR(IF(SEARCH($F$3,'LISTE DES SITUATIONS'!E56)>=1,1,\"\"),\"\")))","v":""},{"$f":"IF($AA$2=\"pok\",\"\",IF(A59=\"\",\"\",IFERROR(IF(SEARCH($G$3,'LISTE DES SITUATIONS'!E56)>=1,1,\"\"),\"\")))","v":""},{"$f":"IF($AA$2=\"pok\",\"\",IF(A59=\"\",\"\",IFERROR(IF(SEARCH($H$3,'LISTE DES SITUATIONS'!E56)>=1,1,\"\"),\"\")))","v":""},{"$f":"IF($AA$2=\"pok\",\"\",IF(A59=\"\",\"\",IFERROR(IF(SEARCH($I$3,'LISTE DES SITUATIONS'!E56)>=1,1,\"\"),\"\")))","v":""},{"$f":"IF($AA$2=\"pok\",\"\",IF(A59=\"\",\"\",IFERROR(IF(SEARCH($J$3,'LISTE DES SITUATIONS'!E56)>=1,1,\"\"),\"\")))","v":""},{"$f":"IF($AA$2=\"pok\",\"\",IF(A59=\"\",\"\",IFERROR(IF(SEARCH($K$3,'LISTE DES SITUATIONS'!E56)>=1,1,\"\"),\"\")))","v":""},{"$f":"IF($AA$2=\"pok\",\"\",IF(A59=\"\",\"\",IFERROR(IF(SEARCH($L$3,'LISTE DES SITUATIONS'!E56)>=1,1,\"\"),\"\")))","v":""},{"$f":"IF($AA$2=\"pok\",\"\",IF(A59=\"\",\"\",IFERROR(IF(SEARCH($M$3,'LISTE DES SITUATIONS'!E56)>=1,1,\"\"),\"\")))","v":""},{"$f":"IF($AA$2=\"pok\",\"\",IF(A59=\"\",\"\",IFERROR(IF(SEARCH($N$3,'LISTE DES SITUATIONS'!E56)>=1,1,\"\"),\"\")))","v":""},{"$f":"IF($AA$2=\"pok\",\"\",IF(A59=\"\",\"\",IFERROR(IF(SEARCH($O$3,'LISTE DES SITUATIONS'!E56)>=1,1,\"\"),\"\")))","v":""},{"$f":"IF($AA$2=\"pok\",\"\",IF(A59=\"\",\"\",IFERROR(IF(SEARCH($P$3,'LISTE DES SITUATIONS'!E56)>=1,1,\"\"),\"\")))","v":""},{"$f":"IF($AA$2=\"pok\",\"\",IF(A59=\"\",\"\",IFERROR(IF(SEARCH($Q$3,'LISTE DES SITUATIONS'!E56)>=1,1,\"\"),\"\")))","v":""},{"$f":"IF($AA$2=\"pok\",\"\",IF(A59=\"\",\"\",IFERROR(IF(SEARCH($R$3,'LISTE DES SITUATIONS'!E56)>=1,1,\"\"),\"\")))","v":""},{"$f":"IF($AA$2=\"pok\",\"\",IF(A59=\"\",\"\",IFERROR(IF(SEARCH($S$3,'LISTE DES SITUATIONS'!E56)>=1,1,\"\"),\"\")))","v":""},{"$f":"IF($AA$2=\"pok\",\"\",IF(A59=\"\",\"\",IFERROR(IF(SEARCH($T$3,'LISTE DES SITUATIONS'!E56)>=1,1,\"\"),\"\")))","v":""},{"$f":"IF($AA$2=\"pok\",\"\",IF(A59=\"\",\"\",IFERROR(IF(SEARCH($U$3,'LISTE DES SITUATIONS'!E56)>=1,1,\"\"),\"\")))","v":""},{"$f":"IF($AA$2=\"pok\",\"\",IF(A59=\"\",\"\",IFERROR(IF(SEARCH($V$3,'LISTE DES SITUATIONS'!E56)>=1,1,\"\"),\"\")))","v":""},{"$f":"IF($AA$2=\"pok\",\"\",IF(A59=\"\",\"\",IFERROR(IF(SEARCH($W$3,'LISTE DES SITUATIONS'!E56)>=1,1,\"\"),\"\")))","v":""},{"$f":"IF($AA$2=\"pok\",\"\",IF(A59=\"\",\"\",IFERROR(IF(SEARCH($X$3,'LISTE DES SITUATIONS'!E56)>=1,1,\"\"),\"\")))","v":""},{"$f":"IF($AA$2=\"pok\",\"\",IF(A59=\"\",\"\",IFERROR(IF(SEARCH($Y$3,'LISTE DES SITUATIONS'!E56)>=1,1,\"\"),\"\")))","v":""},{"$f":"IF($AA$2=\"pok\",\"\",IF(A59=\"\",\"\",IFERROR(IF(SEARCH($Z$3,'LISTE DES SITUATIONS'!E56)>=1,1,\"\"),\"\")))","v":""},0]
[{"$f":"IF('LISTE DES SITUATIONS'!A57=\"\",\"\",'LISTE DES SITUATIONS'!A57)","v":""},{"$f":"IF(A60=\"\",\"\",VLOOKUP(A60,'LISTE DES SITUATIONS'!A:B,2,FALSE))","v":""},{"$f":"IF($AA$2=\"pok\",\"\",IF(A60=\"\",\"\",IFERROR(IF(SEARCH($C$3,'LISTE DES SITUATIONS'!E57)>=1,1,\"\"),\"\")))","v":""},{"$f":"IF($AA$2=\"pok\",\"\",IF(A60=\"\",\"\",IFERROR(IF(SEARCH($D$3,'LISTE DES SITUATIONS'!E57)>=1,1,\"\"),\"\")))","v":""},{"$f":"IF($AA$2=\"pok\",\"\",IF(A60=\"\",\"\",IFERROR(IF(SEARCH($E$3,'LISTE DES SITUATIONS'!E57)>=1,1,\"\"),\"\")))","v":""},{"$f":"IF($AA$2=\"pok\",\"\",IF(A60=\"\",\"\",IFERROR(IF(SEARCH($F$3,'LISTE DES SITUATIONS'!E57)>=1,1,\"\"),\"\")))","v":""},{"$f":"IF($AA$2=\"pok\",\"\",IF(A60=\"\",\"\",IFERROR(IF(SEARCH($G$3,'LISTE DES SITUATIONS'!E57)>=1,1,\"\"),\"\")))","v":""},{"$f":"IF($AA$2=\"pok\",\"\",IF(A60=\"\",\"\",IFERROR(IF(SEARCH($H$3,'LISTE DES SITUATIONS'!E57)>=1,1,\"\"),\"\")))","v":""},{"$f":"IF($AA$2=\"pok\",\"\",IF(A60=\"\",\"\",IFERROR(IF(SEARCH($I$3,'LISTE DES SITUATIONS'!E57)>=1,1,\"\"),\"\")))","v":""},{"$f":"IF($AA$2=\"pok\",\"\",IF(A60=\"\",\"\",IFERROR(IF(SEARCH($J$3,'LISTE DES SITUATIONS'!E57)>=1,1,\"\"),\"\")))","v":""},{"$f":"IF($AA$2=\"pok\",\"\",IF(A60=\"\",\"\",IFERROR(IF(SEARCH($K$3,'LISTE DES SITUATIONS'!E57)>=1,1,\"\"),\"\")))","v":""},{"$f":"IF($AA$2=\"pok\",\"\",IF(A60=\"\",\"\",IFERROR(IF(SEARCH($L$3,'LISTE DES SITUATIONS'!E57)>=1,1,\"\"),\"\")))","v":""},{"$f":"IF($AA$2=\"pok\",\"\",IF(A60=\"\",\"\",IFERROR(IF(SEARCH($M$3,'LISTE DES SITUATIONS'!E57)>=1,1,\"\"),\"\")))","v":""},{"$f":"IF($AA$2=\"pok\",\"\",IF(A60=\"\",\"\",IFERROR(IF(SEARCH($N$3,'LISTE DES SITUATIONS'!E57)>=1,1,\"\"),\"\")))","v":""},{"$f":"IF($AA$2=\"pok\",\"\",IF(A60=\"\",\"\",IFERROR(IF(SEARCH($O$3,'LISTE DES SITUATIONS'!E57)>=1,1,\"\"),\"\")))","v":""},{"$f":"IF($AA$2=\"pok\",\"\",IF(A60=\"\",\"\",IFERROR(IF(SEARCH($P$3,'LISTE DES SITUATIONS'!E57)>=1,1,\"\"),\"\")))","v":""},{"$f":"IF($AA$2=\"pok\",\"\",IF(A60=\"\",\"\",IFERROR(IF(SEARCH($Q$3,'LISTE DES SITUATIONS'!E57)>=1,1,\"\"),\"\")))","v":""},{"$f":"IF($AA$2=\"pok\",\"\",IF(A60=\"\",\"\",IFERROR(IF(SEARCH($R$3,'LISTE DES SITUATIONS'!E57)>=1,1,\"\"),\"\")))","v":""},{"$f":"IF($AA$2=\"pok\",\"\",IF(A60=\"\",\"\",IFERROR(IF(SEARCH($S$3,'LISTE DES SITUATIONS'!E57)>=1,1,\"\"),\"\")))","v":""},{"$f":"IF($AA$2=\"pok\",\"\",IF(A60=\"\",\"\",IFERROR(IF(SEARCH($T$3,'LISTE DES SITUATIONS'!E57)>=1,1,\"\"),\"\")))","v":""},{"$f":"IF($AA$2=\"pok\",\"\",IF(A60=\"\",\"\",IFERROR(IF(SEARCH($U$3,'LISTE DES SITUATIONS'!E57)>=1,1,\"\"),\"\")))","v":""},{"$f":"IF($AA$2=\"pok\",\"\",IF(A60=\"\",\"\",IFERROR(IF(SEARCH($V$3,'LISTE DES SITUATIONS'!E57)>=1,1,\"\"),\"\")))","v":""},{"$f":"IF($AA$2=\"pok\",\"\",IF(A60=\"\",\"\",IFERROR(IF(SEARCH($W$3,'LISTE DES SITUATIONS'!E57)>=1,1,\"\"),\"\")))","v":""},{"$f":"IF($AA$2=\"pok\",\"\",IF(A60=\"\",\"\",IFERROR(IF(SEARCH($X$3,'LISTE DES SITUATIONS'!E57)>=1,1,\"\"),\"\")))","v":""},{"$f":"IF($AA$2=\"pok\",\"\",IF(A60=\"\",\"\",IFERROR(IF(SEARCH($Y$3,'LISTE DES SITUATIONS'!E57)>=1,1,\"\"),\"\")))","v":""},{"$f":"IF($AA$2=\"pok\",\"\",IF(A60=\"\",\"\",IFERROR(IF(SEARCH($Z$3,'LISTE DES SITUATIONS'!E57)>=1,1,\"\"),\"\")))","v":""},0]
[{"$f":"IF('LISTE DES SITUATIONS'!A58=\"\",\"\",'LISTE DES SITUATIONS'!A58)","v":""},{"$f":"IF(A61=\"\",\"\",VLOOKUP(A61,'LISTE DES SITUATIONS'!A:B,2,FALSE))","v":""},{"$f":"IF($AA$2=\"pok\",\"\",IF(A61=\"\",\"\",IFERROR(IF(SEARCH($C$3,'LISTE DES SITUATIONS'!E58)>=1,1,\"\"),\"\")))","v":""},{"$f":"IF($AA$2=\"pok\",\"\",IF(A61=\"\",\"\",IFERROR(IF(SEARCH($D$3,'LISTE DES SITUATIONS'!E58)>=1,1,\"\"),\"\")))","v":""},{"$f":"IF($AA$2=\"pok\",\"\",IF(A61=\"\",\"\",IFERROR(IF(SEARCH($E$3,'LISTE DES SITUATIONS'!E58)>=1,1,\"\"),\"\")))","v":""},{"$f":"IF($AA$2=\"pok\",\"\",IF(A61=\"\",\"\",IFERROR(IF(SEARCH($F$3,'LISTE DES SITUATIONS'!E58)>=1,1,\"\"),\"\")))","v":""},{"$f":"IF($AA$2=\"pok\",\"\",IF(A61=\"\",\"\",IFERROR(IF(SEARCH($G$3,'LISTE DES SITUATIONS'!E58)>=1,1,\"\"),\"\")))","v":""},{"$f":"IF($AA$2=\"pok\",\"\",IF(A61=\"\",\"\",IFERROR(IF(SEARCH($H$3,'LISTE DES SITUATIONS'!E58)>=1,1,\"\"),\"\")))","v":""},{"$f":"IF($AA$2=\"pok\",\"\",IF(A61=\"\",\"\",IFERROR(IF(SEARCH($I$3,'LISTE DES SITUATIONS'!E58)>=1,1,\"\"),\"\")))","v":""},{"$f":"IF($AA$2=\"pok\",\"\",IF(A61=\"\",\"\",IFERROR(IF(SEARCH($J$3,'LISTE DES SITUATIONS'!E58)>=1,1,\"\"),\"\")))","v":""},{"$f":"IF($AA$2=\"pok\",\"\",IF(A61=\"\",\"\",IFERROR(IF(SEARCH($K$3,'LISTE DES SITUATIONS'!E58)>=1,1,\"\"),\"\")))","v":""},{"$f":"IF($AA$2=\"pok\",\"\",IF(A61=\"\",\"\",IFERROR(IF(SEARCH($L$3,'LISTE DES SITUATIONS'!E58)>=1,1,\"\"),\"\")))","v":""},{"$f":"IF($AA$2=\"pok\",\"\",IF(A61=\"\",\"\",IFERROR(IF(SEARCH($M$3,'LISTE DES SITUATIONS'!E58)>=1,1,\"\"),\"\")))","v":""},{"$f":"IF($AA$2=\"pok\",\"\",IF(A61=\"\",\"\",IFERROR(IF(SEARCH($N$3,'LISTE DES SITUATIONS'!E58)>=1,1,\"\"),\"\")))","v":""},{"$f":"IF($AA$2=\"pok\",\"\",IF(A61=\"\",\"\",IFERROR(IF(SEARCH($O$3,'LISTE DES SITUATIONS'!E58)>=1,1,\"\"),\"\")))","v":""},{"$f":"IF($AA$2=\"pok\",\"\",IF(A61=\"\",\"\",IFERROR(IF(SEARCH($P$3,'LISTE DES SITUATIONS'!E58)>=1,1,\"\"),\"\")))","v":""},{"$f":"IF($AA$2=\"pok\",\"\",IF(A61=\"\",\"\",IFERROR(IF(SEARCH($Q$3,'LISTE DES SITUATIONS'!E58)>=1,1,\"\"),\"\")))","v":""},{"$f":"IF($AA$2=\"pok\",\"\",IF(A61=\"\",\"\",IFERROR(IF(SEARCH($R$3,'LISTE DES SITUATIONS'!E58)>=1,1,\"\"),\"\")))","v":""},{"$f":"IF($AA$2=\"pok\",\"\",IF(A61=\"\",\"\",IFERROR(IF(SEARCH($S$3,'LISTE DES SITUATIONS'!E58)>=1,1,\"\"),\"\")))","v":""},{"$f":"IF($AA$2=\"pok\",\"\",IF(A61=\"\",\"\",IFERROR(IF(SEARCH($T$3,'LISTE DES SITUATIONS'!E58)>=1,1,\"\"),\"\")))","v":""},{"$f":"IF($AA$2=\"pok\",\"\",IF(A61=\"\",\"\",IFERROR(IF(SEARCH($U$3,'LISTE DES SITUATIONS'!E58)>=1,1,\"\"),\"\")))","v":""},{"$f":"IF($AA$2=\"pok\",\"\",IF(A61=\"\",\"\",IFERROR(IF(SEARCH($V$3,'LISTE DES SITUATIONS'!E58)>=1,1,\"\"),\"\")))","v":""},{"$f":"IF($AA$2=\"pok\",\"\",IF(A61=\"\",\"\",IFERROR(IF(SEARCH($W$3,'LISTE DES SITUATIONS'!E58)>=1,1,\"\"),\"\")))","v":""},{"$f":"IF($AA$2=\"pok\",\"\",IF(A61=\"\",\"\",IFERROR(IF(SEARCH($X$3,'LISTE DES SITUATIONS'!E58)>=1,1,\"\"),\"\")))","v":""},{"$f":"IF($AA$2=\"pok\",\"\",IF(A61=\"\",\"\",IFERROR(IF(SEARCH($Y$3,'LISTE DES SITUATIONS'!E58)>=1,1,\"\"),\"\")))","v":""},{"$f":"IF($AA$2=\"pok\",\"\",IF(A61=\"\",\"\",IFERROR(IF(SEARCH($Z$3,'LISTE DES SITUATIONS'!E58)>=1,1,\"\"),\"\")))","v":""},0]
[{"$f":"IF('LISTE DES SITUATIONS'!A59=\"\",\"\",'LISTE DES SITUATIONS'!A59)","v":""},{"$f":"IF(A62=\"\",\"\",VLOOKUP(A62,'LISTE DES SITUATIONS'!A:B,2,FALSE))","v":""},{"$f":"IF($AA$2=\"pok\",\"\",IF(A62=\"\",\"\",IFERROR(IF(SEARCH($C$3,'LISTE DES SITUATIONS'!E59)>=1,1,\"\"),\"\")))","v":""},{"$f":"IF($AA$2=\"pok\",\"\",IF(A62=\"\",\"\",IFERROR(IF(SEARCH($D$3,'LISTE DES SITUATIONS'!E59)>=1,1,\"\"),\"\")))","v":""},{"$f":"IF($AA$2=\"pok\",\"\",IF(A62=\"\",\"\",IFERROR(IF(SEARCH($E$3,'LISTE DES SITUATIONS'!E59)>=1,1,\"\"),\"\")))","v":""},{"$f":"IF($AA$2=\"pok\",\"\",IF(A62=\"\",\"\",IFERROR(IF(SEARCH($F$3,'LISTE DES SITUATIONS'!E59)>=1,1,\"\"),\"\")))","v":""},{"$f":"IF($AA$2=\"pok\",\"\",IF(A62=\"\",\"\",IFERROR(IF(SEARCH($G$3,'LISTE DES SITUATIONS'!E59)>=1,1,\"\"),\"\")))","v":""},{"$f":"IF($AA$2=\"pok\",\"\",IF(A62=\"\",\"\",IFERROR(IF(SEARCH($H$3,'LISTE DES SITUATIONS'!E59)>=1,1,\"\"),\"\")))","v":""},{"$f":"IF($AA$2=\"pok\",\"\",IF(A62=\"\",\"\",IFERROR(IF(SEARCH($I$3,'LISTE DES SITUATIONS'!E59)>=1,1,\"\"),\"\")))","v":""},{"$f":"IF($AA$2=\"pok\",\"\",IF(A62=\"\",\"\",IFERROR(IF(SEARCH($J$3,'LISTE DES SITUATIONS'!E59)>=1,1,\"\"),\"\")))","v":""},{"$f":"IF($AA$2=\"pok\",\"\",IF(A62=\"\",\"\",IFERROR(IF(SEARCH($K$3,'LISTE DES SITUATIONS'!E59)>=1,1,\"\"),\"\")))","v":""},{"$f":"IF($AA$2=\"pok\",\"\",IF(A62=\"\",\"\",IFERROR(IF(SEARCH($L$3,'LISTE DES SITUATIONS'!E59)>=1,1,\"\"),\"\")))","v":""},{"$f":"IF($AA$2=\"pok\",\"\",IF(A62=\"\",\"\",IFERROR(IF(SEARCH($M$3,'LISTE DES SITUATIONS'!E59)>=1,1,\"\"),\"\")))","v":""},{"$f":"IF($AA$2=\"pok\",\"\",IF(A62=\"\",\"\",IFERROR(IF(SEARCH($N$3,'LISTE DES SITUATIONS'!E59)>=1,1,\"\"),\"\")))","v":""},{"$f":"IF($AA$2=\"pok\",\"\",IF(A62=\"\",\"\",IFERROR(IF(SEARCH($O$3,'LISTE DES SITUATIONS'!E59)>=1,1,\"\"),\"\")))","v":""},{"$f":"IF($AA$2=\"pok\",\"\",IF(A62=\"\",\"\",IFERROR(IF(SEARCH($P$3,'LISTE DES SITUATIONS'!E59)>=1,1,\"\"),\"\")))","v":""},{"$f":"IF($AA$2=\"pok\",\"\",IF(A62=\"\",\"\",IFERROR(IF(SEARCH($Q$3,'LISTE DES SITUATIONS'!E59)>=1,1,\"\"),\"\")))","v":""},{"$f":"IF($AA$2=\"pok\",\"\",IF(A62=\"\",\"\",IFERROR(IF(SEARCH($R$3,'LISTE DES SITUATIONS'!E59)>=1,1,\"\"),\"\")))","v":""},{"$f":"IF($AA$2=\"pok\",\"\",IF(A62=\"\",\"\",IFERROR(IF(SEARCH($S$3,'LISTE DES SITUATIONS'!E59)>=1,1,\"\"),\"\")))","v":""},{"$f":"IF($AA$2=\"pok\",\"\",IF(A62=\"\",\"\",IFERROR(IF(SEARCH($T$3,'LISTE DES SITUATIONS'!E59)>=1,1,\"\"),\"\")))","v":""},{"$f":"IF($AA$2=\"pok\",\"\",IF(A62=\"\",\"\",IFERROR(IF(SEARCH($U$3,'LISTE DES SITUATIONS'!E59)>=1,1,\"\"),\"\")))","v":""},{"$f":"IF($AA$2=\"pok\",\"\",IF(A62=\"\",\"\",IFERROR(IF(SEARCH($V$3,'LISTE DES SITUATIONS'!E59)>=1,1,\"\"),\"\")))","v":""},{"$f":"IF($AA$2=\"pok\",\"\",IF(A62=\"\",\"\",IFERROR(IF(SEARCH($W$3,'LISTE DES SITUATIONS'!E59)>=1,1,\"\"),\"\")))","v":""},{"$f":"IF($AA$2=\"pok\",\"\",IF(A62=\"\",\"\",IFERROR(IF(SEARCH($X$3,'LISTE DES SITUATIONS'!E59)>=1,1,\"\"),\"\")))","v":""},{"$f":"IF($AA$2=\"pok\",\"\",IF(A62=\"\",\"\",IFERROR(IF(SEARCH($Y$3,'LISTE DES SITUATIONS'!E59)>=1,1,\"\"),\"\")))","v":""},{"$f":"IF($AA$2=\"pok\",\"\",IF(A62=\"\",\"\",IFERROR(IF(SEARCH($Z$3,'LISTE DES SITUATIONS'!E59)>=1,1,\"\"),\"\")))","v":""},0]
[{"$f":"IF('LISTE DES SITUATIONS'!A60=\"\",\"\",'LISTE DES SITUATIONS'!A60)","v":""},{"$f":"IF(A63=\"\",\"\",VLOOKUP(A63,'LISTE DES SITUATIONS'!A:B,2,FALSE))","v":""},{"$f":"IF($AA$2=\"pok\",\"\",IF(A63=\"\",\"\",IFERROR(IF(SEARCH($C$3,'LISTE DES SITUATIONS'!E60)>=1,1,\"\"),\"\")))","v":""},{"$f":"IF($AA$2=\"pok\",\"\",IF(A63=\"\",\"\",IFERROR(IF(SEARCH($D$3,'LISTE DES SITUATIONS'!E60)>=1,1,\"\"),\"\")))","v":""},{"$f":"IF($AA$2=\"pok\",\"\",IF(A63=\"\",\"\",IFERROR(IF(SEARCH($E$3,'LISTE DES SITUATIONS'!E60)>=1,1,\"\"),\"\")))","v":""},{"$f":"IF($AA$2=\"pok\",\"\",IF(A63=\"\",\"\",IFERROR(IF(SEARCH($F$3,'LISTE DES SITUATIONS'!E60)>=1,1,\"\"),\"\")))","v":""},{"$f":"IF($AA$2=\"pok\",\"\",IF(A63=\"\",\"\",IFERROR(IF(SEARCH($G$3,'LISTE DES SITUATIONS'!E60)>=1,1,\"\"),\"\")))","v":""},{"$f":"IF($AA$2=\"pok\",\"\",IF(A63=\"\",\"\",IFERROR(IF(SEARCH($H$3,'LISTE DES SITUATIONS'!E60)>=1,1,\"\"),\"\")))","v":""},{"$f":"IF($AA$2=\"pok\",\"\",IF(A63=\"\",\"\",IFERROR(IF(SEARCH($I$3,'LISTE DES SITUATIONS'!E60)>=1,1,\"\"),\"\")))","v":""},{"$f":"IF($AA$2=\"pok\",\"\",IF(A63=\"\",\"\",IFERROR(IF(SEARCH($J$3,'LISTE DES SITUATIONS'!E60)>=1,1,\"\"),\"\")))","v":""},{"$f":"IF($AA$2=\"pok\",\"\",IF(A63=\"\",\"\",IFERROR(IF(SEARCH($K$3,'LISTE DES SITUATIONS'!E60)>=1,1,\"\"),\"\")))","v":""},{"$f":"IF($AA$2=\"pok\",\"\",IF(A63=\"\",\"\",IFERROR(IF(SEARCH($L$3,'LISTE DES SITUATIONS'!E60)>=1,1,\"\"),\"\")))","v":""},{"$f":"IF($AA$2=\"pok\",\"\",IF(A63=\"\",\"\",IFERROR(IF(SEARCH($M$3,'LISTE DES SITUATIONS'!E60)>=1,1,\"\"),\"\")))","v":""},{"$f":"IF($AA$2=\"pok\",\"\",IF(A63=\"\",\"\",IFERROR(IF(SEARCH($N$3,'LISTE DES SITUATIONS'!E60)>=1,1,\"\"),\"\")))","v":""},{"$f":"IF($AA$2=\"pok\",\"\",IF(A63=\"\",\"\",IFERROR(IF(SEARCH($O$3,'LISTE DES SITUATIONS'!E60)>=1,1,\"\"),\"\")))","v":""},{"$f":"IF($AA$2=\"pok\",\"\",IF(A63=\"\",\"\",IFERROR(IF(SEARCH($P$3,'LISTE DES SITUATIONS'!E60)>=1,1,\"\"),\"\")))","v":""},{"$f":"IF($AA$2=\"pok\",\"\",IF(A63=\"\",\"\",IFERROR(IF(SEARCH($Q$3,'LISTE DES SITUATIONS'!E60)>=1,1,\"\"),\"\")))","v":""},{"$f":"IF($AA$2=\"pok\",\"\",IF(A63=\"\",\"\",IFERROR(IF(SEARCH($R$3,'LISTE DES SITUATIONS'!E60)>=1,1,\"\"),\"\")))","v":""},{"$f":"IF($AA$2=\"pok\",\"\",IF(A63=\"\",\"\",IFERROR(IF(SEARCH($S$3,'LISTE DES SITUATIONS'!E60)>=1,1,\"\"),\"\")))","v":""},{"$f":"IF($AA$2=\"pok\",\"\",IF(A63=\"\",\"\",IFERROR(IF(SEARCH($T$3,'LISTE DES SITUATIONS'!E60)>=1,1,\"\"),\"\")))","v":""},{"$f":"IF($AA$2=\"pok\",\"\",IF(A63=\"\",\"\",IFERROR(IF(SEARCH($U$3,'LISTE DES SITUATIONS'!E60)>=1,1,\"\"),\"\")))","v":""},{"$f":"IF($AA$2=\"pok\",\"\",IF(A63=\"\",\"\",IFERROR(IF(SEARCH($V$3,'LISTE DES SITUATIONS'!E60)>=1,1,\"\"),\"\")))","v":""},{"$f":"IF($AA$2=\"pok\",\"\",IF(A63=\"\",\"\",IFERROR(IF(SEARCH($W$3,'LISTE DES SITUATIONS'!E60)>=1,1,\"\"),\"\")))","v":""},{"$f":"IF($AA$2=\"pok\",\"\",IF(A63=\"\",\"\",IFERROR(IF(SEARCH($X$3,'LISTE DES SITUATIONS'!E60)>=1,1,\"\"),\"\")))","v":""},{"$f":"IF($AA$2=\"pok\",\"\",IF(A63=\"\",\"\",IFERROR(IF(SEARCH($Y$3,'LISTE DES SITUATIONS'!E60)>=1,1,\"\"),\"\")))","v":""},{"$f":"IF($AA$2=\"pok\",\"\",IF(A63=\"\",\"\",IFERROR(IF(SEARCH($Z$3,'LISTE DES SITUATIONS'!E60)>=1,1,\"\"),\"\")))","v":""},0]
[{"$f":"IF('LISTE DES SITUATIONS'!A61=\"\",\"\",'LISTE DES SITUATIONS'!A61)","v":""},{"$f":"IF(A64=\"\",\"\",VLOOKUP(A64,'LISTE DES SITUATIONS'!A:B,2,FALSE))","v":""},{"$f":"IF($AA$2=\"pok\",\"\",IF(A64=\"\",\"\",IFERROR(IF(SEARCH($C$3,'LISTE DES SITUATIONS'!E61)>=1,1,\"\"),\"\")))","v":""},{"$f":"IF($AA$2=\"pok\",\"\",IF(A64=\"\",\"\",IFERROR(IF(SEARCH($D$3,'LISTE DES SITUATIONS'!E61)>=1,1,\"\"),\"\")))","v":""},{"$f":"IF($AA$2=\"pok\",\"\",IF(A64=\"\",\"\",IFERROR(IF(SEARCH($E$3,'LISTE DES SITUATIONS'!E61)>=1,1,\"\"),\"\")))","v":""},{"$f":"IF($AA$2=\"pok\",\"\",IF(A64=\"\",\"\",IFERROR(IF(SEARCH($F$3,'LISTE DES SITUATIONS'!E61)>=1,1,\"\"),\"\")))","v":""},{"$f":"IF($AA$2=\"pok\",\"\",IF(A64=\"\",\"\",IFERROR(IF(SEARCH($G$3,'LISTE DES SITUATIONS'!E61)>=1,1,\"\"),\"\")))","v":""},{"$f":"IF($AA$2=\"pok\",\"\",IF(A64=\"\",\"\",IFERROR(IF(SEARCH($H$3,'LISTE DES SITUATIONS'!E61)>=1,1,\"\"),\"\")))","v":""},{"$f":"IF($AA$2=\"pok\",\"\",IF(A64=\"\",\"\",IFERROR(IF(SEARCH($I$3,'LISTE DES SITUATIONS'!E61)>=1,1,\"\"),\"\")))","v":""},{"$f":"IF($AA$2=\"pok\",\"\",IF(A64=\"\",\"\",IFERROR(IF(SEARCH($J$3,'LISTE DES SITUATIONS'!E61)>=1,1,\"\"),\"\")))","v":""},{"$f":"IF($AA$2=\"pok\",\"\",IF(A64=\"\",\"\",IFERROR(IF(SEARCH($K$3,'LISTE DES SITUATIONS'!E61)>=1,1,\"\"),\"\")))","v":""},{"$f":"IF($AA$2=\"pok\",\"\",IF(A64=\"\",\"\",IFERROR(IF(SEARCH($L$3,'LISTE DES SITUATIONS'!E61)>=1,1,\"\"),\"\")))","v":""},{"$f":"IF($AA$2=\"pok\",\"\",IF(A64=\"\",\"\",IFERROR(IF(SEARCH($M$3,'LISTE DES SITUATIONS'!E61)>=1,1,\"\"),\"\")))","v":""},{"$f":"IF($AA$2=\"pok\",\"\",IF(A64=\"\",\"\",IFERROR(IF(SEARCH($N$3,'LISTE DES SITUATIONS'!E61)>=1,1,\"\"),\"\")))","v":""},{"$f":"IF($AA$2=\"pok\",\"\",IF(A64=\"\",\"\",IFERROR(IF(SEARCH($O$3,'LISTE DES SITUATIONS'!E61)>=1,1,\"\"),\"\")))","v":""},{"$f":"IF($AA$2=\"pok\",\"\",IF(A64=\"\",\"\",IFERROR(IF(SEARCH($P$3,'LISTE DES SITUATIONS'!E61)>=1,1,\"\"),\"\")))","v":""},{"$f":"IF($AA$2=\"pok\",\"\",IF(A64=\"\",\"\",IFERROR(IF(SEARCH($Q$3,'LISTE DES SITUATIONS'!E61)>=1,1,\"\"),\"\")))","v":""},{"$f":"IF($AA$2=\"pok\",\"\",IF(A64=\"\",\"\",IFERROR(IF(SEARCH($R$3,'LISTE DES SITUATIONS'!E61)>=1,1,\"\"),\"\")))","v":""},{"$f":"IF($AA$2=\"pok\",\"\",IF(A64=\"\",\"\",IFERROR(IF(SEARCH($S$3,'LISTE DES SITUATIONS'!E61)>=1,1,\"\"),\"\")))","v":""},{"$f":"IF($AA$2=\"pok\",\"\",IF(A64=\"\",\"\",IFERROR(IF(SEARCH($T$3,'LISTE DES SITUATIONS'!E61)>=1,1,\"\"),\"\")))","v":""},{"$f":"IF($AA$2=\"pok\",\"\",IF(A64=\"\",\"\",IFERROR(IF(SEARCH($U$3,'LISTE DES SITUATIONS'!E61)>=1,1,\"\"),\"\")))","v":""},{"$f":"IF($AA$2=\"pok\",\"\",IF(A64=\"\",\"\",IFERROR(IF(SEARCH($V$3,'LISTE DES SITUATIONS'!E61)>=1,1,\"\"),\"\")))","v":""},{"$f":"IF($AA$2=\"pok\",\"\",IF(A64=\"\",\"\",IFERROR(IF(SEARCH($W$3,'LISTE DES SITUATIONS'!E61)>=1,1,\"\"),\"\")))","v":""},{"$f":"IF($AA$2=\"pok\",\"\",IF(A64=\"\",\"\",IFERROR(IF(SEARCH($X$3,'LISTE DES SITUATIONS'!E61)>=1,1,\"\"),\"\")))","v":""},{"$f":"IF($AA$2=\"pok\",\"\",IF(A64=\"\",\"\",IFERROR(IF(SEARCH($Y$3,'LISTE DES SITUATIONS'!E61)>=1,1,\"\"),\"\")))","v":""},{"$f":"IF($AA$2=\"pok\",\"\",IF(A64=\"\",\"\",IFERROR(IF(SEARCH($Z$3,'LISTE DES SITUATIONS'!E61)>=1,1,\"\"),\"\")))","v":""},0]
[{"$f":"IF('LISTE DES SITUATIONS'!A62=\"\",\"\",'LISTE DES SITUATIONS'!A62)","v":""},{"$f":"IF(A65=\"\",\"\",VLOOKUP(A65,'LISTE DES SITUATIONS'!A:B,2,FALSE))","v":""},{"$f":"IF($AA$2=\"pok\",\"\",IF(A65=\"\",\"\",IFERROR(IF(SEARCH($C$3,'LISTE DES SITUATIONS'!E62)>=1,1,\"\"),\"\")))","v":""},{"$f":"IF($AA$2=\"pok\",\"\",IF(A65=\"\",\"\",IFERROR(IF(SEARCH($D$3,'LISTE DES SITUATIONS'!E62)>=1,1,\"\"),\"\")))","v":""},{"$f":"IF($AA$2=\"pok\",\"\",IF(A65=\"\",\"\",IFERROR(IF(SEARCH($E$3,'LISTE DES SITUATIONS'!E62)>=1,1,\"\"),\"\")))","v":""},{"$f":"IF($AA$2=\"pok\",\"\",IF(A65=\"\",\"\",IFERROR(IF(SEARCH($F$3,'LISTE DES SITUATIONS'!E62)>=1,1,\"\"),\"\")))","v":""},{"$f":"IF($AA$2=\"pok\",\"\",IF(A65=\"\",\"\",IFERROR(IF(SEARCH($G$3,'LISTE DES SITUATIONS'!E62)>=1,1,\"\"),\"\")))","v":""},{"$f":"IF($AA$2=\"pok\",\"\",IF(A65=\"\",\"\",IFERROR(IF(SEARCH($H$3,'LISTE DES SITUATIONS'!E62)>=1,1,\"\"),\"\")))","v":""},{"$f":"IF($AA$2=\"pok\",\"\",IF(A65=\"\",\"\",IFERROR(IF(SEARCH($I$3,'LISTE DES SITUATIONS'!E62)>=1,1,\"\"),\"\")))","v":""},{"$f":"IF($AA$2=\"pok\",\"\",IF(A65=\"\",\"\",IFERROR(IF(SEARCH($J$3,'LISTE DES SITUATIONS'!E62)>=1,1,\"\"),\"\")))","v":""},{"$f":"IF($AA$2=\"pok\",\"\",IF(A65=\"\",\"\",IFERROR(IF(SEARCH($K$3,'LISTE DES SITUATIONS'!E62)>=1,1,\"\"),\"\")))","v":""},{"$f":"IF($AA$2=\"pok\",\"\",IF(A65=\"\",\"\",IFERROR(IF(SEARCH($L$3,'LISTE DES SITUATIONS'!E62)>=1,1,\"\"),\"\")))","v":""},{"$f":"IF($AA$2=\"pok\",\"\",IF(A65=\"\",\"\",IFERROR(IF(SEARCH($M$3,'LISTE DES SITUATIONS'!E62)>=1,1,\"\"),\"\")))","v":""},{"$f":"IF($AA$2=\"pok\",\"\",IF(A65=\"\",\"\",IFERROR(IF(SEARCH($N$3,'LISTE DES SITUATIONS'!E62)>=1,1,\"\"),\"\")))","v":""},{"$f":"IF($AA$2=\"pok\",\"\",IF(A65=\"\",\"\",IFERROR(IF(SEARCH($O$3,'LISTE DES SITUATIONS'!E62)>=1,1,\"\"),\"\")))","v":""},{"$f":"IF($AA$2=\"pok\",\"\",IF(A65=\"\",\"\",IFERROR(IF(SEARCH($P$3,'LISTE DES SITUATIONS'!E62)>=1,1,\"\"),\"\")))","v":""},{"$f":"IF($AA$2=\"pok\",\"\",IF(A65=\"\",\"\",IFERROR(IF(SEARCH($Q$3,'LISTE DES SITUATIONS'!E62)>=1,1,\"\"),\"\")))","v":""},{"$f":"IF($AA$2=\"pok\",\"\",IF(A65=\"\",\"\",IFERROR(IF(SEARCH($R$3,'LISTE DES SITUATIONS'!E62)>=1,1,\"\"),\"\")))","v":""},{"$f":"IF($AA$2=\"pok\",\"\",IF(A65=\"\",\"\",IFERROR(IF(SEARCH($S$3,'LISTE DES SITUATIONS'!E62)>=1,1,\"\"),\"\")))","v":""},{"$f":"IF($AA$2=\"pok\",\"\",IF(A65=\"\",\"\",IFERROR(IF(SEARCH($T$3,'LISTE DES SITUATIONS'!E62)>=1,1,\"\"),\"\")))","v":""},{"$f":"IF($AA$2=\"pok\",\"\",IF(A65=\"\",\"\",IFERROR(IF(SEARCH($U$3,'LISTE DES SITUATIONS'!E62)>=1,1,\"\"),\"\")))","v":""},{"$f":"IF($AA$2=\"pok\",\"\",IF(A65=\"\",\"\",IFERROR(IF(SEARCH($V$3,'LISTE DES SITUATIONS'!E62)>=1,1,\"\"),\"\")))","v":""},{"$f":"IF($AA$2=\"pok\",\"\",IF(A65=\"\",\"\",IFERROR(IF(SEARCH($W$3,'LISTE DES SITUATIONS'!E62)>=1,1,\"\"),\"\")))","v":""},{"$f":"IF($AA$2=\"pok\",\"\",IF(A65=\"\",\"\",IFERROR(IF(SEARCH($X$3,'LISTE DES SITUATIONS'!E62)>=1,1,\"\"),\"\")))","v":""},{"$f":"IF($AA$2=\"pok\",\"\",IF(A65=\"\",\"\",IFERROR(IF(SEARCH($Y$3,'LISTE DES SITUATIONS'!E62)>=1,1,\"\"),\"\")))","v":""},{"$f":"IF($AA$2=\"pok\",\"\",IF(A65=\"\",\"\",IFERROR(IF(SEARCH($Z$3,'LISTE DES SITUATIONS'!E62)>=1,1,\"\"),\"\")))","v":""},0]
[{"$f":"IF('LISTE DES SITUATIONS'!A63=\"\",\"\",'LISTE DES SITUATIONS'!A63)","v":""},{"$f":"IF(A66=\"\",\"\",VLOOKUP(A66,'LISTE DES SITUATIONS'!A:B,2,FALSE))","v":""},{"$f":"IF($AA$2=\"pok\",\"\",IF(A66=\"\",\"\",IFERROR(IF(SEARCH($C$3,'LISTE DES SITUATIONS'!E63)>=1,1,\"\"),\"\")))","v":""},{"$f":"IF($AA$2=\"pok\",\"\",IF(A66=\"\",\"\",IFERROR(IF(SEARCH($D$3,'LISTE DES SITUATIONS'!E63)>=1,1,\"\"),\"\")))","v":""},{"$f":"IF($AA$2=\"pok\",\"\",IF(A66=\"\",\"\",IFERROR(IF(SEARCH($E$3,'LISTE DES SITUATIONS'!E63)>=1,1,\"\"),\"\")))","v":""},{"$f":"IF($AA$2=\"pok\",\"\",IF(A66=\"\",\"\",IFERROR(IF(SEARCH($F$3,'LISTE DES SITUATIONS'!E63)>=1,1,\"\"),\"\")))","v":""},{"$f":"IF($AA$2=\"pok\",\"\",IF(A66=\"\",\"\",IFERROR(IF(SEARCH($G$3,'LISTE DES SITUATIONS'!E63)>=1,1,\"\"),\"\")))","v":""},{"$f":"IF($AA$2=\"pok\",\"\",IF(A66=\"\",\"\",IFERROR(IF(SEARCH($H$3,'LISTE DES SITUATIONS'!E63)>=1,1,\"\"),\"\")))","v":""},{"$f":"IF($AA$2=\"pok\",\"\",IF(A66=\"\",\"\",IFERROR(IF(SEARCH($I$3,'LISTE DES SITUATIONS'!E63)>=1,1,\"\"),\"\")))","v":""},{"$f":"IF($AA$2=\"pok\",\"\",IF(A66=\"\",\"\",IFERROR(IF(SEARCH($J$3,'LISTE DES SITUATIONS'!E63)>=1,1,\"\"),\"\")))","v":""},{"$f":"IF($AA$2=\"pok\",\"\",IF(A66=\"\",\"\",IFERROR(IF(SEARCH($K$3,'LISTE DES SITUATIONS'!E63)>=1,1,\"\"),\"\")))","v":""},{"$f":"IF($AA$2=\"pok\",\"\",IF(A66=\"\",\"\",IFERROR(IF(SEARCH($L$3,'LISTE DES SITUATIONS'!E63)>=1,1,\"\"),\"\")))","v":""},{"$f":"IF($AA$2=\"pok\",\"\",IF(A66=\"\",\"\",IFERROR(IF(SEARCH($M$3,'LISTE DES SITUATIONS'!E63)>=1,1,\"\"),\"\")))","v":""},{"$f":"IF($AA$2=\"pok\",\"\",IF(A66=\"\",\"\",IFERROR(IF(SEARCH($N$3,'LISTE DES SITUATIONS'!E63)>=1,1,\"\"),\"\")))","v":""},{"$f":"IF($AA$2=\"pok\",\"\",IF(A66=\"\",\"\",IFERROR(IF(SEARCH($O$3,'LISTE DES SITUATIONS'!E63)>=1,1,\"\"),\"\")))","v":""},{"$f":"IF($AA$2=\"pok\",\"\",IF(A66=\"\",\"\",IFERROR(IF(SEARCH($P$3,'LISTE DES SITUATIONS'!E63)>=1,1,\"\"),\"\")))","v":""},{"$f":"IF($AA$2=\"pok\",\"\",IF(A66=\"\",\"\",IFERROR(IF(SEARCH($Q$3,'LISTE DES SITUATIONS'!E63)>=1,1,\"\"),\"\")))","v":""},{"$f":"IF($AA$2=\"pok\",\"\",IF(A66=\"\",\"\",IFERROR(IF(SEARCH($R$3,'LISTE DES SITUATIONS'!E63)>=1,1,\"\"),\"\")))","v":""},{"$f":"IF($AA$2=\"pok\",\"\",IF(A66=\"\",\"\",IFERROR(IF(SEARCH($S$3,'LISTE DES SITUATIONS'!E63)>=1,1,\"\"),\"\")))","v":""},{"$f":"IF($AA$2=\"pok\",\"\",IF(A66=\"\",\"\",IFERROR(IF(SEARCH($T$3,'LISTE DES SITUATIONS'!E63)>=1,1,\"\"),\"\")))","v":""},{"$f":"IF($AA$2=\"pok\",\"\",IF(A66=\"\",\"\",IFERROR(IF(SEARCH($U$3,'LISTE DES SITUATIONS'!E63)>=1,1,\"\"),\"\")))","v":""},{"$f":"IF($AA$2=\"pok\",\"\",IF(A66=\"\",\"\",IFERROR(IF(SEARCH($V$3,'LISTE DES SITUATIONS'!E63)>=1,1,\"\"),\"\")))","v":""},{"$f":"IF($AA$2=\"pok\",\"\",IF(A66=\"\",\"\",IFERROR(IF(SEARCH($W$3,'LISTE DES SITUATIONS'!E63)>=1,1,\"\"),\"\")))","v":""},{"$f":"IF($AA$2=\"pok\",\"\",IF(A66=\"\",\"\",IFERROR(IF(SEARCH($X$3,'LISTE DES SITUATIONS'!E63)>=1,1,\"\"),\"\")))","v":""},{"$f":"IF($AA$2=\"pok\",\"\",IF(A66=\"\",\"\",IFERROR(IF(SEARCH($Y$3,'LISTE DES SITUATIONS'!E63)>=1,1,\"\"),\"\")))","v":""},{"$f":"IF($AA$2=\"pok\",\"\",IF(A66=\"\",\"\",IFERROR(IF(SEARCH($Z$3,'LISTE DES SITUATIONS'!E63)>=1,1,\"\"),\"\")))","v":""},0]
[{"$f":"IF('LISTE DES SITUATIONS'!A64=\"\",\"\",'LISTE DES SITUATIONS'!A64)","v":""},{"$f":"IF(A67=\"\",\"\",VLOOKUP(A67,'LISTE DES SITUATIONS'!A:B,2,FALSE))","v":""},{"$f":"IF($AA$2=\"pok\",\"\",IF(A67=\"\",\"\",IFERROR(IF(SEARCH($C$3,'LISTE DES SITUATIONS'!E64)>=1,1,\"\"),\"\")))","v":""},{"$f":"IF($AA$2=\"pok\",\"\",IF(A67=\"\",\"\",IFERROR(IF(SEARCH($D$3,'LISTE DES SITUATIONS'!E64)>=1,1,\"\"),\"\")))","v":""},{"$f":"IF($AA$2=\"pok\",\"\",IF(A67=\"\",\"\",IFERROR(IF(SEARCH($E$3,'LISTE DES SITUATIONS'!E64)>=1,1,\"\"),\"\")))","v":""},{"$f":"IF($AA$2=\"pok\",\"\",IF(A67=\"\",\"\",IFERROR(IF(SEARCH($F$3,'LISTE DES SITUATIONS'!E64)>=1,1,\"\"),\"\")))","v":""},{"$f":"IF($AA$2=\"pok\",\"\",IF(A67=\"\",\"\",IFERROR(IF(SEARCH($G$3,'LISTE DES SITUATIONS'!E64)>=1,1,\"\"),\"\")))","v":""},{"$f":"IF($AA$2=\"pok\",\"\",IF(A67=\"\",\"\",IFERROR(IF(SEARCH($H$3,'LISTE DES SITUATIONS'!E64)>=1,1,\"\"),\"\")))","v":""},{"$f":"IF($AA$2=\"pok\",\"\",IF(A67=\"\",\"\",IFERROR(IF(SEARCH($I$3,'LISTE DES SITUATIONS'!E64)>=1,1,\"\"),\"\")))","v":""},{"$f":"IF($AA$2=\"pok\",\"\",IF(A67=\"\",\"\",IFERROR(IF(SEARCH($J$3,'LISTE DES SITUATIONS'!E64)>=1,1,\"\"),\"\")))","v":""},{"$f":"IF($AA$2=\"pok\",\"\",IF(A67=\"\",\"\",IFERROR(IF(SEARCH($K$3,'LISTE DES SITUATIONS'!E64)>=1,1,\"\"),\"\")))","v":""},{"$f":"IF($AA$2=\"pok\",\"\",IF(A67=\"\",\"\",IFERROR(IF(SEARCH($L$3,'LISTE DES SITUATIONS'!E64)>=1,1,\"\"),\"\")))","v":""},{"$f":"IF($AA$2=\"pok\",\"\",IF(A67=\"\",\"\",IFERROR(IF(SEARCH($M$3,'LISTE DES SITUATIONS'!E64)>=1,1,\"\"),\"\")))","v":""},{"$f":"IF($AA$2=\"pok\",\"\",IF(A67=\"\",\"\",IFERROR(IF(SEARCH($N$3,'LISTE DES SITUATIONS'!E64)>=1,1,\"\"),\"\")))","v":""},{"$f":"IF($AA$2=\"pok\",\"\",IF(A67=\"\",\"\",IFERROR(IF(SEARCH($O$3,'LISTE DES SITUATIONS'!E64)>=1,1,\"\"),\"\")))","v":""},{"$f":"IF($AA$2=\"pok\",\"\",IF(A67=\"\",\"\",IFERROR(IF(SEARCH($P$3,'LISTE DES SITUATIONS'!E64)>=1,1,\"\"),\"\")))","v":""},{"$f":"IF($AA$2=\"pok\",\"\",IF(A67=\"\",\"\",IFERROR(IF(SEARCH($Q$3,'LISTE DES SITUATIONS'!E64)>=1,1,\"\"),\"\")))","v":""},{"$f":"IF($AA$2=\"pok\",\"\",IF(A67=\"\",\"\",IFERROR(IF(SEARCH($R$3,'LISTE DES SITUATIONS'!E64)>=1,1,\"\"),\"\")))","v":""},{"$f":"IF($AA$2=\"pok\",\"\",IF(A67=\"\",\"\",IFERROR(IF(SEARCH($S$3,'LISTE DES SITUATIONS'!E64)>=1,1,\"\"),\"\")))","v":""},{"$f":"IF($AA$2=\"pok\",\"\",IF(A67=\"\",\"\",IFERROR(IF(SEARCH($T$3,'LISTE DES SITUATIONS'!E64)>=1,1,\"\"),\"\")))","v":""},{"$f":"IF($AA$2=\"pok\",\"\",IF(A67=\"\",\"\",IFERROR(IF(SEARCH($U$3,'LISTE DES SITUATIONS'!E64)>=1,1,\"\"),\"\")))","v":""},{"$f":"IF($AA$2=\"pok\",\"\",IF(A67=\"\",\"\",IFERROR(IF(SEARCH($V$3,'LISTE DES SITUATIONS'!E64)>=1,1,\"\"),\"\")))","v":""},{"$f":"IF($AA$2=\"pok\",\"\",IF(A67=\"\",\"\",IFERROR(IF(SEARCH($W$3,'LISTE DES SITUATIONS'!E64)>=1,1,\"\"),\"\")))","v":""},{"$f":"IF($AA$2=\"pok\",\"\",IF(A67=\"\",\"\",IFERROR(IF(SEARCH($X$3,'LISTE DES SITUATIONS'!E64)>=1,1,\"\"),\"\")))","v":""},{"$f":"IF($AA$2=\"pok\",\"\",IF(A67=\"\",\"\",IFERROR(IF(SEARCH($Y$3,'LISTE DES SITUATIONS'!E64)>=1,1,\"\"),\"\")))","v":""},{"$f":"IF($AA$2=\"pok\",\"\",IF(A67=\"\",\"\",IFERROR(IF(SEARCH($Z$3,'LISTE DES SITUATIONS'!E64)>=1,1,\"\"),\"\")))","v":""},0]
[{"$f":"IF('LISTE DES SITUATIONS'!A65=\"\",\"\",'LISTE DES SITUATIONS'!A65)","v":""},{"$f":"IF(A68=\"\",\"\",VLOOKUP(A68,'LISTE DES SITUATIONS'!A:B,2,FALSE))","v":""},{"$f":"IF($AA$2=\"pok\",\"\",IF(A68=\"\",\"\",IFERROR(IF(SEARCH($C$3,'LISTE DES SITUATIONS'!E65)>=1,1,\"\"),\"\")))","v":""},{"$f":"IF($AA$2=\"pok\",\"\",IF(A68=\"\",\"\",IFERROR(IF(SEARCH($D$3,'LISTE DES SITUATIONS'!E65)>=1,1,\"\"),\"\")))","v":""},{"$f":"IF($AA$2=\"pok\",\"\",IF(A68=\"\",\"\",IFERROR(IF(SEARCH($E$3,'LISTE DES SITUATIONS'!E65)>=1,1,\"\"),\"\")))","v":""},{"$f":"IF($AA$2=\"pok\",\"\",IF(A68=\"\",\"\",IFERROR(IF(SEARCH($F$3,'LISTE DES SITUATIONS'!E65)>=1,1,\"\"),\"\")))","v":""},{"$f":"IF($AA$2=\"pok\",\"\",IF(A68=\"\",\"\",IFERROR(IF(SEARCH($G$3,'LISTE DES SITUATIONS'!E65)>=1,1,\"\"),\"\")))","v":""},{"$f":"IF($AA$2=\"pok\",\"\",IF(A68=\"\",\"\",IFERROR(IF(SEARCH($H$3,'LISTE DES SITUATIONS'!E65)>=1,1,\"\"),\"\")))","v":""},{"$f":"IF($AA$2=\"pok\",\"\",IF(A68=\"\",\"\",IFERROR(IF(SEARCH($I$3,'LISTE DES SITUATIONS'!E65)>=1,1,\"\"),\"\")))","v":""},{"$f":"IF($AA$2=\"pok\",\"\",IF(A68=\"\",\"\",IFERROR(IF(SEARCH($J$3,'LISTE DES SITUATIONS'!E65)>=1,1,\"\"),\"\")))","v":""},{"$f":"IF($AA$2=\"pok\",\"\",IF(A68=\"\",\"\",IFERROR(IF(SEARCH($K$3,'LISTE DES SITUATIONS'!E65)>=1,1,\"\"),\"\")))","v":""},{"$f":"IF($AA$2=\"pok\",\"\",IF(A68=\"\",\"\",IFERROR(IF(SEARCH($L$3,'LISTE DES SITUATIONS'!E65)>=1,1,\"\"),\"\")))","v":""},{"$f":"IF($AA$2=\"pok\",\"\",IF(A68=\"\",\"\",IFERROR(IF(SEARCH($M$3,'LISTE DES SITUATIONS'!E65)>=1,1,\"\"),\"\")))","v":""},{"$f":"IF($AA$2=\"pok\",\"\",IF(A68=\"\",\"\",IFERROR(IF(SEARCH($N$3,'LISTE DES SITUATIONS'!E65)>=1,1,\"\"),\"\")))","v":""},{"$f":"IF($AA$2=\"pok\",\"\",IF(A68=\"\",\"\",IFERROR(IF(SEARCH($O$3,'LISTE DES SITUATIONS'!E65)>=1,1,\"\"),\"\")))","v":""},{"$f":"IF($AA$2=\"pok\",\"\",IF(A68=\"\",\"\",IFERROR(IF(SEARCH($P$3,'LISTE DES SITUATIONS'!E65)>=1,1,\"\"),\"\")))","v":""},{"$f":"IF($AA$2=\"pok\",\"\",IF(A68=\"\",\"\",IFERROR(IF(SEARCH($Q$3,'LISTE DES SITUATIONS'!E65)>=1,1,\"\"),\"\")))","v":""},{"$f":"IF($AA$2=\"pok\",\"\",IF(A68=\"\",\"\",IFERROR(IF(SEARCH($R$3,'LISTE DES SITUATIONS'!E65)>=1,1,\"\"),\"\")))","v":""},{"$f":"IF($AA$2=\"pok\",\"\",IF(A68=\"\",\"\",IFERROR(IF(SEARCH($S$3,'LISTE DES SITUATIONS'!E65)>=1,1,\"\"),\"\")))","v":""},{"$f":"IF($AA$2=\"pok\",\"\",IF(A68=\"\",\"\",IFERROR(IF(SEARCH($T$3,'LISTE DES SITUATIONS'!E65)>=1,1,\"\"),\"\")))","v":""},{"$f":"IF($AA$2=\"pok\",\"\",IF(A68=\"\",\"\",IFERROR(IF(SEARCH($U$3,'LISTE DES SITUATIONS'!E65)>=1,1,\"\"),\"\")))","v":""},{"$f":"IF($AA$2=\"pok\",\"\",IF(A68=\"\",\"\",IFERROR(IF(SEARCH($V$3,'LISTE DES SITUATIONS'!E65)>=1,1,\"\"),\"\")))","v":""},{"$f":"IF($AA$2=\"pok\",\"\",IF(A68=\"\",\"\",IFERROR(IF(SEARCH($W$3,'LISTE DES SITUATIONS'!E65)>=1,1,\"\"),\"\")))","v":""},{"$f":"IF($AA$2=\"pok\",\"\",IF(A68=\"\",\"\",IFERROR(IF(SEARCH($X$3,'LISTE DES SITUATIONS'!E65)>=1,1,\"\"),\"\")))","v":""},{"$f":"IF($AA$2=\"pok\",\"\",IF(A68=\"\",\"\",IFERROR(IF(SEARCH($Y$3,'LISTE DES SITUATIONS'!E65)>=1,1,\"\"),\"\")))","v":""},{"$f":"IF($AA$2=\"pok\",\"\",IF(A68=\"\",\"\",IFERROR(IF(SEARCH($Z$3,'LISTE DES SITUATIONS'!E65)>=1,1,\"\"),\"\")))","v":""},0]
[{"$f":"IF('LISTE DES SITUATIONS'!A66=\"\",\"\",'LISTE DES SITUATIONS'!A66)","v":""},{"$f":"IF(A69=\"\",\"\",VLOOKUP(A69,'LISTE DES SITUATIONS'!A:B,2,FALSE))","v":""},{"$f":"IF($AA$2=\"pok\",\"\",IF(A69=\"\",\"\",IFERROR(IF(SEARCH($C$3,'LISTE DES SITUATIONS'!E66)>=1,1,\"\"),\"\")))","v":""},{"$f":"IF($AA$2=\"pok\",\"\",IF(A69=\"\",\"\",IFERROR(IF(SEARCH($D$3,'LISTE DES SITUATIONS'!E66)>=1,1,\"\"),\"\")))","v":""},{"$f":"IF($AA$2=\"pok\",\"\",IF(A69=\"\",\"\",IFERROR(IF(SEARCH($E$3,'LISTE DES SITUATIONS'!E66)>=1,1,\"\"),\"\")))","v":""},{"$f":"IF($AA$2=\"pok\",\"\",IF(A69=\"\",\"\",IFERROR(IF(SEARCH($F$3,'LISTE DES SITUATIONS'!E66)>=1,1,\"\"),\"\")))","v":""},{"$f":"IF($AA$2=\"pok\",\"\",IF(A69=\"\",\"\",IFERROR(IF(SEARCH($G$3,'LISTE DES SITUATIONS'!E66)>=1,1,\"\"),\"\")))","v":""},{"$f":"IF($AA$2=\"pok\",\"\",IF(A69=\"\",\"\",IFERROR(IF(SEARCH($H$3,'LISTE DES SITUATIONS'!E66)>=1,1,\"\"),\"\")))","v":""},{"$f":"IF($AA$2=\"pok\",\"\",IF(A69=\"\",\"\",IFERROR(IF(SEARCH($I$3,'LISTE DES SITUATIONS'!E66)>=1,1,\"\"),\"\")))","v":""},{"$f":"IF($AA$2=\"pok\",\"\",IF(A69=\"\",\"\",IFERROR(IF(SEARCH($J$3,'LISTE DES SITUATIONS'!E66)>=1,1,\"\"),\"\")))","v":""},{"$f":"IF($AA$2=\"pok\",\"\",IF(A69=\"\",\"\",IFERROR(IF(SEARCH($K$3,'LISTE DES SITUATIONS'!E66)>=1,1,\"\"),\"\")))","v":""},{"$f":"IF($AA$2=\"pok\",\"\",IF(A69=\"\",\"\",IFERROR(IF(SEARCH($L$3,'LISTE DES SITUATIONS'!E66)>=1,1,\"\"),\"\")))","v":""},{"$f":"IF($AA$2=\"pok\",\"\",IF(A69=\"\",\"\",IFERROR(IF(SEARCH($M$3,'LISTE DES SITUATIONS'!E66)>=1,1,\"\"),\"\")))","v":""},{"$f":"IF($AA$2=\"pok\",\"\",IF(A69=\"\",\"\",IFERROR(IF(SEARCH($N$3,'LISTE DES SITUATIONS'!E66)>=1,1,\"\"),\"\")))","v":""},{"$f":"IF($AA$2=\"pok\",\"\",IF(A69=\"\",\"\",IFERROR(IF(SEARCH($O$3,'LISTE DES SITUATIONS'!E66)>=1,1,\"\"),\"\")))","v":""},{"$f":"IF($AA$2=\"pok\",\"\",IF(A69=\"\",\"\",IFERROR(IF(SEARCH($P$3,'LISTE DES SITUATIONS'!E66)>=1,1,\"\"),\"\")))","v":""},{"$f":"IF($AA$2=\"pok\",\"\",IF(A69=\"\",\"\",IFERROR(IF(SEARCH($Q$3,'LISTE DES SITUATIONS'!E66)>=1,1,\"\"),\"\")))","v":""},{"$f":"IF($AA$2=\"pok\",\"\",IF(A69=\"\",\"\",IFERROR(IF(SEARCH($R$3,'LISTE DES SITUATIONS'!E66)>=1,1,\"\"),\"\")))","v":""},{"$f":"IF($AA$2=\"pok\",\"\",IF(A69=\"\",\"\",IFERROR(IF(SEARCH($S$3,'LISTE DES SITUATIONS'!E66)>=1,1,\"\"),\"\")))","v":""},{"$f":"IF($AA$2=\"pok\",\"\",IF(A69=\"\",\"\",IFERROR(IF(SEARCH($T$3,'LISTE DES SITUATIONS'!E66)>=1,1,\"\"),\"\")))","v":""},{"$f":"IF($AA$2=\"pok\",\"\",IF(A69=\"\",\"\",IFERROR(IF(SEARCH($U$3,'LISTE DES SITUATIONS'!E66)>=1,1,\"\"),\"\")))","v":""},{"$f":"IF($AA$2=\"pok\",\"\",IF(A69=\"\",\"\",IFERROR(IF(SEARCH($V$3,'LISTE DES SITUATIONS'!E66)>=1,1,\"\"),\"\")))","v":""},{"$f":"IF($AA$2=\"pok\",\"\",IF(A69=\"\",\"\",IFERROR(IF(SEARCH($W$3,'LISTE DES SITUATIONS'!E66)>=1,1,\"\"),\"\")))","v":""},{"$f":"IF($AA$2=\"pok\",\"\",IF(A69=\"\",\"\",IFERROR(IF(SEARCH($X$3,'LISTE DES SITUATIONS'!E66)>=1,1,\"\"),\"\")))","v":""},{"$f":"IF($AA$2=\"pok\",\"\",IF(A69=\"\",\"\",IFERROR(IF(SEARCH($Y$3,'LISTE DES SITUATIONS'!E66)>=1,1,\"\"),\"\")))","v":""},{"$f":"IF($AA$2=\"pok\",\"\",IF(A69=\"\",\"\",IFERROR(IF(SEARCH($Z$3,'LISTE DES SITUATIONS'!E66)>=1,1,\"\"),\"\")))","v":""},0]
[{"$f":"IF('LISTE DES SITUATIONS'!A67=\"\",\"\",'LISTE DES SITUATIONS'!A67)","v":""},{"$f":"IF(A70=\"\",\"\",VLOOKUP(A70,'LISTE DES SITUATIONS'!A:B,2,FALSE))","v":""},{"$f":"IF($AA$2=\"pok\",\"\",IF(A70=\"\",\"\",IFERROR(IF(SEARCH($C$3,'LISTE DES SITUATIONS'!E67)>=1,1,\"\"),\"\")))","v":""},{"$f":"IF($AA$2=\"pok\",\"\",IF(A70=\"\",\"\",IFERROR(IF(SEARCH($D$3,'LISTE DES SITUATIONS'!E67)>=1,1,\"\"),\"\")))","v":""},{"$f":"IF($AA$2=\"pok\",\"\",IF(A70=\"\",\"\",IFERROR(IF(SEARCH($E$3,'LISTE DES SITUATIONS'!E67)>=1,1,\"\"),\"\")))","v":""},{"$f":"IF($AA$2=\"pok\",\"\",IF(A70=\"\",\"\",IFERROR(IF(SEARCH($F$3,'LISTE DES SITUATIONS'!E67)>=1,1,\"\"),\"\")))","v":""},{"$f":"IF($AA$2=\"pok\",\"\",IF(A70=\"\",\"\",IFERROR(IF(SEARCH($G$3,'LISTE DES SITUATIONS'!E67)>=1,1,\"\"),\"\")))","v":""},{"$f":"IF($AA$2=\"pok\",\"\",IF(A70=\"\",\"\",IFERROR(IF(SEARCH($H$3,'LISTE DES SITUATIONS'!E67)>=1,1,\"\"),\"\")))","v":""},{"$f":"IF($AA$2=\"pok\",\"\",IF(A70=\"\",\"\",IFERROR(IF(SEARCH($I$3,'LISTE DES SITUATIONS'!E67)>=1,1,\"\"),\"\")))","v":""},{"$f":"IF($AA$2=\"pok\",\"\",IF(A70=\"\",\"\",IFERROR(IF(SEARCH($J$3,'LISTE DES SITUATIONS'!E67)>=1,1,\"\"),\"\")))","v":""},{"$f":"IF($AA$2=\"pok\",\"\",IF(A70=\"\",\"\",IFERROR(IF(SEARCH($K$3,'LISTE DES SITUATIONS'!E67)>=1,1,\"\"),\"\")))","v":""},{"$f":"IF($AA$2=\"pok\",\"\",IF(A70=\"\",\"\",IFERROR(IF(SEARCH($L$3,'LISTE DES SITUATIONS'!E67)>=1,1,\"\"),\"\")))","v":""},{"$f":"IF($AA$2=\"pok\",\"\",IF(A70=\"\",\"\",IFERROR(IF(SEARCH($M$3,'LISTE DES SITUATIONS'!E67)>=1,1,\"\"),\"\")))","v":""},{"$f":"IF($AA$2=\"pok\",\"\",IF(A70=\"\",\"\",IFERROR(IF(SEARCH($N$3,'LISTE DES SITUATIONS'!E67)>=1,1,\"\"),\"\")))","v":""},{"$f":"IF($AA$2=\"pok\",\"\",IF(A70=\"\",\"\",IFERROR(IF(SEARCH($O$3,'LISTE DES SITUATIONS'!E67)>=1,1,\"\"),\"\")))","v":""},{"$f":"IF($AA$2=\"pok\",\"\",IF(A70=\"\",\"\",IFERROR(IF(SEARCH($P$3,'LISTE DES SITUATIONS'!E67)>=1,1,\"\"),\"\")))","v":""},{"$f":"IF($AA$2=\"pok\",\"\",IF(A70=\"\",\"\",IFERROR(IF(SEARCH($Q$3,'LISTE DES SITUATIONS'!E67)>=1,1,\"\"),\"\")))","v":""},{"$f":"IF($AA$2=\"pok\",\"\",IF(A70=\"\",\"\",IFERROR(IF(SEARCH($R$3,'LISTE DES SITUATIONS'!E67)>=1,1,\"\"),\"\")))","v":""},{"$f":"IF($AA$2=\"pok\",\"\",IF(A70=\"\",\"\",IFERROR(IF(SEARCH($S$3,'LISTE DES SITUATIONS'!E67)>=1,1,\"\"),\"\")))","v":""},{"$f":"IF($AA$2=\"pok\",\"\",IF(A70=\"\",\"\",IFERROR(IF(SEARCH($T$3,'LISTE DES SITUATIONS'!E67)>=1,1,\"\"),\"\")))","v":""},{"$f":"IF($AA$2=\"pok\",\"\",IF(A70=\"\",\"\",IFERROR(IF(SEARCH($U$3,'LISTE DES SITUATIONS'!E67)>=1,1,\"\"),\"\")))","v":""},{"$f":"IF($AA$2=\"pok\",\"\",IF(A70=\"\",\"\",IFERROR(IF(SEARCH($V$3,'LISTE DES SITUATIONS'!E67)>=1,1,\"\"),\"\")))","v":""},{"$f":"IF($AA$2=\"pok\",\"\",IF(A70=\"\",\"\",IFERROR(IF(SEARCH($W$3,'LISTE DES SITUATIONS'!E67)>=1,1,\"\"),\"\")))","v":""},{"$f":"IF($AA$2=\"pok\",\"\",IF(A70=\"\",\"\",IFERROR(IF(SEARCH($X$3,'LISTE DES SITUATIONS'!E67)>=1,1,\"\"),\"\")))","v":""},{"$f":"IF($AA$2=\"pok\",\"\",IF(A70=\"\",\"\",IFERROR(IF(SEARCH($Y$3,'LISTE DES SITUATIONS'!E67)>=1,1,\"\"),\"\")))","v":""},{"$f":"IF($AA$2=\"pok\",\"\",IF(A70=\"\",\"\",IFERROR(IF(SEARCH($Z$3,'LISTE DES SITUATIONS'!E67)>=1,1,\"\"),\"\")))","v":""},0]
[{"$f":"IF('LISTE DES SITUATIONS'!A68=\"\",\"\",'LISTE DES SITUATIONS'!A68)","v":""},{"$f":"IF(A71=\"\",\"\",VLOOKUP(A71,'LISTE DES SITUATIONS'!A:B,2,FALSE))","v":""},{"$f":"IF($AA$2=\"pok\",\"\",IF(A71=\"\",\"\",IFERROR(IF(SEARCH($C$3,'LISTE DES SITUATIONS'!E68)>=1,1,\"\"),\"\")))","v":""},{"$f":"IF($AA$2=\"pok\",\"\",IF(A71=\"\",\"\",IFERROR(IF(SEARCH($D$3,'LISTE DES SITUATIONS'!E68)>=1,1,\"\"),\"\")))","v":""},{"$f":"IF($AA$2=\"pok\",\"\",IF(A71=\"\",\"\",IFERROR(IF(SEARCH($E$3,'LISTE DES SITUATIONS'!E68)>=1,1,\"\"),\"\")))","v":""},{"$f":"IF($AA$2=\"pok\",\"\",IF(A71=\"\",\"\",IFERROR(IF(SEARCH($F$3,'LISTE DES SITUATIONS'!E68)>=1,1,\"\"),\"\")))","v":""},{"$f":"IF($AA$2=\"pok\",\"\",IF(A71=\"\",\"\",IFERROR(IF(SEARCH($G$3,'LISTE DES SITUATIONS'!E68)>=1,1,\"\"),\"\")))","v":""},{"$f":"IF($AA$2=\"pok\",\"\",IF(A71=\"\",\"\",IFERROR(IF(SEARCH($H$3,'LISTE DES SITUATIONS'!E68)>=1,1,\"\"),\"\")))","v":""},{"$f":"IF($AA$2=\"pok\",\"\",IF(A71=\"\",\"\",IFERROR(IF(SEARCH($I$3,'LISTE DES SITUATIONS'!E68)>=1,1,\"\"),\"\")))","v":""},{"$f":"IF($AA$2=\"pok\",\"\",IF(A71=\"\",\"\",IFERROR(IF(SEARCH($J$3,'LISTE DES SITUATIONS'!E68)>=1,1,\"\"),\"\")))","v":""},{"$f":"IF($AA$2=\"pok\",\"\",IF(A71=\"\",\"\",IFERROR(IF(SEARCH($K$3,'LISTE DES SITUATIONS'!E68)>=1,1,\"\"),\"\")))","v":""},{"$f":"IF($AA$2=\"pok\",\"\",IF(A71=\"\",\"\",IFERROR(IF(SEARCH($L$3,'LISTE DES SITUATIONS'!E68)>=1,1,\"\"),\"\")))","v":""},{"$f":"IF($AA$2=\"pok\",\"\",IF(A71=\"\",\"\",IFERROR(IF(SEARCH($M$3,'LISTE DES SITUATIONS'!E68)>=1,1,\"\"),\"\")))","v":""},{"$f":"IF($AA$2=\"pok\",\"\",IF(A71=\"\",\"\",IFERROR(IF(SEARCH($N$3,'LISTE DES SITUATIONS'!E68)>=1,1,\"\"),\"\")))","v":""},{"$f":"IF($AA$2=\"pok\",\"\",IF(A71=\"\",\"\",IFERROR(IF(SEARCH($O$3,'LISTE DES SITUATIONS'!E68)>=1,1,\"\"),\"\")))","v":""},{"$f":"IF($AA$2=\"pok\",\"\",IF(A71=\"\",\"\",IFERROR(IF(SEARCH($P$3,'LISTE DES SITUATIONS'!E68)>=1,1,\"\"),\"\")))","v":""},{"$f":"IF($AA$2=\"pok\",\"\",IF(A71=\"\",\"\",IFERROR(IF(SEARCH($Q$3,'LISTE DES SITUATIONS'!E68)>=1,1,\"\"),\"\")))","v":""},{"$f":"IF($AA$2=\"pok\",\"\",IF(A71=\"\",\"\",IFERROR(IF(SEARCH($R$3,'LISTE DES SITUATIONS'!E68)>=1,1,\"\"),\"\")))","v":""},{"$f":"IF($AA$2=\"pok\",\"\",IF(A71=\"\",\"\",IFERROR(IF(SEARCH($S$3,'LISTE DES SITUATIONS'!E68)>=1,1,\"\"),\"\")))","v":""},{"$f":"IF($AA$2=\"pok\",\"\",IF(A71=\"\",\"\",IFERROR(IF(SEARCH($T$3,'LISTE DES SITUATIONS'!E68)>=1,1,\"\"),\"\")))","v":""},{"$f":"IF($AA$2=\"pok\",\"\",IF(A71=\"\",\"\",IFERROR(IF(SEARCH($U$3,'LISTE DES SITUATIONS'!E68)>=1,1,\"\"),\"\")))","v":""},{"$f":"IF($AA$2=\"pok\",\"\",IF(A71=\"\",\"\",IFERROR(IF(SEARCH($V$3,'LISTE DES SITUATIONS'!E68)>=1,1,\"\"),\"\")))","v":""},{"$f":"IF($AA$2=\"pok\",\"\",IF(A71=\"\",\"\",IFERROR(IF(SEARCH($W$3,'LISTE DES SITUATIONS'!E68)>=1,1,\"\"),\"\")))","v":""},{"$f":"IF($AA$2=\"pok\",\"\",IF(A71=\"\",\"\",IFERROR(IF(SEARCH($X$3,'LISTE DES SITUATIONS'!E68)>=1,1,\"\"),\"\")))","v":""},{"$f":"IF($AA$2=\"pok\",\"\",IF(A71=\"\",\"\",IFERROR(IF(SEARCH($Y$3,'LISTE DES SITUATIONS'!E68)>=1,1,\"\"),\"\")))","v":""},{"$f":"IF($AA$2=\"pok\",\"\",IF(A71=\"\",\"\",IFERROR(IF(SEARCH($Z$3,'LISTE DES SITUATIONS'!E68)>=1,1,\"\"),\"\")))","v":""},0]
[{"$f":"IF('LISTE DES SITUATIONS'!A69=\"\",\"\",'LISTE DES SITUATIONS'!A69)","v":""},{"$f":"IF(A72=\"\",\"\",VLOOKUP(A72,'LISTE DES SITUATIONS'!A:B,2,FALSE))","v":""},{"$f":"IF($AA$2=\"pok\",\"\",IF(A72=\"\",\"\",IFERROR(IF(SEARCH($C$3,'LISTE DES SITUATIONS'!E69)>=1,1,\"\"),\"\")))","v":""},{"$f":"IF($AA$2=\"pok\",\"\",IF(A72=\"\",\"\",IFERROR(IF(SEARCH($D$3,'LISTE DES SITUATIONS'!E69)>=1,1,\"\"),\"\")))","v":""},{"$f":"IF($AA$2=\"pok\",\"\",IF(A72=\"\",\"\",IFERROR(IF(SEARCH($E$3,'LISTE DES SITUATIONS'!E69)>=1,1,\"\"),\"\")))","v":""},{"$f":"IF($AA$2=\"pok\",\"\",IF(A72=\"\",\"\",IFERROR(IF(SEARCH($F$3,'LISTE DES SITUATIONS'!E69)>=1,1,\"\"),\"\")))","v":""},{"$f":"IF($AA$2=\"pok\",\"\",IF(A72=\"\",\"\",IFERROR(IF(SEARCH($G$3,'LISTE DES SITUATIONS'!E69)>=1,1,\"\"),\"\")))","v":""},{"$f":"IF($AA$2=\"pok\",\"\",IF(A72=\"\",\"\",IFERROR(IF(SEARCH($H$3,'LISTE DES SITUATIONS'!E69)>=1,1,\"\"),\"\")))","v":""},{"$f":"IF($AA$2=\"pok\",\"\",IF(A72=\"\",\"\",IFERROR(IF(SEARCH($I$3,'LISTE DES SITUATIONS'!E69)>=1,1,\"\"),\"\")))","v":""},{"$f":"IF($AA$2=\"pok\",\"\",IF(A72=\"\",\"\",IFERROR(IF(SEARCH($J$3,'LISTE DES SITUATIONS'!E69)>=1,1,\"\"),\"\")))","v":""},{"$f":"IF($AA$2=\"pok\",\"\",IF(A72=\"\",\"\",IFERROR(IF(SEARCH($K$3,'LISTE DES SITUATIONS'!E69)>=1,1,\"\"),\"\")))","v":""},{"$f":"IF($AA$2=\"pok\",\"\",IF(A72=\"\",\"\",IFERROR(IF(SEARCH($L$3,'LISTE DES SITUATIONS'!E69)>=1,1,\"\"),\"\")))","v":""},{"$f":"IF($AA$2=\"pok\",\"\",IF(A72=\"\",\"\",IFERROR(IF(SEARCH($M$3,'LISTE DES SITUATIONS'!E69)>=1,1,\"\"),\"\")))","v":""},{"$f":"IF($AA$2=\"pok\",\"\",IF(A72=\"\",\"\",IFERROR(IF(SEARCH($N$3,'LISTE DES SITUATIONS'!E69)>=1,1,\"\"),\"\")))","v":""},{"$f":"IF($AA$2=\"pok\",\"\",IF(A72=\"\",\"\",IFERROR(IF(SEARCH($O$3,'LISTE DES SITUATIONS'!E69)>=1,1,\"\"),\"\")))","v":""},{"$f":"IF($AA$2=\"pok\",\"\",IF(A72=\"\",\"\",IFERROR(IF(SEARCH($P$3,'LISTE DES SITUATIONS'!E69)>=1,1,\"\"),\"\")))","v":""},{"$f":"IF($AA$2=\"pok\",\"\",IF(A72=\"\",\"\",IFERROR(IF(SEARCH($Q$3,'LISTE DES SITUATIONS'!E69)>=1,1,\"\"),\"\")))","v":""},{"$f":"IF($AA$2=\"pok\",\"\",IF(A72=\"\",\"\",IFERROR(IF(SEARCH($R$3,'LISTE DES SITUATIONS'!E69)>=1,1,\"\"),\"\")))","v":""},{"$f":"IF($AA$2=\"pok\",\"\",IF(A72=\"\",\"\",IFERROR(IF(SEARCH($S$3,'LISTE DES SITUATIONS'!E69)>=1,1,\"\"),\"\")))","v":""},{"$f":"IF($AA$2=\"pok\",\"\",IF(A72=\"\",\"\",IFERROR(IF(SEARCH($T$3,'LISTE DES SITUATIONS'!E69)>=1,1,\"\"),\"\")))","v":""},{"$f":"IF($AA$2=\"pok\",\"\",IF(A72=\"\",\"\",IFERROR(IF(SEARCH($U$3,'LISTE DES SITUATIONS'!E69)>=1,1,\"\"),\"\")))","v":""},{"$f":"IF($AA$2=\"pok\",\"\",IF(A72=\"\",\"\",IFERROR(IF(SEARCH($V$3,'LISTE DES SITUATIONS'!E69)>=1,1,\"\"),\"\")))","v":""},{"$f":"IF($AA$2=\"pok\",\"\",IF(A72=\"\",\"\",IFERROR(IF(SEARCH($W$3,'LISTE DES SITUATIONS'!E69)>=1,1,\"\"),\"\")))","v":""},{"$f":"IF($AA$2=\"pok\",\"\",IF(A72=\"\",\"\",IFERROR(IF(SEARCH($X$3,'LISTE DES SITUATIONS'!E69)>=1,1,\"\"),\"\")))","v":""},{"$f":"IF($AA$2=\"pok\",\"\",IF(A72=\"\",\"\",IFERROR(IF(SEARCH($Y$3,'LISTE DES SITUATIONS'!E69)>=1,1,\"\"),\"\")))","v":""},{"$f":"IF($AA$2=\"pok\",\"\",IF(A72=\"\",\"\",IFERROR(IF(SEARCH($Z$3,'LISTE DES SITUATIONS'!E69)>=1,1,\"\"),\"\")))","v":""},0]
[{"$f":"IF('LISTE DES SITUATIONS'!A70=\"\",\"\",'LISTE DES SITUATIONS'!A70)","v":""},{"$f":"IF(A73=\"\",\"\",VLOOKUP(A73,'LISTE DES SITUATIONS'!A:B,2,FALSE))","v":""},{"$f":"IF($AA$2=\"pok\",\"\",IF(A73=\"\",\"\",IFERROR(IF(SEARCH($C$3,'LISTE DES SITUATIONS'!E70)>=1,1,\"\"),\"\")))","v":""},{"$f":"IF($AA$2=\"pok\",\"\",IF(A73=\"\",\"\",IFERROR(IF(SEARCH($D$3,'LISTE DES SITUATIONS'!E70)>=1,1,\"\"),\"\")))","v":""},{"$f":"IF($AA$2=\"pok\",\"\",IF(A73=\"\",\"\",IFERROR(IF(SEARCH($E$3,'LISTE DES SITUATIONS'!E70)>=1,1,\"\"),\"\")))","v":""},{"$f":"IF($AA$2=\"pok\",\"\",IF(A73=\"\",\"\",IFERROR(IF(SEARCH($F$3,'LISTE DES SITUATIONS'!E70)>=1,1,\"\"),\"\")))","v":""},{"$f":"IF($AA$2=\"pok\",\"\",IF(A73=\"\",\"\",IFERROR(IF(SEARCH($G$3,'LISTE DES SITUATIONS'!E70)>=1,1,\"\"),\"\")))","v":""},{"$f":"IF($AA$2=\"pok\",\"\",IF(A73=\"\",\"\",IFERROR(IF(SEARCH($H$3,'LISTE DES SITUATIONS'!E70)>=1,1,\"\"),\"\")))","v":""},{"$f":"IF($AA$2=\"pok\",\"\",IF(A73=\"\",\"\",IFERROR(IF(SEARCH($I$3,'LISTE DES SITUATIONS'!E70)>=1,1,\"\"),\"\")))","v":""},{"$f":"IF($AA$2=\"pok\",\"\",IF(A73=\"\",\"\",IFERROR(IF(SEARCH($J$3,'LISTE DES SITUATIONS'!E70)>=1,1,\"\"),\"\")))","v":""},{"$f":"IF($AA$2=\"pok\",\"\",IF(A73=\"\",\"\",IFERROR(IF(SEARCH($K$3,'LISTE DES SITUATIONS'!E70)>=1,1,\"\"),\"\")))","v":""},{"$f":"IF($AA$2=\"pok\",\"\",IF(A73=\"\",\"\",IFERROR(IF(SEARCH($L$3,'LISTE DES SITUATIONS'!E70)>=1,1,\"\"),\"\")))","v":""},{"$f":"IF($AA$2=\"pok\",\"\",IF(A73=\"\",\"\",IFERROR(IF(SEARCH($M$3,'LISTE DES SITUATIONS'!E70)>=1,1,\"\"),\"\")))","v":""},{"$f":"IF($AA$2=\"pok\",\"\",IF(A73=\"\",\"\",IFERROR(IF(SEARCH($N$3,'LISTE DES SITUATIONS'!E70)>=1,1,\"\"),\"\")))","v":""},{"$f":"IF($AA$2=\"pok\",\"\",IF(A73=\"\",\"\",IFERROR(IF(SEARCH($O$3,'LISTE DES SITUATIONS'!E70)>=1,1,\"\"),\"\")))","v":""},{"$f":"IF($AA$2=\"pok\",\"\",IF(A73=\"\",\"\",IFERROR(IF(SEARCH($P$3,'LISTE DES SITUATIONS'!E70)>=1,1,\"\"),\"\")))","v":""},{"$f":"IF($AA$2=\"pok\",\"\",IF(A73=\"\",\"\",IFERROR(IF(SEARCH($Q$3,'LISTE DES SITUATIONS'!E70)>=1,1,\"\"),\"\")))","v":""},{"$f":"IF($AA$2=\"pok\",\"\",IF(A73=\"\",\"\",IFERROR(IF(SEARCH($R$3,'LISTE DES SITUATIONS'!E70)>=1,1,\"\"),\"\")))","v":""},{"$f":"IF($AA$2=\"pok\",\"\",IF(A73=\"\",\"\",IFERROR(IF(SEARCH($S$3,'LISTE DES SITUATIONS'!E70)>=1,1,\"\"),\"\")))","v":""},{"$f":"IF($AA$2=\"pok\",\"\",IF(A73=\"\",\"\",IFERROR(IF(SEARCH($T$3,'LISTE DES SITUATIONS'!E70)>=1,1,\"\"),\"\")))","v":""},{"$f":"IF($AA$2=\"pok\",\"\",IF(A73=\"\",\"\",IFERROR(IF(SEARCH($U$3,'LISTE DES SITUATIONS'!E70)>=1,1,\"\"),\"\")))","v":""},{"$f":"IF($AA$2=\"pok\",\"\",IF(A73=\"\",\"\",IFERROR(IF(SEARCH($V$3,'LISTE DES SITUATIONS'!E70)>=1,1,\"\"),\"\")))","v":""},{"$f":"IF($AA$2=\"pok\",\"\",IF(A73=\"\",\"\",IFERROR(IF(SEARCH($W$3,'LISTE DES SITUATIONS'!E70)>=1,1,\"\"),\"\")))","v":""},{"$f":"IF($AA$2=\"pok\",\"\",IF(A73=\"\",\"\",IFERROR(IF(SEARCH($X$3,'LISTE DES SITUATIONS'!E70)>=1,1,\"\"),\"\")))","v":""},{"$f":"IF($AA$2=\"pok\",\"\",IF(A73=\"\",\"\",IFERROR(IF(SEARCH($Y$3,'LISTE DES SITUATIONS'!E70)>=1,1,\"\"),\"\")))","v":""},{"$f":"IF($AA$2=\"pok\",\"\",IF(A73=\"\",\"\",IFERROR(IF(SEARCH($Z$3,'LISTE DES SITUATIONS'!E70)>=1,1,\"\"),\"\")))","v":""},0]
[{"$f":"IF('LISTE DES SITUATIONS'!A71=\"\",\"\",'LISTE DES SITUATIONS'!A71)","v":""},{"$f":"IF(A74=\"\",\"\",VLOOKUP(A74,'LISTE DES SITUATIONS'!A:B,2,FALSE))","v":""},{"$f":"IF($AA$2=\"pok\",\"\",IF(A74=\"\",\"\",IFERROR(IF(SEARCH($C$3,'LISTE DES SITUATIONS'!E71)>=1,1,\"\"),\"\")))","v":""},{"$f":"IF($AA$2=\"pok\",\"\",IF(A74=\"\",\"\",IFERROR(IF(SEARCH($D$3,'LISTE DES SITUATIONS'!E71)>=1,1,\"\"),\"\")))","v":""},{"$f":"IF($AA$2=\"pok\",\"\",IF(A74=\"\",\"\",IFERROR(IF(SEARCH($E$3,'LISTE DES SITUATIONS'!E71)>=1,1,\"\"),\"\")))","v":""},{"$f":"IF($AA$2=\"pok\",\"\",IF(A74=\"\",\"\",IFERROR(IF(SEARCH($F$3,'LISTE DES SITUATIONS'!E71)>=1,1,\"\"),\"\")))","v":""},{"$f":"IF($AA$2=\"pok\",\"\",IF(A74=\"\",\"\",IFERROR(IF(SEARCH($G$3,'LISTE DES SITUATIONS'!E71)>=1,1,\"\"),\"\")))","v":""},{"$f":"IF($AA$2=\"pok\",\"\",IF(A74=\"\",\"\",IFERROR(IF(SEARCH($H$3,'LISTE DES SITUATIONS'!E71)>=1,1,\"\"),\"\")))","v":""},{"$f":"IF($AA$2=\"pok\",\"\",IF(A74=\"\",\"\",IFERROR(IF(SEARCH($I$3,'LISTE DES SITUATIONS'!E71)>=1,1,\"\"),\"\")))","v":""},{"$f":"IF($AA$2=\"pok\",\"\",IF(A74=\"\",\"\",IFERROR(IF(SEARCH($J$3,'LISTE DES SITUATIONS'!E71)>=1,1,\"\"),\"\")))","v":""},{"$f":"IF($AA$2=\"pok\",\"\",IF(A74=\"\",\"\",IFERROR(IF(SEARCH($K$3,'LISTE DES SITUATIONS'!E71)>=1,1,\"\"),\"\")))","v":""},{"$f":"IF($AA$2=\"pok\",\"\",IF(A74=\"\",\"\",IFERROR(IF(SEARCH($L$3,'LISTE DES SITUATIONS'!E71)>=1,1,\"\"),\"\")))","v":""},{"$f":"IF($AA$2=\"pok\",\"\",IF(A74=\"\",\"\",IFERROR(IF(SEARCH($M$3,'LISTE DES SITUATIONS'!E71)>=1,1,\"\"),\"\")))","v":""},{"$f":"IF($AA$2=\"pok\",\"\",IF(A74=\"\",\"\",IFERROR(IF(SEARCH($N$3,'LISTE DES SITUATIONS'!E71)>=1,1,\"\"),\"\")))","v":""},{"$f":"IF($AA$2=\"pok\",\"\",IF(A74=\"\",\"\",IFERROR(IF(SEARCH($O$3,'LISTE DES SITUATIONS'!E71)>=1,1,\"\"),\"\")))","v":""},{"$f":"IF($AA$2=\"pok\",\"\",IF(A74=\"\",\"\",IFERROR(IF(SEARCH($P$3,'LISTE DES SITUATIONS'!E71)>=1,1,\"\"),\"\")))","v":""},{"$f":"IF($AA$2=\"pok\",\"\",IF(A74=\"\",\"\",IFERROR(IF(SEARCH($Q$3,'LISTE DES SITUATIONS'!E71)>=1,1,\"\"),\"\")))","v":""},{"$f":"IF($AA$2=\"pok\",\"\",IF(A74=\"\",\"\",IFERROR(IF(SEARCH($R$3,'LISTE DES SITUATIONS'!E71)>=1,1,\"\"),\"\")))","v":""},{"$f":"IF($AA$2=\"pok\",\"\",IF(A74=\"\",\"\",IFERROR(IF(SEARCH($S$3,'LISTE DES SITUATIONS'!E71)>=1,1,\"\"),\"\")))","v":""},{"$f":"IF($AA$2=\"pok\",\"\",IF(A74=\"\",\"\",IFERROR(IF(SEARCH($T$3,'LISTE DES SITUATIONS'!E71)>=1,1,\"\"),\"\")))","v":""},{"$f":"IF($AA$2=\"pok\",\"\",IF(A74=\"\",\"\",IFERROR(IF(SEARCH($U$3,'LISTE DES SITUATIONS'!E71)>=1,1,\"\"),\"\")))","v":""},{"$f":"IF($AA$2=\"pok\",\"\",IF(A74=\"\",\"\",IFERROR(IF(SEARCH($V$3,'LISTE DES SITUATIONS'!E71)>=1,1,\"\"),\"\")))","v":""},{"$f":"IF($AA$2=\"pok\",\"\",IF(A74=\"\",\"\",IFERROR(IF(SEARCH($W$3,'LISTE DES SITUATIONS'!E71)>=1,1,\"\"),\"\")))","v":""},{"$f":"IF($AA$2=\"pok\",\"\",IF(A74=\"\",\"\",IFERROR(IF(SEARCH($X$3,'LISTE DES SITUATIONS'!E71)>=1,1,\"\"),\"\")))","v":""},{"$f":"IF($AA$2=\"pok\",\"\",IF(A74=\"\",\"\",IFERROR(IF(SEARCH($Y$3,'LISTE DES SITUATIONS'!E71)>=1,1,\"\"),\"\")))","v":""},{"$f":"IF($AA$2=\"pok\",\"\",IF(A74=\"\",\"\",IFERROR(IF(SEARCH($Z$3,'LISTE DES SITUATIONS'!E71)>=1,1,\"\"),\"\")))","v":""},0]
[{"$f":"IF('LISTE DES SITUATIONS'!A72=\"\",\"\",'LISTE DES SITUATIONS'!A72)","v":""},{"$f":"IF(A75=\"\",\"\",VLOOKUP(A75,'LISTE DES SITUATIONS'!A:B,2,FALSE))","v":""},{"$f":"IF($AA$2=\"pok\",\"\",IF(A75=\"\",\"\",IFERROR(IF(SEARCH($C$3,'LISTE DES SITUATIONS'!E72)>=1,1,\"\"),\"\")))","v":""},{"$f":"IF($AA$2=\"pok\",\"\",IF(A75=\"\",\"\",IFERROR(IF(SEARCH($D$3,'LISTE DES SITUATIONS'!E72)>=1,1,\"\"),\"\")))","v":""},{"$f":"IF($AA$2=\"pok\",\"\",IF(A75=\"\",\"\",IFERROR(IF(SEARCH($E$3,'LISTE DES SITUATIONS'!E72)>=1,1,\"\"),\"\")))","v":""},{"$f":"IF($AA$2=\"pok\",\"\",IF(A75=\"\",\"\",IFERROR(IF(SEARCH($F$3,'LISTE DES SITUATIONS'!E72)>=1,1,\"\"),\"\")))","v":""},{"$f":"IF($AA$2=\"pok\",\"\",IF(A75=\"\",\"\",IFERROR(IF(SEARCH($G$3,'LISTE DES SITUATIONS'!E72)>=1,1,\"\"),\"\")))","v":""},{"$f":"IF($AA$2=\"pok\",\"\",IF(A75=\"\",\"\",IFERROR(IF(SEARCH($H$3,'LISTE DES SITUATIONS'!E72)>=1,1,\"\"),\"\")))","v":""},{"$f":"IF($AA$2=\"pok\",\"\",IF(A75=\"\",\"\",IFERROR(IF(SEARCH($I$3,'LISTE DES SITUATIONS'!E72)>=1,1,\"\"),\"\")))","v":""},{"$f":"IF($AA$2=\"pok\",\"\",IF(A75=\"\",\"\",IFERROR(IF(SEARCH($J$3,'LISTE DES SITUATIONS'!E72)>=1,1,\"\"),\"\")))","v":""},{"$f":"IF($AA$2=\"pok\",\"\",IF(A75=\"\",\"\",IFERROR(IF(SEARCH($K$3,'LISTE DES SITUATIONS'!E72)>=1,1,\"\"),\"\")))","v":""},{"$f":"IF($AA$2=\"pok\",\"\",IF(A75=\"\",\"\",IFERROR(IF(SEARCH($L$3,'LISTE DES SITUATIONS'!E72)>=1,1,\"\"),\"\")))","v":""},{"$f":"IF($AA$2=\"pok\",\"\",IF(A75=\"\",\"\",IFERROR(IF(SEARCH($M$3,'LISTE DES SITUATIONS'!E72)>=1,1,\"\"),\"\")))","v":""},{"$f":"IF($AA$2=\"pok\",\"\",IF(A75=\"\",\"\",IFERROR(IF(SEARCH($N$3,'LISTE DES SITUATIONS'!E72)>=1,1,\"\"),\"\")))","v":""},{"$f":"IF($AA$2=\"pok\",\"\",IF(A75=\"\",\"\",IFERROR(IF(SEARCH($O$3,'LISTE DES SITUATIONS'!E72)>=1,1,\"\"),\"\")))","v":""},{"$f":"IF($AA$2=\"pok\",\"\",IF(A75=\"\",\"\",IFERROR(IF(SEARCH($P$3,'LISTE DES SITUATIONS'!E72)>=1,1,\"\"),\"\")))","v":""},{"$f":"IF($AA$2=\"pok\",\"\",IF(A75=\"\",\"\",IFERROR(IF(SEARCH($Q$3,'LISTE DES SITUATIONS'!E72)>=1,1,\"\"),\"\")))","v":""},{"$f":"IF($AA$2=\"pok\",\"\",IF(A75=\"\",\"\",IFERROR(IF(SEARCH($R$3,'LISTE DES SITUATIONS'!E72)>=1,1,\"\"),\"\")))","v":""},{"$f":"IF($AA$2=\"pok\",\"\",IF(A75=\"\",\"\",IFERROR(IF(SEARCH($S$3,'LISTE DES SITUATIONS'!E72)>=1,1,\"\"),\"\")))","v":""},{"$f":"IF($AA$2=\"pok\",\"\",IF(A75=\"\",\"\",IFERROR(IF(SEARCH($T$3,'LISTE DES SITUATIONS'!E72)>=1,1,\"\"),\"\")))","v":""},{"$f":"IF($AA$2=\"pok\",\"\",IF(A75=\"\",\"\",IFERROR(IF(SEARCH($U$3,'LISTE DES SITUATIONS'!E72)>=1,1,\"\"),\"\")))","v":""},{"$f":"IF($AA$2=\"pok\",\"\",IF(A75=\"\",\"\",IFERROR(IF(SEARCH($V$3,'LISTE DES SITUATIONS'!E72)>=1,1,\"\"),\"\")))","v":""},{"$f":"IF($AA$2=\"pok\",\"\",IF(A75=\"\",\"\",IFERROR(IF(SEARCH($W$3,'LISTE DES SITUATIONS'!E72)>=1,1,\"\"),\"\")))","v":""},{"$f":"IF($AA$2=\"pok\",\"\",IF(A75=\"\",\"\",IFERROR(IF(SEARCH($X$3,'LISTE DES SITUATIONS'!E72)>=1,1,\"\"),\"\")))","v":""},{"$f":"IF($AA$2=\"pok\",\"\",IF(A75=\"\",\"\",IFERROR(IF(SEARCH($Y$3,'LISTE DES SITUATIONS'!E72)>=1,1,\"\"),\"\")))","v":""},{"$f":"IF($AA$2=\"pok\",\"\",IF(A75=\"\",\"\",IFERROR(IF(SEARCH($Z$3,'LISTE DES SITUATIONS'!E72)>=1,1,\"\"),\"\")))","v":""},0]
[{"$f":"IF('LISTE DES SITUATIONS'!A73=\"\",\"\",'LISTE DES SITUATIONS'!A73)","v":""},{"$f":"IF(A76=\"\",\"\",VLOOKUP(A76,'LISTE DES SITUATIONS'!A:B,2,FALSE))","v":""},{"$f":"IF($AA$2=\"pok\",\"\",IF(A76=\"\",\"\",IFERROR(IF(SEARCH($C$3,'LISTE DES SITUATIONS'!E73)>=1,1,\"\"),\"\")))","v":""},{"$f":"IF($AA$2=\"pok\",\"\",IF(A76=\"\",\"\",IFERROR(IF(SEARCH($D$3,'LISTE DES SITUATIONS'!E73)>=1,1,\"\"),\"\")))","v":""},{"$f":"IF($AA$2=\"pok\",\"\",IF(A76=\"\",\"\",IFERROR(IF(SEARCH($E$3,'LISTE DES SITUATIONS'!E73)>=1,1,\"\"),\"\")))","v":""},{"$f":"IF($AA$2=\"pok\",\"\",IF(A76=\"\",\"\",IFERROR(IF(SEARCH($F$3,'LISTE DES SITUATIONS'!E73)>=1,1,\"\"),\"\")))","v":""},{"$f":"IF($AA$2=\"pok\",\"\",IF(A76=\"\",\"\",IFERROR(IF(SEARCH($G$3,'LISTE DES SITUATIONS'!E73)>=1,1,\"\"),\"\")))","v":""},{"$f":"IF($AA$2=\"pok\",\"\",IF(A76=\"\",\"\",IFERROR(IF(SEARCH($H$3,'LISTE DES SITUATIONS'!E73)>=1,1,\"\"),\"\")))","v":""},{"$f":"IF($AA$2=\"pok\",\"\",IF(A76=\"\",\"\",IFERROR(IF(SEARCH($I$3,'LISTE DES SITUATIONS'!E73)>=1,1,\"\"),\"\")))","v":""},{"$f":"IF($AA$2=\"pok\",\"\",IF(A76=\"\",\"\",IFERROR(IF(SEARCH($J$3,'LISTE DES SITUATIONS'!E73)>=1,1,\"\"),\"\")))","v":""},{"$f":"IF($AA$2=\"pok\",\"\",IF(A76=\"\",\"\",IFERROR(IF(SEARCH($K$3,'LISTE DES SITUATIONS'!E73)>=1,1,\"\"),\"\")))","v":""},{"$f":"IF($AA$2=\"pok\",\"\",IF(A76=\"\",\"\",IFERROR(IF(SEARCH($L$3,'LISTE DES SITUATIONS'!E73)>=1,1,\"\"),\"\")))","v":""},{"$f":"IF($AA$2=\"pok\",\"\",IF(A76=\"\",\"\",IFERROR(IF(SEARCH($M$3,'LISTE DES SITUATIONS'!E73)>=1,1,\"\"),\"\")))","v":""},{"$f":"IF($AA$2=\"pok\",\"\",IF(A76=\"\",\"\",IFERROR(IF(SEARCH($N$3,'LISTE DES SITUATIONS'!E73)>=1,1,\"\"),\"\")))","v":""},{"$f":"IF($AA$2=\"pok\",\"\",IF(A76=\"\",\"\",IFERROR(IF(SEARCH($O$3,'LISTE DES SITUATIONS'!E73)>=1,1,\"\"),\"\")))","v":""},{"$f":"IF($AA$2=\"pok\",\"\",IF(A76=\"\",\"\",IFERROR(IF(SEARCH($P$3,'LISTE DES SITUATIONS'!E73)>=1,1,\"\"),\"\")))","v":""},{"$f":"IF($AA$2=\"pok\",\"\",IF(A76=\"\",\"\",IFERROR(IF(SEARCH($Q$3,'LISTE DES SITUATIONS'!E73)>=1,1,\"\"),\"\")))","v":""},{"$f":"IF($AA$2=\"pok\",\"\",IF(A76=\"\",\"\",IFERROR(IF(SEARCH($R$3,'LISTE DES SITUATIONS'!E73)>=1,1,\"\"),\"\")))","v":""},{"$f":"IF($AA$2=\"pok\",\"\",IF(A76=\"\",\"\",IFERROR(IF(SEARCH($S$3,'LISTE DES SITUATIONS'!E73)>=1,1,\"\"),\"\")))","v":""},{"$f":"IF($AA$2=\"pok\",\"\",IF(A76=\"\",\"\",IFERROR(IF(SEARCH($T$3,'LISTE DES SITUATIONS'!E73)>=1,1,\"\"),\"\")))","v":""},{"$f":"IF($AA$2=\"pok\",\"\",IF(A76=\"\",\"\",IFERROR(IF(SEARCH($U$3,'LISTE DES SITUATIONS'!E73)>=1,1,\"\"),\"\")))","v":""},{"$f":"IF($AA$2=\"pok\",\"\",IF(A76=\"\",\"\",IFERROR(IF(SEARCH($V$3,'LISTE DES SITUATIONS'!E73)>=1,1,\"\"),\"\")))","v":""},{"$f":"IF($AA$2=\"pok\",\"\",IF(A76=\"\",\"\",IFERROR(IF(SEARCH($W$3,'LISTE DES SITUATIONS'!E73)>=1,1,\"\"),\"\")))","v":""},{"$f":"IF($AA$2=\"pok\",\"\",IF(A76=\"\",\"\",IFERROR(IF(SEARCH($X$3,'LISTE DES SITUATIONS'!E73)>=1,1,\"\"),\"\")))","v":""},{"$f":"IF($AA$2=\"pok\",\"\",IF(A76=\"\",\"\",IFERROR(IF(SEARCH($Y$3,'LISTE DES SITUATIONS'!E73)>=1,1,\"\"),\"\")))","v":""},{"$f":"IF($AA$2=\"pok\",\"\",IF(A76=\"\",\"\",IFERROR(IF(SEARCH($Z$3,'LISTE DES SITUATIONS'!E73)>=1,1,\"\"),\"\")))","v":""},0]
[{"$f":"IF('LISTE DES SITUATIONS'!A74=\"\",\"\",'LISTE DES SITUATIONS'!A74)","v":""},{"$f":"IF(A77=\"\",\"\",VLOOKUP(A77,'LISTE DES SITUATIONS'!A:B,2,FALSE))","v":""},{"$f":"IF($AA$2=\"pok\",\"\",IF(A77=\"\",\"\",IFERROR(IF(SEARCH($C$3,'LISTE DES SITUATIONS'!E74)>=1,1,\"\"),\"\")))","v":""},{"$f":"IF($AA$2=\"pok\",\"\",IF(A77=\"\",\"\",IFERROR(IF(SEARCH($D$3,'LISTE DES SITUATIONS'!E74)>=1,1,\"\"),\"\")))","v":""},{"$f":"IF($AA$2=\"pok\",\"\",IF(A77=\"\",\"\",IFERROR(IF(SEARCH($E$3,'LISTE DES SITUATIONS'!E74)>=1,1,\"\"),\"\")))","v":""},{"$f":"IF($AA$2=\"pok\",\"\",IF(A77=\"\",\"\",IFERROR(IF(SEARCH($F$3,'LISTE DES SITUATIONS'!E74)>=1,1,\"\"),\"\")))","v":""},{"$f":"IF($AA$2=\"pok\",\"\",IF(A77=\"\",\"\",IFERROR(IF(SEARCH($G$3,'LISTE DES SITUATIONS'!E74)>=1,1,\"\"),\"\")))","v":""},{"$f":"IF($AA$2=\"pok\",\"\",IF(A77=\"\",\"\",IFERROR(IF(SEARCH($H$3,'LISTE DES SITUATIONS'!E74)>=1,1,\"\"),\"\")))","v":""},{"$f":"IF($AA$2=\"pok\",\"\",IF(A77=\"\",\"\",IFERROR(IF(SEARCH($I$3,'LISTE DES SITUATIONS'!E74)>=1,1,\"\"),\"\")))","v":""},{"$f":"IF($AA$2=\"pok\",\"\",IF(A77=\"\",\"\",IFERROR(IF(SEARCH($J$3,'LISTE DES SITUATIONS'!E74)>=1,1,\"\"),\"\")))","v":""},{"$f":"IF($AA$2=\"pok\",\"\",IF(A77=\"\",\"\",IFERROR(IF(SEARCH($K$3,'LISTE DES SITUATIONS'!E74)>=1,1,\"\"),\"\")))","v":""},{"$f":"IF($AA$2=\"pok\",\"\",IF(A77=\"\",\"\",IFERROR(IF(SEARCH($L$3,'LISTE DES SITUATIONS'!E74)>=1,1,\"\"),\"\")))","v":""},{"$f":"IF($AA$2=\"pok\",\"\",IF(A77=\"\",\"\",IFERROR(IF(SEARCH($M$3,'LISTE DES SITUATIONS'!E74)>=1,1,\"\"),\"\")))","v":""},{"$f":"IF($AA$2=\"pok\",\"\",IF(A77=\"\",\"\",IFERROR(IF(SEARCH($N$3,'LISTE DES SITUATIONS'!E74)>=1,1,\"\"),\"\")))","v":""},{"$f":"IF($AA$2=\"pok\",\"\",IF(A77=\"\",\"\",IFERROR(IF(SEARCH($O$3,'LISTE DES SITUATIONS'!E74)>=1,1,\"\"),\"\")))","v":""},{"$f":"IF($AA$2=\"pok\",\"\",IF(A77=\"\",\"\",IFERROR(IF(SEARCH($P$3,'LISTE DES SITUATIONS'!E74)>=1,1,\"\"),\"\")))","v":""},{"$f":"IF($AA$2=\"pok\",\"\",IF(A77=\"\",\"\",IFERROR(IF(SEARCH($Q$3,'LISTE DES SITUATIONS'!E74)>=1,1,\"\"),\"\")))","v":""},{"$f":"IF($AA$2=\"pok\",\"\",IF(A77=\"\",\"\",IFERROR(IF(SEARCH($R$3,'LISTE DES SITUATIONS'!E74)>=1,1,\"\"),\"\")))","v":""},{"$f":"IF($AA$2=\"pok\",\"\",IF(A77=\"\",\"\",IFERROR(IF(SEARCH($S$3,'LISTE DES SITUATIONS'!E74)>=1,1,\"\"),\"\")))","v":""},{"$f":"IF($AA$2=\"pok\",\"\",IF(A77=\"\",\"\",IFERROR(IF(SEARCH($T$3,'LISTE DES SITUATIONS'!E74)>=1,1,\"\"),\"\")))","v":""},{"$f":"IF($AA$2=\"pok\",\"\",IF(A77=\"\",\"\",IFERROR(IF(SEARCH($U$3,'LISTE DES SITUATIONS'!E74)>=1,1,\"\"),\"\")))","v":""},{"$f":"IF($AA$2=\"pok\",\"\",IF(A77=\"\",\"\",IFERROR(IF(SEARCH($V$3,'LISTE DES SITUATIONS'!E74)>=1,1,\"\"),\"\")))","v":""},{"$f":"IF($AA$2=\"pok\",\"\",IF(A77=\"\",\"\",IFERROR(IF(SEARCH($W$3,'LISTE DES SITUATIONS'!E74)>=1,1,\"\"),\"\")))","v":""},{"$f":"IF($AA$2=\"pok\",\"\",IF(A77=\"\",\"\",IFERROR(IF(SEARCH($X$3,'LISTE DES SITUATIONS'!E74)>=1,1,\"\"),\"\")))","v":""},{"$f":"IF($AA$2=\"pok\",\"\",IF(A77=\"\",\"\",IFERROR(IF(SEARCH($Y$3,'LISTE DES SITUATIONS'!E74)>=1,1,\"\"),\"\")))","v":""},{"$f":"IF($AA$2=\"pok\",\"\",IF(A77=\"\",\"\",IFERROR(IF(SEARCH($Z$3,'LISTE DES SITUATIONS'!E74)>=1,1,\"\"),\"\")))","v":""},0]
[{"$f":"IF('LISTE DES SITUATIONS'!A75=\"\",\"\",'LISTE DES SITUATIONS'!A75)","v":""},{"$f":"IF(A78=\"\",\"\",VLOOKUP(A78,'LISTE DES SITUATIONS'!A:B,2,FALSE))","v":""},{"$f":"IF($AA$2=\"pok\",\"\",IF(A78=\"\",\"\",IFERROR(IF(SEARCH($C$3,'LISTE DES SITUATIONS'!E75)>=1,1,\"\"),\"\")))","v":""},{"$f":"IF($AA$2=\"pok\",\"\",IF(A78=\"\",\"\",IFERROR(IF(SEARCH($D$3,'LISTE DES SITUATIONS'!E75)>=1,1,\"\"),\"\")))","v":""},{"$f":"IF($AA$2=\"pok\",\"\",IF(A78=\"\",\"\",IFERROR(IF(SEARCH($E$3,'LISTE DES SITUATIONS'!E75)>=1,1,\"\"),\"\")))","v":""},{"$f":"IF($AA$2=\"pok\",\"\",IF(A78=\"\",\"\",IFERROR(IF(SEARCH($F$3,'LISTE DES SITUATIONS'!E75)>=1,1,\"\"),\"\")))","v":""},{"$f":"IF($AA$2=\"pok\",\"\",IF(A78=\"\",\"\",IFERROR(IF(SEARCH($G$3,'LISTE DES SITUATIONS'!E75)>=1,1,\"\"),\"\")))","v":""},{"$f":"IF($AA$2=\"pok\",\"\",IF(A78=\"\",\"\",IFERROR(IF(SEARCH($H$3,'LISTE DES SITUATIONS'!E75)>=1,1,\"\"),\"\")))","v":""},{"$f":"IF($AA$2=\"pok\",\"\",IF(A78=\"\",\"\",IFERROR(IF(SEARCH($I$3,'LISTE DES SITUATIONS'!E75)>=1,1,\"\"),\"\")))","v":""},{"$f":"IF($AA$2=\"pok\",\"\",IF(A78=\"\",\"\",IFERROR(IF(SEARCH($J$3,'LISTE DES SITUATIONS'!E75)>=1,1,\"\"),\"\")))","v":""},{"$f":"IF($AA$2=\"pok\",\"\",IF(A78=\"\",\"\",IFERROR(IF(SEARCH($K$3,'LISTE DES SITUATIONS'!E75)>=1,1,\"\"),\"\")))","v":""},{"$f":"IF($AA$2=\"pok\",\"\",IF(A78=\"\",\"\",IFERROR(IF(SEARCH($L$3,'LISTE DES SITUATIONS'!E75)>=1,1,\"\"),\"\")))","v":""},{"$f":"IF($AA$2=\"pok\",\"\",IF(A78=\"\",\"\",IFERROR(IF(SEARCH($M$3,'LISTE DES SITUATIONS'!E75)>=1,1,\"\"),\"\")))","v":""},{"$f":"IF($AA$2=\"pok\",\"\",IF(A78=\"\",\"\",IFERROR(IF(SEARCH($N$3,'LISTE DES SITUATIONS'!E75)>=1,1,\"\"),\"\")))","v":""},{"$f":"IF($AA$2=\"pok\",\"\",IF(A78=\"\",\"\",IFERROR(IF(SEARCH($O$3,'LISTE DES SITUATIONS'!E75)>=1,1,\"\"),\"\")))","v":""},{"$f":"IF($AA$2=\"pok\",\"\",IF(A78=\"\",\"\",IFERROR(IF(SEARCH($P$3,'LISTE DES SITUATIONS'!E75)>=1,1,\"\"),\"\")))","v":""},{"$f":"IF($AA$2=\"pok\",\"\",IF(A78=\"\",\"\",IFERROR(IF(SEARCH($Q$3,'LISTE DES SITUATIONS'!E75)>=1,1,\"\"),\"\")))","v":""},{"$f":"IF($AA$2=\"pok\",\"\",IF(A78=\"\",\"\",IFERROR(IF(SEARCH($R$3,'LISTE DES SITUATIONS'!E75)>=1,1,\"\"),\"\")))","v":""},{"$f":"IF($AA$2=\"pok\",\"\",IF(A78=\"\",\"\",IFERROR(IF(SEARCH($S$3,'LISTE DES SITUATIONS'!E75)>=1,1,\"\"),\"\")))","v":""},{"$f":"IF($AA$2=\"pok\",\"\",IF(A78=\"\",\"\",IFERROR(IF(SEARCH($T$3,'LISTE DES SITUATIONS'!E75)>=1,1,\"\"),\"\")))","v":""},{"$f":"IF($AA$2=\"pok\",\"\",IF(A78=\"\",\"\",IFERROR(IF(SEARCH($U$3,'LISTE DES SITUATIONS'!E75)>=1,1,\"\"),\"\")))","v":""},{"$f":"IF($AA$2=\"pok\",\"\",IF(A78=\"\",\"\",IFERROR(IF(SEARCH($V$3,'LISTE DES SITUATIONS'!E75)>=1,1,\"\"),\"\")))","v":""},{"$f":"IF($AA$2=\"pok\",\"\",IF(A78=\"\",\"\",IFERROR(IF(SEARCH($W$3,'LISTE DES SITUATIONS'!E75)>=1,1,\"\"),\"\")))","v":""},{"$f":"IF($AA$2=\"pok\",\"\",IF(A78=\"\",\"\",IFERROR(IF(SEARCH($X$3,'LISTE DES SITUATIONS'!E75)>=1,1,\"\"),\"\")))","v":""},{"$f":"IF($AA$2=\"pok\",\"\",IF(A78=\"\",\"\",IFERROR(IF(SEARCH($Y$3,'LISTE DES SITUATIONS'!E75)>=1,1,\"\"),\"\")))","v":""},{"$f":"IF($AA$2=\"pok\",\"\",IF(A78=\"\",\"\",IFERROR(IF(SEARCH($Z$3,'LISTE DES SITUATIONS'!E75)>=1,1,\"\"),\"\")))","v":""},0]
[{"$f":"IF('LISTE DES SITUATIONS'!A76=\"\",\"\",'LISTE DES SITUATIONS'!A76)","v":""},{"$f":"IF(A79=\"\",\"\",VLOOKUP(A79,'LISTE DES SITUATIONS'!A:B,2,FALSE))","v":""},{"$f":"IF($AA$2=\"pok\",\"\",IF(A79=\"\",\"\",IFERROR(IF(SEARCH($C$3,'LISTE DES SITUATIONS'!E76)>=1,1,\"\"),\"\")))","v":""},{"$f":"IF($AA$2=\"pok\",\"\",IF(A79=\"\",\"\",IFERROR(IF(SEARCH($D$3,'LISTE DES SITUATIONS'!E76)>=1,1,\"\"),\"\")))","v":""},{"$f":"IF($AA$2=\"pok\",\"\",IF(A79=\"\",\"\",IFERROR(IF(SEARCH($E$3,'LISTE DES SITUATIONS'!E76)>=1,1,\"\"),\"\")))","v":""},{"$f":"IF($AA$2=\"pok\",\"\",IF(A79=\"\",\"\",IFERROR(IF(SEARCH($F$3,'LISTE DES SITUATIONS'!E76)>=1,1,\"\"),\"\")))","v":""},{"$f":"IF($AA$2=\"pok\",\"\",IF(A79=\"\",\"\",IFERROR(IF(SEARCH($G$3,'LISTE DES SITUATIONS'!E76)>=1,1,\"\"),\"\")))","v":""},{"$f":"IF($AA$2=\"pok\",\"\",IF(A79=\"\",\"\",IFERROR(IF(SEARCH($H$3,'LISTE DES SITUATIONS'!E76)>=1,1,\"\"),\"\")))","v":""},{"$f":"IF($AA$2=\"pok\",\"\",IF(A79=\"\",\"\",IFERROR(IF(SEARCH($I$3,'LISTE DES SITUATIONS'!E76)>=1,1,\"\"),\"\")))","v":""},{"$f":"IF($AA$2=\"pok\",\"\",IF(A79=\"\",\"\",IFERROR(IF(SEARCH($J$3,'LISTE DES SITUATIONS'!E76)>=1,1,\"\"),\"\")))","v":""},{"$f":"IF($AA$2=\"pok\",\"\",IF(A79=\"\",\"\",IFERROR(IF(SEARCH($K$3,'LISTE DES SITUATIONS'!E76)>=1,1,\"\"),\"\")))","v":""},{"$f":"IF($AA$2=\"pok\",\"\",IF(A79=\"\",\"\",IFERROR(IF(SEARCH($L$3,'LISTE DES SITUATIONS'!E76)>=1,1,\"\"),\"\")))","v":""},{"$f":"IF($AA$2=\"pok\",\"\",IF(A79=\"\",\"\",IFERROR(IF(SEARCH($M$3,'LISTE DES SITUATIONS'!E76)>=1,1,\"\"),\"\")))","v":""},{"$f":"IF($AA$2=\"pok\",\"\",IF(A79=\"\",\"\",IFERROR(IF(SEARCH($N$3,'LISTE DES SITUATIONS'!E76)>=1,1,\"\"),\"\")))","v":""},{"$f":"IF($AA$2=\"pok\",\"\",IF(A79=\"\",\"\",IFERROR(IF(SEARCH($O$3,'LISTE DES SITUATIONS'!E76)>=1,1,\"\"),\"\")))","v":""},{"$f":"IF($AA$2=\"pok\",\"\",IF(A79=\"\",\"\",IFERROR(IF(SEARCH($P$3,'LISTE DES SITUATIONS'!E76)>=1,1,\"\"),\"\")))","v":""},{"$f":"IF($AA$2=\"pok\",\"\",IF(A79=\"\",\"\",IFERROR(IF(SEARCH($Q$3,'LISTE DES SITUATIONS'!E76)>=1,1,\"\"),\"\")))","v":""},{"$f":"IF($AA$2=\"pok\",\"\",IF(A79=\"\",\"\",IFERROR(IF(SEARCH($R$3,'LISTE DES SITUATIONS'!E76)>=1,1,\"\"),\"\")))","v":""},{"$f":"IF($AA$2=\"pok\",\"\",IF(A79=\"\",\"\",IFERROR(IF(SEARCH($S$3,'LISTE DES SITUATIONS'!E76)>=1,1,\"\"),\"\")))","v":""},{"$f":"IF($AA$2=\"pok\",\"\",IF(A79=\"\",\"\",IFERROR(IF(SEARCH($T$3,'LISTE DES SITUATIONS'!E76)>=1,1,\"\"),\"\")))","v":""},{"$f":"IF($AA$2=\"pok\",\"\",IF(A79=\"\",\"\",IFERROR(IF(SEARCH($U$3,'LISTE DES SITUATIONS'!E76)>=1,1,\"\"),\"\")))","v":""},{"$f":"IF($AA$2=\"pok\",\"\",IF(A79=\"\",\"\",IFERROR(IF(SEARCH($V$3,'LISTE DES SITUATIONS'!E76)>=1,1,\"\"),\"\")))","v":""},{"$f":"IF($AA$2=\"pok\",\"\",IF(A79=\"\",\"\",IFERROR(IF(SEARCH($W$3,'LISTE DES SITUATIONS'!E76)>=1,1,\"\"),\"\")))","v":""},{"$f":"IF($AA$2=\"pok\",\"\",IF(A79=\"\",\"\",IFERROR(IF(SEARCH($X$3,'LISTE DES SITUATIONS'!E76)>=1,1,\"\"),\"\")))","v":""},{"$f":"IF($AA$2=\"pok\",\"\",IF(A79=\"\",\"\",IFERROR(IF(SEARCH($Y$3,'LISTE DES SITUATIONS'!E76)>=1,1,\"\"),\"\")))","v":""},{"$f":"IF($AA$2=\"pok\",\"\",IF(A79=\"\",\"\",IFERROR(IF(SEARCH($Z$3,'LISTE DES SITUATIONS'!E76)>=1,1,\"\"),\"\")))","v":""},0]
[{"$f":"IF('LISTE DES SITUATIONS'!A77=\"\",\"\",'LISTE DES SITUATIONS'!A77)","v":""},{"$f":"IF(A80=\"\",\"\",VLOOKUP(A80,'LISTE DES SITUATIONS'!A:B,2,FALSE))","v":""},{"$f":"IF($AA$2=\"pok\",\"\",IF(A80=\"\",\"\",IFERROR(IF(SEARCH($C$3,'LISTE DES SITUATIONS'!E77)>=1,1,\"\"),\"\")))","v":""},{"$f":"IF($AA$2=\"pok\",\"\",IF(A80=\"\",\"\",IFERROR(IF(SEARCH($D$3,'LISTE DES SITUATIONS'!E77)>=1,1,\"\"),\"\")))","v":""},{"$f":"IF($AA$2=\"pok\",\"\",IF(A80=\"\",\"\",IFERROR(IF(SEARCH($E$3,'LISTE DES SITUATIONS'!E77)>=1,1,\"\"),\"\")))","v":""},{"$f":"IF($AA$2=\"pok\",\"\",IF(A80=\"\",\"\",IFERROR(IF(SEARCH($F$3,'LISTE DES SITUATIONS'!E77)>=1,1,\"\"),\"\")))","v":""},{"$f":"IF($AA$2=\"pok\",\"\",IF(A80=\"\",\"\",IFERROR(IF(SEARCH($G$3,'LISTE DES SITUATIONS'!E77)>=1,1,\"\"),\"\")))","v":""},{"$f":"IF($AA$2=\"pok\",\"\",IF(A80=\"\",\"\",IFERROR(IF(SEARCH($H$3,'LISTE DES SITUATIONS'!E77)>=1,1,\"\"),\"\")))","v":""},{"$f":"IF($AA$2=\"pok\",\"\",IF(A80=\"\",\"\",IFERROR(IF(SEARCH($I$3,'LISTE DES SITUATIONS'!E77)>=1,1,\"\"),\"\")))","v":""},{"$f":"IF($AA$2=\"pok\",\"\",IF(A80=\"\",\"\",IFERROR(IF(SEARCH($J$3,'LISTE DES SITUATIONS'!E77)>=1,1,\"\"),\"\")))","v":""},{"$f":"IF($AA$2=\"pok\",\"\",IF(A80=\"\",\"\",IFERROR(IF(SEARCH($K$3,'LISTE DES SITUATIONS'!E77)>=1,1,\"\"),\"\")))","v":""},{"$f":"IF($AA$2=\"pok\",\"\",IF(A80=\"\",\"\",IFERROR(IF(SEARCH($L$3,'LISTE DES SITUATIONS'!E77)>=1,1,\"\"),\"\")))","v":""},{"$f":"IF($AA$2=\"pok\",\"\",IF(A80=\"\",\"\",IFERROR(IF(SEARCH($M$3,'LISTE DES SITUATIONS'!E77)>=1,1,\"\"),\"\")))","v":""},{"$f":"IF($AA$2=\"pok\",\"\",IF(A80=\"\",\"\",IFERROR(IF(SEARCH($N$3,'LISTE DES SITUATIONS'!E77)>=1,1,\"\"),\"\")))","v":""},{"$f":"IF($AA$2=\"pok\",\"\",IF(A80=\"\",\"\",IFERROR(IF(SEARCH($O$3,'LISTE DES SITUATIONS'!E77)>=1,1,\"\"),\"\")))","v":""},{"$f":"IF($AA$2=\"pok\",\"\",IF(A80=\"\",\"\",IFERROR(IF(SEARCH($P$3,'LISTE DES SITUATIONS'!E77)>=1,1,\"\"),\"\")))","v":""},{"$f":"IF($AA$2=\"pok\",\"\",IF(A80=\"\",\"\",IFERROR(IF(SEARCH($Q$3,'LISTE DES SITUATIONS'!E77)>=1,1,\"\"),\"\")))","v":""},{"$f":"IF($AA$2=\"pok\",\"\",IF(A80=\"\",\"\",IFERROR(IF(SEARCH($R$3,'LISTE DES SITUATIONS'!E77)>=1,1,\"\"),\"\")))","v":""},{"$f":"IF($AA$2=\"pok\",\"\",IF(A80=\"\",\"\",IFERROR(IF(SEARCH($S$3,'LISTE DES SITUATIONS'!E77)>=1,1,\"\"),\"\")))","v":""},{"$f":"IF($AA$2=\"pok\",\"\",IF(A80=\"\",\"\",IFERROR(IF(SEARCH($T$3,'LISTE DES SITUATIONS'!E77)>=1,1,\"\"),\"\")))","v":""},{"$f":"IF($AA$2=\"pok\",\"\",IF(A80=\"\",\"\",IFERROR(IF(SEARCH($U$3,'LISTE DES SITUATIONS'!E77)>=1,1,\"\"),\"\")))","v":""},{"$f":"IF($AA$2=\"pok\",\"\",IF(A80=\"\",\"\",IFERROR(IF(SEARCH($V$3,'LISTE DES SITUATIONS'!E77)>=1,1,\"\"),\"\")))","v":""},{"$f":"IF($AA$2=\"pok\",\"\",IF(A80=\"\",\"\",IFERROR(IF(SEARCH($W$3,'LISTE DES SITUATIONS'!E77)>=1,1,\"\"),\"\")))","v":""},{"$f":"IF($AA$2=\"pok\",\"\",IF(A80=\"\",\"\",IFERROR(IF(SEARCH($X$3,'LISTE DES SITUATIONS'!E77)>=1,1,\"\"),\"\")))","v":""},{"$f":"IF($AA$2=\"pok\",\"\",IF(A80=\"\",\"\",IFERROR(IF(SEARCH($Y$3,'LISTE DES SITUATIONS'!E77)>=1,1,\"\"),\"\")))","v":""},{"$f":"IF($AA$2=\"pok\",\"\",IF(A80=\"\",\"\",IFERROR(IF(SEARCH($Z$3,'LISTE DES SITUATIONS'!E77)>=1,1,\"\"),\"\")))","v":""},0]
[{"$f":"IF('LISTE DES SITUATIONS'!A78=\"\",\"\",'LISTE DES SITUATIONS'!A78)","v":""},{"$f":"IF(A81=\"\",\"\",VLOOKUP(A81,'LISTE DES SITUATIONS'!A:B,2,FALSE))","v":""},{"$f":"IF($AA$2=\"pok\",\"\",IF(A81=\"\",\"\",IFERROR(IF(SEARCH($C$3,'LISTE DES SITUATIONS'!E78)>=1,1,\"\"),\"\")))","v":""},{"$f":"IF($AA$2=\"pok\",\"\",IF(A81=\"\",\"\",IFERROR(IF(SEARCH($D$3,'LISTE DES SITUATIONS'!E78)>=1,1,\"\"),\"\")))","v":""},{"$f":"IF($AA$2=\"pok\",\"\",IF(A81=\"\",\"\",IFERROR(IF(SEARCH($E$3,'LISTE DES SITUATIONS'!E78)>=1,1,\"\"),\"\")))","v":""},{"$f":"IF($AA$2=\"pok\",\"\",IF(A81=\"\",\"\",IFERROR(IF(SEARCH($F$3,'LISTE DES SITUATIONS'!E78)>=1,1,\"\"),\"\")))","v":""},{"$f":"IF($AA$2=\"pok\",\"\",IF(A81=\"\",\"\",IFERROR(IF(SEARCH($G$3,'LISTE DES SITUATIONS'!E78)>=1,1,\"\"),\"\")))","v":""},{"$f":"IF($AA$2=\"pok\",\"\",IF(A81=\"\",\"\",IFERROR(IF(SEARCH($H$3,'LISTE DES SITUATIONS'!E78)>=1,1,\"\"),\"\")))","v":""},{"$f":"IF($AA$2=\"pok\",\"\",IF(A81=\"\",\"\",IFERROR(IF(SEARCH($I$3,'LISTE DES SITUATIONS'!E78)>=1,1,\"\"),\"\")))","v":""},{"$f":"IF($AA$2=\"pok\",\"\",IF(A81=\"\",\"\",IFERROR(IF(SEARCH($J$3,'LISTE DES SITUATIONS'!E78)>=1,1,\"\"),\"\")))","v":""},{"$f":"IF($AA$2=\"pok\",\"\",IF(A81=\"\",\"\",IFERROR(IF(SEARCH($K$3,'LISTE DES SITUATIONS'!E78)>=1,1,\"\"),\"\")))","v":""},{"$f":"IF($AA$2=\"pok\",\"\",IF(A81=\"\",\"\",IFERROR(IF(SEARCH($L$3,'LISTE DES SITUATIONS'!E78)>=1,1,\"\"),\"\")))","v":""},{"$f":"IF($AA$2=\"pok\",\"\",IF(A81=\"\",\"\",IFERROR(IF(SEARCH($M$3,'LISTE DES SITUATIONS'!E78)>=1,1,\"\"),\"\")))","v":""},{"$f":"IF($AA$2=\"pok\",\"\",IF(A81=\"\",\"\",IFERROR(IF(SEARCH($N$3,'LISTE DES SITUATIONS'!E78)>=1,1,\"\"),\"\")))","v":""},{"$f":"IF($AA$2=\"pok\",\"\",IF(A81=\"\",\"\",IFERROR(IF(SEARCH($O$3,'LISTE DES SITUATIONS'!E78)>=1,1,\"\"),\"\")))","v":""},{"$f":"IF($AA$2=\"pok\",\"\",IF(A81=\"\",\"\",IFERROR(IF(SEARCH($P$3,'LISTE DES SITUATIONS'!E78)>=1,1,\"\"),\"\")))","v":""},{"$f":"IF($AA$2=\"pok\",\"\",IF(A81=\"\",\"\",IFERROR(IF(SEARCH($Q$3,'LISTE DES SITUATIONS'!E78)>=1,1,\"\"),\"\")))","v":""},{"$f":"IF($AA$2=\"pok\",\"\",IF(A81=\"\",\"\",IFERROR(IF(SEARCH($R$3,'LISTE DES SITUATIONS'!E78)>=1,1,\"\"),\"\")))","v":""},{"$f":"IF($AA$2=\"pok\",\"\",IF(A81=\"\",\"\",IFERROR(IF(SEARCH($S$3,'LISTE DES SITUATIONS'!E78)>=1,1,\"\"),\"\")))","v":""},{"$f":"IF($AA$2=\"pok\",\"\",IF(A81=\"\",\"\",IFERROR(IF(SEARCH($T$3,'LISTE DES SITUATIONS'!E78)>=1,1,\"\"),\"\")))","v":""},{"$f":"IF($AA$2=\"pok\",\"\",IF(A81=\"\",\"\",IFERROR(IF(SEARCH($U$3,'LISTE DES SITUATIONS'!E78)>=1,1,\"\"),\"\")))","v":""},{"$f":"IF($AA$2=\"pok\",\"\",IF(A81=\"\",\"\",IFERROR(IF(SEARCH($V$3,'LISTE DES SITUATIONS'!E78)>=1,1,\"\"),\"\")))","v":""},{"$f":"IF($AA$2=\"pok\",\"\",IF(A81=\"\",\"\",IFERROR(IF(SEARCH($W$3,'LISTE DES SITUATIONS'!E78)>=1,1,\"\"),\"\")))","v":""},{"$f":"IF($AA$2=\"pok\",\"\",IF(A81=\"\",\"\",IFERROR(IF(SEARCH($X$3,'LISTE DES SITUATIONS'!E78)>=1,1,\"\"),\"\")))","v":""},{"$f":"IF($AA$2=\"pok\",\"\",IF(A81=\"\",\"\",IFERROR(IF(SEARCH($Y$3,'LISTE DES SITUATIONS'!E78)>=1,1,\"\"),\"\")))","v":""},{"$f":"IF($AA$2=\"pok\",\"\",IF(A81=\"\",\"\",IFERROR(IF(SEARCH($Z$3,'LISTE DES SITUATIONS'!E78)>=1,1,\"\"),\"\")))","v":""},0]
[{"$f":"IF('LISTE DES SITUATIONS'!A79=\"\",\"\",'LISTE DES SITUATIONS'!A79)","v":""},{"$f":"IF(A82=\"\",\"\",VLOOKUP(A82,'LISTE DES SITUATIONS'!A:B,2,FALSE))","v":""},{"$f":"IF($AA$2=\"pok\",\"\",IF(A82=\"\",\"\",IFERROR(IF(SEARCH($C$3,'LISTE DES SITUATIONS'!E79)>=1,1,\"\"),\"\")))","v":""},{"$f":"IF($AA$2=\"pok\",\"\",IF(A82=\"\",\"\",IFERROR(IF(SEARCH($D$3,'LISTE DES SITUATIONS'!E79)>=1,1,\"\"),\"\")))","v":""},{"$f":"IF($AA$2=\"pok\",\"\",IF(A82=\"\",\"\",IFERROR(IF(SEARCH($E$3,'LISTE DES SITUATIONS'!E79)>=1,1,\"\"),\"\")))","v":""},{"$f":"IF($AA$2=\"pok\",\"\",IF(A82=\"\",\"\",IFERROR(IF(SEARCH($F$3,'LISTE DES SITUATIONS'!E79)>=1,1,\"\"),\"\")))","v":""},{"$f":"IF($AA$2=\"pok\",\"\",IF(A82=\"\",\"\",IFERROR(IF(SEARCH($G$3,'LISTE DES SITUATIONS'!E79)>=1,1,\"\"),\"\")))","v":""},{"$f":"IF($AA$2=\"pok\",\"\",IF(A82=\"\",\"\",IFERROR(IF(SEARCH($H$3,'LISTE DES SITUATIONS'!E79)>=1,1,\"\"),\"\")))","v":""},{"$f":"IF($AA$2=\"pok\",\"\",IF(A82=\"\",\"\",IFERROR(IF(SEARCH($I$3,'LISTE DES SITUATIONS'!E79)>=1,1,\"\"),\"\")))","v":""},{"$f":"IF($AA$2=\"pok\",\"\",IF(A82=\"\",\"\",IFERROR(IF(SEARCH($J$3,'LISTE DES SITUATIONS'!E79)>=1,1,\"\"),\"\")))","v":""},{"$f":"IF($AA$2=\"pok\",\"\",IF(A82=\"\",\"\",IFERROR(IF(SEARCH($K$3,'LISTE DES SITUATIONS'!E79)>=1,1,\"\"),\"\")))","v":""},{"$f":"IF($AA$2=\"pok\",\"\",IF(A82=\"\",\"\",IFERROR(IF(SEARCH($L$3,'LISTE DES SITUATIONS'!E79)>=1,1,\"\"),\"\")))","v":""},{"$f":"IF($AA$2=\"pok\",\"\",IF(A82=\"\",\"\",IFERROR(IF(SEARCH($M$3,'LISTE DES SITUATIONS'!E79)>=1,1,\"\"),\"\")))","v":""},{"$f":"IF($AA$2=\"pok\",\"\",IF(A82=\"\",\"\",IFERROR(IF(SEARCH($N$3,'LISTE DES SITUATIONS'!E79)>=1,1,\"\"),\"\")))","v":""},{"$f":"IF($AA$2=\"pok\",\"\",IF(A82=\"\",\"\",IFERROR(IF(SEARCH($O$3,'LISTE DES SITUATIONS'!E79)>=1,1,\"\"),\"\")))","v":""},{"$f":"IF($AA$2=\"pok\",\"\",IF(A82=\"\",\"\",IFERROR(IF(SEARCH($P$3,'LISTE DES SITUATIONS'!E79)>=1,1,\"\"),\"\")))","v":""},{"$f":"IF($AA$2=\"pok\",\"\",IF(A82=\"\",\"\",IFERROR(IF(SEARCH($Q$3,'LISTE DES SITUATIONS'!E79)>=1,1,\"\"),\"\")))","v":""},{"$f":"IF($AA$2=\"pok\",\"\",IF(A82=\"\",\"\",IFERROR(IF(SEARCH($R$3,'LISTE DES SITUATIONS'!E79)>=1,1,\"\"),\"\")))","v":""},{"$f":"IF($AA$2=\"pok\",\"\",IF(A82=\"\",\"\",IFERROR(IF(SEARCH($S$3,'LISTE DES SITUATIONS'!E79)>=1,1,\"\"),\"\")))","v":""},{"$f":"IF($AA$2=\"pok\",\"\",IF(A82=\"\",\"\",IFERROR(IF(SEARCH($T$3,'LISTE DES SITUATIONS'!E79)>=1,1,\"\"),\"\")))","v":""},{"$f":"IF($AA$2=\"pok\",\"\",IF(A82=\"\",\"\",IFERROR(IF(SEARCH($U$3,'LISTE DES SITUATIONS'!E79)>=1,1,\"\"),\"\")))","v":""},{"$f":"IF($AA$2=\"pok\",\"\",IF(A82=\"\",\"\",IFERROR(IF(SEARCH($V$3,'LISTE DES SITUATIONS'!E79)>=1,1,\"\"),\"\")))","v":""},{"$f":"IF($AA$2=\"pok\",\"\",IF(A82=\"\",\"\",IFERROR(IF(SEARCH($W$3,'LISTE DES SITUATIONS'!E79)>=1,1,\"\"),\"\")))","v":""},{"$f":"IF($AA$2=\"pok\",\"\",IF(A82=\"\",\"\",IFERROR(IF(SEARCH($X$3,'LISTE DES SITUATIONS'!E79)>=1,1,\"\"),\"\")))","v":""},{"$f":"IF($AA$2=\"pok\",\"\",IF(A82=\"\",\"\",IFERROR(IF(SEARCH($Y$3,'LISTE DES SITUATIONS'!E79)>=1,1,\"\"),\"\")))","v":""},{"$f":"IF($AA$2=\"pok\",\"\",IF(A82=\"\",\"\",IFERROR(IF(SEARCH($Z$3,'LISTE DES SITUATIONS'!E79)>=1,1,\"\"),\"\")))","v":""},0]

{"sheet":"COUVERTURE ET","index":9,"n_rows":234,"n_cols":26,"rows_kept":234,"cut":false,"hidden":false,"merged":[]}
["RETOURNER A L'ACCUEIL","C111 - Rechercher des clients par prospection","C112 - Rechercher des clients  pour répondre à un appel d'offres","C12.1 - Traiter la demande du client (de la demande de devis jusqu'à la facturation)","C12.2 - Relancer les éventuels impayés","C13.1 - Informer, conseiller, orienter","C13.2 - Traiter les réclamations","C14 - Rechercher et sélectionner les fournisseurs","C15.1 - Passer des commandes d'achat et d'immobilisation et les contrôler, valider le règlement","C15.2 - Evaluer les fournisseurs","C16.1 - Contrôler les enregistrements comptables","C16.2 - Analyser les comptes de tiers","C16.4 - Réaliser un rapprochement bancaire","C16.5- Calculer et déclarer la TVA","Mettre en œuvre l'environnement numérique","Sélectionner des outils ou services informatiques et numériques de communication adaptés au contexte et usages","Maîtriser et utiliser des fonctionnalités du PGI et du tableur","Maîtriser et utiliser des fonctionnalités des outils de messagerie, du traitement de texte et du logiciel de PREAO","Communiquer des informations fiables","Valoriser l'image de l'entreprise","Analyser des contextes de communication écrite","Produire des documents écrits de qualité professionnelle ","Etre efficace dans sa communication écrite","Analyser des contextes de communication orale","Etre efficace dans sa communication orale"]
["Accéder à la synthèse des évaluations",null,null,null,null,null,null,null,null,null,null,null,null,null,null,null,null,null,null,null,null,null,null,null,null,"ok"]
["Colonne1","Colonne2","Colonne3","Colonne4","Colonne5","Colonne6","Colonne7","Colonne8","Colonne9","Colonne10","Colonne11","Colonne12","Colonne13","Colonne14","Colonne15","Colonne16","Colonne17","Colonne18","Colonne19","Colonne20","Colonne21","Colonne22","Colonne23","Colonne24","Colonne25","Colonne26"]
["LIBELLE SP","C111","C112","C121","C122","C131","C132","C140","C151","C152","C161","C162","C164","C165","INF1","INF2","INF3","INF4","COM1","COM2","COM3","COM4","COM5","COM6","COM7","TOTAL"]
["Nombre moyen d'évaluations",{"$f":"B6/ETUDIANTS!$B$2","v":0.8},{"$f":"C6/ETUDIANTS!$B$2","v":0.8},{"$f":"D6/ETUDIANTS!$B$2","v":0.8},{"$f":"E6/ETUDIANTS!$B$2","v":0},{"$f":"F6/ETUDIANTS!$B$2","v":1.6},{"$f":"G6/ETUDIANTS!$B$2","v":1.6},{"$f":"H6/ETUDIANTS!$B$2","v":0.8},{"$f":"I6/ETUDIANTS!$B$2","v":1.6},{"$f":"J6/ETUDIANTS!$B$2","v":0},{"$f":"K6/ETUDIANTS!$B$2","v":0},{"$f":"L6/ETUDIANTS!$B$2","v":0},{"$f":"M6/ETUDIANTS!$B$2","v":0},{"$f":"N6/ETUDIANTS!$B$2","v":0},{"$f":"O6/ETUDIANTS!$B$2","v":0},{"$f":"P6/ETUDIANTS!$B$2","v":0},{"$f":"Q6/ETUDIANTS!$B$2","v":0},{"$f":"R6/ETUDIANTS!$B$2","v":0},{"$f":"S6/ETUDIANTS!$B$2","v":0},{"$f":"T6/ETUDIANTS!$B$2","v":0},{"$f":"U6/ETUDIANTS!$B$2","v":0},{"$f":"V6/ETUDIANTS!$B$2","v":0},{"$f":"W6/ETUDIANTS!$B$2","v":0},{"$f":"X6/ETUDIANTS!$B$2","v":0},{"$f":"Y6/ETUDIANTS!$B$2","v":0}]
["TOTAL EVALUATIONS",{"$f":"SUM(B7:B234)","v":4},{"$f":"SUM(C7:C234)","v":4},4,0,8,8,4,8,0,0,0,0,0,0,0,0,0,0,0,0,0,0,0,0,{"$f":"SUM(B6:Y6)","v":40}]
[{"$f":"IF(ETUDIANTS!A3=\"\",\"\",ETUDIANTS!A3)","v":"A"},{"$f":"IF($Z$2=\"pok\",\"\",IF(A7=\"\",\"\",COUNTIFS(SYNTHESE!$D:$D,A7,SYNTHESE!$E:$E,$B$1,SYNTHESE!$F:$F,\">=1\")))","v":1},{"$f":"IF($Z$2=\"pok\",\"\",IF(A7=\"\",\"\",COUNTIFS(SYNTHESE!$D:$D,A7,SYNTHESE!$E:$E,$C$1,SYNTHESE!$F:$F,\">=1\")))","v":1},{"$f":"IF($Z$2=\"pok\",\"\",IF(A7=\"\",\"\",COUNTIFS(SYNTHESE!$D:$D,A7,SYNTHESE!$E:$E,$D$1,SYNTHESE!$F:$F,\">=1\")))","v":1},{"$f":"IF($Z$2=\"pok\",\"\",IF(A7=\"\",\"\",COUNTIFS(SYNTHESE!$D:$D,A7,SYNTHESE!$E:$E,$E$1,SYNTHESE!$F:$F,\">=1\")))","v":0},{"$f":"IF($Z$2=\"pok\",\"\",IF(A7=\"\",\"\",COUNTIFS(SYNTHESE!$D:$D,A7,SYNTHESE!$E:$E,$F$1,SYNTHESE!$F:$F,\">=1\")))","v":2},{"$f":"IF($Z$2=\"pok\",\"\",IF(A7=\"\",\"\",COUNTIFS(SYNTHESE!$D:$D,A7,SYNTHESE!$E:$E,$G$1,SYNTHESE!$F:$F,\">=1\")))","v":2},{"$f":"IF($Z$2=\"pok\",\"\",IF(A7=\"\",\"\",COUNTIFS(SYNTHESE!$D:$D,A7,SYNTHESE!$E:$E,$H$1,SYNTHESE!$F:$F,\">=1\")))","v":1},{"$f":"IF($Z$2=\"pok\",\"\",IF(A7=\"\",\"\",COUNTIFS(SYNTHESE!$D:$D,A7,SYNTHESE!$E:$E,$I$1,SYNTHESE!$F:$F,\">=1\")))","v":2},{"$f":"IF($Z$2=\"pok\",\"\",IF(A7=\"\",\"\",COUNTIFS(SYNTHESE!$D:$D,A7,SYNTHESE!$E:$E,$J$1,SYNTHESE!$F:$F,\">=1\")))","v":0},{"$f":"IF($Z$2=\"pok\",\"\",IF(A7=\"\",\"\",COUNTIFS(SYNTHESE!$D:$D,A7,SYNTHESE!$E:$E,$K$1,SYNTHESE!$F:$F,\">=1\")))","v":0},{"$f":"IF($Z$2=\"pok\",\"\",IF(A7=\"\",\"\",COUNTIFS(SYNTHESE!$D:$D,A7,SYNTHESE!$E:$E,$L$1,SYNTHESE!$F:$F,\">=1\")))","v":0},{"$f":"IF($Z$2=\"pok\",\"\",IF(A7=\"\",\"\",COUNTIFS(SYNTHESE!$D:$D,A7,SYNTHESE!$E:$E,$M$1,SYNTHESE!$F:$F,\">=1\")))","v":0},{"$f":"IF($Z$2=\"pok\",\"\",IF(A7=\"\",\"\",COUNTIFS(SYNTHESE!$D:$D,A7,SYNTHESE!$E:$E,$N$1,SYNTHESE!$F:$F,\">=1\")))","v":0},{"$f":"IF($Z$2=\"pok\",\"\",IF(A7=\"\",\"\",COUNTIFS(SYNTHESE!$D:$D,A7,SYNTHESE!$E:$E,$O$1,SYNTHESE!$F:$F,\">=1\")))","v":0},{"$f":"IF($Z$2=\"pok\",\"\",IF(A7=\"\",\"\",COUNTIFS(SYNTHESE!$D:$D,A7,SYNTHESE!$E:$E,$P$1,SYNTHESE!$F:$F,\">=1\")))","v":0},{"$f":"IF($Z$2=\"pok\",\"\",IF(A7=\"\",\"\",COUNTIFS(SYNTHESE!$D:$D,A7,SYNTHESE!$E:$E,$Q$1,SYNTHESE!$F:$F,\">=1\")))","v":0},{"$f":"IF($Z$2=\"pok\",\"\",IF(A7=\"\",\"\",COUNTIFS(SYNTHESE!$D:$D,A7,SYNTHESE!$E:$E,$R$1,SYNTHESE!$F:$F,\">=1\")))","v":0},{"$f":"IF($Z$2=\"pok\",\"\",IF(A7=\"\",\"\",COUNTIFS(SYNTHESE!$D:$D,A7,SYNTHESE!$E:$E,$S$1,SYNTHESE!$F:$F,\">=1\")))","v":0},{"$f":"IF($Z$2=\"pok\",\"\",IF(A7=\"\",\"\",COUNTIFS(SYNTHESE!$D:$D,A7,SYNTHESE!$E:$E,$T$1,SYNTHESE!$F:$F,\">=1\")))","v":0},{"$f":"IF($Z$2=\"pok\",\"\",IF(A7=\"\",\"\",COUNTIFS(SYNTHESE!$D:$D,A7,SYNTHESE!$E:$E,$U$1,SYNTHESE!$F:$F,\">=1\")))","v":0},{"$f":"IF($Z$2=\"pok\",\"\",IF(A7=\"\",\"\",COUNTIFS(SYNTHESE!$D:$D,A7,SYNTHESE!$E:$E,$V$1,SYNTHESE!$F:$F,\">=1\")))","v":0},{"$f":"IF($Z$2=\"pok\",\"\",IF(A7=\"\",\"\",COUNTIFS(SYNTHESE!$D:$D,A7,SYNTHESE!$E:$E,$W$1,SYNTHESE!$F:$F,\">=1\")))","v":0},{"$f":"IF($Z$2=\"pok\",\"\",IF(A7=\"\",\"\",COUNTIFS(SYNTHESE!$D:$D,A7,SYNTHESE!$E:$E,$X$1,SYNTHESE!$F:$F,\">=1\")))","v":0},{"$f":"IF($Z$2=\"pok\",\"\",IF(A7=\"\",\"\",COUNTIFS(SYNTHESE!$D:$D,A7,SYNTHESE!$E:$E,$Y$1,SYNTHESE!$F:$F,\">=1\")))","v":0},{"$f":"SUM(B7:Y7)","v":10}]
[{"$f":"IF(ETUDIANTS!A4=\"\",\"\",ETUDIANTS!A4)","v":"B"},{"$f":"IF($Z$2=\"pok\",\"\",IF(A8=\"\",\"\",COUNTIFS(SYNTHESE!$D:$D,A8,SYNTHESE!$E:$E,$B$1,SYNTHESE!$F:$F,\">=1\")))","v":1},{"$f":"IF($Z$2=\"pok\",\"\",IF(A8=\"\",\"\",COUNTIFS(SYNTHESE!$D:$D,A8,SYNTHESE!$E:$E,$C$1,SYNTHESE!$F:$F,\">=1\")))","v":1},{"$f":"IF($Z$2=\"pok\",\"\",IF(A8=\"\",\"\",COUNTIFS(SYNTHESE!$D:$D,A8,SYNTHESE!$E:$E,$D$1,SYNTHESE!$F:$F,\">=1\")))","v":1},{"$f":"IF($Z$2=\"pok\",\"\",IF(A8=\"\",\"\",COUNTIFS(SYNTHESE!$D:$D,A8,SYNTHESE!$E:$E,$E$1,SYNTHESE!$F:$F,\">=1\")))","v":0},{"$f":"IF($Z$2=\"pok\",\"\",IF(A8=\"\",\"\",COUNTIFS(SYNTHESE!$D:$D,A8,SYNTHESE!$E:$E,$F$1,SYNTHESE!$F:$F,\">=1\")))","v":2},{"$f":"IF($Z$2=\"pok\",\"\",IF(A8=\"\",\"\",COUNTIFS(SYNTHESE!$D:$D,A8,SYNTHESE!$E:$E,$G$1,SYNTHESE!$F:$F,\">=1\")))","v":2},{"$f":"IF($Z$2=\"pok\",\"\",IF(A8=\"\",\"\",COUNTIFS(SYNTHESE!$D:$D,A8,SYNTHESE!$E:$E,$H$1,SYNTHESE!$F:$F,\">=1\")))","v":1},{"$f":"IF($Z$2=\"pok\",\"\",IF(A8=\"\",\"\",COUNTIFS(SYNTHESE!$D:$D,A8,SYNTHESE!$E:$E,$I$1,SYNTHESE!$F:$F,\">=1\")))","v":2},{"$f":"IF($Z$2=\"pok\",\"\",IF(A8=\"\",\"\",COUNTIFS(SYNTHESE!$D:$D,A8,SYNTHESE!$E:$E,$J$1,SYNTHESE!$F:$F,\">=1\")))","v":0},{"$f":"IF($Z$2=\"pok\",\"\",IF(A8=\"\",\"\",COUNTIFS(SYNTHESE!$D:$D,A8,SYNTHESE!$E:$E,$K$1,SYNTHESE!$F:$F,\">=1\")))","v":0},{"$f":"IF($Z$2=\"pok\",\"\",IF(A8=\"\",\"\",COUNTIFS(SYNTHESE!$D:$D,A8,SYNTHESE!$E:$E,$L$1,SYNTHESE!$F:$F,\">=1\")))","v":0},{"$f":"IF($Z$2=\"pok\",\"\",IF(A8=\"\",\"\",COUNTIFS(SYNTHESE!$D:$D,A8,SYNTHESE!$E:$E,$M$1,SYNTHESE!$F:$F,\">=1\")))","v":0},{"$f":"IF($Z$2=\"pok\",\"\",IF(A8=\"\",\"\",COUNTIFS(SYNTHESE!$D:$D,A8,SYNTHESE!$E:$E,$N$1,SYNTHESE!$F:$F,\">=1\")))","v":0},{"$f":"IF($Z$2=\"pok\",\"\",IF(A8=\"\",\"\",COUNTIFS(SYNTHESE!$D:$D,A8,SYNTHESE!$E:$E,$O$1,SYNTHESE!$F:$F,\">=1\")))","v":0},{"$f":"IF($Z$2=\"pok\",\"\",IF(A8=\"\",\"\",COUNTIFS(SYNTHESE!$D:$D,A8,SYNTHESE!$E:$E,$P$1,SYNTHESE!$F:$F,\">=1\")))","v":0},{"$f":"IF($Z$2=\"pok\",\"\",IF(A8=\"\",\"\",COUNTIFS(SYNTHESE!$D:$D,A8,SYNTHESE!$E:$E,$Q$1,SYNTHESE!$F:$F,\">=1\")))","v":0},{"$f":"IF($Z$2=\"pok\",\"\",IF(A8=\"\",\"\",COUNTIFS(SYNTHESE!$D:$D,A8,SYNTHESE!$E:$E,$R$1,SYNTHESE!$F:$F,\">=1\")))","v":0},{"$f":"IF($Z$2=\"pok\",\"\",IF(A8=\"\",\"\",COUNTIFS(SYNTHESE!$D:$D,A8,SYNTHESE!$E:$E,$S$1,SYNTHESE!$F:$F,\">=1\")))","v":0},{"$f":"IF($Z$2=\"pok\",\"\",IF(A8=\"\",\"\",COUNTIFS(SYNTHESE!$D:$D,A8,SYNTHESE!$E:$E,$T$1,SYNTHESE!$F:$F,\">=1\")))","v":0},{"$f":"IF($Z$2=\"pok\",\"\",IF(A8=\"\",\"\",COUNTIFS(SYNTHESE!$D:$D,A8,SYNTHESE!$E:$E,$U$1,SYNTHESE!$F:$F,\">=1\")))","v":0},{"$f":"IF($Z$2=\"pok\",\"\",IF(A8=\"\",\"\",COUNTIFS(SYNTHESE!$D:$D,A8,SYNTHESE!$E:$E,$V$1,SYNTHESE!$F:$F,\">=1\")))","v":0},{"$f":"IF($Z$2=\"pok\",\"\",IF(A8=\"\",\"\",COUNTIFS(SYNTHESE!$D:$D,A8,SYNTHESE!$E:$E,$W$1,SYNTHESE!$F:$F,\">=1\")))","v":0},{"$f":"IF($Z$2=\"pok\",\"\",IF(A8=\"\",\"\",COUNTIFS(SYNTHESE!$D:$D,A8,SYNTHESE!$E:$E,$X$1,SYNTHESE!$F:$F,\">=1\")))","v":0},{"$f":"IF($Z$2=\"pok\",\"\",IF(A8=\"\",\"\",COUNTIFS(SYNTHESE!$D:$D,A8,SYNTHESE!$E:$E,$Y$1,SYNTHESE!$F:$F,\">=1\")))","v":0},10]
[{"$f":"IF(ETUDIANTS!A5=\"\",\"\",ETUDIANTS!A5)","v":"C"},{"$f":"IF($Z$2=\"pok\",\"\",IF(A9=\"\",\"\",COUNTIFS(SYNTHESE!$D:$D,A9,SYNTHESE!$E:$E,$B$1,SYNTHESE!$F:$F,\">=1\")))","v":1},{"$f":"IF($Z$2=\"pok\",\"\",IF(A9=\"\",\"\",COUNTIFS(SYNTHESE!$D:$D,A9,SYNTHESE!$E:$E,$C$1,SYNTHESE!$F:$F,\">=1\")))","v":1},{"$f":"IF($Z$2=\"pok\",\"\",IF(A9=\"\",\"\",COUNTIFS(SYNTHESE!$D:$D,A9,SYNTHESE!$E:$E,$D$1,SYNTHESE!$F:$F,\">=1\")))","v":1},{"$f":"IF($Z$2=\"pok\",\"\",IF(A9=\"\",\"\",COUNTIFS(SYNTHESE!$D:$D,A9,SYNTHESE!$E:$E,$E$1,SYNTHESE!$F:$F,\">=1\")))","v":0},{"$f":"IF($Z$2=\"pok\",\"\",IF(A9=\"\",\"\",COUNTIFS(SYNTHESE!$D:$D,A9,SYNTHESE!$E:$E,$F$1,SYNTHESE!$F:$F,\">=1\")))","v":2},{"$f":"IF($Z$2=\"pok\",\"\",IF(A9=\"\",\"\",COUNTIFS(SYNTHESE!$D:$D,A9,SYNTHESE!$E:$E,$G$1,SYNTHESE!$F:$F,\">=1\")))","v":2},{"$f":"IF($Z$2=\"pok\",\"\",IF(A9=\"\",\"\",COUNTIFS(SYNTHESE!$D:$D,A9,SYNTHESE!$E:$E,$H$1,SYNTHESE!$F:$F,\">=1\")))","v":1},{"$f":"IF($Z$2=\"pok\",\"\",IF(A9=\"\",\"\",COUNTIFS(SYNTHESE!$D:$D,A9,SYNTHESE!$E:$E,$I$1,SYNTHESE!$F:$F,\">=1\")))","v":2},{"$f":"IF($Z$2=\"pok\",\"\",IF(A9=\"\",\"\",COUNTIFS(SYNTHESE!$D:$D,A9,SYNTHESE!$E:$E,$J$1,SYNTHESE!$F:$F,\">=1\")))","v":0},{"$f":"IF($Z$2=\"pok\",\"\",IF(A9=\"\",\"\",COUNTIFS(SYNTHESE!$D:$D,A9,SYNTHESE!$E:$E,$K$1,SYNTHESE!$F:$F,\">=1\")))","v":0},{"$f":"IF($Z$2=\"pok\",\"\",IF(A9=\"\",\"\",COUNTIFS(SYNTHESE!$D:$D,A9,SYNTHESE!$E:$E,$L$1,SYNTHESE!$F:$F,\">=1\")))","v":0},{"$f":"IF($Z$2=\"pok\",\"\",IF(A9=\"\",\"\",COUNTIFS(SYNTHESE!$D:$D,A9,SYNTHESE!$E:$E,$M$1,SYNTHESE!$F:$F,\">=1\")))","v":0},{"$f":"IF($Z$2=\"pok\",\"\",IF(A9=\"\",\"\",COUNTIFS(SYNTHESE!$D:$D,A9,SYNTHESE!$E:$E,$N$1,SYNTHESE!$F:$F,\">=1\")))","v":0},{"$f":"IF($Z$2=\"pok\",\"\",IF(A9=\"\",\"\",COUNTIFS(SYNTHESE!$D:$D,A9,SYNTHESE!$E:$E,$O$1,SYNTHESE!$F:$F,\">=1\")))","v":0},{"$f":"IF($Z$2=\"pok\",\"\",IF(A9=\"\",\"\",COUNTIFS(SYNTHESE!$D:$D,A9,SYNTHESE!$E:$E,$P$1,SYNTHESE!$F:$F,\">=1\")))","v":0},{"$f":"IF($Z$2=\"pok\",\"\",IF(A9=\"\",\"\",COUNTIFS(SYNTHESE!$D:$D,A9,SYNTHESE!$E:$E,$Q$1,SYNTHESE!$F:$F,\">=1\")))","v":0},{"$f":"IF($Z$2=\"pok\",\"\",IF(A9=\"\",\"\",COUNTIFS(SYNTHESE!$D:$D,A9,SYNTHESE!$E:$E,$R$1,SYNTHESE!$F:$F,\">=1\")))","v":0},{"$f":"IF($Z$2=\"pok\",\"\",IF(A9=\"\",\"\",COUNTIFS(SYNTHESE!$D:$D,A9,SYNTHESE!$E:$E,$S$1,SYNTHESE!$F:$F,\">=1\")))","v":0},{"$f":"IF($Z$2=\"pok\",\"\",IF(A9=\"\",\"\",COUNTIFS(SYNTHESE!$D:$D,A9,SYNTHESE!$E:$E,$T$1,SYNTHESE!$F:$F,\">=1\")))","v":0},{"$f":"IF($Z$2=\"pok\",\"\",IF(A9=\"\",\"\",COUNTIFS(SYNTHESE!$D:$D,A9,SYNTHESE!$E:$E,$U$1,SYNTHESE!$F:$F,\">=1\")))","v":0},{"$f":"IF($Z$2=\"pok\",\"\",IF(A9=\"\",\"\",COUNTIFS(SYNTHESE!$D:$D,A9,SYNTHESE!$E:$E,$V$1,SYNTHESE!$F:$F,\">=1\")))","v":0},{"$f":"IF($Z$2=\"pok\",\"\",IF(A9=\"\",\"\",COUNTIFS(SYNTHESE!$D:$D,A9,SYNTHESE!$E:$E,$W$1,SYNTHESE!$F:$F,\">=1\")))","v":0},{"$f":"IF($Z$2=\"pok\",\"\",IF(A9=\"\",\"\",COUNTIFS(SYNTHESE!$D:$D,A9,SYNTHESE!$E:$E,$X$1,SYNTHESE!$F:$F,\">=1\")))","v":0},{"$f":"IF($Z$2=\"pok\",\"\",IF(A9=\"\",\"\",COUNTIFS(SYNTHESE!$D:$D,A9,SYNTHESE!$E:$E,$Y$1,SYNTHESE!$F:$F,\">=1\")))","v":0},10]
[{"$f":"IF(ETUDIANTS!A6=\"\",\"\",ETUDIANTS!A6)","v":"D"},{"$f":"IF($Z$2=\"pok\",\"\",IF(A10=\"\",\"\",COUNTIFS(SYNTHESE!$D:$D,A10,SYNTHESE!$E:$E,$B$1,SYNTHESE!$F:$F,\">=1\")))","v":1},{"$f":"IF($Z$2=\"pok\",\"\",IF(A10=\"\",\"\",COUNTIFS(SYNTHESE!$D:$D,A10,SYNTHESE!$E:$E,$C$1,SYNTHESE!$F:$F,\">=1\")))","v":1},{"$f":"IF($Z$2=\"pok\",\"\",IF(A10=\"\",\"\",COUNTIFS(SYNTHESE!$D:$D,A10,SYNTHESE!$E:$E,$D$1,SYNTHESE!$F:$F,\">=1\")))","v":1},{"$f":"IF($Z$2=\"pok\",\"\",IF(A10=\"\",\"\",COUNTIFS(SYNTHESE!$D:$D,A10,SYNTHESE!$E:$E,$E$1,SYNTHESE!$F:$F,\">=1\")))","v":0},{"$f":"IF($Z$2=\"pok\",\"\",IF(A10=\"\",\"\",COUNTIFS(SYNTHESE!$D:$D,A10,SYNTHESE!$E:$E,$F$1,SYNTHESE!$F:$F,\">=1\")))","v":2},{"$f":"IF($Z$2=\"pok\",\"\",IF(A10=\"\",\"\",COUNTIFS(SYNTHESE!$D:$D,A10,SYNTHESE!$E:$E,$G$1,SYNTHESE!$F:$F,\">=1\")))","v":2},{"$f":"IF($Z$2=\"pok\",\"\",IF(A10=\"\",\"\",COUNTIFS(SYNTHESE!$D:$D,A10,SYNTHESE!$E:$E,$H$1,SYNTHESE!$F:$F,\">=1\")))","v":1},{"$f":"IF($Z$2=\"pok\",\"\",IF(A10=\"\",\"\",COUNTIFS(SYNTHESE!$D:$D,A10,SYNTHESE!$E:$E,$I$1,SYNTHESE!$F:$F,\">=1\")))","v":2},{"$f":"IF($Z$2=\"pok\",\"\",IF(A10=\"\",\"\",COUNTIFS(SYNTHESE!$D:$D,A10,SYNTHESE!$E:$E,$J$1,SYNTHESE!$F:$F,\">=1\")))","v":0},{"$f":"IF($Z$2=\"pok\",\"\",IF(A10=\"\",\"\",COUNTIFS(SYNTHESE!$D:$D,A10,SYNTHESE!$E:$E,$K$1,SYNTHESE!$F:$F,\">=1\")))","v":0},{"$f":"IF($Z$2=\"pok\",\"\",IF(A10=\"\",\"\",COUNTIFS(SYNTHESE!$D:$D,A10,SYNTHESE!$E:$E,$L$1,SYNTHESE!$F:$F,\">=1\")))","v":0},{"$f":"IF($Z$2=\"pok\",\"\",IF(A10=\"\",\"\",COUNTIFS(SYNTHESE!$D:$D,A10,SYNTHESE!$E:$E,$M$1,SYNTHESE!$F:$F,\">=1\")))","v":0},{"$f":"IF($Z$2=\"pok\",\"\",IF(A10=\"\",\"\",COUNTIFS(SYNTHESE!$D:$D,A10,SYNTHESE!$E:$E,$N$1,SYNTHESE!$F:$F,\">=1\")))","v":0},{"$f":"IF($Z$2=\"pok\",\"\",IF(A10=\"\",\"\",COUNTIFS(SYNTHESE!$D:$D,A10,SYNTHESE!$E:$E,$O$1,SYNTHESE!$F:$F,\">=1\")))","v":0},{"$f":"IF($Z$2=\"pok\",\"\",IF(A10=\"\",\"\",COUNTIFS(SYNTHESE!$D:$D,A10,SYNTHESE!$E:$E,$P$1,SYNTHESE!$F:$F,\">=1\")))","v":0},{"$f":"IF($Z$2=\"pok\",\"\",IF(A10=\"\",\"\",COUNTIFS(SYNTHESE!$D:$D,A10,SYNTHESE!$E:$E,$Q$1,SYNTHESE!$F:$F,\">=1\")))","v":0},{"$f":"IF($Z$2=\"pok\",\"\",IF(A10=\"\",\"\",COUNTIFS(SYNTHESE!$D:$D,A10,SYNTHESE!$E:$E,$R$1,SYNTHESE!$F:$F,\">=1\")))","v":0},{"$f":"IF($Z$2=\"pok\",\"\",IF(A10=\"\",\"\",COUNTIFS(SYNTHESE!$D:$D,A10,SYNTHESE!$E:$E,$S$1,SYNTHESE!$F:$F,\">=1\")))","v":0},{"$f":"IF($Z$2=\"pok\",\"\",IF(A10=\"\",\"\",COUNTIFS(SYNTHESE!$D:$D,A10,SYNTHESE!$E:$E,$T$1,SYNTHESE!$F:$F,\">=1\")))","v":0},{"$f":"IF($Z$2=\"pok\",\"\",IF(A10=\"\",\"\",COUNTIFS(SYNTHESE!$D:$D,A10,SYNTHESE!$E:$E,$U$1,SYNTHESE!$F:$F,\">=1\")))","v":0},{"$f":"IF($Z$2=\"pok\",\"\",IF(A10=\"\",\"\",COUNTIFS(SYNTHESE!$D:$D,A10,SYNTHESE!$E:$E,$V$1,SYNTHESE!$F:$F,\">=1\")))","v":0},{"$f":"IF($Z$2=\"pok\",\"\",IF(A10=\"\",\"\",COUNTIFS(SYNTHESE!$D:$D,A10,SYNTHESE!$E:$E,$W$1,SYNTHESE!$F:$F,\">=1\")))","v":0},{"$f":"IF($Z$2=\"pok\",\"\",IF(A10=\"\",\"\",COUNTIFS(SYNTHESE!$D:$D,A10,SYNTHESE!$E:$E,$X$1,SYNTHESE!$F:$F,\">=1\")))","v":0},{"$f":"IF($Z$2=\"pok\",\"\",IF(A10=\"\",\"\",COUNTIFS(SYNTHESE!$D:$D,A10,SYNTHESE!$E:$E,$Y$1,SYNTHESE!$F:$F,\">=1\")))","v":0},10]
[{"$f":"IF(ETUDIANTS!A7=\"\",\"\",ETUDIANTS!A7)","v":"E"},{"$f":"IF($Z$2=\"pok\",\"\",IF(A11=\"\",\"\",COUNTIFS(SYNTHESE!$D:$D,A11,SYNTHESE!$E:$E,$B$1,SYNTHESE!$F:$F,\">=1\")))","v":0},{"$f":"IF($Z$2=\"pok\",\"\",IF(A11=\"\",\"\",COUNTIFS(SYNTHESE!$D:$D,A11,SYNTHESE!$E:$E,$C$1,SYNTHESE!$F:$F,\">=1\")))","v":0},{"$f":"IF($Z$2=\"pok\",\"\",IF(A11=\"\",\"\",COUNTIFS(SYNTHESE!$D:$D,A11,SYNTHESE!$E:$E,$D$1,SYNTHESE!$F:$F,\">=1\")))","v":0},{"$f":"IF($Z$2=\"pok\",\"\",IF(A11=\"\",\"\",COUNTIFS(SYNTHESE!$D:$D,A11,SYNTHESE!$E:$E,$E$1,SYNTHESE!$F:$F,\">=1\")))","v":0},{"$f":"IF($Z$2=\"pok\",\"\",IF(A11=\"\",\"\",COUNTIFS(SYNTHESE!$D:$D,A11,SYNTHESE!$E:$E,$F$1,SYNTHESE!$F:$F,\">=1\")))","v":0},{"$f":"IF($Z$2=\"pok\",\"\",IF(A11=\"\",\"\",COUNTIFS(SYNTHESE!$D:$D,A11,SYNTHESE!$E:$E,$G$1,SYNTHESE!$F:$F,\">=1\")))","v":0},{"$f":"IF($Z$2=\"pok\",\"\",IF(A11=\"\",\"\",COUNTIFS(SYNTHESE!$D:$D,A11,SYNTHESE!$E:$E,$H$1,SYNTHESE!$F:$F,\">=1\")))","v":0},{"$f":"IF($Z$2=\"pok\",\"\",IF(A11=\"\",\"\",COUNTIFS(SYNTHESE!$D:$D,A11,SYNTHESE!$E:$E,$I$1,SYNTHESE!$F:$F,\">=1\")))","v":0},{"$f":"IF($Z$2=\"pok\",\"\",IF(A11=\"\",\"\",COUNTIFS(SYNTHESE!$D:$D,A11,SYNTHESE!$E:$E,$J$1,SYNTHESE!$F:$F,\">=1\")))","v":0},{"$f":"IF($Z$2=\"pok\",\"\",IF(A11=\"\",\"\",COUNTIFS(SYNTHESE!$D:$D,A11,SYNTHESE!$E:$E,$K$1,SYNTHESE!$F:$F,\">=1\")))","v":0},{"$f":"IF($Z$2=\"pok\",\"\",IF(A11=\"\",\"\",COUNTIFS(SYNTHESE!$D:$D,A11,SYNTHESE!$E:$E,$L$1,SYNTHESE!$F:$F,\">=1\")))","v":0},{"$f":"IF($Z$2=\"pok\",\"\",IF(A11=\"\",\"\",COUNTIFS(SYNTHESE!$D:$D,A11,SYNTHESE!$E:$E,$M$1,SYNTHESE!$F:$F,\">=1\")))","v":0},{"$f":"IF($Z$2=\"pok\",\"\",IF(A11=\"\",\"\",COUNTIFS(SYNTHESE!$D:$D,A11,SYNTHESE!$E:$E,$N$1,SYNTHESE!$F:$F,\">=1\")))","v":0},{"$f":"IF($Z$2=\"pok\",\"\",IF(A11=\"\",\"\",COUNTIFS(SYNTHESE!$D:$D,A11,SYNTHESE!$E:$E,$O$1,SYNTHESE!$F:$F,\">=1\")))","v":0},{"$f":"IF($Z$2=\"pok\",\"\",IF(A11=\"\",\"\",COUNTIFS(SYNTHESE!$D:$D,A11,SYNTHESE!$E:$E,$P$1,SYNTHESE!$F:$F,\">=1\")))","v":0},{"$f":"IF($Z$2=\"pok\",\"\",IF(A11=\"\",\"\",COUNTIFS(SYNTHESE!$D:$D,A11,SYNTHESE!$E:$E,$Q$1,SYNTHESE!$F:$F,\">=1\")))","v":0},{"$f":"IF($Z$2=\"pok\",\"\",IF(A11=\"\",\"\",COUNTIFS(SYNTHESE!$D:$D,A11,SYNTHESE!$E:$E,$R$1,SYNTHESE!$F:$F,\">=1\")))","v":0},{"$f":"IF($Z$2=\"pok\",\"\",IF(A11=\"\",\"\",COUNTIFS(SYNTHESE!$D:$D,A11,SYNTHESE!$E:$E,$S$1,SYNTHESE!$F:$F,\">=1\")))","v":0},{"$f":"IF($Z$2=\"pok\",\"\",IF(A11=\"\",\"\",COUNTIFS(SYNTHESE!$D:$D,A11,SYNTHESE!$E:$E,$T$1,SYNTHESE!$F:$F,\">=1\")))","v":0},{"$f":"IF($Z$2=\"pok\",\"\",IF(A11=\"\",\"\",COUNTIFS(SYNTHESE!$D:$D,A11,SYNTHESE!$E:$E,$U$1,SYNTHESE!$F:$F,\">=1\")))","v":0},{"$f":"IF($Z$2=\"pok\",\"\",IF(A11=\"\",\"\",COUNTIFS(SYNTHESE!$D:$D,A11,SYNTHESE!$E:$E,$V$1,SYNTHESE!$F:$F,\">=1\")))","v":0},{"$f":"IF($Z$2=\"pok\",\"\",IF(A11=\"\",\"\",COUNTIFS(SYNTHESE!$D:$D,A11,SYNTHESE!$E:$E,$W$1,SYNTHESE!$F:$F,\">=1\")))","v":0},{"$f":"IF($Z$2=\"pok\",\"\",IF(A11=\"\",\"\",COUNTIFS(SYNTHESE!$D:$D,A11,SYNTHESE!$E:$E,$X$1,SYNTHESE!$F:$F,\">=1\")))","v":0},{"$f":"IF($Z$2=\"pok\",\"\",IF(A11=\"\",\"\",COUNTIFS(SYNTHESE!$D:$D,A11,SYNTHESE!$E:$E,$Y$1,SYNTHESE!$F:$F,\">=1\")))","v":0},0]
[{"$f":"IF(ETUDIANTS!A8=\"\",\"\",ETUDIANTS!A8)","v":""},{"$f":"IF($Z$2=\"pok\",\"\",IF(A12=\"\",\"\",COUNTIFS(SYNTHESE!$D:$D,A12,SYNTHESE!$E:$E,$B$1,SYNTHESE!$F:$F,\">=1\")))","v":""},{"$f":"IF($Z$2=\"pok\",\"\",IF(A12=\"\",\"\",COUNTIFS(SYNTHESE!$D:$D,A12,SYNTHESE!$E:$E,$C$1,SYNTHESE!$F:$F,\">=1\")))","v":""},{"$f":"IF($Z$2=\"pok\",\"\",IF(A12=\"\",\"\",COUNTIFS(SYNTHESE!$D:$D,A12,SYNTHESE!$E:$E,$D$1,SYNTHESE!$F:$F,\">=1\")))","v":""},{"$f":"IF($Z$2=\"pok\",\"\",IF(A12=\"\",\"\",COUNTIFS(SYNTHESE!$D:$D,A12,SYNTHESE!$E:$E,$E$1,SYNTHESE!$F:$F,\">=1\")))","v":""},{"$f":"IF($Z$2=\"pok\",\"\",IF(A12=\"\",\"\",COUNTIFS(SYNTHESE!$D:$D,A12,SYNTHESE!$E:$E,$F$1,SYNTHESE!$F:$F,\">=1\")))","v":""},{"$f":"IF($Z$2=\"pok\",\"\",IF(A12=\"\",\"\",COUNTIFS(SYNTHESE!$D:$D,A12,SYNTHESE!$E:$E,$G$1,SYNTHESE!$F:$F,\">=1\")))","v":""},{"$f":"IF($Z$2=\"pok\",\"\",IF(A12=\"\",\"\",COUNTIFS(SYNTHESE!$D:$D,A12,SYNTHESE!$E:$E,$H$1,SYNTHESE!$F:$F,\">=1\")))","v":""},{"$f":"IF($Z$2=\"pok\",\"\",IF(A12=\"\",\"\",COUNTIFS(SYNTHESE!$D:$D,A12,SYNTHESE!$E:$E,$I$1,SYNTHESE!$F:$F,\">=1\")))","v":""},{"$f":"IF($Z$2=\"pok\",\"\",IF(A12=\"\",\"\",COUNTIFS(SYNTHESE!$D:$D,A12,SYNTHESE!$E:$E,$J$1,SYNTHESE!$F:$F,\">=1\")))","v":""},{"$f":"IF($Z$2=\"pok\",\"\",IF(A12=\"\",\"\",COUNTIFS(SYNTHESE!$D:$D,A12,SYNTHESE!$E:$E,$K$1,SYNTHESE!$F:$F,\">=1\")))","v":""},{"$f":"IF($Z$2=\"pok\",\"\",IF(A12=\"\",\"\",COUNTIFS(SYNTHESE!$D:$D,A12,SYNTHESE!$E:$E,$L$1,SYNTHESE!$F:$F,\">=1\")))","v":""},{"$f":"IF($Z$2=\"pok\",\"\",IF(A12=\"\",\"\",COUNTIFS(SYNTHESE!$D:$D,A12,SYNTHESE!$E:$E,$M$1,SYNTHESE!$F:$F,\">=1\")))","v":""},{"$f":"IF($Z$2=\"pok\",\"\",IF(A12=\"\",\"\",COUNTIFS(SYNTHESE!$D:$D,A12,SYNTHESE!$E:$E,$N$1,SYNTHESE!$F:$F,\">=1\")))","v":""},{"$f":"IF($Z$2=\"pok\",\"\",IF(A12=\"\",\"\",COUNTIFS(SYNTHESE!$D:$D,A12,SYNTHESE!$E:$E,$O$1,SYNTHESE!$F:$F,\">=1\")))","v":""},{"$f":"IF($Z$2=\"pok\",\"\",IF(A12=\"\",\"\",COUNTIFS(SYNTHESE!$D:$D,A12,SYNTHESE!$E:$E,$P$1,SYNTHESE!$F:$F,\">=1\")))","v":""},{"$f":"IF($Z$2=\"pok\",\"\",IF(A12=\"\",\"\",COUNTIFS(SYNTHESE!$D:$D,A12,SYNTHESE!$E:$E,$Q$1,SYNTHESE!$F:$F,\">=1\")))","v":""},{"$f":"IF($Z$2=\"pok\",\"\",IF(A12=\"\",\"\",COUNTIFS(SYNTHESE!$D:$D,A12,SYNTHESE!$E:$E,$R$1,SYNTHESE!$F:$F,\">=1\")))","v":""},{"$f":"IF($Z$2=\"pok\",\"\",IF(A12=\"\",\"\",COUNTIFS(SYNTHESE!$D:$D,A12,SYNTHESE!$E:$E,$S$1,SYNTHESE!$F:$F,\">=1\")))","v":""},{"$f":"IF($Z$2=\"pok\",\"\",IF(A12=\"\",\"\",COUNTIFS(SYNTHESE!$D:$D,A12,SYNTHESE!$E:$E,$T$1,SYNTHESE!$F:$F,\">=1\")))","v":""},{"$f":"IF($Z$2=\"pok\",\"\",IF(A12=\"\",\"\",COUNTIFS(SYNTHESE!$D:$D,A12,SYNTHESE!$E:$E,$U$1,SYNTHESE!$F:$F,\">=1\")))","v":""},{"$f":"IF($Z$2=\"pok\",\"\",IF(A12=\"\",\"\",COUNTIFS(SYNTHESE!$D:$D,A12,SYNTHESE!$E:$E,$V$1,SYNTHESE!$F:$F,\">=1\")))","v":""},{"$f":"IF($Z$2=\"pok\",\"\",IF(A12=\"\",\"\",COUNTIFS(SYNTHESE!$D:$D,A12,SYNTHESE!$E:$E,$W$1,SYNTHESE!$F:$F,\">=1\")))","v":""},{"$f":"IF($Z$2=\"pok\",\"\",IF(A12=\"\",\"\",COUNTIFS(SYNTHESE!$D:$D,A12,SYNTHESE!$E:$E,$X$1,SYNTHESE!$F:$F,\">=1\")))","v":""},{"$f":"IF($Z$2=\"pok\",\"\",IF(A12=\"\",\"\",COUNTIFS(SYNTHESE!$D:$D,A12,SYNTHESE!$E:$E,$Y$1,SYNTHESE!$F:$F,\">=1\")))","v":""},0]
[{"$f":"IF(ETUDIANTS!A13=\"\",\"\",ETUDIANTS!A13)","v":""},{"$f":"IF($Z$2=\"pok\",\"\",IF(A13=\"\",\"\",COUNTIFS(SYNTHESE!$D:$D,A13,SYNTHESE!$E:$E,$B$1,SYNTHESE!$F:$F,\">=1\")))","v":""},{"$f":"IF($Z$2=\"pok\",\"\",IF(A13=\"\",\"\",COUNTIFS(SYNTHESE!$D:$D,A13,SYNTHESE!$E:$E,$C$1,SYNTHESE!$F:$F,\">=1\")))","v":""},{"$f":"IF($Z$2=\"pok\",\"\",IF(A13=\"\",\"\",COUNTIFS(SYNTHESE!$D:$D,A13,SYNTHESE!$E:$E,$D$1,SYNTHESE!$F:$F,\">=1\")))","v":""},{"$f":"IF($Z$2=\"pok\",\"\",IF(A13=\"\",\"\",COUNTIFS(SYNTHESE!$D:$D,A13,SYNTHESE!$E:$E,$E$1,SYNTHESE!$F:$F,\">=1\")))","v":""},{"$f":"IF($Z$2=\"pok\",\"\",IF(A13=\"\",\"\",COUNTIFS(SYNTHESE!$D:$D,A13,SYNTHESE!$E:$E,$F$1,SYNTHESE!$F:$F,\">=1\")))","v":""},{"$f":"IF($Z$2=\"pok\",\"\",IF(A13=\"\",\"\",COUNTIFS(SYNTHESE!$D:$D,A13,SYNTHESE!$E:$E,$G$1,SYNTHESE!$F:$F,\">=1\")))","v":""},{"$f":"IF($Z$2=\"pok\",\"\",IF(A13=\"\",\"\",COUNTIFS(SYNTHESE!$D:$D,A13,SYNTHESE!$E:$E,$H$1,SYNTHESE!$F:$F,\">=1\")))","v":""},{"$f":"IF($Z$2=\"pok\",\"\",IF(A13=\"\",\"\",COUNTIFS(SYNTHESE!$D:$D,A13,SYNTHESE!$E:$E,$I$1,SYNTHESE!$F:$F,\">=1\")))","v":""},{"$f":"IF($Z$2=\"pok\",\"\",IF(A13=\"\",\"\",COUNTIFS(SYNTHESE!$D:$D,A13,SYNTHESE!$E:$E,$J$1,SYNTHESE!$F:$F,\">=1\")))","v":""},{"$f":"IF($Z$2=\"pok\",\"\",IF(A13=\"\",\"\",COUNTIFS(SYNTHESE!$D:$D,A13,SYNTHESE!$E:$E,$K$1,SYNTHESE!$F:$F,\">=1\")))","v":""},{"$f":"IF($Z$2=\"pok\",\"\",IF(A13=\"\",\"\",COUNTIFS(SYNTHESE!$D:$D,A13,SYNTHESE!$E:$E,$L$1,SYNTHESE!$F:$F,\">=1\")))","v":""},{"$f":"IF($Z$2=\"pok\",\"\",IF(A13=\"\",\"\",COUNTIFS(SYNTHESE!$D:$D,A13,SYNTHESE!$E:$E,$M$1,SYNTHESE!$F:$F,\">=1\")))","v":""},{"$f":"IF($Z$2=\"pok\",\"\",IF(A13=\"\",\"\",COUNTIFS(SYNTHESE!$D:$D,A13,SYNTHESE!$E:$E,$N$1,SYNTHESE!$F:$F,\">=1\")))","v":""},{"$f":"IF($Z$2=\"pok\",\"\",IF(A13=\"\",\"\",COUNTIFS(SYNTHESE!$D:$D,A13,SYNTHESE!$E:$E,$O$1,SYNTHESE!$F:$F,\">=1\")))","v":""},{"$f":"IF($Z$2=\"pok\",\"\",IF(A13=\"\",\"\",COUNTIFS(SYNTHESE!$D:$D,A13,SYNTHESE!$E:$E,$P$1,SYNTHESE!$F:$F,\">=1\")))","v":""},{"$f":"IF($Z$2=\"pok\",\"\",IF(A13=\"\",\"\",COUNTIFS(SYNTHESE!$D:$D,A13,SYNTHESE!$E:$E,$Q$1,SYNTHESE!$F:$F,\">=1\")))","v":""},{"$f":"IF($Z$2=\"pok\",\"\",IF(A13=\"\",\"\",COUNTIFS(SYNTHESE!$D:$D,A13,SYNTHESE!$E:$E,$R$1,SYNTHESE!$F:$F,\">=1\")))","v":""},{"$f":"IF($Z$2=\"pok\",\"\",IF(A13=\"\",\"\",COUNTIFS(SYNTHESE!$D:$D,A13,SYNTHESE!$E:$E,$S$1,SYNTHESE!$F:$F,\">=1\")))","v":""},{"$f":"IF($Z$2=\"pok\",\"\",IF(A13=\"\",\"\",COUNTIFS(SYNTHESE!$D:$D,A13,SYNTHESE!$E:$E,$T$1,SYNTHESE!$F:$F,\">=1\")))","v":""},{"$f":"IF($Z$2=\"pok\",\"\",IF(A13=\"\",\"\",COUNTIFS(SYNTHESE!$D:$D,A13,SYNTHESE!$E:$E,$U$1,SYNTHESE!$F:$F,\">=1\")))","v":""},{"$f":"IF($Z$2=\"pok\",\"\",IF(A13=\"\",\"\",COUNTIFS(SYNTHESE!$D:$D,A13,SYNTHESE!$E:$E,$V$1,SYNTHESE!$F:$F,\">=1\")))","v":""},{"$f":"IF($Z$2=\"pok\",\"\",IF(A13=\"\",\"\",COUNTIFS(SYNTHESE!$D:$D,A13,SYNTHESE!$E:$E,$W$1,SYNTHESE!$F:$F,\">=1\")))","v":""},{"$f":"IF($Z$2=\"pok\",\"\",IF(A13=\"\",\"\",COUNTIFS(SYNTHESE!$D:$D,A13,SYNTHESE!$E:$E,$X$1,SYNTHESE!$F:$F,\">=1\")))","v":""},{"$f":"IF($Z$2=\"pok\",\"\",IF(A13=\"\",\"\",COUNTIFS(SYNTHESE!$D:$D,A13,SYNTHESE!$E:$E,$Y$1,SYNTHESE!$F:$F,\">=1\")))","v":""},0]
[{"$f":"IF(ETUDIANTS!A14=\"\",\"\",ETUDIANTS!A14)","v":""},{"$f":"IF($Z$2=\"pok\",\"\",IF(A14=\"\",\"\",COUNTIFS(SYNTHESE!$D:$D,A14,SYNTHESE!$E:$E,$B$1,SYNTHESE!$F:$F,\">=1\")))","v":""},{"$f":"IF($Z$2=\"pok\",\"\",IF(A14=\"\",\"\",COUNTIFS(SYNTHESE!$D:$D,A14,SYNTHESE!$E:$E,$C$1,SYNTHESE!$F:$F,\">=1\")))","v":""},{"$f":"IF($Z$2=\"pok\",\"\",IF(A14=\"\",\"\",COUNTIFS(SYNTHESE!$D:$D,A14,SYNTHESE!$E:$E,$D$1,SYNTHESE!$F:$F,\">=1\")))","v":""},{"$f":"IF($Z$2=\"pok\",\"\",IF(A14=\"\",\"\",COUNTIFS(SYNTHESE!$D:$D,A14,SYNTHESE!$E:$E,$E$1,SYNTHESE!$F:$F,\">=1\")))","v":""},{"$f":"IF($Z$2=\"pok\",\"\",IF(A14=\"\",\"\",COUNTIFS(SYNTHESE!$D:$D,A14,SYNTHESE!$E:$E,$F$1,SYNTHESE!$F:$F,\">=1\")))","v":""},{"$f":"IF($Z$2=\"pok\",\"\",IF(A14=\"\",\"\",COUNTIFS(SYNTHESE!$D:$D,A14,SYNTHESE!$E:$E,$G$1,SYNTHESE!$F:$F,\">=1\")))","v":""},{"$f":"IF($Z$2=\"pok\",\"\",IF(A14=\"\",\"\",COUNTIFS(SYNTHESE!$D:$D,A14,SYNTHESE!$E:$E,$H$1,SYNTHESE!$F:$F,\">=1\")))","v":""},{"$f":"IF($Z$2=\"pok\",\"\",IF(A14=\"\",\"\",COUNTIFS(SYNTHESE!$D:$D,A14,SYNTHESE!$E:$E,$I$1,SYNTHESE!$F:$F,\">=1\")))","v":""},{"$f":"IF($Z$2=\"pok\",\"\",IF(A14=\"\",\"\",COUNTIFS(SYNTHESE!$D:$D,A14,SYNTHESE!$E:$E,$J$1,SYNTHESE!$F:$F,\">=1\")))","v":""},{"$f":"IF($Z$2=\"pok\",\"\",IF(A14=\"\",\"\",COUNTIFS(SYNTHESE!$D:$D,A14,SYNTHESE!$E:$E,$K$1,SYNTHESE!$F:$F,\">=1\")))","v":""},{"$f":"IF($Z$2=\"pok\",\"\",IF(A14=\"\",\"\",COUNTIFS(SYNTHESE!$D:$D,A14,SYNTHESE!$E:$E,$L$1,SYNTHESE!$F:$F,\">=1\")))","v":""},{"$f":"IF($Z$2=\"pok\",\"\",IF(A14=\"\",\"\",COUNTIFS(SYNTHESE!$D:$D,A14,SYNTHESE!$E:$E,$M$1,SYNTHESE!$F:$F,\">=1\")))","v":""},{"$f":"IF($Z$2=\"pok\",\"\",IF(A14=\"\",\"\",COUNTIFS(SYNTHESE!$D:$D,A14,SYNTHESE!$E:$E,$N$1,SYNTHESE!$F:$F,\">=1\")))","v":""},{"$f":"IF($Z$2=\"pok\",\"\",IF(A14=\"\",\"\",COUNTIFS(SYNTHESE!$D:$D,A14,SYNTHESE!$E:$E,$O$1,SYNTHESE!$F:$F,\">=1\")))","v":""},{"$f":"IF($Z$2=\"pok\",\"\",IF(A14=\"\",\"\",COUNTIFS(SYNTHESE!$D:$D,A14,SYNTHESE!$E:$E,$P$1,SYNTHESE!$F:$F,\">=1\")))","v":""},{"$f":"IF($Z$2=\"pok\",\"\",IF(A14=\"\",\"\",COUNTIFS(SYNTHESE!$D:$D,A14,SYNTHESE!$E:$E,$Q$1,SYNTHESE!$F:$F,\">=1\")))","v":""},{"$f":"IF($Z$2=\"pok\",\"\",IF(A14=\"\",\"\",COUNTIFS(SYNTHESE!$D:$D,A14,SYNTHESE!$E:$E,$R$1,SYNTHESE!$F:$F,\">=1\")))","v":""},{"$f":"IF($Z$2=\"pok\",\"\",IF(A14=\"\",\"\",COUNTIFS(SYNTHESE!$D:$D,A14,SYNTHESE!$E:$E,$S$1,SYNTHESE!$F:$F,\">=1\")))","v":""},{"$f":"IF($Z$2=\"pok\",\"\",IF(A14=\"\",\"\",COUNTIFS(SYNTHESE!$D:$D,A14,SYNTHESE!$E:$E,$T$1,SYNTHESE!$F:$F,\">=1\")))","v":""},{"$f":"IF($Z$2=\"pok\",\"\",IF(A14=\"\",\"\",COUNTIFS(SYNTHESE!$D:$D,A14,SYNTHESE!$E:$E,$U$1,SYNTHESE!$F:$F,\">=1\")))","v":""},{"$f":"IF($Z$2=\"pok\",\"\",IF(A14=\"\",\"\",COUNTIFS(SYNTHESE!$D:$D,A14,SYNTHESE!$E:$E,$V$1,SYNTHESE!$F:$F,\">=1\")))","v":""},{"$f":"IF($Z$2=\"pok\",\"\",IF(A14=\"\",\"\",COUNTIFS(SYNTHESE!$D:$D,A14,SYNTHESE!$E:$E,$W$1,SYNTHESE!$F:$F,\">=1\")))","v":""},{"$f":"IF($Z$2=\"pok\",\"\",IF(A14=\"\",\"\",COUNTIFS(SYNTHESE!$D:$D,A14,SYNTHESE!$E:$E,$X$1,SYNTHESE!$F:$F,\">=1\")))","v":""},{"$f":"IF($Z$2=\"pok\",\"\",IF(A14=\"\",\"\",COUNTIFS(SYNTHESE!$D:$D,A14,SYNTHESE!$E:$E,$Y$1,SYNTHESE!$F:$F,\">=1\")))","v":""},0]
[{"$f":"IF(ETUDIANTS!A15=\"\",\"\",ETUDIANTS!A15)","v":""},{"$f":"IF($Z$2=\"pok\",\"\",IF(A15=\"\",\"\",COUNTIFS(SYNTHESE!$D:$D,A15,SYNTHESE!$E:$E,$B$1,SYNTHESE!$F:$F,\">=1\")))","v":""},{"$f":"IF($Z$2=\"pok\",\"\",IF(A15=\"\",\"\",COUNTIFS(SYNTHESE!$D:$D,A15,SYNTHESE!$E:$E,$C$1,SYNTHESE!$F:$F,\">=1\")))","v":""},{"$f":"IF($Z$2=\"pok\",\"\",IF(A15=\"\",\"\",COUNTIFS(SYNTHESE!$D:$D,A15,SYNTHESE!$E:$E,$D$1,SYNTHESE!$F:$F,\">=1\")))","v":""},{"$f":"IF($Z$2=\"pok\",\"\",IF(A15=\"\",\"\",COUNTIFS(SYNTHESE!$D:$D,A15,SYNTHESE!$E:$E,$E$1,SYNTHESE!$F:$F,\">=1\")))","v":""},{"$f":"IF($Z$2=\"pok\",\"\",IF(A15=\"\",\"\",COUNTIFS(SYNTHESE!$D:$D,A15,SYNTHESE!$E:$E,$F$1,SYNTHESE!$F:$F,\">=1\")))","v":""},{"$f":"IF($Z$2=\"pok\",\"\",IF(A15=\"\",\"\",COUNTIFS(SYNTHESE!$D:$D,A15,SYNTHESE!$E:$E,$G$1,SYNTHESE!$F:$F,\">=1\")))","v":""},{"$f":"IF($Z$2=\"pok\",\"\",IF(A15=\"\",\"\",COUNTIFS(SYNTHESE!$D:$D,A15,SYNTHESE!$E:$E,$H$1,SYNTHESE!$F:$F,\">=1\")))","v":""},{"$f":"IF($Z$2=\"pok\",\"\",IF(A15=\"\",\"\",COUNTIFS(SYNTHESE!$D:$D,A15,SYNTHESE!$E:$E,$I$1,SYNTHESE!$F:$F,\">=1\")))","v":""},{"$f":"IF($Z$2=\"pok\",\"\",IF(A15=\"\",\"\",COUNTIFS(SYNTHESE!$D:$D,A15,SYNTHESE!$E:$E,$J$1,SYNTHESE!$F:$F,\">=1\")))","v":""},{"$f":"IF($Z$2=\"pok\",\"\",IF(A15=\"\",\"\",COUNTIFS(SYNTHESE!$D:$D,A15,SYNTHESE!$E:$E,$K$1,SYNTHESE!$F:$F,\">=1\")))","v":""},{"$f":"IF($Z$2=\"pok\",\"\",IF(A15=\"\",\"\",COUNTIFS(SYNTHESE!$D:$D,A15,SYNTHESE!$E:$E,$L$1,SYNTHESE!$F:$F,\">=1\")))","v":""},{"$f":"IF($Z$2=\"pok\",\"\",IF(A15=\"\",\"\",COUNTIFS(SYNTHESE!$D:$D,A15,SYNTHESE!$E:$E,$M$1,SYNTHESE!$F:$F,\">=1\")))","v":""},{"$f":"IF($Z$2=\"pok\",\"\",IF(A15=\"\",\"\",COUNTIFS(SYNTHESE!$D:$D,A15,SYNTHESE!$E:$E,$N$1,SYNTHESE!$F:$F,\">=1\")))","v":""},{"$f":"IF($Z$2=\"pok\",\"\",IF(A15=\"\",\"\",COUNTIFS(SYNTHESE!$D:$D,A15,SYNTHESE!$E:$E,$O$1,SYNTHESE!$F:$F,\">=1\")))","v":""},{"$f":"IF($Z$2=\"pok\",\"\",IF(A15=\"\",\"\",COUNTIFS(SYNTHESE!$D:$D,A15,SYNTHESE!$E:$E,$P$1,SYNTHESE!$F:$F,\">=1\")))","v":""},{"$f":"IF($Z$2=\"pok\",\"\",IF(A15=\"\",\"\",COUNTIFS(SYNTHESE!$D:$D,A15,SYNTHESE!$E:$E,$Q$1,SYNTHESE!$F:$F,\">=1\")))","v":""},{"$f":"IF($Z$2=\"pok\",\"\",IF(A15=\"\",\"\",COUNTIFS(SYNTHESE!$D:$D,A15,SYNTHESE!$E:$E,$R$1,SYNTHESE!$F:$F,\">=1\")))","v":""},{"$f":"IF($Z$2=\"pok\",\"\",IF(A15=\"\",\"\",COUNTIFS(SYNTHESE!$D:$D,A15,SYNTHESE!$E:$E,$S$1,SYNTHESE!$F:$F,\">=1\")))","v":""},{"$f":"IF($Z$2=\"pok\",\"\",IF(A15=\"\",\"\",COUNTIFS(SYNTHESE!$D:$D,A15,SYNTHESE!$E:$E,$T$1,SYNTHESE!$F:$F,\">=1\")))","v":""},{"$f":"IF($Z$2=\"pok\",\"\",IF(A15=\"\",\"\",COUNTIFS(SYNTHESE!$D:$D,A15,SYNTHESE!$E:$E,$U$1,SYNTHESE!$F:$F,\">=1\")))","v":""},{"$f":"IF($Z$2=\"pok\",\"\",IF(A15=\"\",\"\",COUNTIFS(SYNTHESE!$D:$D,A15,SYNTHESE!$E:$E,$V$1,SYNTHESE!$F:$F,\">=1\")))","v":""},{"$f":"IF($Z$2=\"pok\",\"\",IF(A15=\"\",\"\",COUNTIFS(SYNTHESE!$D:$D,A15,SYNTHESE!$E:$E,$W$1,SYNTHESE!$F:$F,\">=1\")))","v":""},{"$f":"IF($Z$2=\"pok\",\"\",IF(A15=\"\",\"\",COUNTIFS(SYNTHESE!$D:$D,A15,SYNTHESE!$E:$E,$X$1,SYNTHESE!$F:$F,\">=1\")))","v":""},{"$f":"IF($Z$2=\"pok\",\"\",IF(A15=\"\",\"\",COUNTIFS(SYNTHESE!$D:$D,A15,SYNTHESE!$E:$E,$Y$1,SYNTHESE!$F:$F,\">=1\")))","v":""},0]
[{"$f":"IF(ETUDIANTS!A16=\"\",\"\",ETUDIANTS!A16)","v":""},{"$f":"IF($Z$2=\"pok\",\"\",IF(A16=\"\",\"\",COUNTIFS(SYNTHESE!$D:$D,A16,SYNTHESE!$E:$E,$B$1,SYNTHESE!$F:$F,\">=1\")))","v":""},{"$f":"IF($Z$2=\"pok\",\"\",IF(A16=\"\",\"\",COUNTIFS(SYNTHESE!$D:$D,A16,SYNTHESE!$E:$E,$C$1,SYNTHESE!$F:$F,\">=1\")))","v":""},{"$f":"IF($Z$2=\"pok\",\"\",IF(A16=\"\",\"\",COUNTIFS(SYNTHESE!$D:$D,A16,SYNTHESE!$E:$E,$D$1,SYNTHESE!$F:$F,\">=1\")))","v":""},{"$f":"IF($Z$2=\"pok\",\"\",IF(A16=\"\",\"\",COUNTIFS(SYNTHESE!$D:$D,A16,SYNTHESE!$E:$E,$E$1,SYNTHESE!$F:$F,\">=1\")))","v":""},{"$f":"IF($Z$2=\"pok\",\"\",IF(A16=\"\",\"\",COUNTIFS(SYNTHESE!$D:$D,A16,SYNTHESE!$E:$E,$F$1,SYNTHESE!$F:$F,\">=1\")))","v":""},{"$f":"IF($Z$2=\"pok\",\"\",IF(A16=\"\",\"\",COUNTIFS(SYNTHESE!$D:$D,A16,SYNTHESE!$E:$E,$G$1,SYNTHESE!$F:$F,\">=1\")))","v":""},{"$f":"IF($Z$2=\"pok\",\"\",IF(A16=\"\",\"\",COUNTIFS(SYNTHESE!$D:$D,A16,SYNTHESE!$E:$E,$H$1,SYNTHESE!$F:$F,\">=1\")))","v":""},{"$f":"IF($Z$2=\"pok\",\"\",IF(A16=\"\",\"\",COUNTIFS(SYNTHESE!$D:$D,A16,SYNTHESE!$E:$E,$I$1,SYNTHESE!$F:$F,\">=1\")))","v":""},{"$f":"IF($Z$2=\"pok\",\"\",IF(A16=\"\",\"\",COUNTIFS(SYNTHESE!$D:$D,A16,SYNTHESE!$E:$E,$J$1,SYNTHESE!$F:$F,\">=1\")))","v":""},{"$f":"IF($Z$2=\"pok\",\"\",IF(A16=\"\",\"\",COUNTIFS(SYNTHESE!$D:$D,A16,SYNTHESE!$E:$E,$K$1,SYNTHESE!$F:$F,\">=1\")))","v":""},{"$f":"IF($Z$2=\"pok\",\"\",IF(A16=\"\",\"\",COUNTIFS(SYNTHESE!$D:$D,A16,SYNTHESE!$E:$E,$L$1,SYNTHESE!$F:$F,\">=1\")))","v":""},{"$f":"IF($Z$2=\"pok\",\"\",IF(A16=\"\",\"\",COUNTIFS(SYNTHESE!$D:$D,A16,SYNTHESE!$E:$E,$M$1,SYNTHESE!$F:$F,\">=1\")))","v":""},{"$f":"IF($Z$2=\"pok\",\"\",IF(A16=\"\",\"\",COUNTIFS(SYNTHESE!$D:$D,A16,SYNTHESE!$E:$E,$N$1,SYNTHESE!$F:$F,\">=1\")))","v":""},{"$f":"IF($Z$2=\"pok\",\"\",IF(A16=\"\",\"\",COUNTIFS(SYNTHESE!$D:$D,A16,SYNTHESE!$E:$E,$O$1,SYNTHESE!$F:$F,\">=1\")))","v":""},{"$f":"IF($Z$2=\"pok\",\"\",IF(A16=\"\",\"\",COUNTIFS(SYNTHESE!$D:$D,A16,SYNTHESE!$E:$E,$P$1,SYNTHESE!$F:$F,\">=1\")))","v":""},{"$f":"IF($Z$2=\"pok\",\"\",IF(A16=\"\",\"\",COUNTIFS(SYNTHESE!$D:$D,A16,SYNTHESE!$E:$E,$Q$1,SYNTHESE!$F:$F,\">=1\")))","v":""},{"$f":"IF($Z$2=\"pok\",\"\",IF(A16=\"\",\"\",COUNTIFS(SYNTHESE!$D:$D,A16,SYNTHESE!$E:$E,$R$1,SYNTHESE!$F:$F,\">=1\")))","v":""},{"$f":"IF($Z$2=\"pok\",\"\",IF(A16=\"\",\"\",COUNTIFS(SYNTHESE!$D:$D,A16,SYNTHESE!$E:$E,$S$1,SYNTHESE!$F:$F,\">=1\")))","v":""},{"$f":"IF($Z$2=\"pok\",\"\",IF(A16=\"\",\"\",COUNTIFS(SYNTHESE!$D:$D,A16,SYNTHESE!$E:$E,$T$1,SYNTHESE!$F:$F,\">=1\")))","v":""},{"$f":"IF($Z$2=\"pok\",\"\",IF(A16=\"\",\"\",COUNTIFS(SYNTHESE!$D:$D,A16,SYNTHESE!$E:$E,$U$1,SYNTHESE!$F:$F,\">=1\")))","v":""},{"$f":"IF($Z$2=\"pok\",\"\",IF(A16=\"\",\"\",COUNTIFS(SYNTHESE!$D:$D,A16,SYNTHESE!$E:$E,$V$1,SYNTHESE!$F:$F,\">=1\")))","v":""},{"$f":"IF($Z$2=\"pok\",\"\",IF(A16=\"\",\"\",COUNTIFS(SYNTHESE!$D:$D,A16,SYNTHESE!$E:$E,$W$1,SYNTHESE!$F:$F,\">=1\")))","v":""},{"$f":"IF($Z$2=\"pok\",\"\",IF(A16=\"\",\"\",COUNTIFS(SYNTHESE!$D:$D,A16,SYNTHESE!$E:$E,$X$1,SYNTHESE!$F:$F,\">=1\")))","v":""},{"$f":"IF($Z$2=\"pok\",\"\",IF(A16=\"\",\"\",COUNTIFS(SYNTHESE!$D:$D,A16,SYNTHESE!$E:$E,$Y$1,SYNTHESE!$F:$F,\">=1\")))","v":""},0]
[{"$f":"IF(ETUDIANTS!A17=\"\",\"\",ETUDIANTS!A17)","v":""},{"$f":"IF($Z$2=\"pok\",\"\",IF(A17=\"\",\"\",COUNTIFS(SYNTHESE!$D:$D,A17,SYNTHESE!$E:$E,$B$1,SYNTHESE!$F:$F,\">=1\")))","v":""},{"$f":"IF($Z$2=\"pok\",\"\",IF(A17=\"\",\"\",COUNTIFS(SYNTHESE!$D:$D,A17,SYNTHESE!$E:$E,$C$1,SYNTHESE!$F:$F,\">=1\")))","v":""},{"$f":"IF($Z$2=\"pok\",\"\",IF(A17=\"\",\"\",COUNTIFS(SYNTHESE!$D:$D,A17,SYNTHESE!$E:$E,$D$1,SYNTHESE!$F:$F,\">=1\")))","v":""},{"$f":"IF($Z$2=\"pok\",\"\",IF(A17=\"\",\"\",COUNTIFS(SYNTHESE!$D:$D,A17,SYNTHESE!$E:$E,$E$1,SYNTHESE!$F:$F,\">=1\")))","v":""},{"$f":"IF($Z$2=\"pok\",\"\",IF(A17=\"\",\"\",COUNTIFS(SYNTHESE!$D:$D,A17,SYNTHESE!$E:$E,$F$1,SYNTHESE!$F:$F,\">=1\")))","v":""},{"$f":"IF($Z$2=\"pok\",\"\",IF(A17=\"\",\"\",COUNTIFS(SYNTHESE!$D:$D,A17,SYNTHESE!$E:$E,$G$1,SYNTHESE!$F:$F,\">=1\")))","v":""},{"$f":"IF($Z$2=\"pok\",\"\",IF(A17=\"\",\"\",COUNTIFS(SYNTHESE!$D:$D,A17,SYNTHESE!$E:$E,$H$1,SYNTHESE!$F:$F,\">=1\")))","v":""},{"$f":"IF($Z$2=\"pok\",\"\",IF(A17=\"\",\"\",COUNTIFS(SYNTHESE!$D:$D,A17,SYNTHESE!$E:$E,$I$1,SYNTHESE!$F:$F,\">=1\")))","v":""},{"$f":"IF($Z$2=\"pok\",\"\",IF(A17=\"\",\"\",COUNTIFS(SYNTHESE!$D:$D,A17,SYNTHESE!$E:$E,$J$1,SYNTHESE!$F:$F,\">=1\")))","v":""},{"$f":"IF($Z$2=\"pok\",\"\",IF(A17=\"\",\"\",COUNTIFS(SYNTHESE!$D:$D,A17,SYNTHESE!$E:$E,$K$1,SYNTHESE!$F:$F,\">=1\")))","v":""},{"$f":"IF($Z$2=\"pok\",\"\",IF(A17=\"\",\"\",COUNTIFS(SYNTHESE!$D:$D,A17,SYNTHESE!$E:$E,$L$1,SYNTHESE!$F:$F,\">=1\")))","v":""},{"$f":"IF($Z$2=\"pok\",\"\",IF(A17=\"\",\"\",COUNTIFS(SYNTHESE!$D:$D,A17,SYNTHESE!$E:$E,$M$1,SYNTHESE!$F:$F,\">=1\")))","v":""},{"$f":"IF($Z$2=\"pok\",\"\",IF(A17=\"\",\"\",COUNTIFS(SYNTHESE!$D:$D,A17,SYNTHESE!$E:$E,$N$1,SYNTHESE!$F:$F,\">=1\")))","v":""},{"$f":"IF($Z$2=\"pok\",\"\",IF(A17=\"\",\"\",COUNTIFS(SYNTHESE!$D:$D,A17,SYNTHESE!$E:$E,$O$1,SYNTHESE!$F:$F,\">=1\")))","v":""},{"$f":"IF($Z$2=\"pok\",\"\",IF(A17=\"\",\"\",COUNTIFS(SYNTHESE!$D:$D,A17,SYNTHESE!$E:$E,$P$1,SYNTHESE!$F:$F,\">=1\")))","v":""},{"$f":"IF($Z$2=\"pok\",\"\",IF(A17=\"\",\"\",COUNTIFS(SYNTHESE!$D:$D,A17,SYNTHESE!$E:$E,$Q$1,SYNTHESE!$F:$F,\">=1\")))","v":""},{"$f":"IF($Z$2=\"pok\",\"\",IF(A17=\"\",\"\",COUNTIFS(SYNTHESE!$D:$D,A17,SYNTHESE!$E:$E,$R$1,SYNTHESE!$F:$F,\">=1\")))","v":""},{"$f":"IF($Z$2=\"pok\",\"\",IF(A17=\"\",\"\",COUNTIFS(SYNTHESE!$D:$D,A17,SYNTHESE!$E:$E,$S$1,SYNTHESE!$F:$F,\">=1\")))","v":""},{"$f":"IF($Z$2=\"pok\",\"\",IF(A17=\"\",\"\",COUNTIFS(SYNTHESE!$D:$D,A17,SYNTHESE!$E:$E,$T$1,SYNTHESE!$F:$F,\">=1\")))","v":""},{"$f":"IF($Z$2=\"pok\",\"\",IF(A17=\"\",\"\",COUNTIFS(SYNTHESE!$D:$D,A17,SYNTHESE!$E:$E,$U$1,SYNTHESE!$F:$F,\">=1\")))","v":""},{"$f":"IF($Z$2=\"pok\",\"\",IF(A17=\"\",\"\",COUNTIFS(SYNTHESE!$D:$D,A17,SYNTHESE!$E:$E,$V$1,SYNTHESE!$F:$F,\">=1\")))","v":""},{"$f":"IF($Z$2=\"pok\",\"\",IF(A17=\"\",\"\",COUNTIFS(SYNTHESE!$D:$D,A17,SYNTHESE!$E:$E,$W$1,SYNTHESE!$F:$F,\">=1\")))","v":""},{"$f":"IF($Z$2=\"pok\",\"\",IF(A17=\"\",\"\",COUNTIFS(SYNTHESE!$D:$D,A17,SYNTHESE!$E:$E,$X$1,SYNTHESE!$F:$F,\">=1\")))","v":""},{"$f":"IF($Z$2=\"pok\",\"\",IF(A17=\"\",\"\",COUNTIFS(SYNTHESE!$D:$D,A17,SYNTHESE!$E:$E,$Y$1,SYNTHESE!$F:$F,\">=1\")))","v":""},0]
[{"$f":"IF(ETUDIANTS!A18=\"\",\"\",ETUDIANTS!A18)","v":""},{"$f":"IF($Z$2=\"pok\",\"\",IF(A18=\"\",\"\",COUNTIFS(SYNTHESE!$D:$D,A18,SYNTHESE!$E:$E,$B$1,SYNTHESE!$F:$F,\">=1\")))","v":""},{"$f":"IF($Z$2=\"pok\",\"\",IF(A18=\"\",\"\",COUNTIFS(SYNTHESE!$D:$D,A18,SYNTHESE!$E:$E,$C$1,SYNTHESE!$F:$F,\">=1\")))","v":""},{"$f":"IF($Z$2=\"pok\",\"\",IF(A18=\"\",\"\",COUNTIFS(SYNTHESE!$D:$D,A18,SYNTHESE!$E:$E,$D$1,SYNTHESE!$F:$F,\">=1\")))","v":""},{"$f":"IF($Z$2=\"pok\",\"\",IF(A18=\"\",\"\",COUNTIFS(SYNTHESE!$D:$D,A18,SYNTHESE!$E:$E,$E$1,SYNTHESE!$F:$F,\">=1\")))","v":""},{"$f":"IF($Z$2=\"pok\",\"\",IF(A18=\"\",\"\",COUNTIFS(SYNTHESE!$D:$D,A18,SYNTHESE!$E:$E,$F$1,SYNTHESE!$F:$F,\">=1\")))","v":""},{"$f":"IF($Z$2=\"pok\",\"\",IF(A18=\"\",\"\",COUNTIFS(SYNTHESE!$D:$D,A18,SYNTHESE!$E:$E,$G$1,SYNTHESE!$F:$F,\">=1\")))","v":""},{"$f":"IF($Z$2=\"pok\",\"\",IF(A18=\"\",\"\",COUNTIFS(SYNTHESE!$D:$D,A18,SYNTHESE!$E:$E,$H$1,SYNTHESE!$F:$F,\">=1\")))","v":""},{"$f":"IF($Z$2=\"pok\",\"\",IF(A18=\"\",\"\",COUNTIFS(SYNTHESE!$D:$D,A18,SYNTHESE!$E:$E,$I$1,SYNTHESE!$F:$F,\">=1\")))","v":""},{"$f":"IF($Z$2=\"pok\",\"\",IF(A18=\"\",\"\",COUNTIFS(SYNTHESE!$D:$D,A18,SYNTHESE!$E:$E,$J$1,SYNTHESE!$F:$F,\">=1\")))","v":""},{"$f":"IF($Z$2=\"pok\",\"\",IF(A18=\"\",\"\",COUNTIFS(SYNTHESE!$D:$D,A18,SYNTHESE!$E:$E,$K$1,SYNTHESE!$F:$F,\">=1\")))","v":""},{"$f":"IF($Z$2=\"pok\",\"\",IF(A18=\"\",\"\",COUNTIFS(SYNTHESE!$D:$D,A18,SYNTHESE!$E:$E,$L$1,SYNTHESE!$F:$F,\">=1\")))","v":""},{"$f":"IF($Z$2=\"pok\",\"\",IF(A18=\"\",\"\",COUNTIFS(SYNTHESE!$D:$D,A18,SYNTHESE!$E:$E,$M$1,SYNTHESE!$F:$F,\">=1\")))","v":""},{"$f":"IF($Z$2=\"pok\",\"\",IF(A18=\"\",\"\",COUNTIFS(SYNTHESE!$D:$D,A18,SYNTHESE!$E:$E,$N$1,SYNTHESE!$F:$F,\">=1\")))","v":""},{"$f":"IF($Z$2=\"pok\",\"\",IF(A18=\"\",\"\",COUNTIFS(SYNTHESE!$D:$D,A18,SYNTHESE!$E:$E,$O$1,SYNTHESE!$F:$F,\">=1\")))","v":""},{"$f":"IF($Z$2=\"pok\",\"\",IF(A18=\"\",\"\",COUNTIFS(SYNTHESE!$D:$D,A18,SYNTHESE!$E:$E,$P$1,SYNTHESE!$F:$F,\">=1\")))","v":""},{"$f":"IF($Z$2=\"pok\",\"\",IF(A18=\"\",\"\",COUNTIFS(SYNTHESE!$D:$D,A18,SYNTHESE!$E:$E,$Q$1,SYNTHESE!$F:$F,\">=1\")))","v":""},{"$f":"IF($Z$2=\"pok\",\"\",IF(A18=\"\",\"\",COUNTIFS(SYNTHESE!$D:$D,A18,SYNTHESE!$E:$E,$R$1,SYNTHESE!$F:$F,\">=1\")))","v":""},{"$f":"IF($Z$2=\"pok\",\"\",IF(A18=\"\",\"\",COUNTIFS(SYNTHESE!$D:$D,A18,SYNTHESE!$E:$E,$S$1,SYNTHESE!$F:$F,\">=1\")))","v":""},{"$f":"IF($Z$2=\"pok\",\"\",IF(A18=\"\",\"\",COUNTIFS(SYNTHESE!$D:$D,A18,SYNTHESE!$E:$E,$T$1,SYNTHESE!$F:$F,\">=1\")))","v":""},{"$f":"IF($Z$2=\"pok\",\"\",IF(A18=\"\",\"\",COUNTIFS(SYNTHESE!$D:$D,A18,SYNTHESE!$E:$E,$U$1,SYNTHESE!$F:$F,\">=1\")))","v":""},{"$f":"IF($Z$2=\"pok\",\"\",IF(A18=\"\",\"\",COUNTIFS(SYNTHESE!$D:$D,A18,SYNTHESE!$E:$E,$V$1,SYNTHESE!$F:$F,\">=1\")))","v":""},{"$f":"IF($Z$2=\"pok\",\"\",IF(A18=\"\",\"\",COUNTIFS(SYNTHESE!$D:$D,A18,SYNTHESE!$E:$E,$W$1,SYNTHESE!$F:$F,\">=1\")))","v":""},{"$f":"IF($Z$2=\"pok\",\"\",IF(A18=\"\",\"\",COUNTIFS(SYNTHESE!$D:$D,A18,SYNTHESE!$E:$E,$X$1,SYNTHESE!$F:$F,\">=1\")))","v":""},{"$f":"IF($Z$2=\"pok\",\"\",IF(A18=\"\",\"\",COUNTIFS(SYNTHESE!$D:$D,A18,SYNTHESE!$E:$E,$Y$1,SYNTHESE!$F:$F,\">=1\")))","v":""},0]
[{"$f":"IF(ETUDIANTS!A19=\"\",\"\",ETUDIANTS!A19)","v":""},{"$f":"IF($Z$2=\"pok\",\"\",IF(A19=\"\",\"\",COUNTIFS(SYNTHESE!$D:$D,A19,SYNTHESE!$E:$E,$B$1,SYNTHESE!$F:$F,\">=1\")))","v":""},{"$f":"IF($Z$2=\"pok\",\"\",IF(A19=\"\",\"\",COUNTIFS(SYNTHESE!$D:$D,A19,SYNTHESE!$E:$E,$C$1,SYNTHESE!$F:$F,\">=1\")))","v":""},{"$f":"IF($Z$2=\"pok\",\"\",IF(A19=\"\",\"\",COUNTIFS(SYNTHESE!$D:$D,A19,SYNTHESE!$E:$E,$D$1,SYNTHESE!$F:$F,\">=1\")))","v":""},{"$f":"IF($Z$2=\"pok\",\"\",IF(A19=\"\",\"\",COUNTIFS(SYNTHESE!$D:$D,A19,SYNTHESE!$E:$E,$E$1,SYNTHESE!$F:$F,\">=1\")))","v":""},{"$f":"IF($Z$2=\"pok\",\"\",IF(A19=\"\",\"\",COUNTIFS(SYNTHESE!$D:$D,A19,SYNTHESE!$E:$E,$F$1,SYNTHESE!$F:$F,\">=1\")))","v":""},{"$f":"IF($Z$2=\"pok\",\"\",IF(A19=\"\",\"\",COUNTIFS(SYNTHESE!$D:$D,A19,SYNTHESE!$E:$E,$G$1,SYNTHESE!$F:$F,\">=1\")))","v":""},{"$f":"IF($Z$2=\"pok\",\"\",IF(A19=\"\",\"\",COUNTIFS(SYNTHESE!$D:$D,A19,SYNTHESE!$E:$E,$H$1,SYNTHESE!$F:$F,\">=1\")))","v":""},{"$f":"IF($Z$2=\"pok\",\"\",IF(A19=\"\",\"\",COUNTIFS(SYNTHESE!$D:$D,A19,SYNTHESE!$E:$E,$I$1,SYNTHESE!$F:$F,\">=1\")))","v":""},{"$f":"IF($Z$2=\"pok\",\"\",IF(A19=\"\",\"\",COUNTIFS(SYNTHESE!$D:$D,A19,SYNTHESE!$E:$E,$J$1,SYNTHESE!$F:$F,\">=1\")))","v":""},{"$f":"IF($Z$2=\"pok\",\"\",IF(A19=\"\",\"\",COUNTIFS(SYNTHESE!$D:$D,A19,SYNTHESE!$E:$E,$K$1,SYNTHESE!$F:$F,\">=1\")))","v":""},{"$f":"IF($Z$2=\"pok\",\"\",IF(A19=\"\",\"\",COUNTIFS(SYNTHESE!$D:$D,A19,SYNTHESE!$E:$E,$L$1,SYNTHESE!$F:$F,\">=1\")))","v":""},{"$f":"IF($Z$2=\"pok\",\"\",IF(A19=\"\",\"\",COUNTIFS(SYNTHESE!$D:$D,A19,SYNTHESE!$E:$E,$M$1,SYNTHESE!$F:$F,\">=1\")))","v":""},{"$f":"IF($Z$2=\"pok\",\"\",IF(A19=\"\",\"\",COUNTIFS(SYNTHESE!$D:$D,A19,SYNTHESE!$E:$E,$N$1,SYNTHESE!$F:$F,\">=1\")))","v":""},{"$f":"IF($Z$2=\"pok\",\"\",IF(A19=\"\",\"\",COUNTIFS(SYNTHESE!$D:$D,A19,SYNTHESE!$E:$E,$O$1,SYNTHESE!$F:$F,\">=1\")))","v":""},{"$f":"IF($Z$2=\"pok\",\"\",IF(A19=\"\",\"\",COUNTIFS(SYNTHESE!$D:$D,A19,SYNTHESE!$E:$E,$P$1,SYNTHESE!$F:$F,\">=1\")))","v":""},{"$f":"IF($Z$2=\"pok\",\"\",IF(A19=\"\",\"\",COUNTIFS(SYNTHESE!$D:$D,A19,SYNTHESE!$E:$E,$Q$1,SYNTHESE!$F:$F,\">=1\")))","v":""},{"$f":"IF($Z$2=\"pok\",\"\",IF(A19=\"\",\"\",COUNTIFS(SYNTHESE!$D:$D,A19,SYNTHESE!$E:$E,$R$1,SYNTHESE!$F:$F,\">=1\")))","v":""},{"$f":"IF($Z$2=\"pok\",\"\",IF(A19=\"\",\"\",COUNTIFS(SYNTHESE!$D:$D,A19,SYNTHESE!$E:$E,$S$1,SYNTHESE!$F:$F,\">=1\")))","v":""},{"$f":"IF($Z$2=\"pok\",\"\",IF(A19=\"\",\"\",COUNTIFS(SYNTHESE!$D:$D,A19,SYNTHESE!$E:$E,$T$1,SYNTHESE!$F:$F,\">=1\")))","v":""},{"$f":"IF($Z$2=\"pok\",\"\",IF(A19=\"\",\"\",COUNTIFS(SYNTHESE!$D:$D,A19,SYNTHESE!$E:$E,$U$1,SYNTHESE!$F:$F,\">=1\")))","v":""},{"$f":"IF($Z$2=\"pok\",\"\",IF(A19=\"\",\"\",COUNTIFS(SYNTHESE!$D:$D,A19,SYNTHESE!$E:$E,$V$1,SYNTHESE!$F:$F,\">=1\")))","v":""},{"$f":"IF($Z$2=\"pok\",\"\",IF(A19=\"\",\"\",COUNTIFS(SYNTHESE!$D:$D,A19,SYNTHESE!$E:$E,$W$1,SYNTHESE!$F:$F,\">=1\")))","v":""},{"$f":"IF($Z$2=\"pok\",\"\",IF(A19=\"\",\"\",COUNTIFS(SYNTHESE!$D:$D,A19,SYNTHESE!$E:$E,$X$1,SYNTHESE!$F:$F,\">=1\")))","v":""},{"$f":"IF($Z$2=\"pok\",\"\",IF(A19=\"\",\"\",COUNTIFS(SYNTHESE!$D:$D,A19,SYNTHESE!$E:$E,$Y$1,SYNTHESE!$F:$F,\">=1\")))","v":""},0]
[{"$f":"IF(ETUDIANTS!A20=\"\",\"\",ETUDIANTS!A20)","v":""},{"$f":"IF($Z$2=\"pok\",\"\",IF(A20=\"\",\"\",COUNTIFS(SYNTHESE!$D:$D,A20,SYNTHESE!$E:$E,$B$1,SYNTHESE!$F:$F,\">=1\")))","v":""},{"$f":"IF($Z$2=\"pok\",\"\",IF(A20=\"\",\"\",COUNTIFS(SYNTHESE!$D:$D,A20,SYNTHESE!$E:$E,$C$1,SYNTHESE!$F:$F,\">=1\")))","v":""},{"$f":"IF($Z$2=\"pok\",\"\",IF(A20=\"\",\"\",COUNTIFS(SYNTHESE!$D:$D,A20,SYNTHESE!$E:$E,$D$1,SYNTHESE!$F:$F,\">=1\")))","v":""},{"$f":"IF($Z$2=\"pok\",\"\",IF(A20=\"\",\"\",COUNTIFS(SYNTHESE!$D:$D,A20,SYNTHESE!$E:$E,$E$1,SYNTHESE!$F:$F,\">=1\")))","v":""},{"$f":"IF($Z$2=\"pok\",\"\",IF(A20=\"\",\"\",COUNTIFS(SYNTHESE!$D:$D,A20,SYNTHESE!$E:$E,$F$1,SYNTHESE!$F:$F,\">=1\")))","v":""},{"$f":"IF($Z$2=\"pok\",\"\",IF(A20=\"\",\"\",COUNTIFS(SYNTHESE!$D:$D,A20,SYNTHESE!$E:$E,$G$1,SYNTHESE!$F:$F,\">=1\")))","v":""},{"$f":"IF($Z$2=\"pok\",\"\",IF(A20=\"\",\"\",COUNTIFS(SYNTHESE!$D:$D,A20,SYNTHESE!$E:$E,$H$1,SYNTHESE!$F:$F,\">=1\")))","v":""},{"$f":"IF($Z$2=\"pok\",\"\",IF(A20=\"\",\"\",COUNTIFS(SYNTHESE!$D:$D,A20,SYNTHESE!$E:$E,$I$1,SYNTHESE!$F:$F,\">=1\")))","v":""},{"$f":"IF($Z$2=\"pok\",\"\",IF(A20=\"\",\"\",COUNTIFS(SYNTHESE!$D:$D,A20,SYNTHESE!$E:$E,$J$1,SYNTHESE!$F:$F,\">=1\")))","v":""},{"$f":"IF($Z$2=\"pok\",\"\",IF(A20=\"\",\"\",COUNTIFS(SYNTHESE!$D:$D,A20,SYNTHESE!$E:$E,$K$1,SYNTHESE!$F:$F,\">=1\")))","v":""},{"$f":"IF($Z$2=\"pok\",\"\",IF(A20=\"\",\"\",COUNTIFS(SYNTHESE!$D:$D,A20,SYNTHESE!$E:$E,$L$1,SYNTHESE!$F:$F,\">=1\")))","v":""},{"$f":"IF($Z$2=\"pok\",\"\",IF(A20=\"\",\"\",COUNTIFS(SYNTHESE!$D:$D,A20,SYNTHESE!$E:$E,$M$1,SYNTHESE!$F:$F,\">=1\")))","v":""},{"$f":"IF($Z$2=\"pok\",\"\",IF(A20=\"\",\"\",COUNTIFS(SYNTHESE!$D:$D,A20,SYNTHESE!$E:$E,$N$1,SYNTHESE!$F:$F,\">=1\")))","v":""},{"$f":"IF($Z$2=\"pok\",\"\",IF(A20=\"\",\"\",COUNTIFS(SYNTHESE!$D:$D,A20,SYNTHESE!$E:$E,$O$1,SYNTHESE!$F:$F,\">=1\")))","v":""},{"$f":"IF($Z$2=\"pok\",\"\",IF(A20=\"\",\"\",COUNTIFS(SYNTHESE!$D:$D,A20,SYNTHESE!$E:$E,$P$1,SYNTHESE!$F:$F,\">=1\")))","v":""},{"$f":"IF($Z$2=\"pok\",\"\",IF(A20=\"\",\"\",COUNTIFS(SYNTHESE!$D:$D,A20,SYNTHESE!$E:$E,$Q$1,SYNTHESE!$F:$F,\">=1\")))","v":""},{"$f":"IF($Z$2=\"pok\",\"\",IF(A20=\"\",\"\",COUNTIFS(SYNTHESE!$D:$D,A20,SYNTHESE!$E:$E,$R$1,SYNTHESE!$F:$F,\">=1\")))","v":""},{"$f":"IF($Z$2=\"pok\",\"\",IF(A20=\"\",\"\",COUNTIFS(SYNTHESE!$D:$D,A20,SYNTHESE!$E:$E,$S$1,SYNTHESE!$F:$F,\">=1\")))","v":""},{"$f":"IF($Z$2=\"pok\",\"\",IF(A20=\"\",\"\",COUNTIFS(SYNTHESE!$D:$D,A20,SYNTHESE!$E:$E,$T$1,SYNTHESE!$F:$F,\">=1\")))","v":""},{"$f":"IF($Z$2=\"pok\",\"\",IF(A20=\"\",\"\",COUNTIFS(SYNTHESE!$D:$D,A20,SYNTHESE!$E:$E,$U$1,SYNTHESE!$F:$F,\">=1\")))","v":""},{"$f":"IF($Z$2=\"pok\",\"\",IF(A20=\"\",\"\",COUNTIFS(SYNTHESE!$D:$D,A20,SYNTHESE!$E:$E,$V$1,SYNTHESE!$F:$F,\">=1\")))","v":""},{"$f":"IF($Z$2=\"pok\",\"\",IF(A20=\"\",\"\",COUNTIFS(SYNTHESE!$D:$D,A20,SYNTHESE!$E:$E,$W$1,SYNTHESE!$F:$F,\">=1\")))","v":""},{"$f":"IF($Z$2=\"pok\",\"\",IF(A20=\"\",\"\",COUNTIFS(SYNTHESE!$D:$D,A20,SYNTHESE!$E:$E,$X$1,SYNTHESE!$F:$F,\">=1\")))","v":""},{"$f":"IF($Z$2=\"pok\",\"\",IF(A20=\"\",\"\",COUNTIFS(SYNTHESE!$D:$D,A20,SYNTHESE!$E:$E,$Y$1,SYNTHESE!$F:$F,\">=1\")))","v":""},0]
[{"$f":"IF(ETUDIANTS!A21=\"\",\"\",ETUDIANTS!A21)","v":""},{"$f":"IF($Z$2=\"pok\",\"\",IF(A21=\"\",\"\",COUNTIFS(SYNTHESE!$D:$D,A21,SYNTHESE!$E:$E,$B$1,SYNTHESE!$F:$F,\">=1\")))","v":""},{"$f":"IF($Z$2=\"pok\",\"\",IF(A21=\"\",\"\",COUNTIFS(SYNTHESE!$D:$D,A21,SYNTHESE!$E:$E,$C$1,SYNTHESE!$F:$F,\">=1\")))","v":""},{"$f":"IF($Z$2=\"pok\",\"\",IF(A21=\"\",\"\",COUNTIFS(SYNTHESE!$D:$D,A21,SYNTHESE!$E:$E,$D$1,SYNTHESE!$F:$F,\">=1\")))","v":""},{"$f":"IF($Z$2=\"pok\",\"\",IF(A21=\"\",\"\",COUNTIFS(SYNTHESE!$D:$D,A21,SYNTHESE!$E:$E,$E$1,SYNTHESE!$F:$F,\">=1\")))","v":""},{"$f":"IF($Z$2=\"pok\",\"\",IF(A21=\"\",\"\",COUNTIFS(SYNTHESE!$D:$D,A21,SYNTHESE!$E:$E,$F$1,SYNTHESE!$F:$F,\">=1\")))","v":""},{"$f":"IF($Z$2=\"pok\",\"\",IF(A21=\"\",\"\",COUNTIFS(SYNTHESE!$D:$D,A21,SYNTHESE!$E:$E,$G$1,SYNTHESE!$F:$F,\">=1\")))","v":""},{"$f":"IF($Z$2=\"pok\",\"\",IF(A21=\"\",\"\",COUNTIFS(SYNTHESE!$D:$D,A21,SYNTHESE!$E:$E,$H$1,SYNTHESE!$F:$F,\">=1\")))","v":""},{"$f":"IF($Z$2=\"pok\",\"\",IF(A21=\"\",\"\",COUNTIFS(SYNTHESE!$D:$D,A21,SYNTHESE!$E:$E,$I$1,SYNTHESE!$F:$F,\">=1\")))","v":""},{"$f":"IF($Z$2=\"pok\",\"\",IF(A21=\"\",\"\",COUNTIFS(SYNTHESE!$D:$D,A21,SYNTHESE!$E:$E,$J$1,SYNTHESE!$F:$F,\">=1\")))","v":""},{"$f":"IF($Z$2=\"pok\",\"\",IF(A21=\"\",\"\",COUNTIFS(SYNTHESE!$D:$D,A21,SYNTHESE!$E:$E,$K$1,SYNTHESE!$F:$F,\">=1\")))","v":""},{"$f":"IF($Z$2=\"pok\",\"\",IF(A21=\"\",\"\",COUNTIFS(SYNTHESE!$D:$D,A21,SYNTHESE!$E:$E,$L$1,SYNTHESE!$F:$F,\">=1\")))","v":""},{"$f":"IF($Z$2=\"pok\",\"\",IF(A21=\"\",\"\",COUNTIFS(SYNTHESE!$D:$D,A21,SYNTHESE!$E:$E,$M$1,SYNTHESE!$F:$F,\">=1\")))","v":""},{"$f":"IF($Z$2=\"pok\",\"\",IF(A21=\"\",\"\",COUNTIFS(SYNTHESE!$D:$D,A21,SYNTHESE!$E:$E,$N$1,SYNTHESE!$F:$F,\">=1\")))","v":""},{"$f":"IF($Z$2=\"pok\",\"\",IF(A21=\"\",\"\",COUNTIFS(SYNTHESE!$D:$D,A21,SYNTHESE!$E:$E,$O$1,SYNTHESE!$F:$F,\">=1\")))","v":""},{"$f":"IF($Z$2=\"pok\",\"\",IF(A21=\"\",\"\",COUNTIFS(SYNTHESE!$D:$D,A21,SYNTHESE!$E:$E,$P$1,SYNTHESE!$F:$F,\">=1\")))","v":""},{"$f":"IF($Z$2=\"pok\",\"\",IF(A21=\"\",\"\",COUNTIFS(SYNTHESE!$D:$D,A21,SYNTHESE!$E:$E,$Q$1,SYNTHESE!$F:$F,\">=1\")))","v":""},{"$f":"IF($Z$2=\"pok\",\"\",IF(A21=\"\",\"\",COUNTIFS(SYNTHESE!$D:$D,A21,SYNTHESE!$E:$E,$R$1,SYNTHESE!$F:$F,\">=1\")))","v":""},{"$f":"IF($Z$2=\"pok\",\"\",IF(A21=\"\",\"\",COUNTIFS(SYNTHESE!$D:$D,A21,SYNTHESE!$E:$E,$S$1,SYNTHESE!$F:$F,\">=1\")))","v":""},{"$f":"IF($Z$2=\"pok\",\"\",IF(A21=\"\",\"\",COUNTIFS(SYNTHESE!$D:$D,A21,SYNTHESE!$E:$E,$T$1,SYNTHESE!$F:$F,\">=1\")))","v":""},{"$f":"IF($Z$2=\"pok\",\"\",IF(A21=\"\",\"\",COUNTIFS(SYNTHESE!$D:$D,A21,SYNTHESE!$E:$E,$U$1,SYNTHESE!$F:$F,\">=1\")))","v":""},{"$f":"IF($Z$2=\"pok\",\"\",IF(A21=\"\",\"\",COUNTIFS(SYNTHESE!$D:$D,A21,SYNTHESE!$E:$E,$V$1,SYNTHESE!$F:$F,\">=1\")))","v":""},{"$f":"IF($Z$2=\"pok\",\"\",IF(A21=\"\",\"\",COUNTIFS(SYNTHESE!$D:$D,A21,SYNTHESE!$E:$E,$W$1,SYNTHESE!$F:$F,\">=1\")))","v":""},{"$f":"IF($Z$2=\"pok\",\"\",IF(A21=\"\",\"\",COUNTIFS(SYNTHESE!$D:$D,A21,SYNTHESE!$E:$E,$X$1,SYNTHESE!$F:$F,\">=1\")))","v":""},{"$f":"IF($Z$2=\"pok\",\"\",IF(A21=\"\",\"\",COUNTIFS(SYNTHESE!$D:$D,A21,SYNTHESE!$E:$E,$Y$1,SYNTHESE!$F:$F,\">=1\")))","v":""},0]
[{"$f":"IF(ETUDIANTS!A22=\"\",\"\",ETUDIANTS!A22)","v":""},{"$f":"IF($Z$2=\"pok\",\"\",IF(A22=\"\",\"\",COUNTIFS(SYNTHESE!$D:$D,A22,SYNTHESE!$E:$E,$B$1,SYNTHESE!$F:$F,\">=1\")))","v":""},{"$f":"IF($Z$2=\"pok\",\"\",IF(A22=\"\",\"\",COUNTIFS(SYNTHESE!$D:$D,A22,SYNTHESE!$E:$E,$C$1,SYNTHESE!$F:$F,\">=1\")))","v":""},{"$f":"IF($Z$2=\"pok\",\"\",IF(A22=\"\",\"\",COUNTIFS(SYNTHESE!$D:$D,A22,SYNTHESE!$E:$E,$D$1,SYNTHESE!$F:$F,\">=1\")))","v":""},{"$f":"IF($Z$2=\"pok\",\"\",IF(A22=\"\",\"\",COUNTIFS(SYNTHESE!$D:$D,A22,SYNTHESE!$E:$E,$E$1,SYNTHESE!$F:$F,\">=1\")))","v":""},{"$f":"IF($Z$2=\"pok\",\"\",IF(A22=\"\",\"\",COUNTIFS(SYNTHESE!$D:$D,A22,SYNTHESE!$E:$E,$F$1,SYNTHESE!$F:$F,\">=1\")))","v":""},{"$f":"IF($Z$2=\"pok\",\"\",IF(A22=\"\",\"\",COUNTIFS(SYNTHESE!$D:$D,A22,SYNTHESE!$E:$E,$G$1,SYNTHESE!$F:$F,\">=1\")))","v":""},{"$f":"IF($Z$2=\"pok\",\"\",IF(A22=\"\",\"\",COUNTIFS(SYNTHESE!$D:$D,A22,SYNTHESE!$E:$E,$H$1,SYNTHESE!$F:$F,\">=1\")))","v":""},{"$f":"IF($Z$2=\"pok\",\"\",IF(A22=\"\",\"\",COUNTIFS(SYNTHESE!$D:$D,A22,SYNTHESE!$E:$E,$I$1,SYNTHESE!$F:$F,\">=1\")))","v":""},{"$f":"IF($Z$2=\"pok\",\"\",IF(A22=\"\",\"\",COUNTIFS(SYNTHESE!$D:$D,A22,SYNTHESE!$E:$E,$J$1,SYNTHESE!$F:$F,\">=1\")))","v":""},{"$f":"IF($Z$2=\"pok\",\"\",IF(A22=\"\",\"\",COUNTIFS(SYNTHESE!$D:$D,A22,SYNTHESE!$E:$E,$K$1,SYNTHESE!$F:$F,\">=1\")))","v":""},{"$f":"IF($Z$2=\"pok\",\"\",IF(A22=\"\",\"\",COUNTIFS(SYNTHESE!$D:$D,A22,SYNTHESE!$E:$E,$L$1,SYNTHESE!$F:$F,\">=1\")))","v":""},{"$f":"IF($Z$2=\"pok\",\"\",IF(A22=\"\",\"\",COUNTIFS(SYNTHESE!$D:$D,A22,SYNTHESE!$E:$E,$M$1,SYNTHESE!$F:$F,\">=1\")))","v":""},{"$f":"IF($Z$2=\"pok\",\"\",IF(A22=\"\",\"\",COUNTIFS(SYNTHESE!$D:$D,A22,SYNTHESE!$E:$E,$N$1,SYNTHESE!$F:$F,\">=1\")))","v":""},{"$f":"IF($Z$2=\"pok\",\"\",IF(A22=\"\",\"\",COUNTIFS(SYNTHESE!$D:$D,A22,SYNTHESE!$E:$E,$O$1,SYNTHESE!$F:$F,\">=1\")))","v":""},{"$f":"IF($Z$2=\"pok\",\"\",IF(A22=\"\",\"\",COUNTIFS(SYNTHESE!$D:$D,A22,SYNTHESE!$E:$E,$P$1,SYNTHESE!$F:$F,\">=1\")))","v":""},{"$f":"IF($Z$2=\"pok\",\"\",IF(A22=\"\",\"\",COUNTIFS(SYNTHESE!$D:$D,A22,SYNTHESE!$E:$E,$Q$1,SYNTHESE!$F:$F,\">=1\")))","v":""},{"$f":"IF($Z$2=\"pok\",\"\",IF(A22=\"\",\"\",COUNTIFS(SYNTHESE!$D:$D,A22,SYNTHESE!$E:$E,$R$1,SYNTHESE!$F:$F,\">=1\")))","v":""},{"$f":"IF($Z$2=\"pok\",\"\",IF(A22=\"\",\"\",COUNTIFS(SYNTHESE!$D:$D,A22,SYNTHESE!$E:$E,$S$1,SYNTHESE!$F:$F,\">=1\")))","v":""},{"$f":"IF($Z$2=\"pok\",\"\",IF(A22=\"\",\"\",COUNTIFS(SYNTHESE!$D:$D,A22,SYNTHESE!$E:$E,$T$1,SYNTHESE!$F:$F,\">=1\")))","v":""},{"$f":"IF($Z$2=\"pok\",\"\",IF(A22=\"\",\"\",COUNTIFS(SYNTHESE!$D:$D,A22,SYNTHESE!$E:$E,$U$1,SYNTHESE!$F:$F,\">=1\")))","v":""},{"$f":"IF($Z$2=\"pok\",\"\",IF(A22=\"\",\"\",COUNTIFS(SYNTHESE!$D:$D,A22,SYNTHESE!$E:$E,$V$1,SYNTHESE!$F:$F,\">=1\")))","v":""},{"$f":"IF($Z$2=\"pok\",\"\",IF(A22=\"\",\"\",COUNTIFS(SYNTHESE!$D:$D,A22,SYNTHESE!$E:$E,$W$1,SYNTHESE!$F:$F,\">=1\")))","v":""},{"$f":"IF($Z$2=\"pok\",\"\",IF(A22=\"\",\"\",COUNTIFS(SYNTHESE!$D:$D,A22,SYNTHESE!$E:$E,$X$1,SYNTHESE!$F:$F,\">=1\")))","v":""},{"$f":"IF($Z$2=\"pok\",\"\",IF(A22=\"\",\"\",COUNTIFS(SYNTHESE!$D:$D,A22,SYNTHESE!$E:$E,$Y$1,SYNTHESE!$F:$F,\">=1\")))","v":""},0]
[{"$f":"IF(ETUDIANTS!A23=\"\",\"\",ETUDIANTS!A23)","v":""},{"$f":"IF($Z$2=\"pok\",\"\",IF(A23=\"\",\"\",COUNTIFS(SYNTHESE!$D:$D,A23,SYNTHESE!$E:$E,$B$1,SYNTHESE!$F:$F,\">=1\")))","v":""},{"$f":"IF($Z$2=\"pok\",\"\",IF(A23=\"\",\"\",COUNTIFS(SYNTHESE!$D:$D,A23,SYNTHESE!$E:$E,$C$1,SYNTHESE!$F:$F,\">=1\")))","v":""},{"$f":"IF($Z$2=\"pok\",\"\",IF(A23=\"\",\"\",COUNTIFS(SYNTHESE!$D:$D,A23,SYNTHESE!$E:$E,$D$1,SYNTHESE!$F:$F,\">=1\")))","v":""},{"$f":"IF($Z$2=\"pok\",\"\",IF(A23=\"\",\"\",COUNTIFS(SYNTHESE!$D:$D,A23,SYNTHESE!$E:$E,$E$1,SYNTHESE!$F:$F,\">=1\")))","v":""},{"$f":"IF($Z$2=\"pok\",\"\",IF(A23=\"\",\"\",COUNTIFS(SYNTHESE!$D:$D,A23,SYNTHESE!$E:$E,$F$1,SYNTHESE!$F:$F,\">=1\")))","v":""},{"$f":"IF($Z$2=\"pok\",\"\",IF(A23=\"\",\"\",COUNTIFS(SYNTHESE!$D:$D,A23,SYNTHESE!$E:$E,$G$1,SYNTHESE!$F:$F,\">=1\")))","v":""},{"$f":"IF($Z$2=\"pok\",\"\",IF(A23=\"\",\"\",COUNTIFS(SYNTHESE!$D:$D,A23,SYNTHESE!$E:$E,$H$1,SYNTHESE!$F:$F,\">=1\")))","v":""},{"$f":"IF($Z$2=\"pok\",\"\",IF(A23=\"\",\"\",COUNTIFS(SYNTHESE!$D:$D,A23,SYNTHESE!$E:$E,$I$1,SYNTHESE!$F:$F,\">=1\")))","v":""},{"$f":"IF($Z$2=\"pok\",\"\",IF(A23=\"\",\"\",COUNTIFS(SYNTHESE!$D:$D,A23,SYNTHESE!$E:$E,$J$1,SYNTHESE!$F:$F,\">=1\")))","v":""},{"$f":"IF($Z$2=\"pok\",\"\",IF(A23=\"\",\"\",COUNTIFS(SYNTHESE!$D:$D,A23,SYNTHESE!$E:$E,$K$1,SYNTHESE!$F:$F,\">=1\")))","v":""},{"$f":"IF($Z$2=\"pok\",\"\",IF(A23=\"\",\"\",COUNTIFS(SYNTHESE!$D:$D,A23,SYNTHESE!$E:$E,$L$1,SYNTHESE!$F:$F,\">=1\")))","v":""},{"$f":"IF($Z$2=\"pok\",\"\",IF(A23=\"\",\"\",COUNTIFS(SYNTHESE!$D:$D,A23,SYNTHESE!$E:$E,$M$1,SYNTHESE!$F:$F,\">=1\")))","v":""},{"$f":"IF($Z$2=\"pok\",\"\",IF(A23=\"\",\"\",COUNTIFS(SYNTHESE!$D:$D,A23,SYNTHESE!$E:$E,$N$1,SYNTHESE!$F:$F,\">=1\")))","v":""},{"$f":"IF($Z$2=\"pok\",\"\",IF(A23=\"\",\"\",COUNTIFS(SYNTHESE!$D:$D,A23,SYNTHESE!$E:$E,$O$1,SYNTHESE!$F:$F,\">=1\")))","v":""},{"$f":"IF($Z$2=\"pok\",\"\",IF(A23=\"\",\"\",COUNTIFS(SYNTHESE!$D:$D,A23,SYNTHESE!$E:$E,$P$1,SYNTHESE!$F:$F,\">=1\")))","v":""},{"$f":"IF($Z$2=\"pok\",\"\",IF(A23=\"\",\"\",COUNTIFS(SYNTHESE!$D:$D,A23,SYNTHESE!$E:$E,$Q$1,SYNTHESE!$F:$F,\">=1\")))","v":""},{"$f":"IF($Z$2=\"pok\",\"\",IF(A23=\"\",\"\",COUNTIFS(SYNTHESE!$D:$D,A23,SYNTHESE!$E:$E,$R$1,SYNTHESE!$F:$F,\">=1\")))","v":""},{"$f":"IF($Z$2=\"pok\",\"\",IF(A23=\"\",\"\",COUNTIFS(SYNTHESE!$D:$D,A23,SYNTHESE!$E:$E,$S$1,SYNTHESE!$F:$F,\">=1\")))","v":""},{"$f":"IF($Z$2=\"pok\",\"\",IF(A23=\"\",\"\",COUNTIFS(SYNTHESE!$D:$D,A23,SYNTHESE!$E:$E,$T$1,SYNTHESE!$F:$F,\">=1\")))","v":""},{"$f":"IF($Z$2=\"pok\",\"\",IF(A23=\"\",\"\",COUNTIFS(SYNTHESE!$D:$D,A23,SYNTHESE!$E:$E,$U$1,SYNTHESE!$F:$F,\">=1\")))","v":""},{"$f":"IF($Z$2=\"pok\",\"\",IF(A23=\"\",\"\",COUNTIFS(SYNTHESE!$D:$D,A23,SYNTHESE!$E:$E,$V$1,SYNTHESE!$F:$F,\">=1\")))","v":""},{"$f":"IF($Z$2=\"pok\",\"\",IF(A23=\"\",\"\",COUNTIFS(SYNTHESE!$D:$D,A23,SYNTHESE!$E:$E,$W$1,SYNTHESE!$F:$F,\">=1\")))","v":""},{"$f":"IF($Z$2=\"pok\",\"\",IF(A23=\"\",\"\",COUNTIFS(SYNTHESE!$D:$D,A23,SYNTHESE!$E:$E,$X$1,SYNTHESE!$F:$F,\">=1\")))","v":""},{"$f":"IF($Z$2=\"pok\",\"\",IF(A23=\"\",\"\",COUNTIFS(SYNTHESE!$D:$D,A23,SYNTHESE!$E:$E,$Y$1,SYNTHESE!$F:$F,\">=1\")))","v":""},0]
[{"$f":"IF(ETUDIANTS!A24=\"\",\"\",ETUDIANTS!A24)","v":""},{"$f":"IF($Z$2=\"pok\",\"\",IF(A24=\"\",\"\",COUNTIFS(SYNTHESE!$D:$D,A24,SYNTHESE!$E:$E,$B$1,SYNTHESE!$F:$F,\">=1\")))","v":""},{"$f":"IF($Z$2=\"pok\",\"\",IF(A24=\"\",\"\",COUNTIFS(SYNTHESE!$D:$D,A24,SYNTHESE!$E:$E,$C$1,SYNTHESE!$F:$F,\">=1\")))","v":""},{"$f":"IF($Z$2=\"pok\",\"\",IF(A24=\"\",\"\",COUNTIFS(SYNTHESE!$D:$D,A24,SYNTHESE!$E:$E,$D$1,SYNTHESE!$F:$F,\">=1\")))","v":""},{"$f":"IF($Z$2=\"pok\",\"\",IF(A24=\"\",\"\",COUNTIFS(SYNTHESE!$D:$D,A24,SYNTHESE!$E:$E,$E$1,SYNTHESE!$F:$F,\">=1\")))","v":""},{"$f":"IF($Z$2=\"pok\",\"\",IF(A24=\"\",\"\",COUNTIFS(SYNTHESE!$D:$D,A24,SYNTHESE!$E:$E,$F$1,SYNTHESE!$F:$F,\">=1\")))","v":""},{"$f":"IF($Z$2=\"pok\",\"\",IF(A24=\"\",\"\",COUNTIFS(SYNTHESE!$D:$D,A24,SYNTHESE!$E:$E,$G$1,SYNTHESE!$F:$F,\">=1\")))","v":""},{"$f":"IF($Z$2=\"pok\",\"\",IF(A24=\"\",\"\",COUNTIFS(SYNTHESE!$D:$D,A24,SYNTHESE!$E:$E,$H$1,SYNTHESE!$F:$F,\">=1\")))","v":""},{"$f":"IF($Z$2=\"pok\",\"\",IF(A24=\"\",\"\",COUNTIFS(SYNTHESE!$D:$D,A24,SYNTHESE!$E:$E,$I$1,SYNTHESE!$F:$F,\">=1\")))","v":""},{"$f":"IF($Z$2=\"pok\",\"\",IF(A24=\"\",\"\",COUNTIFS(SYNTHESE!$D:$D,A24,SYNTHESE!$E:$E,$J$1,SYNTHESE!$F:$F,\">=1\")))","v":""},{"$f":"IF($Z$2=\"pok\",\"\",IF(A24=\"\",\"\",COUNTIFS(SYNTHESE!$D:$D,A24,SYNTHESE!$E:$E,$K$1,SYNTHESE!$F:$F,\">=1\")))","v":""},{"$f":"IF($Z$2=\"pok\",\"\",IF(A24=\"\",\"\",COUNTIFS(SYNTHESE!$D:$D,A24,SYNTHESE!$E:$E,$L$1,SYNTHESE!$F:$F,\">=1\")))","v":""},{"$f":"IF($Z$2=\"pok\",\"\",IF(A24=\"\",\"\",COUNTIFS(SYNTHESE!$D:$D,A24,SYNTHESE!$E:$E,$M$1,SYNTHESE!$F:$F,\">=1\")))","v":""},{"$f":"IF($Z$2=\"pok\",\"\",IF(A24=\"\",\"\",COUNTIFS(SYNTHESE!$D:$D,A24,SYNTHESE!$E:$E,$N$1,SYNTHESE!$F:$F,\">=1\")))","v":""},{"$f":"IF($Z$2=\"pok\",\"\",IF(A24=\"\",\"\",COUNTIFS(SYNTHESE!$D:$D,A24,SYNTHESE!$E:$E,$O$1,SYNTHESE!$F:$F,\">=1\")))","v":""},{"$f":"IF($Z$2=\"pok\",\"\",IF(A24=\"\",\"\",COUNTIFS(SYNTHESE!$D:$D,A24,SYNTHESE!$E:$E,$P$1,SYNTHESE!$F:$F,\">=1\")))","v":""},{"$f":"IF($Z$2=\"pok\",\"\",IF(A24=\"\",\"\",COUNTIFS(SYNTHESE!$D:$D,A24,SYNTHESE!$E:$E,$Q$1,SYNTHESE!$F:$F,\">=1\")))","v":""},{"$f":"IF($Z$2=\"pok\",\"\",IF(A24=\"\",\"\",COUNTIFS(SYNTHESE!$D:$D,A24,SYNTHESE!$E:$E,$R$1,SYNTHESE!$F:$F,\">=1\")))","v":""},{"$f":"IF($Z$2=\"pok\",\"\",IF(A24=\"\",\"\",COUNTIFS(SYNTHESE!$D:$D,A24,SYNTHESE!$E:$E,$S$1,SYNTHESE!$F:$F,\">=1\")))","v":""},{"$f":"IF($Z$2=\"pok\",\"\",IF(A24=\"\",\"\",COUNTIFS(SYNTHESE!$D:$D,A24,SYNTHESE!$E:$E,$T$1,SYNTHESE!$F:$F,\">=1\")))","v":""},{"$f":"IF($Z$2=\"pok\",\"\",IF(A24=\"\",\"\",COUNTIFS(SYNTHESE!$D:$D,A24,SYNTHESE!$E:$E,$U$1,SYNTHESE!$F:$F,\">=1\")))","v":""},{"$f":"IF($Z$2=\"pok\",\"\",IF(A24=\"\",\"\",COUNTIFS(SYNTHESE!$D:$D,A24,SYNTHESE!$E:$E,$V$1,SYNTHESE!$F:$F,\">=1\")))","v":""},{"$f":"IF($Z$2=\"pok\",\"\",IF(A24=\"\",\"\",COUNTIFS(SYNTHESE!$D:$D,A24,SYNTHESE!$E:$E,$W$1,SYNTHESE!$F:$F,\">=1\")))","v":""},{"$f":"IF($Z$2=\"pok\",\"\",IF(A24=\"\",\"\",COUNTIFS(SYNTHESE!$D:$D,A24,SYNTHESE!$E:$E,$X$1,SYNTHESE!$F:$F,\">=1\")))","v":""},{"$f":"IF($Z$2=\"pok\",\"\",IF(A24=\"\",\"\",COUNTIFS(SYNTHESE!$D:$D,A24,SYNTHESE!$E:$E,$Y$1,SYNTHESE!$F:$F,\">=1\")))","v":""},0]
[{"$f":"IF(ETUDIANTS!A25=\"\",\"\",ETUDIANTS!A25)","v":""},{"$f":"IF($Z$2=\"pok\",\"\",IF(A25=\"\",\"\",COUNTIFS(SYNTHESE!$D:$D,A25,SYNTHESE!$E:$E,$B$1,SYNTHESE!$F:$F,\">=1\")))","v":""},{"$f":"IF($Z$2=\"pok\",\"\",IF(A25=\"\",\"\",COUNTIFS(SYNTHESE!$D:$D,A25,SYNTHESE!$E:$E,$C$1,SYNTHESE!$F:$F,\">=1\")))","v":""},{"$f":"IF($Z$2=\"pok\",\"\",IF(A25=\"\",\"\",COUNTIFS(SYNTHESE!$D:$D,A25,SYNTHESE!$E:$E,$D$1,SYNTHESE!$F:$F,\">=1\")))","v":""},{"$f":"IF($Z$2=\"pok\",\"\",IF(A25=\"\",\"\",COUNTIFS(SYNTHESE!$D:$D,A25,SYNTHESE!$E:$E,$E$1,SYNTHESE!$F:$F,\">=1\")))","v":""},{"$f":"IF($Z$2=\"pok\",\"\",IF(A25=\"\",\"\",COUNTIFS(SYNTHESE!$D:$D,A25,SYNTHESE!$E:$E,$F$1,SYNTHESE!$F:$F,\">=1\")))","v":""},{"$f":"IF($Z$2=\"pok\",\"\",IF(A25=\"\",\"\",COUNTIFS(SYNTHESE!$D:$D,A25,SYNTHESE!$E:$E,$G$1,SYNTHESE!$F:$F,\">=1\")))","v":""},{"$f":"IF($Z$2=\"pok\",\"\",IF(A25=\"\",\"\",COUNTIFS(SYNTHESE!$D:$D,A25,SYNTHESE!$E:$E,$H$1,SYNTHESE!$F:$F,\">=1\")))","v":""},{"$f":"IF($Z$2=\"pok\",\"\",IF(A25=\"\",\"\",COUNTIFS(SYNTHESE!$D:$D,A25,SYNTHESE!$E:$E,$I$1,SYNTHESE!$F:$F,\">=1\")))","v":""},{"$f":"IF($Z$2=\"pok\",\"\",IF(A25=\"\",\"\",COUNTIFS(SYNTHESE!$D:$D,A25,SYNTHESE!$E:$E,$J$1,SYNTHESE!$F:$F,\">=1\")))","v":""},{"$f":"IF($Z$2=\"pok\",\"\",IF(A25=\"\",\"\",COUNTIFS(SYNTHESE!$D:$D,A25,SYNTHESE!$E:$E,$K$1,SYNTHESE!$F:$F,\">=1\")))","v":""},{"$f":"IF($Z$2=\"pok\",\"\",IF(A25=\"\",\"\",COUNTIFS(SYNTHESE!$D:$D,A25,SYNTHESE!$E:$E,$L$1,SYNTHESE!$F:$F,\">=1\")))","v":""},{"$f":"IF($Z$2=\"pok\",\"\",IF(A25=\"\",\"\",COUNTIFS(SYNTHESE!$D:$D,A25,SYNTHESE!$E:$E,$M$1,SYNTHESE!$F:$F,\">=1\")))","v":""},{"$f":"IF($Z$2=\"pok\",\"\",IF(A25=\"\",\"\",COUNTIFS(SYNTHESE!$D:$D,A25,SYNTHESE!$E:$E,$N$1,SYNTHESE!$F:$F,\">=1\")))","v":""},{"$f":"IF($Z$2=\"pok\",\"\",IF(A25=\"\",\"\",COUNTIFS(SYNTHESE!$D:$D,A25,SYNTHESE!$E:$E,$O$1,SYNTHESE!$F:$F,\">=1\")))","v":""},{"$f":"IF($Z$2=\"pok\",\"\",IF(A25=\"\",\"\",COUNTIFS(SYNTHESE!$D:$D,A25,SYNTHESE!$E:$E,$P$1,SYNTHESE!$F:$F,\">=1\")))","v":""},{"$f":"IF($Z$2=\"pok\",\"\",IF(A25=\"\",\"\",COUNTIFS(SYNTHESE!$D:$D,A25,SYNTHESE!$E:$E,$Q$1,SYNTHESE!$F:$F,\">=1\")))","v":""},{"$f":"IF($Z$2=\"pok\",\"\",IF(A25=\"\",\"\",COUNTIFS(SYNTHESE!$D:$D,A25,SYNTHESE!$E:$E,$R$1,SYNTHESE!$F:$F,\">=1\")))","v":""},{"$f":"IF($Z$2=\"pok\",\"\",IF(A25=\"\",\"\",COUNTIFS(SYNTHESE!$D:$D,A25,SYNTHESE!$E:$E,$S$1,SYNTHESE!$F:$F,\">=1\")))","v":""},{"$f":"IF($Z$2=\"pok\",\"\",IF(A25=\"\",\"\",COUNTIFS(SYNTHESE!$D:$D,A25,SYNTHESE!$E:$E,$T$1,SYNTHESE!$F:$F,\">=1\")))","v":""},{"$f":"IF($Z$2=\"pok\",\"\",IF(A25=\"\",\"\",COUNTIFS(SYNTHESE!$D:$D,A25,SYNTHESE!$E:$E,$U$1,SYNTHESE!$F:$F,\">=1\")))","v":""},{"$f":"IF($Z$2=\"pok\",\"\",IF(A25=\"\",\"\",COUNTIFS(SYNTHESE!$D:$D,A25,SYNTHESE!$E:$E,$V$1,SYNTHESE!$F:$F,\">=1\")))","v":""},{"$f":"IF($Z$2=\"pok\",\"\",IF(A25=\"\",\"\",COUNTIFS(SYNTHESE!$D:$D,A25,SYNTHESE!$E:$E,$W$1,SYNTHESE!$F:$F,\">=1\")))","v":""},{"$f":"IF($Z$2=\"pok\",\"\",IF(A25=\"\",\"\",COUNTIFS(SYNTHESE!$D:$D,A25,SYNTHESE!$E:$E,$X$1,SYNTHESE!$F:$F,\">=1\")))","v":""},{"$f":"IF($Z$2=\"pok\",\"\",IF(A25=\"\",\"\",COUNTIFS(SYNTHESE!$D:$D,A25,SYNTHESE!$E:$E,$Y$1,SYNTHESE!$F:$F,\">=1\")))","v":""},0]
[{"$f":"IF(ETUDIANTS!A26=\"\",\"\",ETUDIANTS!A26)","v":""},{"$f":"IF($Z$2=\"pok\",\"\",IF(A26=\"\",\"\",COUNTIFS(SYNTHESE!$D:$D,A26,SYNTHESE!$E:$E,$B$1,SYNTHESE!$F:$F,\">=1\")))","v":""},{"$f":"IF($Z$2=\"pok\",\"\",IF(A26=\"\",\"\",COUNTIFS(SYNTHESE!$D:$D,A26,SYNTHESE!$E:$E,$C$1,SYNTHESE!$F:$F,\">=1\")))","v":""},{"$f":"IF($Z$2=\"pok\",\"\",IF(A26=\"\",\"\",COUNTIFS(SYNTHESE!$D:$D,A26,SYNTHESE!$E:$E,$D$1,SYNTHESE!$F:$F,\">=1\")))","v":""},{"$f":"IF($Z$2=\"pok\",\"\",IF(A26=\"\",\"\",COUNTIFS(SYNTHESE!$D:$D,A26,SYNTHESE!$E:$E,$E$1,SYNTHESE!$F:$F,\">=1\")))","v":""},{"$f":"IF($Z$2=\"pok\",\"\",IF(A26=\"\",\"\",COUNTIFS(SYNTHESE!$D:$D,A26,SYNTHESE!$E:$E,$F$1,SYNTHESE!$F:$F,\">=1\")))","v":""},{"$f":"IF($Z$2=\"pok\",\"\",IF(A26=\"\",\"\",COUNTIFS(SYNTHESE!$D:$D,A26,SYNTHESE!$E:$E,$G$1,SYNTHESE!$F:$F,\">=1\")))","v":""},{"$f":"IF($Z$2=\"pok\",\"\",IF(A26=\"\",\"\",COUNTIFS(SYNTHESE!$D:$D,A26,SYNTHESE!$E:$E,$H$1,SYNTHESE!$F:$F,\">=1\")))","v":""},{"$f":"IF($Z$2=\"pok\",\"\",IF(A26=\"\",\"\",COUNTIFS(SYNTHESE!$D:$D,A26,SYNTHESE!$E:$E,$I$1,SYNTHESE!$F:$F,\">=1\")))","v":""},{"$f":"IF($Z$2=\"pok\",\"\",IF(A26=\"\",\"\",COUNTIFS(SYNTHESE!$D:$D,A26,SYNTHESE!$E:$E,$J$1,SYNTHESE!$F:$F,\">=1\")))","v":""},{"$f":"IF($Z$2=\"pok\",\"\",IF(A26=\"\",\"\",COUNTIFS(SYNTHESE!$D:$D,A26,SYNTHESE!$E:$E,$K$1,SYNTHESE!$F:$F,\">=1\")))","v":""},{"$f":"IF($Z$2=\"pok\",\"\",IF(A26=\"\",\"\",COUNTIFS(SYNTHESE!$D:$D,A26,SYNTHESE!$E:$E,$L$1,SYNTHESE!$F:$F,\">=1\")))","v":""},{"$f":"IF($Z$2=\"pok\",\"\",IF(A26=\"\",\"\",COUNTIFS(SYNTHESE!$D:$D,A26,SYNTHESE!$E:$E,$M$1,SYNTHESE!$F:$F,\">=1\")))","v":""},{"$f":"IF($Z$2=\"pok\",\"\",IF(A26=\"\",\"\",COUNTIFS(SYNTHESE!$D:$D,A26,SYNTHESE!$E:$E,$N$1,SYNTHESE!$F:$F,\">=1\")))","v":""},{"$f":"IF($Z$2=\"pok\",\"\",IF(A26=\"\",\"\",COUNTIFS(SYNTHESE!$D:$D,A26,SYNTHESE!$E:$E,$O$1,SYNTHESE!$F:$F,\">=1\")))","v":""},{"$f":"IF($Z$2=\"pok\",\"\",IF(A26=\"\",\"\",COUNTIFS(SYNTHESE!$D:$D,A26,SYNTHESE!$E:$E,$P$1,SYNTHESE!$F:$F,\">=1\")))","v":""},{"$f":"IF($Z$2=\"pok\",\"\",IF(A26=\"\",\"\",COUNTIFS(SYNTHESE!$D:$D,A26,SYNTHESE!$E:$E,$Q$1,SYNTHESE!$F:$F,\">=1\")))","v":""},{"$f":"IF($Z$2=\"pok\",\"\",IF(A26=\"\",\"\",COUNTIFS(SYNTHESE!$D:$D,A26,SYNTHESE!$E:$E,$R$1,SYNTHESE!$F:$F,\">=1\")))","v":""},{"$f":"IF($Z$2=\"pok\",\"\",IF(A26=\"\",\"\",COUNTIFS(SYNTHESE!$D:$D,A26,SYNTHESE!$E:$E,$S$1,SYNTHESE!$F:$F,\">=1\")))","v":""},{"$f":"IF($Z$2=\"pok\",\"\",IF(A26=\"\",\"\",COUNTIFS(SYNTHESE!$D:$D,A26,SYNTHESE!$E:$E,$T$1,SYNTHESE!$F:$F,\">=1\")))","v":""},{"$f":"IF($Z$2=\"pok\",\"\",IF(A26=\"\",\"\",COUNTIFS(SYNTHESE!$D:$D,A26,SYNTHESE!$E:$E,$U$1,SYNTHESE!$F:$F,\">=1\")))","v":""},{"$f":"IF($Z$2=\"pok\",\"\",IF(A26=\"\",\"\",COUNTIFS(SYNTHESE!$D:$D,A26,SYNTHESE!$E:$E,$V$1,SYNTHESE!$F:$F,\">=1\")))","v":""},{"$f":"IF($Z$2=\"pok\",\"\",IF(A26=\"\",\"\",COUNTIFS(SYNTHESE!$D:$D,A26,SYNTHESE!$E:$E,$W$1,SYNTHESE!$F:$F,\">=1\")))","v":""},{"$f":"IF($Z$2=\"pok\",\"\",IF(A26=\"\",\"\",COUNTIFS(SYNTHESE!$D:$D,A26,SYNTHESE!$E:$E,$X$1,SYNTHESE!$F:$F,\">=1\")))","v":""},{"$f":"IF($Z$2=\"pok\",\"\",IF(A26=\"\",\"\",COUNTIFS(SYNTHESE!$D:$D,A26,SYNTHESE!$E:$E,$Y$1,SYNTHESE!$F:$F,\">=1\")))","v":""},0]
[{"$f":"IF(ETUDIANTS!A27=\"\",\"\",ETUDIANTS!A27)","v":""},{"$f":"IF($Z$2=\"pok\",\"\",IF(A27=\"\",\"\",COUNTIFS(SYNTHESE!$D:$D,A27,SYNTHESE!$E:$E,$B$1,SYNTHESE!$F:$F,\">=1\")))","v":""},{"$f":"IF($Z$2=\"pok\",\"\",IF(A27=\"\",\"\",COUNTIFS(SYNTHESE!$D:$D,A27,SYNTHESE!$E:$E,$C$1,SYNTHESE!$F:$F,\">=1\")))","v":""},{"$f":"IF($Z$2=\"pok\",\"\",IF(A27=\"\",\"\",COUNTIFS(SYNTHESE!$D:$D,A27,SYNTHESE!$E:$E,$D$1,SYNTHESE!$F:$F,\">=1\")))","v":""},{"$f":"IF($Z$2=\"pok\",\"\",IF(A27=\"\",\"\",COUNTIFS(SYNTHESE!$D:$D,A27,SYNTHESE!$E:$E,$E$1,SYNTHESE!$F:$F,\">=1\")))","v":""},{"$f":"IF($Z$2=\"pok\",\"\",IF(A27=\"\",\"\",COUNTIFS(SYNTHESE!$D:$D,A27,SYNTHESE!$E:$E,$F$1,SYNTHESE!$F:$F,\">=1\")))","v":""},{"$f":"IF($Z$2=\"pok\",\"\",IF(A27=\"\",\"\",COUNTIFS(SYNTHESE!$D:$D,A27,SYNTHESE!$E:$E,$G$1,SYNTHESE!$F:$F,\">=1\")))","v":""},{"$f":"IF($Z$2=\"pok\",\"\",IF(A27=\"\",\"\",COUNTIFS(SYNTHESE!$D:$D,A27,SYNTHESE!$E:$E,$H$1,SYNTHESE!$F:$F,\">=1\")))","v":""},{"$f":"IF($Z$2=\"pok\",\"\",IF(A27=\"\",\"\",COUNTIFS(SYNTHESE!$D:$D,A27,SYNTHESE!$E:$E,$I$1,SYNTHESE!$F:$F,\">=1\")))","v":""},{"$f":"IF($Z$2=\"pok\",\"\",IF(A27=\"\",\"\",COUNTIFS(SYNTHESE!$D:$D,A27,SYNTHESE!$E:$E,$J$1,SYNTHESE!$F:$F,\">=1\")))","v":""},{"$f":"IF($Z$2=\"pok\",\"\",IF(A27=\"\",\"\",COUNTIFS(SYNTHESE!$D:$D,A27,SYNTHESE!$E:$E,$K$1,SYNTHESE!$F:$F,\">=1\")))","v":""},{"$f":"IF($Z$2=\"pok\",\"\",IF(A27=\"\",\"\",COUNTIFS(SYNTHESE!$D:$D,A27,SYNTHESE!$E:$E,$L$1,SYNTHESE!$F:$F,\">=1\")))","v":""},{"$f":"IF($Z$2=\"pok\",\"\",IF(A27=\"\",\"\",COUNTIFS(SYNTHESE!$D:$D,A27,SYNTHESE!$E:$E,$M$1,SYNTHESE!$F:$F,\">=1\")))","v":""},{"$f":"IF($Z$2=\"pok\",\"\",IF(A27=\"\",\"\",COUNTIFS(SYNTHESE!$D:$D,A27,SYNTHESE!$E:$E,$N$1,SYNTHESE!$F:$F,\">=1\")))","v":""},{"$f":"IF($Z$2=\"pok\",\"\",IF(A27=\"\",\"\",COUNTIFS(SYNTHESE!$D:$D,A27,SYNTHESE!$E:$E,$O$1,SYNTHESE!$F:$F,\">=1\")))","v":""},{"$f":"IF($Z$2=\"pok\",\"\",IF(A27=\"\",\"\",COUNTIFS(SYNTHESE!$D:$D,A27,SYNTHESE!$E:$E,$P$1,SYNTHESE!$F:$F,\">=1\")))","v":""},{"$f":"IF($Z$2=\"pok\",\"\",IF(A27=\"\",\"\",COUNTIFS(SYNTHESE!$D:$D,A27,SYNTHESE!$E:$E,$Q$1,SYNTHESE!$F:$F,\">=1\")))","v":""},{"$f":"IF($Z$2=\"pok\",\"\",IF(A27=\"\",\"\",COUNTIFS(SYNTHESE!$D:$D,A27,SYNTHESE!$E:$E,$R$1,SYNTHESE!$F:$F,\">=1\")))","v":""},{"$f":"IF($Z$2=\"pok\",\"\",IF(A27=\"\",\"\",COUNTIFS(SYNTHESE!$D:$D,A27,SYNTHESE!$E:$E,$S$1,SYNTHESE!$F:$F,\">=1\")))","v":""},{"$f":"IF($Z$2=\"pok\",\"\",IF(A27=\"\",\"\",COUNTIFS(SYNTHESE!$D:$D,A27,SYNTHESE!$E:$E,$T$1,SYNTHESE!$F:$F,\">=1\")))","v":""},{"$f":"IF($Z$2=\"pok\",\"\",IF(A27=\"\",\"\",COUNTIFS(SYNTHESE!$D:$D,A27,SYNTHESE!$E:$E,$U$1,SYNTHESE!$F:$F,\">=1\")))","v":""},{"$f":"IF($Z$2=\"pok\",\"\",IF(A27=\"\",\"\",COUNTIFS(SYNTHESE!$D:$D,A27,SYNTHESE!$E:$E,$V$1,SYNTHESE!$F:$F,\">=1\")))","v":""},{"$f":"IF($Z$2=\"pok\",\"\",IF(A27=\"\",\"\",COUNTIFS(SYNTHESE!$D:$D,A27,SYNTHESE!$E:$E,$W$1,SYNTHESE!$F:$F,\">=1\")))","v":""},{"$f":"IF($Z$2=\"pok\",\"\",IF(A27=\"\",\"\",COUNTIFS(SYNTHESE!$D:$D,A27,SYNTHESE!$E:$E,$X$1,SYNTHESE!$F:$F,\">=1\")))","v":""},{"$f":"IF($Z$2=\"pok\",\"\",IF(A27=\"\",\"\",COUNTIFS(SYNTHESE!$D:$D,A27,SYNTHESE!$E:$E,$Y$1,SYNTHESE!$F:$F,\">=1\")))","v":""},0]
[{"$f":"IF(ETUDIANTS!A28=\"\",\"\",ETUDIANTS!A28)","v":""},{"$f":"IF($Z$2=\"pok\",\"\",IF(A28=\"\",\"\",COUNTIFS(SYNTHESE!$D:$D,A28,SYNTHESE!$E:$E,$B$1,SYNTHESE!$F:$F,\">=1\")))","v":""},{"$f":"IF($Z$2=\"pok\",\"\",IF(A28=\"\",\"\",COUNTIFS(SYNTHESE!$D:$D,A28,SYNTHESE!$E:$E,$C$1,SYNTHESE!$F:$F,\">=1\")))","v":""},{"$f":"IF($Z$2=\"pok\",\"\",IF(A28=\"\",\"\",COUNTIFS(SYNTHESE!$D:$D,A28,SYNTHESE!$E:$E,$D$1,SYNTHESE!$F:$F,\">=1\")))","v":""},{"$f":"IF($Z$2=\"pok\",\"\",IF(A28=\"\",\"\",COUNTIFS(SYNTHESE!$D:$D,A28,SYNTHESE!$E:$E,$E$1,SYNTHESE!$F:$F,\">=1\")))","v":""},{"$f":"IF($Z$2=\"pok\",\"\",IF(A28=\"\",\"\",COUNTIFS(SYNTHESE!$D:$D,A28,SYNTHESE!$E:$E,$F$1,SYNTHESE!$F:$F,\">=1\")))","v":""},{"$f":"IF($Z$2=\"pok\",\"\",IF(A28=\"\",\"\",COUNTIFS(SYNTHESE!$D:$D,A28,SYNTHESE!$E:$E,$G$1,SYNTHESE!$F:$F,\">=1\")))","v":""},{"$f":"IF($Z$2=\"pok\",\"\",IF(A28=\"\",\"\",COUNTIFS(SYNTHESE!$D:$D,A28,SYNTHESE!$E:$E,$H$1,SYNTHESE!$F:$F,\">=1\")))","v":""},{"$f":"IF($Z$2=\"pok\",\"\",IF(A28=\"\",\"\",COUNTIFS(SYNTHESE!$D:$D,A28,SYNTHESE!$E:$E,$I$1,SYNTHESE!$F:$F,\">=1\")))","v":""},{"$f":"IF($Z$2=\"pok\",\"\",IF(A28=\"\",\"\",COUNTIFS(SYNTHESE!$D:$D,A28,SYNTHESE!$E:$E,$J$1,SYNTHESE!$F:$F,\">=1\")))","v":""},{"$f":"IF($Z$2=\"pok\",\"\",IF(A28=\"\",\"\",COUNTIFS(SYNTHESE!$D:$D,A28,SYNTHESE!$E:$E,$K$1,SYNTHESE!$F:$F,\">=1\")))","v":""},{"$f":"IF($Z$2=\"pok\",\"\",IF(A28=\"\",\"\",COUNTIFS(SYNTHESE!$D:$D,A28,SYNTHESE!$E:$E,$L$1,SYNTHESE!$F:$F,\">=1\")))","v":""},{"$f":"IF($Z$2=\"pok\",\"\",IF(A28=\"\",\"\",COUNTIFS(SYNTHESE!$D:$D,A28,SYNTHESE!$E:$E,$M$1,SYNTHESE!$F:$F,\">=1\")))","v":""},{"$f":"IF($Z$2=\"pok\",\"\",IF(A28=\"\",\"\",COUNTIFS(SYNTHESE!$D:$D,A28,SYNTHESE!$E:$E,$N$1,SYNTHESE!$F:$F,\">=1\")))","v":""},{"$f":"IF($Z$2=\"pok\",\"\",IF(A28=\"\",\"\",COUNTIFS(SYNTHESE!$D:$D,A28,SYNTHESE!$E:$E,$O$1,SYNTHESE!$F:$F,\">=1\")))","v":""},{"$f":"IF($Z$2=\"pok\",\"\",IF(A28=\"\",\"\",COUNTIFS(SYNTHESE!$D:$D,A28,SYNTHESE!$E:$E,$P$1,SYNTHESE!$F:$F,\">=1\")))","v":""},{"$f":"IF($Z$2=\"pok\",\"\",IF(A28=\"\",\"\",COUNTIFS(SYNTHESE!$D:$D,A28,SYNTHESE!$E:$E,$Q$1,SYNTHESE!$F:$F,\">=1\")))","v":""},{"$f":"IF($Z$2=\"pok\",\"\",IF(A28=\"\",\"\",COUNTIFS(SYNTHESE!$D:$D,A28,SYNTHESE!$E:$E,$R$1,SYNTHESE!$F:$F,\">=1\")))","v":""},{"$f":"IF($Z$2=\"pok\",\"\",IF(A28=\"\",\"\",COUNTIFS(SYNTHESE!$D:$D,A28,SYNTHESE!$E:$E,$S$1,SYNTHESE!$F:$F,\">=1\")))","v":""},{"$f":"IF($Z$2=\"pok\",\"\",IF(A28=\"\",\"\",COUNTIFS(SYNTHESE!$D:$D,A28,SYNTHESE!$E:$E,$T$1,SYNTHESE!$F:$F,\">=1\")))","v":""},{"$f":"IF($Z$2=\"pok\",\"\",IF(A28=\"\",\"\",COUNTIFS(SYNTHESE!$D:$D,A28,SYNTHESE!$E:$E,$U$1,SYNTHESE!$F:$F,\">=1\")))","v":""},{"$f":"IF($Z$2=\"pok\",\"\",IF(A28=\"\",\"\",COUNTIFS(SYNTHESE!$D:$D,A28,SYNTHESE!$E:$E,$V$1,SYNTHESE!$F:$F,\">=1\")))","v":""},{"$f":"IF($Z$2=\"pok\",\"\",IF(A28=\"\",\"\",COUNTIFS(SYNTHESE!$D:$D,A28,SYNTHESE!$E:$E,$W$1,SYNTHESE!$F:$F,\">=1\")))","v":""},{"$f":"IF($Z$2=\"pok\",\"\",IF(A28=\"\",\"\",COUNTIFS(SYNTHESE!$D:$D,A28,SYNTHESE!$E:$E,$X$1,SYNTHESE!$F:$F,\">=1\")))","v":""},{"$f":"IF($Z$2=\"pok\",\"\",IF(A28=\"\",\"\",COUNTIFS(SYNTHESE!$D:$D,A28,SYNTHESE!$E:$E,$Y$1,SYNTHESE!$F:$F,\">=1\")))","v":""},0]
[{"$f":"IF(ETUDIANTS!A29=\"\",\"\",ETUDIANTS!A29)","v":""},{"$f":"IF($Z$2=\"pok\",\"\",IF(A29=\"\",\"\",COUNTIFS(SYNTHESE!$D:$D,A29,SYNTHESE!$E:$E,$B$1,SYNTHESE!$F:$F,\">=1\")))","v":""},{"$f":"IF($Z$2=\"pok\",\"\",IF(A29=\"\",\"\",COUNTIFS(SYNTHESE!$D:$D,A29,SYNTHESE!$E:$E,$C$1,SYNTHESE!$F:$F,\">=1\")))","v":""},{"$f":"IF($Z$2=\"pok\",\"\",IF(A29=\"\",\"\",COUNTIFS(SYNTHESE!$D:$D,A29,SYNTHESE!$E:$E,$D$1,SYNTHESE!$F:$F,\">=1\")))","v":""},{"$f":"IF($Z$2=\"pok\",\"\",IF(A29=\"\",\"\",COUNTIFS(SYNTHESE!$D:$D,A29,SYNTHESE!$E:$E,$E$1,SYNTHESE!$F:$F,\">=1\")))","v":""},{"$f":"IF($Z$2=\"pok\",\"\",IF(A29=\"\",\"\",COUNTIFS(SYNTHESE!$D:$D,A29,SYNTHESE!$E:$E,$F$1,SYNTHESE!$F:$F,\">=1\")))","v":""},{"$f":"IF($Z$2=\"pok\",\"\",IF(A29=\"\",\"\",COUNTIFS(SYNTHESE!$D:$D,A29,SYNTHESE!$E:$E,$G$1,SYNTHESE!$F:$F,\">=1\")))","v":""},{"$f":"IF($Z$2=\"pok\",\"\",IF(A29=\"\",\"\",COUNTIFS(SYNTHESE!$D:$D,A29,SYNTHESE!$E:$E,$H$1,SYNTHESE!$F:$F,\">=1\")))","v":""},{"$f":"IF($Z$2=\"pok\",\"\",IF(A29=\"\",\"\",COUNTIFS(SYNTHESE!$D:$D,A29,SYNTHESE!$E:$E,$I$1,SYNTHESE!$F:$F,\">=1\")))","v":""},{"$f":"IF($Z$2=\"pok\",\"\",IF(A29=\"\",\"\",COUNTIFS(SYNTHESE!$D:$D,A29,SYNTHESE!$E:$E,$J$1,SYNTHESE!$F:$F,\">=1\")))","v":""},{"$f":"IF($Z$2=\"pok\",\"\",IF(A29=\"\",\"\",COUNTIFS(SYNTHESE!$D:$D,A29,SYNTHESE!$E:$E,$K$1,SYNTHESE!$F:$F,\">=1\")))","v":""},{"$f":"IF($Z$2=\"pok\",\"\",IF(A29=\"\",\"\",COUNTIFS(SYNTHESE!$D:$D,A29,SYNTHESE!$E:$E,$L$1,SYNTHESE!$F:$F,\">=1\")))","v":""},{"$f":"IF($Z$2=\"pok\",\"\",IF(A29=\"\",\"\",COUNTIFS(SYNTHESE!$D:$D,A29,SYNTHESE!$E:$E,$M$1,SYNTHESE!$F:$F,\">=1\")))","v":""},{"$f":"IF($Z$2=\"pok\",\"\",IF(A29=\"\",\"\",COUNTIFS(SYNTHESE!$D:$D,A29,SYNTHESE!$E:$E,$N$1,SYNTHESE!$F:$F,\">=1\")))","v":""},{"$f":"IF($Z$2=\"pok\",\"\",IF(A29=\"\",\"\",COUNTIFS(SYNTHESE!$D:$D,A29,SYNTHESE!$E:$E,$O$1,SYNTHESE!$F:$F,\">=1\")))","v":""},{"$f":"IF($Z$2=\"pok\",\"\",IF(A29=\"\",\"\",COUNTIFS(SYNTHESE!$D:$D,A29,SYNTHESE!$E:$E,$P$1,SYNTHESE!$F:$F,\">=1\")))","v":""},{"$f":"IF($Z$2=\"pok\",\"\",IF(A29=\"\",\"\",COUNTIFS(SYNTHESE!$D:$D,A29,SYNTHESE!$E:$E,$Q$1,SYNTHESE!$F:$F,\">=1\")))","v":""},{"$f":"IF($Z$2=\"pok\",\"\",IF(A29=\"\",\"\",COUNTIFS(SYNTHESE!$D:$D,A29,SYNTHESE!$E:$E,$R$1,SYNTHESE!$F:$F,\">=1\")))","v":""},{"$f":"IF($Z$2=\"pok\",\"\",IF(A29=\"\",\"\",COUNTIFS(SYNTHESE!$D:$D,A29,SYNTHESE!$E:$E,$S$1,SYNTHESE!$F:$F,\">=1\")))","v":""},{"$f":"IF($Z$2=\"pok\",\"\",IF(A29=\"\",\"\",COUNTIFS(SYNTHESE!$D:$D,A29,SYNTHESE!$E:$E,$T$1,SYNTHESE!$F:$F,\">=1\")))","v":""},{"$f":"IF($Z$2=\"pok\",\"\",IF(A29=\"\",\"\",COUNTIFS(SYNTHESE!$D:$D,A29,SYNTHESE!$E:$E,$U$1,SYNTHESE!$F:$F,\">=1\")))","v":""},{"$f":"IF($Z$2=\"pok\",\"\",IF(A29=\"\",\"\",COUNTIFS(SYNTHESE!$D:$D,A29,SYNTHESE!$E:$E,$V$1,SYNTHESE!$F:$F,\">=1\")))","v":""},{"$f":"IF($Z$2=\"pok\",\"\",IF(A29=\"\",\"\",COUNTIFS(SYNTHESE!$D:$D,A29,SYNTHESE!$E:$E,$W$1,SYNTHESE!$F:$F,\">=1\")))","v":""},{"$f":"IF($Z$2=\"pok\",\"\",IF(A29=\"\",\"\",COUNTIFS(SYNTHESE!$D:$D,A29,SYNTHESE!$E:$E,$X$1,SYNTHESE!$F:$F,\">=1\")))","v":""},{"$f":"IF($Z$2=\"pok\",\"\",IF(A29=\"\",\"\",COUNTIFS(SYNTHESE!$D:$D,A29,SYNTHESE!$E:$E,$Y$1,SYNTHESE!$F:$F,\">=1\")))","v":""},0]
[{"$f":"IF(ETUDIANTS!A30=\"\",\"\",ETUDIANTS!A30)","v":""},{"$f":"IF($Z$2=\"pok\",\"\",IF(A30=\"\",\"\",COUNTIFS(SYNTHESE!$D:$D,A30,SYNTHESE!$E:$E,$B$1,SYNTHESE!$F:$F,\">=1\")))","v":""},{"$f":"IF($Z$2=\"pok\",\"\",IF(A30=\"\",\"\",COUNTIFS(SYNTHESE!$D:$D,A30,SYNTHESE!$E:$E,$C$1,SYNTHESE!$F:$F,\">=1\")))","v":""},{"$f":"IF($Z$2=\"pok\",\"\",IF(A30=\"\",\"\",COUNTIFS(SYNTHESE!$D:$D,A30,SYNTHESE!$E:$E,$D$1,SYNTHESE!$F:$F,\">=1\")))","v":""},{"$f":"IF($Z$2=\"pok\",\"\",IF(A30=\"\",\"\",COUNTIFS(SYNTHESE!$D:$D,A30,SYNTHESE!$E:$E,$E$1,SYNTHESE!$F:$F,\">=1\")))","v":""},{"$f":"IF($Z$2=\"pok\",\"\",IF(A30=\"\",\"\",COUNTIFS(SYNTHESE!$D:$D,A30,SYNTHESE!$E:$E,$F$1,SYNTHESE!$F:$F,\">=1\")))","v":""},{"$f":"IF($Z$2=\"pok\",\"\",IF(A30=\"\",\"\",COUNTIFS(SYNTHESE!$D:$D,A30,SYNTHESE!$E:$E,$G$1,SYNTHESE!$F:$F,\">=1\")))","v":""},{"$f":"IF($Z$2=\"pok\",\"\",IF(A30=\"\",\"\",COUNTIFS(SYNTHESE!$D:$D,A30,SYNTHESE!$E:$E,$H$1,SYNTHESE!$F:$F,\">=1\")))","v":""},{"$f":"IF($Z$2=\"pok\",\"\",IF(A30=\"\",\"\",COUNTIFS(SYNTHESE!$D:$D,A30,SYNTHESE!$E:$E,$I$1,SYNTHESE!$F:$F,\">=1\")))","v":""},{"$f":"IF($Z$2=\"pok\",\"\",IF(A30=\"\",\"\",COUNTIFS(SYNTHESE!$D:$D,A30,SYNTHESE!$E:$E,$J$1,SYNTHESE!$F:$F,\">=1\")))","v":""},{"$f":"IF($Z$2=\"pok\",\"\",IF(A30=\"\",\"\",COUNTIFS(SYNTHESE!$D:$D,A30,SYNTHESE!$E:$E,$K$1,SYNTHESE!$F:$F,\">=1\")))","v":""},{"$f":"IF($Z$2=\"pok\",\"\",IF(A30=\"\",\"\",COUNTIFS(SYNTHESE!$D:$D,A30,SYNTHESE!$E:$E,$L$1,SYNTHESE!$F:$F,\">=1\")))","v":""},{"$f":"IF($Z$2=\"pok\",\"\",IF(A30=\"\",\"\",COUNTIFS(SYNTHESE!$D:$D,A30,SYNTHESE!$E:$E,$M$1,SYNTHESE!$F:$F,\">=1\")))","v":""},{"$f":"IF($Z$2=\"pok\",\"\",IF(A30=\"\",\"\",COUNTIFS(SYNTHESE!$D:$D,A30,SYNTHESE!$E:$E,$N$1,SYNTHESE!$F:$F,\">=1\")))","v":""},{"$f":"IF($Z$2=\"pok\",\"\",IF(A30=\"\",\"\",COUNTIFS(SYNTHESE!$D:$D,A30,SYNTHESE!$E:$E,$O$1,SYNTHESE!$F:$F,\">=1\")))","v":""},{"$f":"IF($Z$2=\"pok\",\"\",IF(A30=\"\",\"\",COUNTIFS(SYNTHESE!$D:$D,A30,SYNTHESE!$E:$E,$P$1,SYNTHESE!$F:$F,\">=1\")))","v":""},{"$f":"IF($Z$2=\"pok\",\"\",IF(A30=\"\",\"\",COUNTIFS(SYNTHESE!$D:$D,A30,SYNTHESE!$E:$E,$Q$1,SYNTHESE!$F:$F,\">=1\")))","v":""},{"$f":"IF($Z$2=\"pok\",\"\",IF(A30=\"\",\"\",COUNTIFS(SYNTHESE!$D:$D,A30,SYNTHESE!$E:$E,$R$1,SYNTHESE!$F:$F,\">=1\")))","v":""},{"$f":"IF($Z$2=\"pok\",\"\",IF(A30=\"\",\"\",COUNTIFS(SYNTHESE!$D:$D,A30,SYNTHESE!$E:$E,$S$1,SYNTHESE!$F:$F,\">=1\")))","v":""},{"$f":"IF($Z$2=\"pok\",\"\",IF(A30=\"\",\"\",COUNTIFS(SYNTHESE!$D:$D,A30,SYNTHESE!$E:$E,$T$1,SYNTHESE!$F:$F,\">=1\")))","v":""},{"$f":"IF($Z$2=\"pok\",\"\",IF(A30=\"\",\"\",COUNTIFS(SYNTHESE!$D:$D,A30,SYNTHESE!$E:$E,$U$1,SYNTHESE!$F:$F,\">=1\")))","v":""},{"$f":"IF($Z$2=\"pok\",\"\",IF(A30=\"\",\"\",COUNTIFS(SYNTHESE!$D:$D,A30,SYNTHESE!$E:$E,$V$1,SYNTHESE!$F:$F,\">=1\")))","v":""},{"$f":"IF($Z$2=\"pok\",\"\",IF(A30=\"\",\"\",COUNTIFS(SYNTHESE!$D:$D,A30,SYNTHESE!$E:$E,$W$1,SYNTHESE!$F:$F,\">=1\")))","v":""},{"$f":"IF($Z$2=\"pok\",\"\",IF(A30=\"\",\"\",COUNTIFS(SYNTHESE!$D:$D,A30,SYNTHESE!$E:$E,$X$1,SYNTHESE!$F:$F,\">=1\")))","v":""},{"$f":"IF($Z$2=\"pok\",\"\",IF(A30=\"\",\"\",COUNTIFS(SYNTHESE!$D:$D,A30,SYNTHESE!$E:$E,$Y$1,SYNTHESE!$F:$F,\">=1\")))","v":""},0]
[{"$f":"IF(ETUDIANTS!A31=\"\",\"\",ETUDIANTS!A31)","v":""},{"$f":"IF($Z$2=\"pok\",\"\",IF(A31=\"\",\"\",COUNTIFS(SYNTHESE!$D:$D,A31,SYNTHESE!$E:$E,$B$1,SYNTHESE!$F:$F,\">=1\")))","v":""},{"$f":"IF($Z$2=\"pok\",\"\",IF(A31=\"\",\"\",COUNTIFS(SYNTHESE!$D:$D,A31,SYNTHESE!$E:$E,$C$1,SYNTHESE!$F:$F,\">=1\")))","v":""},{"$f":"IF($Z$2=\"pok\",\"\",IF(A31=\"\",\"\",COUNTIFS(SYNTHESE!$D:$D,A31,SYNTHESE!$E:$E,$D$1,SYNTHESE!$F:$F,\">=1\")))","v":""},{"$f":"IF($Z$2=\"pok\",\"\",IF(A31=\"\",\"\",COUNTIFS(SYNTHESE!$D:$D,A31,SYNTHESE!$E:$E,$E$1,SYNTHESE!$F:$F,\">=1\")))","v":""},{"$f":"IF($Z$2=\"pok\",\"\",IF(A31=\"\",\"\",COUNTIFS(SYNTHESE!$D:$D,A31,SYNTHESE!$E:$E,$F$1,SYNTHESE!$F:$F,\">=1\")))","v":""},{"$f":"IF($Z$2=\"pok\",\"\",IF(A31=\"\",\"\",COUNTIFS(SYNTHESE!$D:$D,A31,SYNTHESE!$E:$E,$G$1,SYNTHESE!$F:$F,\">=1\")))","v":""},{"$f":"IF($Z$2=\"pok\",\"\",IF(A31=\"\",\"\",COUNTIFS(SYNTHESE!$D:$D,A31,SYNTHESE!$E:$E,$H$1,SYNTHESE!$F:$F,\">=1\")))","v":""},{"$f":"IF($Z$2=\"pok\",\"\",IF(A31=\"\",\"\",COUNTIFS(SYNTHESE!$D:$D,A31,SYNTHESE!$E:$E,$I$1,SYNTHESE!$F:$F,\">=1\")))","v":""},{"$f":"IF($Z$2=\"pok\",\"\",IF(A31=\"\",\"\",COUNTIFS(SYNTHESE!$D:$D,A31,SYNTHESE!$E:$E,$J$1,SYNTHESE!$F:$F,\">=1\")))","v":""},{"$f":"IF($Z$2=\"pok\",\"\",IF(A31=\"\",\"\",COUNTIFS(SYNTHESE!$D:$D,A31,SYNTHESE!$E:$E,$K$1,SYNTHESE!$F:$F,\">=1\")))","v":""},{"$f":"IF($Z$2=\"pok\",\"\",IF(A31=\"\",\"\",COUNTIFS(SYNTHESE!$D:$D,A31,SYNTHESE!$E:$E,$L$1,SYNTHESE!$F:$F,\">=1\")))","v":""},{"$f":"IF($Z$2=\"pok\",\"\",IF(A31=\"\",\"\",COUNTIFS(SYNTHESE!$D:$D,A31,SYNTHESE!$E:$E,$M$1,SYNTHESE!$F:$F,\">=1\")))","v":""},{"$f":"IF($Z$2=\"pok\",\"\",IF(A31=\"\",\"\",COUNTIFS(SYNTHESE!$D:$D,A31,SYNTHESE!$E:$E,$N$1,SYNTHESE!$F:$F,\">=1\")))","v":""},{"$f":"IF($Z$2=\"pok\",\"\",IF(A31=\"\",\"\",COUNTIFS(SYNTHESE!$D:$D,A31,SYNTHESE!$E:$E,$O$1,SYNTHESE!$F:$F,\">=1\")))","v":""},{"$f":"IF($Z$2=\"pok\",\"\",IF(A31=\"\",\"\",COUNTIFS(SYNTHESE!$D:$D,A31,SYNTHESE!$E:$E,$P$1,SYNTHESE!$F:$F,\">=1\")))","v":""},{"$f":"IF($Z$2=\"pok\",\"\",IF(A31=\"\",\"\",COUNTIFS(SYNTHESE!$D:$D,A31,SYNTHESE!$E:$E,$Q$1,SYNTHESE!$F:$F,\">=1\")))","v":""},{"$f":"IF($Z$2=\"pok\",\"\",IF(A31=\"\",\"\",COUNTIFS(SYNTHESE!$D:$D,A31,SYNTHESE!$E:$E,$R$1,SYNTHESE!$F:$F,\">=1\")))","v":""},{"$f":"IF($Z$2=\"pok\",\"\",IF(A31=\"\",\"\",COUNTIFS(SYNTHESE!$D:$D,A31,SYNTHESE!$E:$E,$S$1,SYNTHESE!$F:$F,\">=1\")))","v":""},{"$f":"IF($Z$2=\"pok\",\"\",IF(A31=\"\",\"\",COUNTIFS(SYNTHESE!$D:$D,A31,SYNTHESE!$E:$E,$T$1,SYNTHESE!$F:$F,\">=1\")))","v":""},{"$f":"IF($Z$2=\"pok\",\"\",IF(A31=\"\",\"\",COUNTIFS(SYNTHESE!$D:$D,A31,SYNTHESE!$E:$E,$U$1,SYNTHESE!$F:$F,\">=1\")))","v":""},{"$f":"IF($Z$2=\"pok\",\"\",IF(A31=\"\",\"\",COUNTIFS(SYNTHESE!$D:$D,A31,SYNTHESE!$E:$E,$V$1,SYNTHESE!$F:$F,\">=1\")))","v":""},{"$f":"IF($Z$2=\"pok\",\"\",IF(A31=\"\",\"\",COUNTIFS(SYNTHESE!$D:$D,A31,SYNTHESE!$E:$E,$W$1,SYNTHESE!$F:$F,\">=1\")))","v":""},{"$f":"IF($Z$2=\"pok\",\"\",IF(A31=\"\",\"\",COUNTIFS(SYNTHESE!$D:$D,A31,SYNTHESE!$E:$E,$X$1,SYNTHESE!$F:$F,\">=1\")))","v":""},{"$f":"IF($Z$2=\"pok\",\"\",IF(A31=\"\",\"\",COUNTIFS(SYNTHESE!$D:$D,A31,SYNTHESE!$E:$E,$Y$1,SYNTHESE!$F:$F,\">=1\")))","v":""},0]
[{"$f":"IF(ETUDIANTS!A32=\"\",\"\",ETUDIANTS!A32)","v":""},{"$f":"IF($Z$2=\"pok\",\"\",IF(A32=\"\",\"\",COUNTIFS(SYNTHESE!$D:$D,A32,SYNTHESE!$E:$E,$B$1,SYNTHESE!$F:$F,\">=1\")))","v":""},{"$f":"IF($Z$2=\"pok\",\"\",IF(A32=\"\",\"\",COUNTIFS(SYNTHESE!$D:$D,A32,SYNTHESE!$E:$E,$C$1,SYNTHESE!$F:$F,\">=1\")))","v":""},{"$f":"IF($Z$2=\"pok\",\"\",IF(A32=\"\",\"\",COUNTIFS(SYNTHESE!$D:$D,A32,SYNTHESE!$E:$E,$D$1,SYNTHESE!$F:$F,\">=1\")))","v":""},{"$f":"IF($Z$2=\"pok\",\"\",IF(A32=\"\",\"\",COUNTIFS(SYNTHESE!$D:$D,A32,SYNTHESE!$E:$E,$E$1,SYNTHESE!$F:$F,\">=1\")))","v":""},{"$f":"IF($Z$2=\"pok\",\"\",IF(A32=\"\",\"\",COUNTIFS(SYNTHESE!$D:$D,A32,SYNTHESE!$E:$E,$F$1,SYNTHESE!$F:$F,\">=1\")))","v":""},{"$f":"IF($Z$2=\"pok\",\"\",IF(A32=\"\",\"\",COUNTIFS(SYNTHESE!$D:$D,A32,SYNTHESE!$E:$E,$G$1,SYNTHESE!$F:$F,\">=1\")))","v":""},{"$f":"IF($Z$2=\"pok\",\"\",IF(A32=\"\",\"\",COUNTIFS(SYNTHESE!$D:$D,A32,SYNTHESE!$E:$E,$H$1,SYNTHESE!$F:$F,\">=1\")))","v":""},{"$f":"IF($Z$2=\"pok\",\"\",IF(A32=\"\",\"\",COUNTIFS(SYNTHESE!$D:$D,A32,SYNTHESE!$E:$E,$I$1,SYNTHESE!$F:$F,\">=1\")))","v":""},{"$f":"IF($Z$2=\"pok\",\"\",IF(A32=\"\",\"\",COUNTIFS(SYNTHESE!$D:$D,A32,SYNTHESE!$E:$E,$J$1,SYNTHESE!$F:$F,\">=1\")))","v":""},{"$f":"IF($Z$2=\"pok\",\"\",IF(A32=\"\",\"\",COUNTIFS(SYNTHESE!$D:$D,A32,SYNTHESE!$E:$E,$K$1,SYNTHESE!$F:$F,\">=1\")))","v":""},{"$f":"IF($Z$2=\"pok\",\"\",IF(A32=\"\",\"\",COUNTIFS(SYNTHESE!$D:$D,A32,SYNTHESE!$E:$E,$L$1,SYNTHESE!$F:$F,\">=1\")))","v":""},{"$f":"IF($Z$2=\"pok\",\"\",IF(A32=\"\",\"\",COUNTIFS(SYNTHESE!$D:$D,A32,SYNTHESE!$E:$E,$M$1,SYNTHESE!$F:$F,\">=1\")))","v":""},{"$f":"IF($Z$2=\"pok\",\"\",IF(A32=\"\",\"\",COUNTIFS(SYNTHESE!$D:$D,A32,SYNTHESE!$E:$E,$N$1,SYNTHESE!$F:$F,\">=1\")))","v":""},{"$f":"IF($Z$2=\"pok\",\"\",IF(A32=\"\",\"\",COUNTIFS(SYNTHESE!$D:$D,A32,SYNTHESE!$E:$E,$O$1,SYNTHESE!$F:$F,\">=1\")))","v":""},{"$f":"IF($Z$2=\"pok\",\"\",IF(A32=\"\",\"\",COUNTIFS(SYNTHESE!$D:$D,A32,SYNTHESE!$E:$E,$P$1,SYNTHESE!$F:$F,\">=1\")))","v":""},{"$f":"IF($Z$2=\"pok\",\"\",IF(A32=\"\",\"\",COUNTIFS(SYNTHESE!$D:$D,A32,SYNTHESE!$E:$E,$Q$1,SYNTHESE!$F:$F,\">=1\")))","v":""},{"$f":"IF($Z$2=\"pok\",\"\",IF(A32=\"\",\"\",COUNTIFS(SYNTHESE!$D:$D,A32,SYNTHESE!$E:$E,$R$1,SYNTHESE!$F:$F,\">=1\")))","v":""},{"$f":"IF($Z$2=\"pok\",\"\",IF(A32=\"\",\"\",COUNTIFS(SYNTHESE!$D:$D,A32,SYNTHESE!$E:$E,$S$1,SYNTHESE!$F:$F,\">=1\")))","v":""},{"$f":"IF($Z$2=\"pok\",\"\",IF(A32=\"\",\"\",COUNTIFS(SYNTHESE!$D:$D,A32,SYNTHESE!$E:$E,$T$1,SYNTHESE!$F:$F,\">=1\")))","v":""},{"$f":"IF($Z$2=\"pok\",\"\",IF(A32=\"\",\"\",COUNTIFS(SYNTHESE!$D:$D,A32,SYNTHESE!$E:$E,$U$1,SYNTHESE!$F:$F,\">=1\")))","v":""},{"$f":"IF($Z$2=\"pok\",\"\",IF(A32=\"\",\"\",COUNTIFS(SYNTHESE!$D:$D,A32,SYNTHESE!$E:$E,$V$1,SYNTHESE!$F:$F,\">=1\")))","v":""},{"$f":"IF($Z$2=\"pok\",\"\",IF(A32=\"\",\"\",COUNTIFS(SYNTHESE!$D:$D,A32,SYNTHESE!$E:$E,$W$1,SYNTHESE!$F:$F,\">=1\")))","v":""},{"$f":"IF($Z$2=\"pok\",\"\",IF(A32=\"\",\"\",COUNTIFS(SYNTHESE!$D:$D,A32,SYNTHESE!$E:$E,$X$1,SYNTHESE!$F:$F,\">=1\")))","v":""},{"$f":"IF($Z$2=\"pok\",\"\",IF(A32=\"\",\"\",COUNTIFS(SYNTHESE!$D:$D,A32,SYNTHESE!$E:$E,$Y$1,SYNTHESE!$F:$F,\">=1\")))","v":""},0]
[{"$f":"IF(ETUDIANTS!A33=\"\",\"\",ETUDIANTS!A33)","v":""},{"$f":"IF($Z$2=\"pok\",\"\",IF(A33=\"\",\"\",COUNTIFS(SYNTHESE!$D:$D,A33,SYNTHESE!$E:$E,$B$1,SYNTHESE!$F:$F,\">=1\")))","v":""},{"$f":"IF($Z$2=\"pok\",\"\",IF(A33=\"\",\"\",COUNTIFS(SYNTHESE!$D:$D,A33,SYNTHESE!$E:$E,$C$1,SYNTHESE!$F:$F,\">=1\")))","v":""},{"$f":"IF($Z$2=\"pok\",\"\",IF(A33=\"\",\"\",COUNTIFS(SYNTHESE!$D:$D,A33,SYNTHESE!$E:$E,$D$1,SYNTHESE!$F:$F,\">=1\")))","v":""},{"$f":"IF($Z$2=\"pok\",\"\",IF(A33=\"\",\"\",COUNTIFS(SYNTHESE!$D:$D,A33,SYNTHESE!$E:$E,$E$1,SYNTHESE!$F:$F,\">=1\")))","v":""},{"$f":"IF($Z$2=\"pok\",\"\",IF(A33=\"\",\"\",COUNTIFS(SYNTHESE!$D:$D,A33,SYNTHESE!$E:$E,$F$1,SYNTHESE!$F:$F,\">=1\")))","v":""},{"$f":"IF($Z$2=\"pok\",\"\",IF(A33=\"\",\"\",COUNTIFS(SYNTHESE!$D:$D,A33,SYNTHESE!$E:$E,$G$1,SYNTHESE!$F:$F,\">=1\")))","v":""},{"$f":"IF($Z$2=\"pok\",\"\",IF(A33=\"\",\"\",COUNTIFS(SYNTHESE!$D:$D,A33,SYNTHESE!$E:$E,$H$1,SYNTHESE!$F:$F,\">=1\")))","v":""},{"$f":"IF($Z$2=\"pok\",\"\",IF(A33=\"\",\"\",COUNTIFS(SYNTHESE!$D:$D,A33,SYNTHESE!$E:$E,$I$1,SYNTHESE!$F:$F,\">=1\")))","v":""},{"$f":"IF($Z$2=\"pok\",\"\",IF(A33=\"\",\"\",COUNTIFS(SYNTHESE!$D:$D,A33,SYNTHESE!$E:$E,$J$1,SYNTHESE!$F:$F,\">=1\")))","v":""},{"$f":"IF($Z$2=\"pok\",\"\",IF(A33=\"\",\"\",COUNTIFS(SYNTHESE!$D:$D,A33,SYNTHESE!$E:$E,$K$1,SYNTHESE!$F:$F,\">=1\")))","v":""},{"$f":"IF($Z$2=\"pok\",\"\",IF(A33=\"\",\"\",COUNTIFS(SYNTHESE!$D:$D,A33,SYNTHESE!$E:$E,$L$1,SYNTHESE!$F:$F,\">=1\")))","v":""},{"$f":"IF($Z$2=\"pok\",\"\",IF(A33=\"\",\"\",COUNTIFS(SYNTHESE!$D:$D,A33,SYNTHESE!$E:$E,$M$1,SYNTHESE!$F:$F,\">=1\")))","v":""},{"$f":"IF($Z$2=\"pok\",\"\",IF(A33=\"\",\"\",COUNTIFS(SYNTHESE!$D:$D,A33,SYNTHESE!$E:$E,$N$1,SYNTHESE!$F:$F,\">=1\")))","v":""},{"$f":"IF($Z$2=\"pok\",\"\",IF(A33=\"\",\"\",COUNTIFS(SYNTHESE!$D:$D,A33,SYNTHESE!$E:$E,$O$1,SYNTHESE!$F:$F,\">=1\")))","v":""},{"$f":"IF($Z$2=\"pok\",\"\",IF(A33=\"\",\"\",COUNTIFS(SYNTHESE!$D:$D,A33,SYNTHESE!$E:$E,$P$1,SYNTHESE!$F:$F,\">=1\")))","v":""},{"$f":"IF($Z$2=\"pok\",\"\",IF(A33=\"\",\"\",COUNTIFS(SYNTHESE!$D:$D,A33,SYNTHESE!$E:$E,$Q$1,SYNTHESE!$F:$F,\">=1\")))","v":""},{"$f":"IF($Z$2=\"pok\",\"\",IF(A33=\"\",\"\",COUNTIFS(SYNTHESE!$D:$D,A33,SYNTHESE!$E:$E,$R$1,SYNTHESE!$F:$F,\">=1\")))","v":""},{"$f":"IF($Z$2=\"pok\",\"\",IF(A33=\"\",\"\",COUNTIFS(SYNTHESE!$D:$D,A33,SYNTHESE!$E:$E,$S$1,SYNTHESE!$F:$F,\">=1\")))","v":""},{"$f":"IF($Z$2=\"pok\",\"\",IF(A33=\"\",\"\",COUNTIFS(SYNTHESE!$D:$D,A33,SYNTHESE!$E:$E,$T$1,SYNTHESE!$F:$F,\">=1\")))","v":""},{"$f":"IF($Z$2=\"pok\",\"\",IF(A33=\"\",\"\",COUNTIFS(SYNTHESE!$D:$D,A33,SYNTHESE!$E:$E,$U$1,SYNTHESE!$F:$F,\">=1\")))","v":""},{"$f":"IF($Z$2=\"pok\",\"\",IF(A33=\"\",\"\",COUNTIFS(SYNTHESE!$D:$D,A33,SYNTHESE!$E:$E,$V$1,SYNTHESE!$F:$F,\">=1\")))","v":""},{"$f":"IF($Z$2=\"pok\",\"\",IF(A33=\"\",\"\",COUNTIFS(SYNTHESE!$D:$D,A33,SYNTHESE!$E:$E,$W$1,SYNTHESE!$F:$F,\">=1\")))","v":""},{"$f":"IF($Z$2=\"pok\",\"\",IF(A33=\"\",\"\",COUNTIFS(SYNTHESE!$D:$D,A33,SYNTHESE!$E:$E,$X$1,SYNTHESE!$F:$F,\">=1\")))","v":""},{"$f":"IF($Z$2=\"pok\",\"\",IF(A33=\"\",\"\",COUNTIFS(SYNTHESE!$D:$D,A33,SYNTHESE!$E:$E,$Y$1,SYNTHESE!$F:$F,\">=1\")))","v":""},0]
[{"$f":"IF(ETUDIANTS!A34=\"\",\"\",ETUDIANTS!A34)","v":""},{"$f":"IF($Z$2=\"pok\",\"\",IF(A34=\"\",\"\",COUNTIFS(SYNTHESE!$D:$D,A34,SYNTHESE!$E:$E,$B$1,SYNTHESE!$F:$F,\">=1\")))","v":""},{"$f":"IF($Z$2=\"pok\",\"\",IF(A34=\"\",\"\",COUNTIFS(SYNTHESE!$D:$D,A34,SYNTHESE!$E:$E,$C$1,SYNTHESE!$F:$F,\">=1\")))","v":""},{"$f":"IF($Z$2=\"pok\",\"\",IF(A34=\"\",\"\",COUNTIFS(SYNTHESE!$D:$D,A34,SYNTHESE!$E:$E,$D$1,SYNTHESE!$F:$F,\">=1\")))","v":""},{"$f":"IF($Z$2=\"pok\",\"\",IF(A34=\"\",\"\",COUNTIFS(SYNTHESE!$D:$D,A34,SYNTHESE!$E:$E,$E$1,SYNTHESE!$F:$F,\">=1\")))","v":""},{"$f":"IF($Z$2=\"pok\",\"\",IF(A34=\"\",\"\",COUNTIFS(SYNTHESE!$D:$D,A34,SYNTHESE!$E:$E,$F$1,SYNTHESE!$F:$F,\">=1\")))","v":""},{"$f":"IF($Z$2=\"pok\",\"\",IF(A34=\"\",\"\",COUNTIFS(SYNTHESE!$D:$D,A34,SYNTHESE!$E:$E,$G$1,SYNTHESE!$F:$F,\">=1\")))","v":""},{"$f":"IF($Z$2=\"pok\",\"\",IF(A34=\"\",\"\",COUNTIFS(SYNTHESE!$D:$D,A34,SYNTHESE!$E:$E,$H$1,SYNTHESE!$F:$F,\">=1\")))","v":""},{"$f":"IF($Z$2=\"pok\",\"\",IF(A34=\"\",\"\",COUNTIFS(SYNTHESE!$D:$D,A34,SYNTHESE!$E:$E,$I$1,SYNTHESE!$F:$F,\">=1\")))","v":""},{"$f":"IF($Z$2=\"pok\",\"\",IF(A34=\"\",\"\",COUNTIFS(SYNTHESE!$D:$D,A34,SYNTHESE!$E:$E,$J$1,SYNTHESE!$F:$F,\">=1\")))","v":""},{"$f":"IF($Z$2=\"pok\",\"\",IF(A34=\"\",\"\",COUNTIFS(SYNTHESE!$D:$D,A34,SYNTHESE!$E:$E,$K$1,SYNTHESE!$F:$F,\">=1\")))","v":""},{"$f":"IF($Z$2=\"pok\",\"\",IF(A34=\"\",\"\",COUNTIFS(SYNTHESE!$D:$D,A34,SYNTHESE!$E:$E,$L$1,SYNTHESE!$F:$F,\">=1\")))","v":""},{"$f":"IF($Z$2=\"pok\",\"\",IF(A34=\"\",\"\",COUNTIFS(SYNTHESE!$D:$D,A34,SYNTHESE!$E:$E,$M$1,SYNTHESE!$F:$F,\">=1\")))","v":""},{"$f":"IF($Z$2=\"pok\",\"\",IF(A34=\"\",\"\",COUNTIFS(SYNTHESE!$D:$D,A34,SYNTHESE!$E:$E,$N$1,SYNTHESE!$F:$F,\">=1\")))","v":""},{"$f":"IF($Z$2=\"pok\",\"\",IF(A34=\"\",\"\",COUNTIFS(SYNTHESE!$D:$D,A34,SYNTHESE!$E:$E,$O$1,SYNTHESE!$F:$F,\">=1\")))","v":""},{"$f":"IF($Z$2=\"pok\",\"\",IF(A34=\"\",\"\",COUNTIFS(SYNTHESE!$D:$D,A34,SYNTHESE!$E:$E,$P$1,SYNTHESE!$F:$F,\">=1\")))","v":""},{"$f":"IF($Z$2=\"pok\",\"\",IF(A34=\"\",\"\",COUNTIFS(SYNTHESE!$D:$D,A34,SYNTHESE!$E:$E,$Q$1,SYNTHESE!$F:$F,\">=1\")))","v":""},{"$f":"IF($Z$2=\"pok\",\"\",IF(A34=\"\",\"\",COUNTIFS(SYNTHESE!$D:$D,A34,SYNTHESE!$E:$E,$R$1,SYNTHESE!$F:$F,\">=1\")))","v":""},{"$f":"IF($Z$2=\"pok\",\"\",IF(A34=\"\",\"\",COUNTIFS(SYNTHESE!$D:$D,A34,SYNTHESE!$E:$E,$S$1,SYNTHESE!$F:$F,\">=1\")))","v":""},{"$f":"IF($Z$2=\"pok\",\"\",IF(A34=\"\",\"\",COUNTIFS(SYNTHESE!$D:$D,A34,SYNTHESE!$E:$E,$T$1,SYNTHESE!$F:$F,\">=1\")))","v":""},{"$f":"IF($Z$2=\"pok\",\"\",IF(A34=\"\",\"\",COUNTIFS(SYNTHESE!$D:$D,A34,SYNTHESE!$E:$E,$U$1,SYNTHESE!$F:$F,\">=1\")))","v":""},{"$f":"IF($Z$2=\"pok\",\"\",IF(A34=\"\",\"\",COUNTIFS(SYNTHESE!$D:$D,A34,SYNTHESE!$E:$E,$V$1,SYNTHESE!$F:$F,\">=1\")))","v":""},{"$f":"IF($Z$2=\"pok\",\"\",IF(A34=\"\",\"\",COUNTIFS(SYNTHESE!$D:$D,A34,SYNTHESE!$E:$E,$W$1,SYNTHESE!$F:$F,\">=1\")))","v":""},{"$f":"IF($Z$2=\"pok\",\"\",IF(A34=\"\",\"\",COUNTIFS(SYNTHESE!$D:$D,A34,SYNTHESE!$E:$E,$X$1,SYNTHESE!$F:$F,\">=1\")))","v":""},{"$f":"IF($Z$2=\"pok\",\"\",IF(A34=\"\",\"\",COUNTIFS(SYNTHESE!$D:$D,A34,SYNTHESE!$E:$E,$Y$1,SYNTHESE!$F:$F,\">=1\")))","v":""},0]
[{"$f":"IF(ETUDIANTS!A35=\"\",\"\",ETUDIANTS!A35)","v":""},{"$f":"IF($Z$2=\"pok\",\"\",IF(A35=\"\",\"\",COUNTIFS(SYNTHESE!$D:$D,A35,SYNTHESE!$E:$E,$B$1,SYNTHESE!$F:$F,\">=1\")))","v":""},{"$f":"IF($Z$2=\"pok\",\"\",IF(A35=\"\",\"\",COUNTIFS(SYNTHESE!$D:$D,A35,SYNTHESE!$E:$E,$C$1,SYNTHESE!$F:$F,\">=1\")))","v":""},{"$f":"IF($Z$2=\"pok\",\"\",IF(A35=\"\",\"\",COUNTIFS(SYNTHESE!$D:$D,A35,SYNTHESE!$E:$E,$D$1,SYNTHESE!$F:$F,\">=1\")))","v":""},{"$f":"IF($Z$2=\"pok\",\"\",IF(A35=\"\",\"\",COUNTIFS(SYNTHESE!$D:$D,A35,SYNTHESE!$E:$E,$E$1,SYNTHESE!$F:$F,\">=1\")))","v":""},{"$f":"IF($Z$2=\"pok\",\"\",IF(A35=\"\",\"\",COUNTIFS(SYNTHESE!$D:$D,A35,SYNTHESE!$E:$E,$F$1,SYNTHESE!$F:$F,\">=1\")))","v":""},{"$f":"IF($Z$2=\"pok\",\"\",IF(A35=\"\",\"\",COUNTIFS(SYNTHESE!$D:$D,A35,SYNTHESE!$E:$E,$G$1,SYNTHESE!$F:$F,\">=1\")))","v":""},{"$f":"IF($Z$2=\"pok\",\"\",IF(A35=\"\",\"\",COUNTIFS(SYNTHESE!$D:$D,A35,SYNTHESE!$E:$E,$H$1,SYNTHESE!$F:$F,\">=1\")))","v":""},{"$f":"IF($Z$2=\"pok\",\"\",IF(A35=\"\",\"\",COUNTIFS(SYNTHESE!$D:$D,A35,SYNTHESE!$E:$E,$I$1,SYNTHESE!$F:$F,\">=1\")))","v":""},{"$f":"IF($Z$2=\"pok\",\"\",IF(A35=\"\",\"\",COUNTIFS(SYNTHESE!$D:$D,A35,SYNTHESE!$E:$E,$J$1,SYNTHESE!$F:$F,\">=1\")))","v":""},{"$f":"IF($Z$2=\"pok\",\"\",IF(A35=\"\",\"\",COUNTIFS(SYNTHESE!$D:$D,A35,SYNTHESE!$E:$E,$K$1,SYNTHESE!$F:$F,\">=1\")))","v":""},{"$f":"IF($Z$2=\"pok\",\"\",IF(A35=\"\",\"\",COUNTIFS(SYNTHESE!$D:$D,A35,SYNTHESE!$E:$E,$L$1,SYNTHESE!$F:$F,\">=1\")))","v":""},{"$f":"IF($Z$2=\"pok\",\"\",IF(A35=\"\",\"\",COUNTIFS(SYNTHESE!$D:$D,A35,SYNTHESE!$E:$E,$M$1,SYNTHESE!$F:$F,\">=1\")))","v":""},{"$f":"IF($Z$2=\"pok\",\"\",IF(A35=\"\",\"\",COUNTIFS(SYNTHESE!$D:$D,A35,SYNTHESE!$E:$E,$N$1,SYNTHESE!$F:$F,\">=1\")))","v":""},{"$f":"IF($Z$2=\"pok\",\"\",IF(A35=\"\",\"\",COUNTIFS(SYNTHESE!$D:$D,A35,SYNTHESE!$E:$E,$O$1,SYNTHESE!$F:$F,\">=1\")))","v":""},{"$f":"IF($Z$2=\"pok\",\"\",IF(A35=\"\",\"\",COUNTIFS(SYNTHESE!$D:$D,A35,SYNTHESE!$E:$E,$P$1,SYNTHESE!$F:$F,\">=1\")))","v":""},{"$f":"IF($Z$2=\"pok\",\"\",IF(A35=\"\",\"\",COUNTIFS(SYNTHESE!$D:$D,A35,SYNTHESE!$E:$E,$Q$1,SYNTHESE!$F:$F,\">=1\")))","v":""},{"$f":"IF($Z$2=\"pok\",\"\",IF(A35=\"\",\"\",COUNTIFS(SYNTHESE!$D:$D,A35,SYNTHESE!$E:$E,$R$1,SYNTHESE!$F:$F,\">=1\")))","v":""},{"$f":"IF($Z$2=\"pok\",\"\",IF(A35=\"\",\"\",COUNTIFS(SYNTHESE!$D:$D,A35,SYNTHESE!$E:$E,$S$1,SYNTHESE!$F:$F,\">=1\")))","v":""},{"$f":"IF($Z$2=\"pok\",\"\",IF(A35=\"\",\"\",COUNTIFS(SYNTHESE!$D:$D,A35,SYNTHESE!$E:$E,$T$1,SYNTHESE!$F:$F,\">=1\")))","v":""},{"$f":"IF($Z$2=\"pok\",\"\",IF(A35=\"\",\"\",COUNTIFS(SYNTHESE!$D:$D,A35,SYNTHESE!$E:$E,$U$1,SYNTHESE!$F:$F,\">=1\")))","v":""},{"$f":"IF($Z$2=\"pok\",\"\",IF(A35=\"\",\"\",COUNTIFS(SYNTHESE!$D:$D,A35,SYNTHESE!$E:$E,$V$1,SYNTHESE!$F:$F,\">=1\")))","v":""},{"$f":"IF($Z$2=\"pok\",\"\",IF(A35=\"\",\"\",COUNTIFS(SYNTHESE!$D:$D,A35,SYNTHESE!$E:$E,$W$1,SYNTHESE!$F:$F,\">=1\")))","v":""},{"$f":"IF($Z$2=\"pok\",\"\",IF(A35=\"\",\"\",COUNTIFS(SYNTHESE!$D:$D,A35,SYNTHESE!$E:$E,$X$1,SYNTHESE!$F:$F,\">=1\")))","v":""},{"$f":"IF($Z$2=\"pok\",\"\",IF(A35=\"\",\"\",COUNTIFS(SYNTHESE!$D:$D,A35,SYNTHESE!$E:$E,$Y$1,SYNTHESE!$F:$F,\">=1\")))","v":""},0]
[{"$f":"IF(ETUDIANTS!A36=\"\",\"\",ETUDIANTS!A36)","v":""},{"$f":"IF($Z$2=\"pok\",\"\",IF(A36=\"\",\"\",COUNTIFS(SYNTHESE!$D:$D,A36,SYNTHESE!$E:$E,$B$1,SYNTHESE!$F:$F,\">=1\")))","v":""},{"$f":"IF($Z$2=\"pok\",\"\",IF(A36=\"\",\"\",COUNTIFS(SYNTHESE!$D:$D,A36,SYNTHESE!$E:$E,$C$1,SYNTHESE!$F:$F,\">=1\")))","v":""},{"$f":"IF($Z$2=\"pok\",\"\",IF(A36=\"\",\"\",COUNTIFS(SYNTHESE!$D:$D,A36,SYNTHESE!$E:$E,$D$1,SYNTHESE!$F:$F,\">=1\")))","v":""},{"$f":"IF($Z$2=\"pok\",\"\",IF(A36=\"\",\"\",COUNTIFS(SYNTHESE!$D:$D,A36,SYNTHESE!$E:$E,$E$1,SYNTHESE!$F:$F,\">=1\")))","v":""},{"$f":"IF($Z$2=\"pok\",\"\",IF(A36=\"\",\"\",COUNTIFS(SYNTHESE!$D:$D,A36,SYNTHESE!$E:$E,$F$1,SYNTHESE!$F:$F,\">=1\")))","v":""},{"$f":"IF($Z$2=\"pok\",\"\",IF(A36=\"\",\"\",COUNTIFS(SYNTHESE!$D:$D,A36,SYNTHESE!$E:$E,$G$1,SYNTHESE!$F:$F,\">=1\")))","v":""},{"$f":"IF($Z$2=\"pok\",\"\",IF(A36=\"\",\"\",COUNTIFS(SYNTHESE!$D:$D,A36,SYNTHESE!$E:$E,$H$1,SYNTHESE!$F:$F,\">=1\")))","v":""},{"$f":"IF($Z$2=\"pok\",\"\",IF(A36=\"\",\"\",COUNTIFS(SYNTHESE!$D:$D,A36,SYNTHESE!$E:$E,$I$1,SYNTHESE!$F:$F,\">=1\")))","v":""},{"$f":"IF($Z$2=\"pok\",\"\",IF(A36=\"\",\"\",COUNTIFS(SYNTHESE!$D:$D,A36,SYNTHESE!$E:$E,$J$1,SYNTHESE!$F:$F,\">=1\")))","v":""},{"$f":"IF($Z$2=\"pok\",\"\",IF(A36=\"\",\"\",COUNTIFS(SYNTHESE!$D:$D,A36,SYNTHESE!$E:$E,$K$1,SYNTHESE!$F:$F,\">=1\")))","v":""},{"$f":"IF($Z$2=\"pok\",\"\",IF(A36=\"\",\"\",COUNTIFS(SYNTHESE!$D:$D,A36,SYNTHESE!$E:$E,$L$1,SYNTHESE!$F:$F,\">=1\")))","v":""},{"$f":"IF($Z$2=\"pok\",\"\",IF(A36=\"\",\"\",COUNTIFS(SYNTHESE!$D:$D,A36,SYNTHESE!$E:$E,$M$1,SYNTHESE!$F:$F,\">=1\")))","v":""},{"$f":"IF($Z$2=\"pok\",\"\",IF(A36=\"\",\"\",COUNTIFS(SYNTHESE!$D:$D,A36,SYNTHESE!$E:$E,$N$1,SYNTHESE!$F:$F,\">=1\")))","v":""},{"$f":"IF($Z$2=\"pok\",\"\",IF(A36=\"\",\"\",COUNTIFS(SYNTHESE!$D:$D,A36,SYNTHESE!$E:$E,$O$1,SYNTHESE!$F:$F,\">=1\")))","v":""},{"$f":"IF($Z$2=\"pok\",\"\",IF(A36=\"\",\"\",COUNTIFS(SYNTHESE!$D:$D,A36,SYNTHESE!$E:$E,$P$1,SYNTHESE!$F:$F,\">=1\")))","v":""},{"$f":"IF($Z$2=\"pok\",\"\",IF(A36=\"\",\"\",COUNTIFS(SYNTHESE!$D:$D,A36,SYNTHESE!$E:$E,$Q$1,SYNTHESE!$F:$F,\">=1\")))","v":""},{"$f":"IF($Z$2=\"pok\",\"\",IF(A36=\"\",\"\",COUNTIFS(SYNTHESE!$D:$D,A36,SYNTHESE!$E:$E,$R$1,SYNTHESE!$F:$F,\">=1\")))","v":""},{"$f":"IF($Z$2=\"pok\",\"\",IF(A36=\"\",\"\",COUNTIFS(SYNTHESE!$D:$D,A36,SYNTHESE!$E:$E,$S$1,SYNTHESE!$F:$F,\">=1\")))","v":""},{"$f":"IF($Z$2=\"pok\",\"\",IF(A36=\"\",\"\",COUNTIFS(SYNTHESE!$D:$D,A36,SYNTHESE!$E:$E,$T$1,SYNTHESE!$F:$F,\">=1\")))","v":""},{"$f":"IF($Z$2=\"pok\",\"\",IF(A36=\"\",\"\",COUNTIFS(SYNTHESE!$D:$D,A36,SYNTHESE!$E:$E,$U$1,SYNTHESE!$F:$F,\">=1\")))","v":""},{"$f":"IF($Z$2=\"pok\",\"\",IF(A36=\"\",\"\",COUNTIFS(SYNTHESE!$D:$D,A36,SYNTHESE!$E:$E,$V$1,SYNTHESE!$F:$F,\">=1\")))","v":""},{"$f":"IF($Z$2=\"pok\",\"\",IF(A36=\"\",\"\",COUNTIFS(SYNTHESE!$D:$D,A36,SYNTHESE!$E:$E,$W$1,SYNTHESE!$F:$F,\">=1\")))","v":""},{"$f":"IF($Z$2=\"pok\",\"\",IF(A36=\"\",\"\",COUNTIFS(SYNTHESE!$D:$D,A36,SYNTHESE!$E:$E,$X$1,SYNTHESE!$F:$F,\">=1\")))","v":""},{"$f":"IF($Z$2=\"pok\",\"\",IF(A36=\"\",\"\",COUNTIFS(SYNTHESE!$D:$D,A36,SYNTHESE!$E:$E,$Y$1,SYNTHESE!$F:$F,\">=1\")))","v":""},0]
[{"$f":"IF(ETUDIANTS!A37=\"\",\"\",ETUDIANTS!A37)","v":""},{"$f":"IF($Z$2=\"pok\",\"\",IF(A37=\"\",\"\",COUNTIFS(SYNTHESE!$D:$D,A37,SYNTHESE!$E:$E,$B$1,SYNTHESE!$F:$F,\">=1\")))","v":""},{"$f":"IF($Z$2=\"pok\",\"\",IF(A37=\"\",\"\",COUNTIFS(SYNTHESE!$D:$D,A37,SYNTHESE!$E:$E,$C$1,SYNTHESE!$F:$F,\">=1\")))","v":""},{"$f":"IF($Z$2=\"pok\",\"\",IF(A37=\"\",\"\",COUNTIFS(SYNTHESE!$D:$D,A37,SYNTHESE!$E:$E,$D$1,SYNTHESE!$F:$F,\">=1\")))","v":""},{"$f":"IF($Z$2=\"pok\",\"\",IF(A37=\"\",\"\",COUNTIFS(SYNTHESE!$D:$D,A37,SYNTHESE!$E:$E,$E$1,SYNTHESE!$F:$F,\">=1\")))","v":""},{"$f":"IF($Z$2=\"pok\",\"\",IF(A37=\"\",\"\",COUNTIFS(SYNTHESE!$D:$D,A37,SYNTHESE!$E:$E,$F$1,SYNTHESE!$F:$F,\">=1\")))","v":""},{"$f":"IF($Z$2=\"pok\",\"\",IF(A37=\"\",\"\",COUNTIFS(SYNTHESE!$D:$D,A37,SYNTHESE!$E:$E,$G$1,SYNTHESE!$F:$F,\">=1\")))","v":""},{"$f":"IF($Z$2=\"pok\",\"\",IF(A37=\"\",\"\",COUNTIFS(SYNTHESE!$D:$D,A37,SYNTHESE!$E:$E,$H$1,SYNTHESE!$F:$F,\">=1\")))","v":""},{"$f":"IF($Z$2=\"pok\",\"\",IF(A37=\"\",\"\",COUNTIFS(SYNTHESE!$D:$D,A37,SYNTHESE!$E:$E,$I$1,SYNTHESE!$F:$F,\">=1\")))","v":""},{"$f":"IF($Z$2=\"pok\",\"\",IF(A37=\"\",\"\",COUNTIFS(SYNTHESE!$D:$D,A37,SYNTHESE!$E:$E,$J$1,SYNTHESE!$F:$F,\">=1\")))","v":""},{"$f":"IF($Z$2=\"pok\",\"\",IF(A37=\"\",\"\",COUNTIFS(SYNTHESE!$D:$D,A37,SYNTHESE!$E:$E,$K$1,SYNTHESE!$F:$F,\">=1\")))","v":""},{"$f":"IF($Z$2=\"pok\",\"\",IF(A37=\"\",\"\",COUNTIFS(SYNTHESE!$D:$D,A37,SYNTHESE!$E:$E,$L$1,SYNTHESE!$F:$F,\">=1\")))","v":""},{"$f":"IF($Z$2=\"pok\",\"\",IF(A37=\"\",\"\",COUNTIFS(SYNTHESE!$D:$D,A37,SYNTHESE!$E:$E,$M$1,SYNTHESE!$F:$F,\">=1\")))","v":""},{"$f":"IF($Z$2=\"pok\",\"\",IF(A37=\"\",\"\",COUNTIFS(SYNTHESE!$D:$D,A37,SYNTHESE!$E:$E,$N$1,SYNTHESE!$F:$F,\">=1\")))","v":""},{"$f":"IF($Z$2=\"pok\",\"\",IF(A37=\"\",\"\",COUNTIFS(SYNTHESE!$D:$D,A37,SYNTHESE!$E:$E,$O$1,SYNTHESE!$F:$F,\">=1\")))","v":""},{"$f":"IF($Z$2=\"pok\",\"\",IF(A37=\"\",\"\",COUNTIFS(SYNTHESE!$D:$D,A37,SYNTHESE!$E:$E,$P$1,SYNTHESE!$F:$F,\">=1\")))","v":""},{"$f":"IF($Z$2=\"pok\",\"\",IF(A37=\"\",\"\",COUNTIFS(SYNTHESE!$D:$D,A37,SYNTHESE!$E:$E,$Q$1,SYNTHESE!$F:$F,\">=1\")))","v":""},{"$f":"IF($Z$2=\"pok\",\"\",IF(A37=\"\",\"\",COUNTIFS(SYNTHESE!$D:$D,A37,SYNTHESE!$E:$E,$R$1,SYNTHESE!$F:$F,\">=1\")))","v":""},{"$f":"IF($Z$2=\"pok\",\"\",IF(A37=\"\",\"\",COUNTIFS(SYNTHESE!$D:$D,A37,SYNTHESE!$E:$E,$S$1,SYNTHESE!$F:$F,\">=1\")))","v":""},{"$f":"IF($Z$2=\"pok\",\"\",IF(A37=\"\",\"\",COUNTIFS(SYNTHESE!$D:$D,A37,SYNTHESE!$E:$E,$T$1,SYNTHESE!$F:$F,\">=1\")))","v":""},{"$f":"IF($Z$2=\"pok\",\"\",IF(A37=\"\",\"\",COUNTIFS(SYNTHESE!$D:$D,A37,SYNTHESE!$E:$E,$U$1,SYNTHESE!$F:$F,\">=1\")))","v":""},{"$f":"IF($Z$2=\"pok\",\"\",IF(A37=\"\",\"\",COUNTIFS(SYNTHESE!$D:$D,A37,SYNTHESE!$E:$E,$V$1,SYNTHESE!$F:$F,\">=1\")))","v":""},{"$f":"IF($Z$2=\"pok\",\"\",IF(A37=\"\",\"\",COUNTIFS(SYNTHESE!$D:$D,A37,SYNTHESE!$E:$E,$W$1,SYNTHESE!$F:$F,\">=1\")))","v":""},{"$f":"IF($Z$2=\"pok\",\"\",IF(A37=\"\",\"\",COUNTIFS(SYNTHESE!$D:$D,A37,SYNTHESE!$E:$E,$X$1,SYNTHESE!$F:$F,\">=1\")))","v":""},{"$f":"IF($Z$2=\"pok\",\"\",IF(A37=\"\",\"\",COUNTIFS(SYNTHESE!$D:$D,A37,SYNTHESE!$E:$E,$Y$1,SYNTHESE!$F:$F,\">=1\")))","v":""},0]
[{"$f":"IF(ETUDIANTS!A38=\"\",\"\",ETUDIANTS!A38)","v":""},{"$f":"IF($Z$2=\"pok\",\"\",IF(A38=\"\",\"\",COUNTIFS(SYNTHESE!$D:$D,A38,SYNTHESE!$E:$E,$B$1,SYNTHESE!$F:$F,\">=1\")))","v":""},{"$f":"IF($Z$2=\"pok\",\"\",IF(A38=\"\",\"\",COUNTIFS(SYNTHESE!$D:$D,A38,SYNTHESE!$E:$E,$C$1,SYNTHESE!$F:$F,\">=1\")))","v":""},{"$f":"IF($Z$2=\"pok\",\"\",IF(A38=\"\",\"\",COUNTIFS(SYNTHESE!$D:$D,A38,SYNTHESE!$E:$E,$D$1,SYNTHESE!$F:$F,\">=1\")))","v":""},{"$f":"IF($Z$2=\"pok\",\"\",IF(A38=\"\",\"\",COUNTIFS(SYNTHESE!$D:$D,A38,SYNTHESE!$E:$E,$E$1,SYNTHESE!$F:$F,\">=1\")))","v":""},{"$f":"IF($Z$2=\"pok\",\"\",IF(A38=\"\",\"\",COUNTIFS(SYNTHESE!$D:$D,A38,SYNTHESE!$E:$E,$F$1,SYNTHESE!$F:$F,\">=1\")))","v":""},{"$f":"IF($Z$2=\"pok\",\"\",IF(A38=\"\",\"\",COUNTIFS(SYNTHESE!$D:$D,A38,SYNTHESE!$E:$E,$G$1,SYNTHESE!$F:$F,\">=1\")))","v":""},{"$f":"IF($Z$2=\"pok\",\"\",IF(A38=\"\",\"\",COUNTIFS(SYNTHESE!$D:$D,A38,SYNTHESE!$E:$E,$H$1,SYNTHESE!$F:$F,\">=1\")))","v":""},{"$f":"IF($Z$2=\"pok\",\"\",IF(A38=\"\",\"\",COUNTIFS(SYNTHESE!$D:$D,A38,SYNTHESE!$E:$E,$I$1,SYNTHESE!$F:$F,\">=1\")))","v":""},{"$f":"IF($Z$2=\"pok\",\"\",IF(A38=\"\",\"\",COUNTIFS(SYNTHESE!$D:$D,A38,SYNTHESE!$E:$E,$J$1,SYNTHESE!$F:$F,\">=1\")))","v":""},{"$f":"IF($Z$2=\"pok\",\"\",IF(A38=\"\",\"\",COUNTIFS(SYNTHESE!$D:$D,A38,SYNTHESE!$E:$E,$K$1,SYNTHESE!$F:$F,\">=1\")))","v":""},{"$f":"IF($Z$2=\"pok\",\"\",IF(A38=\"\",\"\",COUNTIFS(SYNTHESE!$D:$D,A38,SYNTHESE!$E:$E,$L$1,SYNTHESE!$F:$F,\">=1\")))","v":""},{"$f":"IF($Z$2=\"pok\",\"\",IF(A38=\"\",\"\",COUNTIFS(SYNTHESE!$D:$D,A38,SYNTHESE!$E:$E,$M$1,SYNTHESE!$F:$F,\">=1\")))","v":""},{"$f":"IF($Z$2=\"pok\",\"\",IF(A38=\"\",\"\",COUNTIFS(SYNTHESE!$D:$D,A38,SYNTHESE!$E:$E,$N$1,SYNTHESE!$F:$F,\">=1\")))","v":""},{"$f":"IF($Z$2=\"pok\",\"\",IF(A38=\"\",\"\",COUNTIFS(SYNTHESE!$D:$D,A38,SYNTHESE!$E:$E,$O$1,SYNTHESE!$F:$F,\">=1\")))","v":""},{"$f":"IF($Z$2=\"pok\",\"\",IF(A38=\"\",\"\",COUNTIFS(SYNTHESE!$D:$D,A38,SYNTHESE!$E:$E,$P$1,SYNTHESE!$F:$F,\">=1\")))","v":""},{"$f":"IF($Z$2=\"pok\",\"\",IF(A38=\"\",\"\",COUNTIFS(SYNTHESE!$D:$D,A38,SYNTHESE!$E:$E,$Q$1,SYNTHESE!$F:$F,\">=1\")))","v":""},{"$f":"IF($Z$2=\"pok\",\"\",IF(A38=\"\",\"\",COUNTIFS(SYNTHESE!$D:$D,A38,SYNTHESE!$E:$E,$R$1,SYNTHESE!$F:$F,\">=1\")))","v":""},{"$f":"IF($Z$2=\"pok\",\"\",IF(A38=\"\",\"\",COUNTIFS(SYNTHESE!$D:$D,A38,SYNTHESE!$E:$E,$S$1,SYNTHESE!$F:$F,\">=1\")))","v":""},{"$f":"IF($Z$2=\"pok\",\"\",IF(A38=\"\",\"\",COUNTIFS(SYNTHESE!$D:$D,A38,SYNTHESE!$E:$E,$T$1,SYNTHESE!$F:$F,\">=1\")))","v":""},{"$f":"IF($Z$2=\"pok\",\"\",IF(A38=\"\",\"\",COUNTIFS(SYNTHESE!$D:$D,A38,SYNTHESE!$E:$E,$U$1,SYNTHESE!$F:$F,\">=1\")))","v":""},{"$f":"IF($Z$2=\"pok\",\"\",IF(A38=\"\",\"\",COUNTIFS(SYNTHESE!$D:$D,A38,SYNTHESE!$E:$E,$V$1,SYNTHESE!$F:$F,\">=1\")))","v":""},{"$f":"IF($Z$2=\"pok\",\"\",IF(A38=\"\",\"\",COUNTIFS(SYNTHESE!$D:$D,A38,SYNTHESE!$E:$E,$W$1,SYNTHESE!$F:$F,\">=1\")))","v":""},{"$f":"IF($Z$2=\"pok\",\"\",IF(A38=\"\",\"\",COUNTIFS(SYNTHESE!$D:$D,A38,SYNTHESE!$E:$E,$X$1,SYNTHESE!$F:$F,\">=1\")))","v":""},{"$f":"IF($Z$2=\"pok\",\"\",IF(A38=\"\",\"\",COUNTIFS(SYNTHESE!$D:$D,A38,SYNTHESE!$E:$E,$Y$1,SYNTHESE!$F:$F,\">=1\")))","v":""},0]
[{"$f":"IF(ETUDIANTS!A39=\"\",\"\",ETUDIANTS!A39)","v":""},{"$f":"IF($Z$2=\"pok\",\"\",IF(A39=\"\",\"\",COUNTIFS(SYNTHESE!$D:$D,A39,SYNTHESE!$E:$E,$B$1,SYNTHESE!$F:$F,\">=1\")))","v":""},{"$f":"IF($Z$2=\"pok\",\"\",IF(A39=\"\",\"\",COUNTIFS(SYNTHESE!$D:$D,A39,SYNTHESE!$E:$E,$C$1,SYNTHESE!$F:$F,\">=1\")))","v":""},{"$f":"IF($Z$2=\"pok\",\"\",IF(A39=\"\",\"\",COUNTIFS(SYNTHESE!$D:$D,A39,SYNTHESE!$E:$E,$D$1,SYNTHESE!$F:$F,\">=1\")))","v":""},{"$f":"IF($Z$2=\"pok\",\"\",IF(A39=\"\",\"\",COUNTIFS(SYNTHESE!$D:$D,A39,SYNTHESE!$E:$E,$E$1,SYNTHESE!$F:$F,\">=1\")))","v":""},{"$f":"IF($Z$2=\"pok\",\"\",IF(A39=\"\",\"\",COUNTIFS(SYNTHESE!$D:$D,A39,SYNTHESE!$E:$E,$F$1,SYNTHESE!$F:$F,\">=1\")))","v":""},{"$f":"IF($Z$2=\"pok\",\"\",IF(A39=\"\",\"\",COUNTIFS(SYNTHESE!$D:$D,A39,SYNTHESE!$E:$E,$G$1,SYNTHESE!$F:$F,\">=1\")))","v":""},{"$f":"IF($Z$2=\"pok\",\"\",IF(A39=\"\",\"\",COUNTIFS(SYNTHESE!$D:$D,A39,SYNTHESE!$E:$E,$H$1,SYNTHESE!$F:$F,\">=1\")))","v":""},{"$f":"IF($Z$2=\"pok\",\"\",IF(A39=\"\",\"\",COUNTIFS(SYNTHESE!$D:$D,A39,SYNTHESE!$E:$E,$I$1,SYNTHESE!$F:$F,\">=1\")))","v":""},{"$f":"IF($Z$2=\"pok\",\"\",IF(A39=\"\",\"\",COUNTIFS(SYNTHESE!$D:$D,A39,SYNTHESE!$E:$E,$J$1,SYNTHESE!$F:$F,\">=1\")))","v":""},{"$f":"IF($Z$2=\"pok\",\"\",IF(A39=\"\",\"\",COUNTIFS(SYNTHESE!$D:$D,A39,SYNTHESE!$E:$E,$K$1,SYNTHESE!$F:$F,\">=1\")))","v":""},{"$f":"IF($Z$2=\"pok\",\"\",IF(A39=\"\",\"\",COUNTIFS(SYNTHESE!$D:$D,A39,SYNTHESE!$E:$E,$L$1,SYNTHESE!$F:$F,\">=1\")))","v":""},{"$f":"IF($Z$2=\"pok\",\"\",IF(A39=\"\",\"\",COUNTIFS(SYNTHESE!$D:$D,A39,SYNTHESE!$E:$E,$M$1,SYNTHESE!$F:$F,\">=1\")))","v":""},{"$f":"IF($Z$2=\"pok\",\"\",IF(A39=\"\",\"\",COUNTIFS(SYNTHESE!$D:$D,A39,SYNTHESE!$E:$E,$N$1,SYNTHESE!$F:$F,\">=1\")))","v":""},{"$f":"IF($Z$2=\"pok\",\"\",IF(A39=\"\",\"\",COUNTIFS(SYNTHESE!$D:$D,A39,SYNTHESE!$E:$E,$O$1,SYNTHESE!$F:$F,\">=1\")))","v":""},{"$f":"IF($Z$2=\"pok\",\"\",IF(A39=\"\",\"\",COUNTIFS(SYNTHESE!$D:$D,A39,SYNTHESE!$E:$E,$P$1,SYNTHESE!$F:$F,\">=1\")))","v":""},{"$f":"IF($Z$2=\"pok\",\"\",IF(A39=\"\",\"\",COUNTIFS(SYNTHESE!$D:$D,A39,SYNTHESE!$E:$E,$Q$1,SYNTHESE!$F:$F,\">=1\")))","v":""},{"$f":"IF($Z$2=\"pok\",\"\",IF(A39=\"\",\"\",COUNTIFS(SYNTHESE!$D:$D,A39,SYNTHESE!$E:$E,$R$1,SYNTHESE!$F:$F,\">=1\")))","v":""},{"$f":"IF($Z$2=\"pok\",\"\",IF(A39=\"\",\"\",COUNTIFS(SYNTHESE!$D:$D,A39,SYNTHESE!$E:$E,$S$1,SYNTHESE!$F:$F,\">=1\")))","v":""},{"$f":"IF($Z$2=\"pok\",\"\",IF(A39=\"\",\"\",COUNTIFS(SYNTHESE!$D:$D,A39,SYNTHESE!$E:$E,$T$1,SYNTHESE!$F:$F,\">=1\")))","v":""},{"$f":"IF($Z$2=\"pok\",\"\",IF(A39=\"\",\"\",COUNTIFS(SYNTHESE!$D:$D,A39,SYNTHESE!$E:$E,$U$1,SYNTHESE!$F:$F,\">=1\")))","v":""},{"$f":"IF($Z$2=\"pok\",\"\",IF(A39=\"\",\"\",COUNTIFS(SYNTHESE!$D:$D,A39,SYNTHESE!$E:$E,$V$1,SYNTHESE!$F:$F,\">=1\")))","v":""},{"$f":"IF($Z$2=\"pok\",\"\",IF(A39=\"\",\"\",COUNTIFS(SYNTHESE!$D:$D,A39,SYNTHESE!$E:$E,$W$1,SYNTHESE!$F:$F,\">=1\")))","v":""},{"$f":"IF($Z$2=\"pok\",\"\",IF(A39=\"\",\"\",COUNTIFS(SYNTHESE!$D:$D,A39,SYNTHESE!$E:$E,$X$1,SYNTHESE!$F:$F,\">=1\")))","v":""},{"$f":"IF($Z$2=\"pok\",\"\",IF(A39=\"\",\"\",COUNTIFS(SYNTHESE!$D:$D,A39,SYNTHESE!$E:$E,$Y$1,SYNTHESE!$F:$F,\">=1\")))","v":""},0]
[{"$f":"IF(ETUDIANTS!A40=\"\",\"\",ETUDIANTS!A40)","v":""},{"$f":"IF($Z$2=\"pok\",\"\",IF(A40=\"\",\"\",COUNTIFS(SYNTHESE!$D:$D,A40,SYNTHESE!$E:$E,$B$1,SYNTHESE!$F:$F,\">=1\")))","v":""},{"$f":"IF($Z$2=\"pok\",\"\",IF(A40=\"\",\"\",COUNTIFS(SYNTHESE!$D:$D,A40,SYNTHESE!$E:$E,$C$1,SYNTHESE!$F:$F,\">=1\")))","v":""},{"$f":"IF($Z$2=\"pok\",\"\",IF(A40=\"\",\"\",COUNTIFS(SYNTHESE!$D:$D,A40,SYNTHESE!$E:$E,$D$1,SYNTHESE!$F:$F,\">=1\")))","v":""},{"$f":"IF($Z$2=\"pok\",\"\",IF(A40=\"\",\"\",COUNTIFS(SYNTHESE!$D:$D,A40,SYNTHESE!$E:$E,$E$1,SYNTHESE!$F:$F,\">=1\")))","v":""},{"$f":"IF($Z$2=\"pok\",\"\",IF(A40=\"\",\"\",COUNTIFS(SYNTHESE!$D:$D,A40,SYNTHESE!$E:$E,$F$1,SYNTHESE!$F:$F,\">=1\")))","v":""},{"$f":"IF($Z$2=\"pok\",\"\",IF(A40=\"\",\"\",COUNTIFS(SYNTHESE!$D:$D,A40,SYNTHESE!$E:$E,$G$1,SYNTHESE!$F:$F,\">=1\")))","v":""},{"$f":"IF($Z$2=\"pok\",\"\",IF(A40=\"\",\"\",COUNTIFS(SYNTHESE!$D:$D,A40,SYNTHESE!$E:$E,$H$1,SYNTHESE!$F:$F,\">=1\")))","v":""},{"$f":"IF($Z$2=\"pok\",\"\",IF(A40=\"\",\"\",COUNTIFS(SYNTHESE!$D:$D,A40,SYNTHESE!$E:$E,$I$1,SYNTHESE!$F:$F,\">=1\")))","v":""},{"$f":"IF($Z$2=\"pok\",\"\",IF(A40=\"\",\"\",COUNTIFS(SYNTHESE!$D:$D,A40,SYNTHESE!$E:$E,$J$1,SYNTHESE!$F:$F,\">=1\")))","v":""},{"$f":"IF($Z$2=\"pok\",\"\",IF(A40=\"\",\"\",COUNTIFS(SYNTHESE!$D:$D,A40,SYNTHESE!$E:$E,$K$1,SYNTHESE!$F:$F,\">=1\")))","v":""},{"$f":"IF($Z$2=\"pok\",\"\",IF(A40=\"\",\"\",COUNTIFS(SYNTHESE!$D:$D,A40,SYNTHESE!$E:$E,$L$1,SYNTHESE!$F:$F,\">=1\")))","v":""},{"$f":"IF($Z$2=\"pok\",\"\",IF(A40=\"\",\"\",COUNTIFS(SYNTHESE!$D:$D,A40,SYNTHESE!$E:$E,$M$1,SYNTHESE!$F:$F,\">=1\")))","v":""},{"$f":"IF($Z$2=\"pok\",\"\",IF(A40=\"\",\"\",COUNTIFS(SYNTHESE!$D:$D,A40,SYNTHESE!$E:$E,$N$1,SYNTHESE!$F:$F,\">=1\")))","v":""},{"$f":"IF($Z$2=\"pok\",\"\",IF(A40=\"\",\"\",COUNTIFS(SYNTHESE!$D:$D,A40,SYNTHESE!$E:$E,$O$1,SYNTHESE!$F:$F,\">=1\")))","v":""},{"$f":"IF($Z$2=\"pok\",\"\",IF(A40=\"\",\"\",COUNTIFS(SYNTHESE!$D:$D,A40,SYNTHESE!$E:$E,$P$1,SYNTHESE!$F:$F,\">=1\")))","v":""},{"$f":"IF($Z$2=\"pok\",\"\",IF(A40=\"\",\"\",COUNTIFS(SYNTHESE!$D:$D,A40,SYNTHESE!$E:$E,$Q$1,SYNTHESE!$F:$F,\">=1\")))","v":""},{"$f":"IF($Z$2=\"pok\",\"\",IF(A40=\"\",\"\",COUNTIFS(SYNTHESE!$D:$D,A40,SYNTHESE!$E:$E,$R$1,SYNTHESE!$F:$F,\">=1\")))","v":""},{"$f":"IF($Z$2=\"pok\",\"\",IF(A40=\"\",\"\",COUNTIFS(SYNTHESE!$D:$D,A40,SYNTHESE!$E:$E,$S$1,SYNTHESE!$F:$F,\">=1\")))","v":""},{"$f":"IF($Z$2=\"pok\",\"\",IF(A40=\"\",\"\",COUNTIFS(SYNTHESE!$D:$D,A40,SYNTHESE!$E:$E,$T$1,SYNTHESE!$F:$F,\">=1\")))","v":""},{"$f":"IF($Z$2=\"pok\",\"\",IF(A40=\"\",\"\",COUNTIFS(SYNTHESE!$D:$D,A40,SYNTHESE!$E:$E,$U$1,SYNTHESE!$F:$F,\">=1\")))","v":""},{"$f":"IF($Z$2=\"pok\",\"\",IF(A40=\"\",\"\",COUNTIFS(SYNTHESE!$D:$D,A40,SYNTHESE!$E:$E,$V$1,SYNTHESE!$F:$F,\">=1\")))","v":""},{"$f":"IF($Z$2=\"pok\",\"\",IF(A40=\"\",\"\",COUNTIFS(SYNTHESE!$D:$D,A40,SYNTHESE!$E:$E,$W$1,SYNTHESE!$F:$F,\">=1\")))","v":""},{"$f":"IF($Z$2=\"pok\",\"\",IF(A40=\"\",\"\",COUNTIFS(SYNTHESE!$D:$D,A40,SYNTHESE!$E:$E,$X$1,SYNTHESE!$F:$F,\">=1\")))","v":""},{"$f":"IF($Z$2=\"pok\",\"\",IF(A40=\"\",\"\",COUNTIFS(SYNTHESE!$D:$D,A40,SYNTHESE!$E:$E,$Y$1,SYNTHESE!$F:$F,\">=1\")))","v":""},0]
[{"$f":"IF(ETUDIANTS!A41=\"\",\"\",ETUDIANTS!A41)","v":""},{"$f":"IF($Z$2=\"pok\",\"\",IF(A41=\"\",\"\",COUNTIFS(SYNTHESE!$D:$D,A41,SYNTHESE!$E:$E,$B$1,SYNTHESE!$F:$F,\">=1\")))","v":""},{"$f":"IF($Z$2=\"pok\",\"\",IF(A41=\"\",\"\",COUNTIFS(SYNTHESE!$D:$D,A41,SYNTHESE!$E:$E,$C$1,SYNTHESE!$F:$F,\">=1\")))","v":""},{"$f":"IF($Z$2=\"pok\",\"\",IF(A41=\"\",\"\",COUNTIFS(SYNTHESE!$D:$D,A41,SYNTHESE!$E:$E,$D$1,SYNTHESE!$F:$F,\">=1\")))","v":""},{"$f":"IF($Z$2=\"pok\",\"\",IF(A41=\"\",\"\",COUNTIFS(SYNTHESE!$D:$D,A41,SYNTHESE!$E:$E,$E$1,SYNTHESE!$F:$F,\">=1\")))","v":""},{"$f":"IF($Z$2=\"pok\",\"\",IF(A41=\"\",\"\",COUNTIFS(SYNTHESE!$D:$D,A41,SYNTHESE!$E:$E,$F$1,SYNTHESE!$F:$F,\">=1\")))","v":""},{"$f":"IF($Z$2=\"pok\",\"\",IF(A41=\"\",\"\",COUNTIFS(SYNTHESE!$D:$D,A41,SYNTHESE!$E:$E,$G$1,SYNTHESE!$F:$F,\">=1\")))","v":""},{"$f":"IF($Z$2=\"pok\",\"\",IF(A41=\"\",\"\",COUNTIFS(SYNTHESE!$D:$D,A41,SYNTHESE!$E:$E,$H$1,SYNTHESE!$F:$F,\">=1\")))","v":""},{"$f":"IF($Z$2=\"pok\",\"\",IF(A41=\"\",\"\",COUNTIFS(SYNTHESE!$D:$D,A41,SYNTHESE!$E:$E,$I$1,SYNTHESE!$F:$F,\">=1\")))","v":""},{"$f":"IF($Z$2=\"pok\",\"\",IF(A41=\"\",\"\",COUNTIFS(SYNTHESE!$D:$D,A41,SYNTHESE!$E:$E,$J$1,SYNTHESE!$F:$F,\">=1\")))","v":""},{"$f":"IF($Z$2=\"pok\",\"\",IF(A41=\"\",\"\",COUNTIFS(SYNTHESE!$D:$D,A41,SYNTHESE!$E:$E,$K$1,SYNTHESE!$F:$F,\">=1\")))","v":""},{"$f":"IF($Z$2=\"pok\",\"\",IF(A41=\"\",\"\",COUNTIFS(SYNTHESE!$D:$D,A41,SYNTHESE!$E:$E,$L$1,SYNTHESE!$F:$F,\">=1\")))","v":""},{"$f":"IF($Z$2=\"pok\",\"\",IF(A41=\"\",\"\",COUNTIFS(SYNTHESE!$D:$D,A41,SYNTHESE!$E:$E,$M$1,SYNTHESE!$F:$F,\">=1\")))","v":""},{"$f":"IF($Z$2=\"pok\",\"\",IF(A41=\"\",\"\",COUNTIFS(SYNTHESE!$D:$D,A41,SYNTHESE!$E:$E,$N$1,SYNTHESE!$F:$F,\">=1\")))","v":""},{"$f":"IF($Z$2=\"pok\",\"\",IF(A41=\"\",\"\",COUNTIFS(SYNTHESE!$D:$D,A41,SYNTHESE!$E:$E,$O$1,SYNTHESE!$F:$F,\">=1\")))","v":""},{"$f":"IF($Z$2=\"pok\",\"\",IF(A41=\"\",\"\",COUNTIFS(SYNTHESE!$D:$D,A41,SYNTHESE!$E:$E,$P$1,SYNTHESE!$F:$F,\">=1\")))","v":""},{"$f":"IF($Z$2=\"pok\",\"\",IF(A41=\"\",\"\",COUNTIFS(SYNTHESE!$D:$D,A41,SYNTHESE!$E:$E,$Q$1,SYNTHESE!$F:$F,\">=1\")))","v":""},{"$f":"IF($Z$2=\"pok\",\"\",IF(A41=\"\",\"\",COUNTIFS(SYNTHESE!$D:$D,A41,SYNTHESE!$E:$E,$R$1,SYNTHESE!$F:$F,\">=1\")))","v":""},{"$f":"IF($Z$2=\"pok\",\"\",IF(A41=\"\",\"\",COUNTIFS(SYNTHESE!$D:$D,A41,SYNTHESE!$E:$E,$S$1,SYNTHESE!$F:$F,\">=1\")))","v":""},{"$f":"IF($Z$2=\"pok\",\"\",IF(A41=\"\",\"\",COUNTIFS(SYNTHESE!$D:$D,A41,SYNTHESE!$E:$E,$T$1,SYNTHESE!$F:$F,\">=1\")))","v":""},{"$f":"IF($Z$2=\"pok\",\"\",IF(A41=\"\",\"\",COUNTIFS(SYNTHESE!$D:$D,A41,SYNTHESE!$E:$E,$U$1,SYNTHESE!$F:$F,\">=1\")))","v":""},{"$f":"IF($Z$2=\"pok\",\"\",IF(A41=\"\",\"\",COUNTIFS(SYNTHESE!$D:$D,A41,SYNTHESE!$E:$E,$V$1,SYNTHESE!$F:$F,\">=1\")))","v":""},{"$f":"IF($Z$2=\"pok\",\"\",IF(A41=\"\",\"\",COUNTIFS(SYNTHESE!$D:$D,A41,SYNTHESE!$E:$E,$W$1,SYNTHESE!$F:$F,\">=1\")))","v":""},{"$f":"IF($Z$2=\"pok\",\"\",IF(A41=\"\",\"\",COUNTIFS(SYNTHESE!$D:$D,A41,SYNTHESE!$E:$E,$X$1,SYNTHESE!$F:$F,\">=1\")))","v":""},{"$f":"IF($Z$2=\"pok\",\"\",IF(A41=\"\",\"\",COUNTIFS(SYNTHESE!$D:$D,A41,SYNTHESE!$E:$E,$Y$1,SYNTHESE!$F:$F,\">=1\")))","v":""},0]
[{"$f":"IF(ETUDIANTS!A42=\"\",\"\",ETUDIANTS!A42)","v":""},{"$f":"IF($Z$2=\"pok\",\"\",IF(A42=\"\",\"\",COUNTIFS(SYNTHESE!$D:$D,A42,SYNTHESE!$E:$E,$B$1,SYNTHESE!$F:$F,\">=1\")))","v":""},{"$f":"IF($Z$2=\"pok\",\"\",IF(A42=\"\",\"\",COUNTIFS(SYNTHESE!$D:$D,A42,SYNTHESE!$E:$E,$C$1,SYNTHESE!$F:$F,\">=1\")))","v":""},{"$f":"IF($Z$2=\"pok\",\"\",IF(A42=\"\",\"\",COUNTIFS(SYNTHESE!$D:$D,A42,SYNTHESE!$E:$E,$D$1,SYNTHESE!$F:$F,\">=1\")))","v":""},{"$f":"IF($Z$2=\"pok\",\"\",IF(A42=\"\",\"\",COUNTIFS(SYNTHESE!$D:$D,A42,SYNTHESE!$E:$E,$E$1,SYNTHESE!$F:$F,\">=1\")))","v":""},{"$f":"IF($Z$2=\"pok\",\"\",IF(A42=\"\",\"\",COUNTIFS(SYNTHESE!$D:$D,A42,SYNTHESE!$E:$E,$F$1,SYNTHESE!$F:$F,\">=1\")))","v":""},{"$f":"IF($Z$2=\"pok\",\"\",IF(A42=\"\",\"\",COUNTIFS(SYNTHESE!$D:$D,A42,SYNTHESE!$E:$E,$G$1,SYNTHESE!$F:$F,\">=1\")))","v":""},{"$f":"IF($Z$2=\"pok\",\"\",IF(A42=\"\",\"\",COUNTIFS(SYNTHESE!$D:$D,A42,SYNTHESE!$E:$E,$H$1,SYNTHESE!$F:$F,\">=1\")))","v":""},{"$f":"IF($Z$2=\"pok\",\"\",IF(A42=\"\",\"\",COUNTIFS(SYNTHESE!$D:$D,A42,SYNTHESE!$E:$E,$I$1,SYNTHESE!$F:$F,\">=1\")))","v":""},{"$f":"IF($Z$2=\"pok\",\"\",IF(A42=\"\",\"\",COUNTIFS(SYNTHESE!$D:$D,A42,SYNTHESE!$E:$E,$J$1,SYNTHESE!$F:$F,\">=1\")))","v":""},{"$f":"IF($Z$2=\"pok\",\"\",IF(A42=\"\",\"\",COUNTIFS(SYNTHESE!$D:$D,A42,SYNTHESE!$E:$E,$K$1,SYNTHESE!$F:$F,\">=1\")))","v":""},{"$f":"IF($Z$2=\"pok\",\"\",IF(A42=\"\",\"\",COUNTIFS(SYNTHESE!$D:$D,A42,SYNTHESE!$E:$E,$L$1,SYNTHESE!$F:$F,\">=1\")))","v":""},{"$f":"IF($Z$2=\"pok\",\"\",IF(A42=\"\",\"\",COUNTIFS(SYNTHESE!$D:$D,A42,SYNTHESE!$E:$E,$M$1,SYNTHESE!$F:$F,\">=1\")))","v":""},{"$f":"IF($Z$2=\"pok\",\"\",IF(A42=\"\",\"\",COUNTIFS(SYNTHESE!$D:$D,A42,SYNTHESE!$E:$E,$N$1,SYNTHESE!$F:$F,\">=1\")))","v":""},{"$f":"IF($Z$2=\"pok\",\"\",IF(A42=\"\",\"\",COUNTIFS(SYNTHESE!$D:$D,A42,SYNTHESE!$E:$E,$O$1,SYNTHESE!$F:$F,\">=1\")))","v":""},{"$f":"IF($Z$2=\"pok\",\"\",IF(A42=\"\",\"\",COUNTIFS(SYNTHESE!$D:$D,A42,SYNTHESE!$E:$E,$P$1,SYNTHESE!$F:$F,\">=1\")))","v":""},{"$f":"IF($Z$2=\"pok\",\"\",IF(A42=\"\",\"\",COUNTIFS(SYNTHESE!$D:$D,A42,SYNTHESE!$E:$E,$Q$1,SYNTHESE!$F:$F,\">=1\")))","v":""},{"$f":"IF($Z$2=\"pok\",\"\",IF(A42=\"\",\"\",COUNTIFS(SYNTHESE!$D:$D,A42,SYNTHESE!$E:$E,$R$1,SYNTHESE!$F:$F,\">=1\")))","v":""},{"$f":"IF($Z$2=\"pok\",\"\",IF(A42=\"\",\"\",COUNTIFS(SYNTHESE!$D:$D,A42,SYNTHESE!$E:$E,$S$1,SYNTHESE!$F:$F,\">=1\")))","v":""},{"$f":"IF($Z$2=\"pok\",\"\",IF(A42=\"\",\"\",COUNTIFS(SYNTHESE!$D:$D,A42,SYNTHESE!$E:$E,$T$1,SYNTHESE!$F:$F,\">=1\")))","v":""},{"$f":"IF($Z$2=\"pok\",\"\",IF(A42=\"\",\"\",COUNTIFS(SYNTHESE!$D:$D,A42,SYNTHESE!$E:$E,$U$1,SYNTHESE!$F:$F,\">=1\")))","v":""},{"$f":"IF($Z$2=\"pok\",\"\",IF(A42=\"\",\"\",COUNTIFS(SYNTHESE!$D:$D,A42,SYNTHESE!$E:$E,$V$1,SYNTHESE!$F:$F,\">=1\")))","v":""},{"$f":"IF($Z$2=\"pok\",\"\",IF(A42=\"\",\"\",COUNTIFS(SYNTHESE!$D:$D,A42,SYNTHESE!$E:$E,$W$1,SYNTHESE!$F:$F,\">=1\")))","v":""},{"$f":"IF($Z$2=\"pok\",\"\",IF(A42=\"\",\"\",COUNTIFS(SYNTHESE!$D:$D,A42,SYNTHESE!$E:$E,$X$1,SYNTHESE!$F:$F,\">=1\")))","v":""},{"$f":"IF($Z$2=\"pok\",\"\",IF(A42=\"\",\"\",COUNTIFS(SYNTHESE!$D:$D,A42,SYNTHESE!$E:$E,$Y$1,SYNTHESE!$F:$F,\">=1\")))","v":""},0]
[{"$f":"IF(ETUDIANTS!A43=\"\",\"\",ETUDIANTS!A43)","v":""},{"$f":"IF($Z$2=\"pok\",\"\",IF(A43=\"\",\"\",COUNTIFS(SYNTHESE!$D:$D,A43,SYNTHESE!$E:$E,$B$1,SYNTHESE!$F:$F,\">=1\")))","v":""},{"$f":"IF($Z$2=\"pok\",\"\",IF(A43=\"\",\"\",COUNTIFS(SYNTHESE!$D:$D,A43,SYNTHESE!$E:$E,$C$1,SYNTHESE!$F:$F,\">=1\")))","v":""},{"$f":"IF($Z$2=\"pok\",\"\",IF(A43=\"\",\"\",COUNTIFS(SYNTHESE!$D:$D,A43,SYNTHESE!$E:$E,$D$1,SYNTHESE!$F:$F,\">=1\")))","v":""},{"$f":"IF($Z$2=\"pok\",\"\",IF(A43=\"\",\"\",COUNTIFS(SYNTHESE!$D:$D,A43,SYNTHESE!$E:$E,$E$1,SYNTHESE!$F:$F,\">=1\")))","v":""},{"$f":"IF($Z$2=\"pok\",\"\",IF(A43=\"\",\"\",COUNTIFS(SYNTHESE!$D:$D,A43,SYNTHESE!$E:$E,$F$1,SYNTHESE!$F:$F,\">=1\")))","v":""},{"$f":"IF($Z$2=\"pok\",\"\",IF(A43=\"\",\"\",COUNTIFS(SYNTHESE!$D:$D,A43,SYNTHESE!$E:$E,$G$1,SYNTHESE!$F:$F,\">=1\")))","v":""},{"$f":"IF($Z$2=\"pok\",\"\",IF(A43=\"\",\"\",COUNTIFS(SYNTHESE!$D:$D,A43,SYNTHESE!$E:$E,$H$1,SYNTHESE!$F:$F,\">=1\")))","v":""},{"$f":"IF($Z$2=\"pok\",\"\",IF(A43=\"\",\"\",COUNTIFS(SYNTHESE!$D:$D,A43,SYNTHESE!$E:$E,$I$1,SYNTHESE!$F:$F,\">=1\")))","v":""},{"$f":"IF($Z$2=\"pok\",\"\",IF(A43=\"\",\"\",COUNTIFS(SYNTHESE!$D:$D,A43,SYNTHESE!$E:$E,$J$1,SYNTHESE!$F:$F,\">=1\")))","v":""},{"$f":"IF($Z$2=\"pok\",\"\",IF(A43=\"\",\"\",COUNTIFS(SYNTHESE!$D:$D,A43,SYNTHESE!$E:$E,$K$1,SYNTHESE!$F:$F,\">=1\")))","v":""},{"$f":"IF($Z$2=\"pok\",\"\",IF(A43=\"\",\"\",COUNTIFS(SYNTHESE!$D:$D,A43,SYNTHESE!$E:$E,$L$1,SYNTHESE!$F:$F,\">=1\")))","v":""},{"$f":"IF($Z$2=\"pok\",\"\",IF(A43=\"\",\"\",COUNTIFS(SYNTHESE!$D:$D,A43,SYNTHESE!$E:$E,$M$1,SYNTHESE!$F:$F,\">=1\")))","v":""},{"$f":"IF($Z$2=\"pok\",\"\",IF(A43=\"\",\"\",COUNTIFS(SYNTHESE!$D:$D,A43,SYNTHESE!$E:$E,$N$1,SYNTHESE!$F:$F,\">=1\")))","v":""},{"$f":"IF($Z$2=\"pok\",\"\",IF(A43=\"\",\"\",COUNTIFS(SYNTHESE!$D:$D,A43,SYNTHESE!$E:$E,$O$1,SYNTHESE!$F:$F,\">=1\")))","v":""},{"$f":"IF($Z$2=\"pok\",\"\",IF(A43=\"\",\"\",COUNTIFS(SYNTHESE!$D:$D,A43,SYNTHESE!$E:$E,$P$1,SYNTHESE!$F:$F,\">=1\")))","v":""},{"$f":"IF($Z$2=\"pok\",\"\",IF(A43=\"\",\"\",COUNTIFS(SYNTHESE!$D:$D,A43,SYNTHESE!$E:$E,$Q$1,SYNTHESE!$F:$F,\">=1\")))","v":""},{"$f":"IF($Z$2=\"pok\",\"\",IF(A43=\"\",\"\",COUNTIFS(SYNTHESE!$D:$D,A43,SYNTHESE!$E:$E,$R$1,SYNTHESE!$F:$F,\">=1\")))","v":""},{"$f":"IF($Z$2=\"pok\",\"\",IF(A43=\"\",\"\",COUNTIFS(SYNTHESE!$D:$D,A43,SYNTHESE!$E:$E,$S$1,SYNTHESE!$F:$F,\">=1\")))","v":""},{"$f":"IF($Z$2=\"pok\",\"\",IF(A43=\"\",\"\",COUNTIFS(SYNTHESE!$D:$D,A43,SYNTHESE!$E:$E,$T$1,SYNTHESE!$F:$F,\">=1\")))","v":""},{"$f":"IF($Z$2=\"pok\",\"\",IF(A43=\"\",\"\",COUNTIFS(SYNTHESE!$D:$D,A43,SYNTHESE!$E:$E,$U$1,SYNTHESE!$F:$F,\">=1\")))","v":""},{"$f":"IF($Z$2=\"pok\",\"\",IF(A43=\"\",\"\",COUNTIFS(SYNTHESE!$D:$D,A43,SYNTHESE!$E:$E,$V$1,SYNTHESE!$F:$F,\">=1\")))","v":""},{"$f":"IF($Z$2=\"pok\",\"\",IF(A43=\"\",\"\",COUNTIFS(SYNTHESE!$D:$D,A43,SYNTHESE!$E:$E,$W$1,SYNTHESE!$F:$F,\">=1\")))","v":""},{"$f":"IF($Z$2=\"pok\",\"\",IF(A43=\"\",\"\",COUNTIFS(SYNTHESE!$D:$D,A43,SYNTHESE!$E:$E,$X$1,SYNTHESE!$F:$F,\">=1\")))","v":""},{"$f":"IF($Z$2=\"pok\",\"\",IF(A43=\"\",\"\",COUNTIFS(SYNTHESE!$D:$D,A43,SYNTHESE!$E:$E,$Y$1,SYNTHESE!$F:$F,\">=1\")))","v":""},0]
[{"$f":"IF(ETUDIANTS!A44=\"\",\"\",ETUDIANTS!A44)","v":""},{"$f":"IF($Z$2=\"pok\",\"\",IF(A44=\"\",\"\",COUNTIFS(SYNTHESE!$D:$D,A44,SYNTHESE!$E:$E,$B$1,SYNTHESE!$F:$F,\">=1\")))","v":""},{"$f":"IF($Z$2=\"pok\",\"\",IF(A44=\"\",\"\",COUNTIFS(SYNTHESE!$D:$D,A44,SYNTHESE!$E:$E,$C$1,SYNTHESE!$F:$F,\">=1\")))","v":""},{"$f":"IF($Z$2=\"pok\",\"\",IF(A44=\"\",\"\",COUNTIFS(SYNTHESE!$D:$D,A44,SYNTHESE!$E:$E,$D$1,SYNTHESE!$F:$F,\">=1\")))","v":""},{"$f":"IF($Z$2=\"pok\",\"\",IF(A44=\"\",\"\",COUNTIFS(SYNTHESE!$D:$D,A44,SYNTHESE!$E:$E,$E$1,SYNTHESE!$F:$F,\">=1\")))","v":""},{"$f":"IF($Z$2=\"pok\",\"\",IF(A44=\"\",\"\",COUNTIFS(SYNTHESE!$D:$D,A44,SYNTHESE!$E:$E,$F$1,SYNTHESE!$F:$F,\">=1\")))","v":""},{"$f":"IF($Z$2=\"pok\",\"\",IF(A44=\"\",\"\",COUNTIFS(SYNTHESE!$D:$D,A44,SYNTHESE!$E:$E,$G$1,SYNTHESE!$F:$F,\">=1\")))","v":""},{"$f":"IF($Z$2=\"pok\",\"\",IF(A44=\"\",\"\",COUNTIFS(SYNTHESE!$D:$D,A44,SYNTHESE!$E:$E,$H$1,SYNTHESE!$F:$F,\">=1\")))","v":""},{"$f":"IF($Z$2=\"pok\",\"\",IF(A44=\"\",\"\",COUNTIFS(SYNTHESE!$D:$D,A44,SYNTHESE!$E:$E,$I$1,SYNTHESE!$F:$F,\">=1\")))","v":""},{"$f":"IF($Z$2=\"pok\",\"\",IF(A44=\"\",\"\",COUNTIFS(SYNTHESE!$D:$D,A44,SYNTHESE!$E:$E,$J$1,SYNTHESE!$F:$F,\">=1\")))","v":""},{"$f":"IF($Z$2=\"pok\",\"\",IF(A44=\"\",\"\",COUNTIFS(SYNTHESE!$D:$D,A44,SYNTHESE!$E:$E,$K$1,SYNTHESE!$F:$F,\">=1\")))","v":""},{"$f":"IF($Z$2=\"pok\",\"\",IF(A44=\"\",\"\",COUNTIFS(SYNTHESE!$D:$D,A44,SYNTHESE!$E:$E,$L$1,SYNTHESE!$F:$F,\">=1\")))","v":""},{"$f":"IF($Z$2=\"pok\",\"\",IF(A44=\"\",\"\",COUNTIFS(SYNTHESE!$D:$D,A44,SYNTHESE!$E:$E,$M$1,SYNTHESE!$F:$F,\">=1\")))","v":""},{"$f":"IF($Z$2=\"pok\",\"\",IF(A44=\"\",\"\",COUNTIFS(SYNTHESE!$D:$D,A44,SYNTHESE!$E:$E,$N$1,SYNTHESE!$F:$F,\">=1\")))","v":""},{"$f":"IF($Z$2=\"pok\",\"\",IF(A44=\"\",\"\",COUNTIFS(SYNTHESE!$D:$D,A44,SYNTHESE!$E:$E,$O$1,SYNTHESE!$F:$F,\">=1\")))","v":""},{"$f":"IF($Z$2=\"pok\",\"\",IF(A44=\"\",\"\",COUNTIFS(SYNTHESE!$D:$D,A44,SYNTHESE!$E:$E,$P$1,SYNTHESE!$F:$F,\">=1\")))","v":""},{"$f":"IF($Z$2=\"pok\",\"\",IF(A44=\"\",\"\",COUNTIFS(SYNTHESE!$D:$D,A44,SYNTHESE!$E:$E,$Q$1,SYNTHESE!$F:$F,\">=1\")))","v":""},{"$f":"IF($Z$2=\"pok\",\"\",IF(A44=\"\",\"\",COUNTIFS(SYNTHESE!$D:$D,A44,SYNTHESE!$E:$E,$R$1,SYNTHESE!$F:$F,\">=1\")))","v":""},{"$f":"IF($Z$2=\"pok\",\"\",IF(A44=\"\",\"\",COUNTIFS(SYNTHESE!$D:$D,A44,SYNTHESE!$E:$E,$S$1,SYNTHESE!$F:$F,\">=1\")))","v":""},{"$f":"IF($Z$2=\"pok\",\"\",IF(A44=\"\",\"\",COUNTIFS(SYNTHESE!$D:$D,A44,SYNTHESE!$E:$E,$T$1,SYNTHESE!$F:$F,\">=1\")))","v":""},{"$f":"IF($Z$2=\"pok\",\"\",IF(A44=\"\",\"\",COUNTIFS(SYNTHESE!$D:$D,A44,SYNTHESE!$E:$E,$U$1,SYNTHESE!$F:$F,\">=1\")))","v":""},{"$f":"IF($Z$2=\"pok\",\"\",IF(A44=\"\",\"\",COUNTIFS(SYNTHESE!$D:$D,A44,SYNTHESE!$E:$E,$V$1,SYNTHESE!$F:$F,\">=1\")))","v":""},{"$f":"IF($Z$2=\"pok\",\"\",IF(A44=\"\",\"\",COUNTIFS(SYNTHESE!$D:$D,A44,SYNTHESE!$E:$E,$W$1,SYNTHESE!$F:$F,\">=1\")))","v":""},{"$f":"IF($Z$2=\"pok\",\"\",IF(A44=\"\",\"\",COUNTIFS(SYNTHESE!$D:$D,A44,SYNTHESE!$E:$E,$X$1,SYNTHESE!$F:$F,\">=1\")))","v":""},{"$f":"IF($Z$2=\"pok\",\"\",IF(A44=\"\",\"\",COUNTIFS(SYNTHESE!$D:$D,A44,SYNTHESE!$E:$E,$Y$1,SYNTHESE!$F:$F,\">=1\")))","v":""},0]
[{"$f":"IF(ETUDIANTS!A45=\"\",\"\",ETUDIANTS!A45)","v":""},{"$f":"IF($Z$2=\"pok\",\"\",IF(A45=\"\",\"\",COUNTIFS(SYNTHESE!$D:$D,A45,SYNTHESE!$E:$E,$B$1,SYNTHESE!$F:$F,\">=1\")))","v":""},{"$f":"IF($Z$2=\"pok\",\"\",IF(A45=\"\",\"\",COUNTIFS(SYNTHESE!$D:$D,A45,SYNTHESE!$E:$E,$C$1,SYNTHESE!$F:$F,\">=1\")))","v":""},{"$f":"IF($Z$2=\"pok\",\"\",IF(A45=\"\",\"\",COUNTIFS(SYNTHESE!$D:$D,A45,SYNTHESE!$E:$E,$D$1,SYNTHESE!$F:$F,\">=1\")))","v":""},{"$f":"IF($Z$2=\"pok\",\"\",IF(A45=\"\",\"\",COUNTIFS(SYNTHESE!$D:$D,A45,SYNTHESE!$E:$E,$E$1,SYNTHESE!$F:$F,\">=1\")))","v":""},{"$f":"IF($Z$2=\"pok\",\"\",IF(A45=\"\",\"\",COUNTIFS(SYNTHESE!$D:$D,A45,SYNTHESE!$E:$E,$F$1,SYNTHESE!$F:$F,\">=1\")))","v":""},{"$f":"IF($Z$2=\"pok\",\"\",IF(A45=\"\",\"\",COUNTIFS(SYNTHESE!$D:$D,A45,SYNTHESE!$E:$E,$G$1,SYNTHESE!$F:$F,\">=1\")))","v":""},{"$f":"IF($Z$2=\"pok\",\"\",IF(A45=\"\",\"\",COUNTIFS(SYNTHESE!$D:$D,A45,SYNTHESE!$E:$E,$H$1,SYNTHESE!$F:$F,\">=1\")))","v":""},{"$f":"IF($Z$2=\"pok\",\"\",IF(A45=\"\",\"\",COUNTIFS(SYNTHESE!$D:$D,A45,SYNTHESE!$E:$E,$I$1,SYNTHESE!$F:$F,\">=1\")))","v":""},{"$f":"IF($Z$2=\"pok\",\"\",IF(A45=\"\",\"\",COUNTIFS(SYNTHESE!$D:$D,A45,SYNTHESE!$E:$E,$J$1,SYNTHESE!$F:$F,\">=1\")))","v":""},{"$f":"IF($Z$2=\"pok\",\"\",IF(A45=\"\",\"\",COUNTIFS(SYNTHESE!$D:$D,A45,SYNTHESE!$E:$E,$K$1,SYNTHESE!$F:$F,\">=1\")))","v":""},{"$f":"IF($Z$2=\"pok\",\"\",IF(A45=\"\",\"\",COUNTIFS(SYNTHESE!$D:$D,A45,SYNTHESE!$E:$E,$L$1,SYNTHESE!$F:$F,\">=1\")))","v":""},{"$f":"IF($Z$2=\"pok\",\"\",IF(A45=\"\",\"\",COUNTIFS(SYNTHESE!$D:$D,A45,SYNTHESE!$E:$E,$M$1,SYNTHESE!$F:$F,\">=1\")))","v":""},{"$f":"IF($Z$2=\"pok\",\"\",IF(A45=\"\",\"\",COUNTIFS(SYNTHESE!$D:$D,A45,SYNTHESE!$E:$E,$N$1,SYNTHESE!$F:$F,\">=1\")))","v":""},{"$f":"IF($Z$2=\"pok\",\"\",IF(A45=\"\",\"\",COUNTIFS(SYNTHESE!$D:$D,A45,SYNTHESE!$E:$E,$O$1,SYNTHESE!$F:$F,\">=1\")))","v":""},{"$f":"IF($Z$2=\"pok\",\"\",IF(A45=\"\",\"\",COUNTIFS(SYNTHESE!$D:$D,A45,SYNTHESE!$E:$E,$P$1,SYNTHESE!$F:$F,\">=1\")))","v":""},{"$f":"IF($Z$2=\"pok\",\"\",IF(A45=\"\",\"\",COUNTIFS(SYNTHESE!$D:$D,A45,SYNTHESE!$E:$E,$Q$1,SYNTHESE!$F:$F,\">=1\")))","v":""},{"$f":"IF($Z$2=\"pok\",\"\",IF(A45=\"\",\"\",COUNTIFS(SYNTHESE!$D:$D,A45,SYNTHESE!$E:$E,$R$1,SYNTHESE!$F:$F,\">=1\")))","v":""},{"$f":"IF($Z$2=\"pok\",\"\",IF(A45=\"\",\"\",COUNTIFS(SYNTHESE!$D:$D,A45,SYNTHESE!$E:$E,$S$1,SYNTHESE!$F:$F,\">=1\")))","v":""},{"$f":"IF($Z$2=\"pok\",\"\",IF(A45=\"\",\"\",COUNTIFS(SYNTHESE!$D:$D,A45,SYNTHESE!$E:$E,$T$1,SYNTHESE!$F:$F,\">=1\")))","v":""},{"$f":"IF($Z$2=\"pok\",\"\",IF(A45=\"\",\"\",COUNTIFS(SYNTHESE!$D:$D,A45,SYNTHESE!$E:$E,$U$1,SYNTHESE!$F:$F,\">=1\")))","v":""},{"$f":"IF($Z$2=\"pok\",\"\",IF(A45=\"\",\"\",COUNTIFS(SYNTHESE!$D:$D,A45,SYNTHESE!$E:$E,$V$1,SYNTHESE!$F:$F,\">=1\")))","v":""},{"$f":"IF($Z$2=\"pok\",\"\",IF(A45=\"\",\"\",COUNTIFS(SYNTHESE!$D:$D,A45,SYNTHESE!$E:$E,$W$1,SYNTHESE!$F:$F,\">=1\")))","v":""},{"$f":"IF($Z$2=\"pok\",\"\",IF(A45=\"\",\"\",COUNTIFS(SYNTHESE!$D:$D,A45,SYNTHESE!$E:$E,$X$1,SYNTHESE!$F:$F,\">=1\")))","v":""},{"$f":"IF($Z$2=\"pok\",\"\",IF(A45=\"\",\"\",COUNTIFS(SYNTHESE!$D:$D,A45,SYNTHESE!$E:$E,$Y$1,SYNTHESE!$F:$F,\">=1\")))","v":""},0]
[{"$f":"IF(ETUDIANTS!A46=\"\",\"\",ETUDIANTS!A46)","v":""},{"$f":"IF($Z$2=\"pok\",\"\",IF(A46=\"\",\"\",COUNTIFS(SYNTHESE!$D:$D,A46,SYNTHESE!$E:$E,$B$1,SYNTHESE!$F:$F,\">=1\")))","v":""},{"$f":"IF($Z$2=\"pok\",\"\",IF(A46=\"\",\"\",COUNTIFS(SYNTHESE!$D:$D,A46,SYNTHESE!$E:$E,$C$1,SYNTHESE!$F:$F,\">=1\")))","v":""},{"$f":"IF($Z$2=\"pok\",\"\",IF(A46=\"\",\"\",COUNTIFS(SYNTHESE!$D:$D,A46,SYNTHESE!$E:$E,$D$1,SYNTHESE!$F:$F,\">=1\")))","v":""},{"$f":"IF($Z$2=\"pok\",\"\",IF(A46=\"\",\"\",COUNTIFS(SYNTHESE!$D:$D,A46,SYNTHESE!$E:$E,$E$1,SYNTHESE!$F:$F,\">=1\")))","v":""},{"$f":"IF($Z$2=\"pok\",\"\",IF(A46=\"\",\"\",COUNTIFS(SYNTHESE!$D:$D,A46,SYNTHESE!$E:$E,$F$1,SYNTHESE!$F:$F,\">=1\")))","v":""},{"$f":"IF($Z$2=\"pok\",\"\",IF(A46=\"\",\"\",COUNTIFS(SYNTHESE!$D:$D,A46,SYNTHESE!$E:$E,$G$1,SYNTHESE!$F:$F,\">=1\")))","v":""},{"$f":"IF($Z$2=\"pok\",\"\",IF(A46=\"\",\"\",COUNTIFS(SYNTHESE!$D:$D,A46,SYNTHESE!$E:$E,$H$1,SYNTHESE!$F:$F,\">=1\")))","v":""},{"$f":"IF($Z$2=\"pok\",\"\",IF(A46=\"\",\"\",COUNTIFS(SYNTHESE!$D:$D,A46,SYNTHESE!$E:$E,$I$1,SYNTHESE!$F:$F,\">=1\")))","v":""},{"$f":"IF($Z$2=\"pok\",\"\",IF(A46=\"\",\"\",COUNTIFS(SYNTHESE!$D:$D,A46,SYNTHESE!$E:$E,$J$1,SYNTHESE!$F:$F,\">=1\")))","v":""},{"$f":"IF($Z$2=\"pok\",\"\",IF(A46=\"\",\"\",COUNTIFS(SYNTHESE!$D:$D,A46,SYNTHESE!$E:$E,$K$1,SYNTHESE!$F:$F,\">=1\")))","v":""},{"$f":"IF($Z$2=\"pok\",\"\",IF(A46=\"\",\"\",COUNTIFS(SYNTHESE!$D:$D,A46,SYNTHESE!$E:$E,$L$1,SYNTHESE!$F:$F,\">=1\")))","v":""},{"$f":"IF($Z$2=\"pok\",\"\",IF(A46=\"\",\"\",COUNTIFS(SYNTHESE!$D:$D,A46,SYNTHESE!$E:$E,$M$1,SYNTHESE!$F:$F,\">=1\")))","v":""},{"$f":"IF($Z$2=\"pok\",\"\",IF(A46=\"\",\"\",COUNTIFS(SYNTHESE!$D:$D,A46,SYNTHESE!$E:$E,$N$1,SYNTHESE!$F:$F,\">=1\")))","v":""},{"$f":"IF($Z$2=\"pok\",\"\",IF(A46=\"\",\"\",COUNTIFS(SYNTHESE!$D:$D,A46,SYNTHESE!$E:$E,$O$1,SYNTHESE!$F:$F,\">=1\")))","v":""},{"$f":"IF($Z$2=\"pok\",\"\",IF(A46=\"\",\"\",COUNTIFS(SYNTHESE!$D:$D,A46,SYNTHESE!$E:$E,$P$1,SYNTHESE!$F:$F,\">=1\")))","v":""},{"$f":"IF($Z$2=\"pok\",\"\",IF(A46=\"\",\"\",COUNTIFS(SYNTHESE!$D:$D,A46,SYNTHESE!$E:$E,$Q$1,SYNTHESE!$F:$F,\">=1\")))","v":""},{"$f":"IF($Z$2=\"pok\",\"\",IF(A46=\"\",\"\",COUNTIFS(SYNTHESE!$D:$D,A46,SYNTHESE!$E:$E,$R$1,SYNTHESE!$F:$F,\">=1\")))","v":""},{"$f":"IF($Z$2=\"pok\",\"\",IF(A46=\"\",\"\",COUNTIFS(SYNTHESE!$D:$D,A46,SYNTHESE!$E:$E,$S$1,SYNTHESE!$F:$F,\">=1\")))","v":""},{"$f":"IF($Z$2=\"pok\",\"\",IF(A46=\"\",\"\",COUNTIFS(SYNTHESE!$D:$D,A46,SYNTHESE!$E:$E,$T$1,SYNTHESE!$F:$F,\">=1\")))","v":""},{"$f":"IF($Z$2=\"pok\",\"\",IF(A46=\"\",\"\",COUNTIFS(SYNTHESE!$D:$D,A46,SYNTHESE!$E:$E,$U$1,SYNTHESE!$F:$F,\">=1\")))","v":""},{"$f":"IF($Z$2=\"pok\",\"\",IF(A46=\"\",\"\",COUNTIFS(SYNTHESE!$D:$D,A46,SYNTHESE!$E:$E,$V$1,SYNTHESE!$F:$F,\">=1\")))","v":""},{"$f":"IF($Z$2=\"pok\",\"\",IF(A46=\"\",\"\",COUNTIFS(SYNTHESE!$D:$D,A46,SYNTHESE!$E:$E,$W$1,SYNTHESE!$F:$F,\">=1\")))","v":""},{"$f":"IF($Z$2=\"pok\",\"\",IF(A46=\"\",\"\",COUNTIFS(SYNTHESE!$D:$D,A46,SYNTHESE!$E:$E,$X$1,SYNTHESE!$F:$F,\">=1\")))","v":""},{"$f":"IF($Z$2=\"pok\",\"\",IF(A46=\"\",\"\",COUNTIFS(SYNTHESE!$D:$D,A46,SYNTHESE!$E:$E,$Y$1,SYNTHESE!$F:$F,\">=1\")))","v":""},0]
[{"$f":"IF(ETUDIANTS!A47=\"\",\"\",ETUDIANTS!A47)","v":""},{"$f":"IF($Z$2=\"pok\",\"\",IF(A47=\"\",\"\",COUNTIFS(SYNTHESE!$D:$D,A47,SYNTHESE!$E:$E,$B$1,SYNTHESE!$F:$F,\">=1\")))","v":""},{"$f":"IF($Z$2=\"pok\",\"\",IF(A47=\"\",\"\",COUNTIFS(SYNTHESE!$D:$D,A47,SYNTHESE!$E:$E,$C$1,SYNTHESE!$F:$F,\">=1\")))","v":""},{"$f":"IF($Z$2=\"pok\",\"\",IF(A47=\"\",\"\",COUNTIFS(SYNTHESE!$D:$D,A47,SYNTHESE!$E:$E,$D$1,SYNTHESE!$F:$F,\">=1\")))","v":""},{"$f":"IF($Z$2=\"pok\",\"\",IF(A47=\"\",\"\",COUNTIFS(SYNTHESE!$D:$D,A47,SYNTHESE!$E:$E,$E$1,SYNTHESE!$F:$F,\">=1\")))","v":""},{"$f":"IF($Z$2=\"pok\",\"\",IF(A47=\"\",\"\",COUNTIFS(SYNTHESE!$D:$D,A47,SYNTHESE!$E:$E,$F$1,SYNTHESE!$F:$F,\">=1\")))","v":""},{"$f":"IF($Z$2=\"pok\",\"\",IF(A47=\"\",\"\",COUNTIFS(SYNTHESE!$D:$D,A47,SYNTHESE!$E:$E,$G$1,SYNTHESE!$F:$F,\">=1\")))","v":""},{"$f":"IF($Z$2=\"pok\",\"\",IF(A47=\"\",\"\",COUNTIFS(SYNTHESE!$D:$D,A47,SYNTHESE!$E:$E,$H$1,SYNTHESE!$F:$F,\">=1\")))","v":""},{"$f":"IF($Z$2=\"pok\",\"\",IF(A47=\"\",\"\",COUNTIFS(SYNTHESE!$D:$D,A47,SYNTHESE!$E:$E,$I$1,SYNTHESE!$F:$F,\">=1\")))","v":""},{"$f":"IF($Z$2=\"pok\",\"\",IF(A47=\"\",\"\",COUNTIFS(SYNTHESE!$D:$D,A47,SYNTHESE!$E:$E,$J$1,SYNTHESE!$F:$F,\">=1\")))","v":""},{"$f":"IF($Z$2=\"pok\",\"\",IF(A47=\"\",\"\",COUNTIFS(SYNTHESE!$D:$D,A47,SYNTHESE!$E:$E,$K$1,SYNTHESE!$F:$F,\">=1\")))","v":""},{"$f":"IF($Z$2=\"pok\",\"\",IF(A47=\"\",\"\",COUNTIFS(SYNTHESE!$D:$D,A47,SYNTHESE!$E:$E,$L$1,SYNTHESE!$F:$F,\">=1\")))","v":""},{"$f":"IF($Z$2=\"pok\",\"\",IF(A47=\"\",\"\",COUNTIFS(SYNTHESE!$D:$D,A47,SYNTHESE!$E:$E,$M$1,SYNTHESE!$F:$F,\">=1\")))","v":""},{"$f":"IF($Z$2=\"pok\",\"\",IF(A47=\"\",\"\",COUNTIFS(SYNTHESE!$D:$D,A47,SYNTHESE!$E:$E,$N$1,SYNTHESE!$F:$F,\">=1\")))","v":""},{"$f":"IF($Z$2=\"pok\",\"\",IF(A47=\"\",\"\",COUNTIFS(SYNTHESE!$D:$D,A47,SYNTHESE!$E:$E,$O$1,SYNTHESE!$F:$F,\">=1\")))","v":""},{"$f":"IF($Z$2=\"pok\",\"\",IF(A47=\"\",\"\",COUNTIFS(SYNTHESE!$D:$D,A47,SYNTHESE!$E:$E,$P$1,SYNTHESE!$F:$F,\">=1\")))","v":""},{"$f":"IF($Z$2=\"pok\",\"\",IF(A47=\"\",\"\",COUNTIFS(SYNTHESE!$D:$D,A47,SYNTHESE!$E:$E,$Q$1,SYNTHESE!$F:$F,\">=1\")))","v":""},{"$f":"IF($Z$2=\"pok\",\"\",IF(A47=\"\",\"\",COUNTIFS(SYNTHESE!$D:$D,A47,SYNTHESE!$E:$E,$R$1,SYNTHESE!$F:$F,\">=1\")))","v":""},{"$f":"IF($Z$2=\"pok\",\"\",IF(A47=\"\",\"\",COUNTIFS(SYNTHESE!$D:$D,A47,SYNTHESE!$E:$E,$S$1,SYNTHESE!$F:$F,\">=1\")))","v":""},{"$f":"IF($Z$2=\"pok\",\"\",IF(A47=\"\",\"\",COUNTIFS(SYNTHESE!$D:$D,A47,SYNTHESE!$E:$E,$T$1,SYNTHESE!$F:$F,\">=1\")))","v":""},{"$f":"IF($Z$2=\"pok\",\"\",IF(A47=\"\",\"\",COUNTIFS(SYNTHESE!$D:$D,A47,SYNTHESE!$E:$E,$U$1,SYNTHESE!$F:$F,\">=1\")))","v":""},{"$f":"IF($Z$2=\"pok\",\"\",IF(A47=\"\",\"\",COUNTIFS(SYNTHESE!$D:$D,A47,SYNTHESE!$E:$E,$V$1,SYNTHESE!$F:$F,\">=1\")))","v":""},{"$f":"IF($Z$2=\"pok\",\"\",IF(A47=\"\",\"\",COUNTIFS(SYNTHESE!$D:$D,A47,SYNTHESE!$E:$E,$W$1,SYNTHESE!$F:$F,\">=1\")))","v":""},{"$f":"IF($Z$2=\"pok\",\"\",IF(A47=\"\",\"\",COUNTIFS(SYNTHESE!$D:$D,A47,SYNTHESE!$E:$E,$X$1,SYNTHESE!$F:$F,\">=1\")))","v":""},{"$f":"IF($Z$2=\"pok\",\"\",IF(A47=\"\",\"\",COUNTIFS(SYNTHESE!$D:$D,A47,SYNTHESE!$E:$E,$Y$1,SYNTHESE!$F:$F,\">=1\")))","v":""},0]
[{"$f":"IF(ETUDIANTS!A48=\"\",\"\",ETUDIANTS!A48)","v":""},{"$f":"IF($Z$2=\"pok\",\"\",IF(A48=\"\",\"\",COUNTIFS(SYNTHESE!$D:$D,A48,SYNTHESE!$E:$E,$B$1,SYNTHESE!$F:$F,\">=1\")))","v":""},{"$f":"IF($Z$2=\"pok\",\"\",IF(A48=\"\",\"\",COUNTIFS(SYNTHESE!$D:$D,A48,SYNTHESE!$E:$E,$C$1,SYNTHESE!$F:$F,\">=1\")))","v":""},{"$f":"IF($Z$2=\"pok\",\"\",IF(A48=\"\",\"\",COUNTIFS(SYNTHESE!$D:$D,A48,SYNTHESE!$E:$E,$D$1,SYNTHESE!$F:$F,\">=1\")))","v":""},{"$f":"IF($Z$2=\"pok\",\"\",IF(A48=\"\",\"\",COUNTIFS(SYNTHESE!$D:$D,A48,SYNTHESE!$E:$E,$E$1,SYNTHESE!$F:$F,\">=1\")))","v":""},{"$f":"IF($Z$2=\"pok\",\"\",IF(A48=\"\",\"\",COUNTIFS(SYNTHESE!$D:$D,A48,SYNTHESE!$E:$E,$F$1,SYNTHESE!$F:$F,\">=1\")))","v":""},{"$f":"IF($Z$2=\"pok\",\"\",IF(A48=\"\",\"\",COUNTIFS(SYNTHESE!$D:$D,A48,SYNTHESE!$E:$E,$G$1,SYNTHESE!$F:$F,\">=1\")))","v":""},{"$f":"IF($Z$2=\"pok\",\"\",IF(A48=\"\",\"\",COUNTIFS(SYNTHESE!$D:$D,A48,SYNTHESE!$E:$E,$H$1,SYNTHESE!$F:$F,\">=1\")))","v":""},{"$f":"IF($Z$2=\"pok\",\"\",IF(A48=\"\",\"\",COUNTIFS(SYNTHESE!$D:$D,A48,SYNTHESE!$E:$E,$I$1,SYNTHESE!$F:$F,\">=1\")))","v":""},{"$f":"IF($Z$2=\"pok\",\"\",IF(A48=\"\",\"\",COUNTIFS(SYNTHESE!$D:$D,A48,SYNTHESE!$E:$E,$J$1,SYNTHESE!$F:$F,\">=1\")))","v":""},{"$f":"IF($Z$2=\"pok\",\"\",IF(A48=\"\",\"\",COUNTIFS(SYNTHESE!$D:$D,A48,SYNTHESE!$E:$E,$K$1,SYNTHESE!$F:$F,\">=1\")))","v":""},{"$f":"IF($Z$2=\"pok\",\"\",IF(A48=\"\",\"\",COUNTIFS(SYNTHESE!$D:$D,A48,SYNTHESE!$E:$E,$L$1,SYNTHESE!$F:$F,\">=1\")))","v":""},{"$f":"IF($Z$2=\"pok\",\"\",IF(A48=\"\",\"\",COUNTIFS(SYNTHESE!$D:$D,A48,SYNTHESE!$E:$E,$M$1,SYNTHESE!$F:$F,\">=1\")))","v":""},{"$f":"IF($Z$2=\"pok\",\"\",IF(A48=\"\",\"\",COUNTIFS(SYNTHESE!$D:$D,A48,SYNTHESE!$E:$E,$N$1,SYNTHESE!$F:$F,\">=1\")))","v":""},{"$f":"IF($Z$2=\"pok\",\"\",IF(A48=\"\",\"\",COUNTIFS(SYNTHESE!$D:$D,A48,SYNTHESE!$E:$E,$O$1,SYNTHESE!$F:$F,\">=1\")))","v":""},{"$f":"IF($Z$2=\"pok\",\"\",IF(A48=\"\",\"\",COUNTIFS(SYNTHESE!$D:$D,A48,SYNTHESE!$E:$E,$P$1,SYNTHESE!$F:$F,\">=1\")))","v":""},{"$f":"IF($Z$2=\"pok\",\"\",IF(A48=\"\",\"\",COUNTIFS(SYNTHESE!$D:$D,A48,SYNTHESE!$E:$E,$Q$1,SYNTHESE!$F:$F,\">=1\")))","v":""},{"$f":"IF($Z$2=\"pok\",\"\",IF(A48=\"\",\"\",COUNTIFS(SYNTHESE!$D:$D,A48,SYNTHESE!$E:$E,$R$1,SYNTHESE!$F:$F,\">=1\")))","v":""},{"$f":"IF($Z$2=\"pok\",\"\",IF(A48=\"\",\"\",COUNTIFS(SYNTHESE!$D:$D,A48,SYNTHESE!$E:$E,$S$1,SYNTHESE!$F:$F,\">=1\")))","v":""},{"$f":"IF($Z$2=\"pok\",\"\",IF(A48=\"\",\"\",COUNTIFS(SYNTHESE!$D:$D,A48,SYNTHESE!$E:$E,$T$1,SYNTHESE!$F:$F,\">=1\")))","v":""},{"$f":"IF($Z$2=\"pok\",\"\",IF(A48=\"\",\"\",COUNTIFS(SYNTHESE!$D:$D,A48,SYNTHESE!$E:$E,$U$1,SYNTHESE!$F:$F,\">=1\")))","v":""},{"$f":"IF($Z$2=\"pok\",\"\",IF(A48=\"\",\"\",COUNTIFS(SYNTHESE!$D:$D,A48,SYNTHESE!$E:$E,$V$1,SYNTHESE!$F:$F,\">=1\")))","v":""},{"$f":"IF($Z$2=\"pok\",\"\",IF(A48=\"\",\"\",COUNTIFS(SYNTHESE!$D:$D,A48,SYNTHESE!$E:$E,$W$1,SYNTHESE!$F:$F,\">=1\")))","v":""},{"$f":"IF($Z$2=\"pok\",\"\",IF(A48=\"\",\"\",COUNTIFS(SYNTHESE!$D:$D,A48,SYNTHESE!$E:$E,$X$1,SYNTHESE!$F:$F,\">=1\")))","v":""},{"$f":"IF($Z$2=\"pok\",\"\",IF(A48=\"\",\"\",COUNTIFS(SYNTHESE!$D:$D,A48,SYNTHESE!$E:$E,$Y$1,SYNTHESE!$F:$F,\">=1\")))","v":""},0]
[{"$f":"IF(ETUDIANTS!A49=\"\",\"\",ETUDIANTS!A49)","v":""},{"$f":"IF($Z$2=\"pok\",\"\",IF(A49=\"\",\"\",COUNTIFS(SYNTHESE!$D:$D,A49,SYNTHESE!$E:$E,$B$1,SYNTHESE!$F:$F,\">=1\")))","v":""},{"$f":"IF($Z$2=\"pok\",\"\",IF(A49=\"\",\"\",COUNTIFS(SYNTHESE!$D:$D,A49,SYNTHESE!$E:$E,$C$1,SYNTHESE!$F:$F,\">=1\")))","v":""},{"$f":"IF($Z$2=\"pok\",\"\",IF(A49=\"\",\"\",COUNTIFS(SYNTHESE!$D:$D,A49,SYNTHESE!$E:$E,$D$1,SYNTHESE!$F:$F,\">=1\")))","v":""},{"$f":"IF($Z$2=\"pok\",\"\",IF(A49=\"\",\"\",COUNTIFS(SYNTHESE!$D:$D,A49,SYNTHESE!$E:$E,$E$1,SYNTHESE!$F:$F,\">=1\")))","v":""},{"$f":"IF($Z$2=\"pok\",\"\",IF(A49=\"\",\"\",COUNTIFS(SYNTHESE!$D:$D,A49,SYNTHESE!$E:$E,$F$1,SYNTHESE!$F:$F,\">=1\")))","v":""},{"$f":"IF($Z$2=\"pok\",\"\",IF(A49=\"\",\"\",COUNTIFS(SYNTHESE!$D:$D,A49,SYNTHESE!$E:$E,$G$1,SYNTHESE!$F:$F,\">=1\")))","v":""},{"$f":"IF($Z$2=\"pok\",\"\",IF(A49=\"\",\"\",COUNTIFS(SYNTHESE!$D:$D,A49,SYNTHESE!$E:$E,$H$1,SYNTHESE!$F:$F,\">=1\")))","v":""},{"$f":"IF($Z$2=\"pok\",\"\",IF(A49=\"\",\"\",COUNTIFS(SYNTHESE!$D:$D,A49,SYNTHESE!$E:$E,$I$1,SYNTHESE!$F:$F,\">=1\")))","v":""},{"$f":"IF($Z$2=\"pok\",\"\",IF(A49=\"\",\"\",COUNTIFS(SYNTHESE!$D:$D,A49,SYNTHESE!$E:$E,$J$1,SYNTHESE!$F:$F,\">=1\")))","v":""},{"$f":"IF($Z$2=\"pok\",\"\",IF(A49=\"\",\"\",COUNTIFS(SYNTHESE!$D:$D,A49,SYNTHESE!$E:$E,$K$1,SYNTHESE!$F:$F,\">=1\")))","v":""},{"$f":"IF($Z$2=\"pok\",\"\",IF(A49=\"\",\"\",COUNTIFS(SYNTHESE!$D:$D,A49,SYNTHESE!$E:$E,$L$1,SYNTHESE!$F:$F,\">=1\")))","v":""},{"$f":"IF($Z$2=\"pok\",\"\",IF(A49=\"\",\"\",COUNTIFS(SYNTHESE!$D:$D,A49,SYNTHESE!$E:$E,$M$1,SYNTHESE!$F:$F,\">=1\")))","v":""},{"$f":"IF($Z$2=\"pok\",\"\",IF(A49=\"\",\"\",COUNTIFS(SYNTHESE!$D:$D,A49,SYNTHESE!$E:$E,$N$1,SYNTHESE!$F:$F,\">=1\")))","v":""},{"$f":"IF($Z$2=\"pok\",\"\",IF(A49=\"\",\"\",COUNTIFS(SYNTHESE!$D:$D,A49,SYNTHESE!$E:$E,$O$1,SYNTHESE!$F:$F,\">=1\")))","v":""},{"$f":"IF($Z$2=\"pok\",\"\",IF(A49=\"\",\"\",COUNTIFS(SYNTHESE!$D:$D,A49,SYNTHESE!$E:$E,$P$1,SYNTHESE!$F:$F,\">=1\")))","v":""},{"$f":"IF($Z$2=\"pok\",\"\",IF(A49=\"\",\"\",COUNTIFS(SYNTHESE!$D:$D,A49,SYNTHESE!$E:$E,$Q$1,SYNTHESE!$F:$F,\">=1\")))","v":""},{"$f":"IF($Z$2=\"pok\",\"\",IF(A49=\"\",\"\",COUNTIFS(SYNTHESE!$D:$D,A49,SYNTHESE!$E:$E,$R$1,SYNTHESE!$F:$F,\">=1\")))","v":""},{"$f":"IF($Z$2=\"pok\",\"\",IF(A49=\"\",\"\",COUNTIFS(SYNTHESE!$D:$D,A49,SYNTHESE!$E:$E,$S$1,SYNTHESE!$F:$F,\">=1\")))","v":""},{"$f":"IF($Z$2=\"pok\",\"\",IF(A49=\"\",\"\",COUNTIFS(SYNTHESE!$D:$D,A49,SYNTHESE!$E:$E,$T$1,SYNTHESE!$F:$F,\">=1\")))","v":""},{"$f":"IF($Z$2=\"pok\",\"\",IF(A49=\"\",\"\",COUNTIFS(SYNTHESE!$D:$D,A49,SYNTHESE!$E:$E,$U$1,SYNTHESE!$F:$F,\">=1\")))","v":""},{"$f":"IF($Z$2=\"pok\",\"\",IF(A49=\"\",\"\",COUNTIFS(SYNTHESE!$D:$D,A49,SYNTHESE!$E:$E,$V$1,SYNTHESE!$F:$F,\">=1\")))","v":""},{"$f":"IF($Z$2=\"pok\",\"\",IF(A49=\"\",\"\",COUNTIFS(SYNTHESE!$D:$D,A49,SYNTHESE!$E:$E,$W$1,SYNTHESE!$F:$F,\">=1\")))","v":""},{"$f":"IF($Z$2=\"pok\",\"\",IF(A49=\"\",\"\",COUNTIFS(SYNTHESE!$D:$D,A49,SYNTHESE!$E:$E,$X$1,SYNTHESE!$F:$F,\">=1\")))","v":""},{"$f":"IF($Z$2=\"pok\",\"\",IF(A49=\"\",\"\",COUNTIFS(SYNTHESE!$D:$D,A49,SYNTHESE!$E:$E,$Y$1,SYNTHESE!$F:$F,\">=1\")))","v":""},0]
[{"$f":"IF(ETUDIANTS!A50=\"\",\"\",ETUDIANTS!A50)","v":""},{"$f":"IF($Z$2=\"pok\",\"\",IF(A50=\"\",\"\",COUNTIFS(SYNTHESE!$D:$D,A50,SYNTHESE!$E:$E,$B$1,SYNTHESE!$F:$F,\">=1\")))","v":""},{"$f":"IF($Z$2=\"pok\",\"\",IF(A50=\"\",\"\",COUNTIFS(SYNTHESE!$D:$D,A50,SYNTHESE!$E:$E,$C$1,SYNTHESE!$F:$F,\">=1\")))","v":""},{"$f":"IF($Z$2=\"pok\",\"\",IF(A50=\"\",\"\",COUNTIFS(SYNTHESE!$D:$D,A50,SYNTHESE!$E:$E,$D$1,SYNTHESE!$F:$F,\">=1\")))","v":""},{"$f":"IF($Z$2=\"pok\",\"\",IF(A50=\"\",\"\",COUNTIFS(SYNTHESE!$D:$D,A50,SYNTHESE!$E:$E,$E$1,SYNTHESE!$F:$F,\">=1\")))","v":""},{"$f":"IF($Z$2=\"pok\",\"\",IF(A50=\"\",\"\",COUNTIFS(SYNTHESE!$D:$D,A50,SYNTHESE!$E:$E,$F$1,SYNTHESE!$F:$F,\">=1\")))","v":""},{"$f":"IF($Z$2=\"pok\",\"\",IF(A50=\"\",\"\",COUNTIFS(SYNTHESE!$D:$D,A50,SYNTHESE!$E:$E,$G$1,SYNTHESE!$F:$F,\">=1\")))","v":""},{"$f":"IF($Z$2=\"pok\",\"\",IF(A50=\"\",\"\",COUNTIFS(SYNTHESE!$D:$D,A50,SYNTHESE!$E:$E,$H$1,SYNTHESE!$F:$F,\">=1\")))","v":""},{"$f":"IF($Z$2=\"pok\",\"\",IF(A50=\"\",\"\",COUNTIFS(SYNTHESE!$D:$D,A50,SYNTHESE!$E:$E,$I$1,SYNTHESE!$F:$F,\">=1\")))","v":""},{"$f":"IF($Z$2=\"pok\",\"\",IF(A50=\"\",\"\",COUNTIFS(SYNTHESE!$D:$D,A50,SYNTHESE!$E:$E,$J$1,SYNTHESE!$F:$F,\">=1\")))","v":""},{"$f":"IF($Z$2=\"pok\",\"\",IF(A50=\"\",\"\",COUNTIFS(SYNTHESE!$D:$D,A50,SYNTHESE!$E:$E,$K$1,SYNTHESE!$F:$F,\">=1\")))","v":""},{"$f":"IF($Z$2=\"pok\",\"\",IF(A50=\"\",\"\",COUNTIFS(SYNTHESE!$D:$D,A50,SYNTHESE!$E:$E,$L$1,SYNTHESE!$F:$F,\">=1\")))","v":""},{"$f":"IF($Z$2=\"pok\",\"\",IF(A50=\"\",\"\",COUNTIFS(SYNTHESE!$D:$D,A50,SYNTHESE!$E:$E,$M$1,SYNTHESE!$F:$F,\">=1\")))","v":""},{"$f":"IF($Z$2=\"pok\",\"\",IF(A50=\"\",\"\",COUNTIFS(SYNTHESE!$D:$D,A50,SYNTHESE!$E:$E,$N$1,SYNTHESE!$F:$F,\">=1\")))","v":""},{"$f":"IF($Z$2=\"pok\",\"\",IF(A50=\"\",\"\",COUNTIFS(SYNTHESE!$D:$D,A50,SYNTHESE!$E:$E,$O$1,SYNTHESE!$F:$F,\">=1\")))","v":""},{"$f":"IF($Z$2=\"pok\",\"\",IF(A50=\"\",\"\",COUNTIFS(SYNTHESE!$D:$D,A50,SYNTHESE!$E:$E,$P$1,SYNTHESE!$F:$F,\">=1\")))","v":""},{"$f":"IF($Z$2=\"pok\",\"\",IF(A50=\"\",\"\",COUNTIFS(SYNTHESE!$D:$D,A50,SYNTHESE!$E:$E,$Q$1,SYNTHESE!$F:$F,\">=1\")))","v":""},{"$f":"IF($Z$2=\"pok\",\"\",IF(A50=\"\",\"\",COUNTIFS(SYNTHESE!$D:$D,A50,SYNTHESE!$E:$E,$R$1,SYNTHESE!$F:$F,\">=1\")))","v":""},{"$f":"IF($Z$2=\"pok\",\"\",IF(A50=\"\",\"\",COUNTIFS(SYNTHESE!$D:$D,A50,SYNTHESE!$E:$E,$S$1,SYNTHESE!$F:$F,\">=1\")))","v":""},{"$f":"IF($Z$2=\"pok\",\"\",IF(A50=\"\",\"\",COUNTIFS(SYNTHESE!$D:$D,A50,SYNTHESE!$E:$E,$T$1,SYNTHESE!$F:$F,\">=1\")))","v":""},{"$f":"IF($Z$2=\"pok\",\"\",IF(A50=\"\",\"\",COUNTIFS(SYNTHESE!$D:$D,A50,SYNTHESE!$E:$E,$U$1,SYNTHESE!$F:$F,\">=1\")))","v":""},{"$f":"IF($Z$2=\"pok\",\"\",IF(A50=\"\",\"\",COUNTIFS(SYNTHESE!$D:$D,A50,SYNTHESE!$E:$E,$V$1,SYNTHESE!$F:$F,\">=1\")))","v":""},{"$f":"IF($Z$2=\"pok\",\"\",IF(A50=\"\",\"\",COUNTIFS(SYNTHESE!$D:$D,A50,SYNTHESE!$E:$E,$W$1,SYNTHESE!$F:$F,\">=1\")))","v":""},{"$f":"IF($Z$2=\"pok\",\"\",IF(A50=\"\",\"\",COUNTIFS(SYNTHESE!$D:$D,A50,SYNTHESE!$E:$E,$X$1,SYNTHESE!$F:$F,\">=1\")))","v":""},{"$f":"IF($Z$2=\"pok\",\"\",IF(A50=\"\",\"\",COUNTIFS(SYNTHESE!$D:$D,A50,SYNTHESE!$E:$E,$Y$1,SYNTHESE!$F:$F,\">=1\")))","v":""},0]
[{"$f":"IF(ETUDIANTS!A51=\"\",\"\",ETUDIANTS!A51)","v":""},{"$f":"IF($Z$2=\"pok\",\"\",IF(A51=\"\",\"\",COUNTIFS(SYNTHESE!$D:$D,A51,SYNTHESE!$E:$E,$B$1,SYNTHESE!$F:$F,\">=1\")))","v":""},{"$f":"IF($Z$2=\"pok\",\"\",IF(A51=\"\",\"\",COUNTIFS(SYNTHESE!$D:$D,A51,SYNTHESE!$E:$E,$C$1,SYNTHESE!$F:$F,\">=1\")))","v":""},{"$f":"IF($Z$2=\"pok\",\"\",IF(A51=\"\",\"\",COUNTIFS(SYNTHESE!$D:$D,A51,SYNTHESE!$E:$E,$D$1,SYNTHESE!$F:$F,\">=1\")))","v":""},{"$f":"IF($Z$2=\"pok\",\"\",IF(A51=\"\",\"\",COUNTIFS(SYNTHESE!$D:$D,A51,SYNTHESE!$E:$E,$E$1,SYNTHESE!$F:$F,\">=1\")))","v":""},{"$f":"IF($Z$2=\"pok\",\"\",IF(A51=\"\",\"\",COUNTIFS(SYNTHESE!$D:$D,A51,SYNTHESE!$E:$E,$F$1,SYNTHESE!$F:$F,\">=1\")))","v":""},{"$f":"IF($Z$2=\"pok\",\"\",IF(A51=\"\",\"\",COUNTIFS(SYNTHESE!$D:$D,A51,SYNTHESE!$E:$E,$G$1,SYNTHESE!$F:$F,\">=1\")))","v":""},{"$f":"IF($Z$2=\"pok\",\"\",IF(A51=\"\",\"\",COUNTIFS(SYNTHESE!$D:$D,A51,SYNTHESE!$E:$E,$H$1,SYNTHESE!$F:$F,\">=1\")))","v":""},{"$f":"IF($Z$2=\"pok\",\"\",IF(A51=\"\",\"\",COUNTIFS(SYNTHESE!$D:$D,A51,SYNTHESE!$E:$E,$I$1,SYNTHESE!$F:$F,\">=1\")))","v":""},{"$f":"IF($Z$2=\"pok\",\"\",IF(A51=\"\",\"\",COUNTIFS(SYNTHESE!$D:$D,A51,SYNTHESE!$E:$E,$J$1,SYNTHESE!$F:$F,\">=1\")))","v":""},{"$f":"IF($Z$2=\"pok\",\"\",IF(A51=\"\",\"\",COUNTIFS(SYNTHESE!$D:$D,A51,SYNTHESE!$E:$E,$K$1,SYNTHESE!$F:$F,\">=1\")))","v":""},{"$f":"IF($Z$2=\"pok\",\"\",IF(A51=\"\",\"\",COUNTIFS(SYNTHESE!$D:$D,A51,SYNTHESE!$E:$E,$L$1,SYNTHESE!$F:$F,\">=1\")))","v":""},{"$f":"IF($Z$2=\"pok\",\"\",IF(A51=\"\",\"\",COUNTIFS(SYNTHESE!$D:$D,A51,SYNTHESE!$E:$E,$M$1,SYNTHESE!$F:$F,\">=1\")))","v":""},{"$f":"IF($Z$2=\"pok\",\"\",IF(A51=\"\",\"\",COUNTIFS(SYNTHESE!$D:$D,A51,SYNTHESE!$E:$E,$N$1,SYNTHESE!$F:$F,\">=1\")))","v":""},{"$f":"IF($Z$2=\"pok\",\"\",IF(A51=\"\",\"\",COUNTIFS(SYNTHESE!$D:$D,A51,SYNTHESE!$E:$E,$O$1,SYNTHESE!$F:$F,\">=1\")))","v":""},{"$f":"IF($Z$2=\"pok\",\"\",IF(A51=\"\",\"\",COUNTIFS(SYNTHESE!$D:$D,A51,SYNTHESE!$E:$E,$P$1,SYNTHESE!$F:$F,\">=1\")))","v":""},{"$f":"IF($Z$2=\"pok\",\"\",IF(A51=\"\",\"\",COUNTIFS(SYNTHESE!$D:$D,A51,SYNTHESE!$E:$E,$Q$1,SYNTHESE!$F:$F,\">=1\")))","v":""},{"$f":"IF($Z$2=\"pok\",\"\",IF(A51=\"\",\"\",COUNTIFS(SYNTHESE!$D:$D,A51,SYNTHESE!$E:$E,$R$1,SYNTHESE!$F:$F,\">=1\")))","v":""},{"$f":"IF($Z$2=\"pok\",\"\",IF(A51=\"\",\"\",COUNTIFS(SYNTHESE!$D:$D,A51,SYNTHESE!$E:$E,$S$1,SYNTHESE!$F:$F,\">=1\")))","v":""},{"$f":"IF($Z$2=\"pok\",\"\",IF(A51=\"\",\"\",COUNTIFS(SYNTHESE!$D:$D,A51,SYNTHESE!$E:$E,$T$1,SYNTHESE!$F:$F,\">=1\")))","v":""},{"$f":"IF($Z$2=\"pok\",\"\",IF(A51=\"\",\"\",COUNTIFS(SYNTHESE!$D:$D,A51,SYNTHESE!$E:$E,$U$1,SYNTHESE!$F:$F,\">=1\")))","v":""},{"$f":"IF($Z$2=\"pok\",\"\",IF(A51=\"\",\"\",COUNTIFS(SYNTHESE!$D:$D,A51,SYNTHESE!$E:$E,$V$1,SYNTHESE!$F:$F,\">=1\")))","v":""},{"$f":"IF($Z$2=\"pok\",\"\",IF(A51=\"\",\"\",COUNTIFS(SYNTHESE!$D:$D,A51,SYNTHESE!$E:$E,$W$1,SYNTHESE!$F:$F,\">=1\")))","v":""},{"$f":"IF($Z$2=\"pok\",\"\",IF(A51=\"\",\"\",COUNTIFS(SYNTHESE!$D:$D,A51,SYNTHESE!$E:$E,$X$1,SYNTHESE!$F:$F,\">=1\")))","v":""},{"$f":"IF($Z$2=\"pok\",\"\",IF(A51=\"\",\"\",COUNTIFS(SYNTHESE!$D:$D,A51,SYNTHESE!$E:$E,$Y$1,SYNTHESE!$F:$F,\">=1\")))","v":""},0]
[{"$f":"IF(ETUDIANTS!A52=\"\",\"\",ETUDIANTS!A52)","v":""},{"$f":"IF($Z$2=\"pok\",\"\",IF(A52=\"\",\"\",COUNTIFS(SYNTHESE!$D:$D,A52,SYNTHESE!$E:$E,$B$1,SYNTHESE!$F:$F,\">=1\")))","v":""},{"$f":"IF($Z$2=\"pok\",\"\",IF(A52=\"\",\"\",COUNTIFS(SYNTHESE!$D:$D,A52,SYNTHESE!$E:$E,$C$1,SYNTHESE!$F:$F,\">=1\")))","v":""},{"$f":"IF($Z$2=\"pok\",\"\",IF(A52=\"\",\"\",COUNTIFS(SYNTHESE!$D:$D,A52,SYNTHESE!$E:$E,$D$1,SYNTHESE!$F:$F,\">=1\")))","v":""},{"$f":"IF($Z$2=\"pok\",\"\",IF(A52=\"\",\"\",COUNTIFS(SYNTHESE!$D:$D,A52,SYNTHESE!$E:$E,$E$1,SYNTHESE!$F:$F,\">=1\")))","v":""},{"$f":"IF($Z$2=\"pok\",\"\",IF(A52=\"\",\"\",COUNTIFS(SYNTHESE!$D:$D,A52,SYNTHESE!$E:$E,$F$1,SYNTHESE!$F:$F,\">=1\")))","v":""},{"$f":"IF($Z$2=\"pok\",\"\",IF(A52=\"\",\"\",COUNTIFS(SYNTHESE!$D:$D,A52,SYNTHESE!$E:$E,$G$1,SYNTHESE!$F:$F,\">=1\")))","v":""},{"$f":"IF($Z$2=\"pok\",\"\",IF(A52=\"\",\"\",COUNTIFS(SYNTHESE!$D:$D,A52,SYNTHESE!$E:$E,$H$1,SYNTHESE!$F:$F,\">=1\")))","v":""},{"$f":"IF($Z$2=\"pok\",\"\",IF(A52=\"\",\"\",COUNTIFS(SYNTHESE!$D:$D,A52,SYNTHESE!$E:$E,$I$1,SYNTHESE!$F:$F,\">=1\")))","v":""},{"$f":"IF($Z$2=\"pok\",\"\",IF(A52=\"\",\"\",COUNTIFS(SYNTHESE!$D:$D,A52,SYNTHESE!$E:$E,$J$1,SYNTHESE!$F:$F,\">=1\")))","v":""},{"$f":"IF($Z$2=\"pok\",\"\",IF(A52=\"\",\"\",COUNTIFS(SYNTHESE!$D:$D,A52,SYNTHESE!$E:$E,$K$1,SYNTHESE!$F:$F,\">=1\")))","v":""},{"$f":"IF($Z$2=\"pok\",\"\",IF(A52=\"\",\"\",COUNTIFS(SYNTHESE!$D:$D,A52,SYNTHESE!$E:$E,$L$1,SYNTHESE!$F:$F,\">=1\")))","v":""},{"$f":"IF($Z$2=\"pok\",\"\",IF(A52=\"\",\"\",COUNTIFS(SYNTHESE!$D:$D,A52,SYNTHESE!$E:$E,$M$1,SYNTHESE!$F:$F,\">=1\")))","v":""},{"$f":"IF($Z$2=\"pok\",\"\",IF(A52=\"\",\"\",COUNTIFS(SYNTHESE!$D:$D,A52,SYNTHESE!$E:$E,$N$1,SYNTHESE!$F:$F,\">=1\")))","v":""},{"$f":"IF($Z$2=\"pok\",\"\",IF(A52=\"\",\"\",COUNTIFS(SYNTHESE!$D:$D,A52,SYNTHESE!$E:$E,$O$1,SYNTHESE!$F:$F,\">=1\")))","v":""},{"$f":"IF($Z$2=\"pok\",\"\",IF(A52=\"\",\"\",COUNTIFS(SYNTHESE!$D:$D,A52,SYNTHESE!$E:$E,$P$1,SYNTHESE!$F:$F,\">=1\")))","v":""},{"$f":"IF($Z$2=\"pok\",\"\",IF(A52=\"\",\"\",COUNTIFS(SYNTHESE!$D:$D,A52,SYNTHESE!$E:$E,$Q$1,SYNTHESE!$F:$F,\">=1\")))","v":""},{"$f":"IF($Z$2=\"pok\",\"\",IF(A52=\"\",\"\",COUNTIFS(SYNTHESE!$D:$D,A52,SYNTHESE!$E:$E,$R$1,SYNTHESE!$F:$F,\">=1\")))","v":""},{"$f":"IF($Z$2=\"pok\",\"\",IF(A52=\"\",\"\",COUNTIFS(SYNTHESE!$D:$D,A52,SYNTHESE!$E:$E,$S$1,SYNTHESE!$F:$F,\">=1\")))","v":""},{"$f":"IF($Z$2=\"pok\",\"\",IF(A52=\"\",\"\",COUNTIFS(SYNTHESE!$D:$D,A52,SYNTHESE!$E:$E,$T$1,SYNTHESE!$F:$F,\">=1\")))","v":""},{"$f":"IF($Z$2=\"pok\",\"\",IF(A52=\"\",\"\",COUNTIFS(SYNTHESE!$D:$D,A52,SYNTHESE!$E:$E,$U$1,SYNTHESE!$F:$F,\">=1\")))","v":""},{"$f":"IF($Z$2=\"pok\",\"\",IF(A52=\"\",\"\",COUNTIFS(SYNTHESE!$D:$D,A52,SYNTHESE!$E:$E,$V$1,SYNTHESE!$F:$F,\">=1\")))","v":""},{"$f":"IF($Z$2=\"pok\",\"\",IF(A52=\"\",\"\",COUNTIFS(SYNTHESE!$D:$D,A52,SYNTHESE!$E:$E,$W$1,SYNTHESE!$F:$F,\">=1\")))","v":""},{"$f":"IF($Z$2=\"pok\",\"\",IF(A52=\"\",\"\",COUNTIFS(SYNTHESE!$D:$D,A52,SYNTHESE!$E:$E,$X$1,SYNTHESE!$F:$F,\">=1\")))","v":""},{"$f":"IF($Z$2=\"pok\",\"\",IF(A52=\"\",\"\",COUNTIFS(SYNTHESE!$D:$D,A52,SYNTHESE!$E:$E,$Y$1,SYNTHESE!$F:$F,\">=1\")))","v":""},0]
[{"$f":"IF(ETUDIANTS!A53=\"\",\"\",ETUDIANTS!A53)","v":""},{"$f":"IF($Z$2=\"pok\",\"\",IF(A53=\"\",\"\",COUNTIFS(SYNTHESE!$D:$D,A53,SYNTHESE!$E:$E,$B$1,SYNTHESE!$F:$F,\">=1\")))","v":""},{"$f":"IF($Z$2=\"pok\",\"\",IF(A53=\"\",\"\",COUNTIFS(SYNTHESE!$D:$D,A53,SYNTHESE!$E:$E,$C$1,SYNTHESE!$F:$F,\">=1\")))","v":""},{"$f":"IF($Z$2=\"pok\",\"\",IF(A53=\"\",\"\",COUNTIFS(SYNTHESE!$D:$D,A53,SYNTHESE!$E:$E,$D$1,SYNTHESE!$F:$F,\">=1\")))","v":""},{"$f":"IF($Z$2=\"pok\",\"\",IF(A53=\"\",\"\",COUNTIFS(SYNTHESE!$D:$D,A53,SYNTHESE!$E:$E,$E$1,SYNTHESE!$F:$F,\">=1\")))","v":""},{"$f":"IF($Z$2=\"pok\",\"\",IF(A53=\"\",\"\",COUNTIFS(SYNTHESE!$D:$D,A53,SYNTHESE!$E:$E,$F$1,SYNTHESE!$F:$F,\">=1\")))","v":""},{"$f":"IF($Z$2=\"pok\",\"\",IF(A53=\"\",\"\",COUNTIFS(SYNTHESE!$D:$D,A53,SYNTHESE!$E:$E,$G$1,SYNTHESE!$F:$F,\">=1\")))","v":""},{"$f":"IF($Z$2=\"pok\",\"\",IF(A53=\"\",\"\",COUNTIFS(SYNTHESE!$D:$D,A53,SYNTHESE!$E:$E,$H$1,SYNTHESE!$F:$F,\">=1\")))","v":""},{"$f":"IF($Z$2=\"pok\",\"\",IF(A53=\"\",\"\",COUNTIFS(SYNTHESE!$D:$D,A53,SYNTHESE!$E:$E,$I$1,SYNTHESE!$F:$F,\">=1\")))","v":""},{"$f":"IF($Z$2=\"pok\",\"\",IF(A53=\"\",\"\",COUNTIFS(SYNTHESE!$D:$D,A53,SYNTHESE!$E:$E,$J$1,SYNTHESE!$F:$F,\">=1\")))","v":""},{"$f":"IF($Z$2=\"pok\",\"\",IF(A53=\"\",\"\",COUNTIFS(SYNTHESE!$D:$D,A53,SYNTHESE!$E:$E,$K$1,SYNTHESE!$F:$F,\">=1\")))","v":""},{"$f":"IF($Z$2=\"pok\",\"\",IF(A53=\"\",\"\",COUNTIFS(SYNTHESE!$D:$D,A53,SYNTHESE!$E:$E,$L$1,SYNTHESE!$F:$F,\">=1\")))","v":""},{"$f":"IF($Z$2=\"pok\",\"\",IF(A53=\"\",\"\",COUNTIFS(SYNTHESE!$D:$D,A53,SYNTHESE!$E:$E,$M$1,SYNTHESE!$F:$F,\">=1\")))","v":""},{"$f":"IF($Z$2=\"pok\",\"\",IF(A53=\"\",\"\",COUNTIFS(SYNTHESE!$D:$D,A53,SYNTHESE!$E:$E,$N$1,SYNTHESE!$F:$F,\">=1\")))","v":""},{"$f":"IF($Z$2=\"pok\",\"\",IF(A53=\"\",\"\",COUNTIFS(SYNTHESE!$D:$D,A53,SYNTHESE!$E:$E,$O$1,SYNTHESE!$F:$F,\">=1\")))","v":""},{"$f":"IF($Z$2=\"pok\",\"\",IF(A53=\"\",\"\",COUNTIFS(SYNTHESE!$D:$D,A53,SYNTHESE!$E:$E,$P$1,SYNTHESE!$F:$F,\">=1\")))","v":""},{"$f":"IF($Z$2=\"pok\",\"\",IF(A53=\"\",\"\",COUNTIFS(SYNTHESE!$D:$D,A53,SYNTHESE!$E:$E,$Q$1,SYNTHESE!$F:$F,\">=1\")))","v":""},{"$f":"IF($Z$2=\"pok\",\"\",IF(A53=\"\",\"\",COUNTIFS(SYNTHESE!$D:$D,A53,SYNTHESE!$E:$E,$R$1,SYNTHESE!$F:$F,\">=1\")))","v":""},{"$f":"IF($Z$2=\"pok\",\"\",IF(A53=\"\",\"\",COUNTIFS(SYNTHESE!$D:$D,A53,SYNTHESE!$E:$E,$S$1,SYNTHESE!$F:$F,\">=1\")))","v":""},{"$f":"IF($Z$2=\"pok\",\"\",IF(A53=\"\",\"\",COUNTIFS(SYNTHESE!$D:$D,A53,SYNTHESE!$E:$E,$T$1,SYNTHESE!$F:$F,\">=1\")))","v":""},{"$f":"IF($Z$2=\"pok\",\"\",IF(A53=\"\",\"\",COUNTIFS(SYNTHESE!$D:$D,A53,SYNTHESE!$E:$E,$U$1,SYNTHESE!$F:$F,\">=1\")))","v":""},{"$f":"IF($Z$2=\"pok\",\"\",IF(A53=\"\",\"\",COUNTIFS(SYNTHESE!$D:$D,A53,SYNTHESE!$E:$E,$V$1,SYNTHESE!$F:$F,\">=1\")))","v":""},{"$f":"IF($Z$2=\"pok\",\"\",IF(A53=\"\",\"\",COUNTIFS(SYNTHESE!$D:$D,A53,SYNTHESE!$E:$E,$W$1,SYNTHESE!$F:$F,\">=1\")))","v":""},{"$f":"IF($Z$2=\"pok\",\"\",IF(A53=\"\",\"\",COUNTIFS(SYNTHESE!$D:$D,A53,SYNTHESE!$E:$E,$X$1,SYNTHESE!$F:$F,\">=1\")))","v":""},{"$f":"IF($Z$2=\"pok\",\"\",IF(A53=\"\",\"\",COUNTIFS(SYNTHESE!$D:$D,A53,SYNTHESE!$E:$E,$Y$1,SYNTHESE!$F:$F,\">=1\")))","v":""},0]
[{"$f":"IF(ETUDIANTS!A54=\"\",\"\",ETUDIANTS!A54)","v":""},{"$f":"IF($Z$2=\"pok\",\"\",IF(A54=\"\",\"\",COUNTIFS(SYNTHESE!$D:$D,A54,SYNTHESE!$E:$E,$B$1,SYNTHESE!$F:$F,\">=1\")))","v":""},{"$f":"IF($Z$2=\"pok\",\"\",IF(A54=\"\",\"\",COUNTIFS(SYNTHESE!$D:$D,A54,SYNTHESE!$E:$E,$C$1,SYNTHESE!$F:$F,\">=1\")))","v":""},{"$f":"IF($Z$2=\"pok\",\"\",IF(A54=\"\",\"\",COUNTIFS(SYNTHESE!$D:$D,A54,SYNTHESE!$E:$E,$D$1,SYNTHESE!$F:$F,\">=1\")))","v":""},{"$f":"IF($Z$2=\"pok\",\"\",IF(A54=\"\",\"\",COUNTIFS(SYNTHESE!$D:$D,A54,SYNTHESE!$E:$E,$E$1,SYNTHESE!$F:$F,\">=1\")))","v":""},{"$f":"IF($Z$2=\"pok\",\"\",IF(A54=\"\",\"\",COUNTIFS(SYNTHESE!$D:$D,A54,SYNTHESE!$E:$E,$F$1,SYNTHESE!$F:$F,\">=1\")))","v":""},{"$f":"IF($Z$2=\"pok\",\"\",IF(A54=\"\",\"\",COUNTIFS(SYNTHESE!$D:$D,A54,SYNTHESE!$E:$E,$G$1,SYNTHESE!$F:$F,\">=1\")))","v":""},{"$f":"IF($Z$2=\"pok\",\"\",IF(A54=\"\",\"\",COUNTIFS(SYNTHESE!$D:$D,A54,SYNTHESE!$E:$E,$H$1,SYNTHESE!$F:$F,\">=1\")))","v":""},{"$f":"IF($Z$2=\"pok\",\"\",IF(A54=\"\",\"\",COUNTIFS(SYNTHESE!$D:$D,A54,SYNTHESE!$E:$E,$I$1,SYNTHESE!$F:$F,\">=1\")))","v":""},{"$f":"IF($Z$2=\"pok\",\"\",IF(A54=\"\",\"\",COUNTIFS(SYNTHESE!$D:$D,A54,SYNTHESE!$E:$E,$J$1,SYNTHESE!$F:$F,\">=1\")))","v":""},{"$f":"IF($Z$2=\"pok\",\"\",IF(A54=\"\",\"\",COUNTIFS(SYNTHESE!$D:$D,A54,SYNTHESE!$E:$E,$K$1,SYNTHESE!$F:$F,\">=1\")))","v":""},{"$f":"IF($Z$2=\"pok\",\"\",IF(A54=\"\",\"\",COUNTIFS(SYNTHESE!$D:$D,A54,SYNTHESE!$E:$E,$L$1,SYNTHESE!$F:$F,\">=1\")))","v":""},{"$f":"IF($Z$2=\"pok\",\"\",IF(A54=\"\",\"\",COUNTIFS(SYNTHESE!$D:$D,A54,SYNTHESE!$E:$E,$M$1,SYNTHESE!$F:$F,\">=1\")))","v":""},{"$f":"IF($Z$2=\"pok\",\"\",IF(A54=\"\",\"\",COUNTIFS(SYNTHESE!$D:$D,A54,SYNTHESE!$E:$E,$N$1,SYNTHESE!$F:$F,\">=1\")))","v":""},{"$f":"IF($Z$2=\"pok\",\"\",IF(A54=\"\",\"\",COUNTIFS(SYNTHESE!$D:$D,A54,SYNTHESE!$E:$E,$O$1,SYNTHESE!$F:$F,\">=1\")))","v":""},{"$f":"IF($Z$2=\"pok\",\"\",IF(A54=\"\",\"\",COUNTIFS(SYNTHESE!$D:$D,A54,SYNTHESE!$E:$E,$P$1,SYNTHESE!$F:$F,\">=1\")))","v":""},{"$f":"IF($Z$2=\"pok\",\"\",IF(A54=\"\",\"\",COUNTIFS(SYNTHESE!$D:$D,A54,SYNTHESE!$E:$E,$Q$1,SYNTHESE!$F:$F,\">=1\")))","v":""},{"$f":"IF($Z$2=\"pok\",\"\",IF(A54=\"\",\"\",COUNTIFS(SYNTHESE!$D:$D,A54,SYNTHESE!$E:$E,$R$1,SYNTHESE!$F:$F,\">=1\")))","v":""},{"$f":"IF($Z$2=\"pok\",\"\",IF(A54=\"\",\"\",COUNTIFS(SYNTHESE!$D:$D,A54,SYNTHESE!$E:$E,$S$1,SYNTHESE!$F:$F,\">=1\")))","v":""},{"$f":"IF($Z$2=\"pok\",\"\",IF(A54=\"\",\"\",COUNTIFS(SYNTHESE!$D:$D,A54,SYNTHESE!$E:$E,$T$1,SYNTHESE!$F:$F,\">=1\")))","v":""},{"$f":"IF($Z$2=\"pok\",\"\",IF(A54=\"\",\"\",COUNTIFS(SYNTHESE!$D:$D,A54,SYNTHESE!$E:$E,$U$1,SYNTHESE!$F:$F,\">=1\")))","v":""},{"$f":"IF($Z$2=\"pok\",\"\",IF(A54=\"\",\"\",COUNTIFS(SYNTHESE!$D:$D,A54,SYNTHESE!$E:$E,$V$1,SYNTHESE!$F:$F,\">=1\")))","v":""},{"$f":"IF($Z$2=\"pok\",\"\",IF(A54=\"\",\"\",COUNTIFS(SYNTHESE!$D:$D,A54,SYNTHESE!$E:$E,$W$1,SYNTHESE!$F:$F,\">=1\")))","v":""},{"$f":"IF($Z$2=\"pok\",\"\",IF(A54=\"\",\"\",COUNTIFS(SYNTHESE!$D:$D,A54,SYNTHESE!$E:$E,$X$1,SYNTHESE!$F:$F,\">=1\")))","v":""},{"$f":"IF($Z$2=\"pok\",\"\",IF(A54=\"\",\"\",COUNTIFS(SYNTHESE!$D:$D,A54,SYNTHESE!$E:$E,$Y$1,SYNTHESE!$F:$F,\">=1\")))","v":""},0]
[{"$f":"IF(ETUDIANTS!A55=\"\",\"\",ETUDIANTS!A55)","v":""},{"$f":"IF($Z$2=\"pok\",\"\",IF(A55=\"\",\"\",COUNTIFS(SYNTHESE!$D:$D,A55,SYNTHESE!$E:$E,$B$1,SYNTHESE!$F:$F,\">=1\")))","v":""},{"$f":"IF($Z$2=\"pok\",\"\",IF(A55=\"\",\"\",COUNTIFS(SYNTHESE!$D:$D,A55,SYNTHESE!$E:$E,$C$1,SYNTHESE!$F:$F,\">=1\")))","v":""},{"$f":"IF($Z$2=\"pok\",\"\",IF(A55=\"\",\"\",COUNTIFS(SYNTHESE!$D:$D,A55,SYNTHESE!$E:$E,$D$1,SYNTHESE!$F:$F,\">=1\")))","v":""},{"$f":"IF($Z$2=\"pok\",\"\",IF(A55=\"\",\"\",COUNTIFS(SYNTHESE!$D:$D,A55,SYNTHESE!$E:$E,$E$1,SYNTHESE!$F:$F,\">=1\")))","v":""},{"$f":"IF($Z$2=\"pok\",\"\",IF(A55=\"\",\"\",COUNTIFS(SYNTHESE!$D:$D,A55,SYNTHESE!$E:$E,$F$1,SYNTHESE!$F:$F,\">=1\")))","v":""},{"$f":"IF($Z$2=\"pok\",\"\",IF(A55=\"\",\"\",COUNTIFS(SYNTHESE!$D:$D,A55,SYNTHESE!$E:$E,$G$1,SYNTHESE!$F:$F,\">=1\")))","v":""},{"$f":"IF($Z$2=\"pok\",\"\",IF(A55=\"\",\"\",COUNTIFS(SYNTHESE!$D:$D,A55,SYNTHESE!$E:$E,$H$1,SYNTHESE!$F:$F,\">=1\")))","v":""},{"$f":"IF($Z$2=\"pok\",\"\",IF(A55=\"\",\"\",COUNTIFS(SYNTHESE!$D:$D,A55,SYNTHESE!$E:$E,$I$1,SYNTHESE!$F:$F,\">=1\")))","v":""},{"$f":"IF($Z$2=\"pok\",\"\",IF(A55=\"\",\"\",COUNTIFS(SYNTHESE!$D:$D,A55,SYNTHESE!$E:$E,$J$1,SYNTHESE!$F:$F,\">=1\")))","v":""},{"$f":"IF($Z$2=\"pok\",\"\",IF(A55=\"\",\"\",COUNTIFS(SYNTHESE!$D:$D,A55,SYNTHESE!$E:$E,$K$1,SYNTHESE!$F:$F,\">=1\")))","v":""},{"$f":"IF($Z$2=\"pok\",\"\",IF(A55=\"\",\"\",COUNTIFS(SYNTHESE!$D:$D,A55,SYNTHESE!$E:$E,$L$1,SYNTHESE!$F:$F,\">=1\")))","v":""},{"$f":"IF($Z$2=\"pok\",\"\",IF(A55=\"\",\"\",COUNTIFS(SYNTHESE!$D:$D,A55,SYNTHESE!$E:$E,$M$1,SYNTHESE!$F:$F,\">=1\")))","v":""},{"$f":"IF($Z$2=\"pok\",\"\",IF(A55=\"\",\"\",COUNTIFS(SYNTHESE!$D:$D,A55,SYNTHESE!$E:$E,$N$1,SYNTHESE!$F:$F,\">=1\")))","v":""},{"$f":"IF($Z$2=\"pok\",\"\",IF(A55=\"\",\"\",COUNTIFS(SYNTHESE!$D:$D,A55,SYNTHESE!$E:$E,$O$1,SYNTHESE!$F:$F,\">=1\")))","v":""},{"$f":"IF($Z$2=\"pok\",\"\",IF(A55=\"\",\"\",COUNTIFS(SYNTHESE!$D:$D,A55,SYNTHESE!$E:$E,$P$1,SYNTHESE!$F:$F,\">=1\")))","v":""},{"$f":"IF($Z$2=\"pok\",\"\",IF(A55=\"\",\"\",COUNTIFS(SYNTHESE!$D:$D,A55,SYNTHESE!$E:$E,$Q$1,SYNTHESE!$F:$F,\">=1\")))","v":""},{"$f":"IF($Z$2=\"pok\",\"\",IF(A55=\"\",\"\",COUNTIFS(SYNTHESE!$D:$D,A55,SYNTHESE!$E:$E,$R$1,SYNTHESE!$F:$F,\">=1\")))","v":""},{"$f":"IF($Z$2=\"pok\",\"\",IF(A55=\"\",\"\",COUNTIFS(SYNTHESE!$D:$D,A55,SYNTHESE!$E:$E,$S$1,SYNTHESE!$F:$F,\">=1\")))","v":""},{"$f":"IF($Z$2=\"pok\",\"\",IF(A55=\"\",\"\",COUNTIFS(SYNTHESE!$D:$D,A55,SYNTHESE!$E:$E,$T$1,SYNTHESE!$F:$F,\">=1\")))","v":""},{"$f":"IF($Z$2=\"pok\",\"\",IF(A55=\"\",\"\",COUNTIFS(SYNTHESE!$D:$D,A55,SYNTHESE!$E:$E,$U$1,SYNTHESE!$F:$F,\">=1\")))","v":""},{"$f":"IF($Z$2=\"pok\",\"\",IF(A55=\"\",\"\",COUNTIFS(SYNTHESE!$D:$D,A55,SYNTHESE!$E:$E,$V$1,SYNTHESE!$F:$F,\">=1\")))","v":""},{"$f":"IF($Z$2=\"pok\",\"\",IF(A55=\"\",\"\",COUNTIFS(SYNTHESE!$D:$D,A55,SYNTHESE!$E:$E,$W$1,SYNTHESE!$F:$F,\">=1\")))","v":""},{"$f":"IF($Z$2=\"pok\",\"\",IF(A55=\"\",\"\",COUNTIFS(SYNTHESE!$D:$D,A55,SYNTHESE!$E:$E,$X$1,SYNTHESE!$F:$F,\">=1\")))","v":""},{"$f":"IF($Z$2=\"pok\",\"\",IF(A55=\"\",\"\",COUNTIFS(SYNTHESE!$D:$D,A55,SYNTHESE!$E:$E,$Y$1,SYNTHESE!$F:$F,\">=1\")))","v":""},0]
[{"$f":"IF(ETUDIANTS!A56=\"\",\"\",ETUDIANTS!A56)","v":""},{"$f":"IF($Z$2=\"pok\",\"\",IF(A56=\"\",\"\",COUNTIFS(SYNTHESE!$D:$D,A56,SYNTHESE!$E:$E,$B$1,SYNTHESE!$F:$F,\">=1\")))","v":""},{"$f":"IF($Z$2=\"pok\",\"\",IF(A56=\"\",\"\",COUNTIFS(SYNTHESE!$D:$D,A56,SYNTHESE!$E:$E,$C$1,SYNTHESE!$F:$F,\">=1\")))","v":""},{"$f":"IF($Z$2=\"pok\",\"\",IF(A56=\"\",\"\",COUNTIFS(SYNTHESE!$D:$D,A56,SYNTHESE!$E:$E,$D$1,SYNTHESE!$F:$F,\">=1\")))","v":""},{"$f":"IF($Z$2=\"pok\",\"\",IF(A56=\"\",\"\",COUNTIFS(SYNTHESE!$D:$D,A56,SYNTHESE!$E:$E,$E$1,SYNTHESE!$F:$F,\">=1\")))","v":""},{"$f":"IF($Z$2=\"pok\",\"\",IF(A56=\"\",\"\",COUNTIFS(SYNTHESE!$D:$D,A56,SYNTHESE!$E:$E,$F$1,SYNTHESE!$F:$F,\">=1\")))","v":""},{"$f":"IF($Z$2=\"pok\",\"\",IF(A56=\"\",\"\",COUNTIFS(SYNTHESE!$D:$D,A56,SYNTHESE!$E:$E,$G$1,SYNTHESE!$F:$F,\">=1\")))","v":""},{"$f":"IF($Z$2=\"pok\",\"\",IF(A56=\"\",\"\",COUNTIFS(SYNTHESE!$D:$D,A56,SYNTHESE!$E:$E,$H$1,SYNTHESE!$F:$F,\">=1\")))","v":""},{"$f":"IF($Z$2=\"pok\",\"\",IF(A56=\"\",\"\",COUNTIFS(SYNTHESE!$D:$D,A56,SYNTHESE!$E:$E,$I$1,SYNTHESE!$F:$F,\">=1\")))","v":""},{"$f":"IF($Z$2=\"pok\",\"\",IF(A56=\"\",\"\",COUNTIFS(SYNTHESE!$D:$D,A56,SYNTHESE!$E:$E,$J$1,SYNTHESE!$F:$F,\">=1\")))","v":""},{"$f":"IF($Z$2=\"pok\",\"\",IF(A56=\"\",\"\",COUNTIFS(SYNTHESE!$D:$D,A56,SYNTHESE!$E:$E,$K$1,SYNTHESE!$F:$F,\">=1\")))","v":""},{"$f":"IF($Z$2=\"pok\",\"\",IF(A56=\"\",\"\",COUNTIFS(SYNTHESE!$D:$D,A56,SYNTHESE!$E:$E,$L$1,SYNTHESE!$F:$F,\">=1\")))","v":""},{"$f":"IF($Z$2=\"pok\",\"\",IF(A56=\"\",\"\",COUNTIFS(SYNTHESE!$D:$D,A56,SYNTHESE!$E:$E,$M$1,SYNTHESE!$F:$F,\">=1\")))","v":""},{"$f":"IF($Z$2=\"pok\",\"\",IF(A56=\"\",\"\",COUNTIFS(SYNTHESE!$D:$D,A56,SYNTHESE!$E:$E,$N$1,SYNTHESE!$F:$F,\">=1\")))","v":""},{"$f":"IF($Z$2=\"pok\",\"\",IF(A56=\"\",\"\",COUNTIFS(SYNTHESE!$D:$D,A56,SYNTHESE!$E:$E,$O$1,SYNTHESE!$F:$F,\">=1\")))","v":""},{"$f":"IF($Z$2=\"pok\",\"\",IF(A56=\"\",\"\",COUNTIFS(SYNTHESE!$D:$D,A56,SYNTHESE!$E:$E,$P$1,SYNTHESE!$F:$F,\">=1\")))","v":""},{"$f":"IF($Z$2=\"pok\",\"\",IF(A56=\"\",\"\",COUNTIFS(SYNTHESE!$D:$D,A56,SYNTHESE!$E:$E,$Q$1,SYNTHESE!$F:$F,\">=1\")))","v":""},{"$f":"IF($Z$2=\"pok\",\"\",IF(A56=\"\",\"\",COUNTIFS(SYNTHESE!$D:$D,A56,SYNTHESE!$E:$E,$R$1,SYNTHESE!$F:$F,\">=1\")))","v":""},{"$f":"IF($Z$2=\"pok\",\"\",IF(A56=\"\",\"\",COUNTIFS(SYNTHESE!$D:$D,A56,SYNTHESE!$E:$E,$S$1,SYNTHESE!$F:$F,\">=1\")))","v":""},{"$f":"IF($Z$2=\"pok\",\"\",IF(A56=\"\",\"\",COUNTIFS(SYNTHESE!$D:$D,A56,SYNTHESE!$E:$E,$T$1,SYNTHESE!$F:$F,\">=1\")))","v":""},{"$f":"IF($Z$2=\"pok\",\"\",IF(A56=\"\",\"\",COUNTIFS(SYNTHESE!$D:$D,A56,SYNTHESE!$E:$E,$U$1,SYNTHESE!$F:$F,\">=1\")))","v":""},{"$f":"IF($Z$2=\"pok\",\"\",IF(A56=\"\",\"\",COUNTIFS(SYNTHESE!$D:$D,A56,SYNTHESE!$E:$E,$V$1,SYNTHESE!$F:$F,\">=1\")))","v":""},{"$f":"IF($Z$2=\"pok\",\"\",IF(A56=\"\",\"\",COUNTIFS(SYNTHESE!$D:$D,A56,SYNTHESE!$E:$E,$W$1,SYNTHESE!$F:$F,\">=1\")))","v":""},{"$f":"IF($Z$2=\"pok\",\"\",IF(A56=\"\",\"\",COUNTIFS(SYNTHESE!$D:$D,A56,SYNTHESE!$E:$E,$X$1,SYNTHESE!$F:$F,\">=1\")))","v":""},{"$f":"IF($Z$2=\"pok\",\"\",IF(A56=\"\",\"\",COUNTIFS(SYNTHESE!$D:$D,A56,SYNTHESE!$E:$E,$Y$1,SYNTHESE!$F:$F,\">=1\")))","v":""},0]
[{"$f":"IF(ETUDIANTS!A57=\"\",\"\",ETUDIANTS!A57)","v":""},{"$f":"IF($Z$2=\"pok\",\"\",IF(A57=\"\",\"\",COUNTIFS(SYNTHESE!$D:$D,A57,SYNTHESE!$E:$E,$B$1,SYNTHESE!$F:$F,\">=1\")))","v":""},{"$f":"IF($Z$2=\"pok\",\"\",IF(A57=\"\",\"\",COUNTIFS(SYNTHESE!$D:$D,A57,SYNTHESE!$E:$E,$C$1,SYNTHESE!$F:$F,\">=1\")))","v":""},{"$f":"IF($Z$2=\"pok\",\"\",IF(A57=\"\",\"\",COUNTIFS(SYNTHESE!$D:$D,A57,SYNTHESE!$E:$E,$D$1,SYNTHESE!$F:$F,\">=1\")))","v":""},{"$f":"IF($Z$2=\"pok\",\"\",IF(A57=\"\",\"\",COUNTIFS(SYNTHESE!$D:$D,A57,SYNTHESE!$E:$E,$E$1,SYNTHESE!$F:$F,\">=1\")))","v":""},{"$f":"IF($Z$2=\"pok\",\"\",IF(A57=\"\",\"\",COUNTIFS(SYNTHESE!$D:$D,A57,SYNTHESE!$E:$E,$F$1,SYNTHESE!$F:$F,\">=1\")))","v":""},{"$f":"IF($Z$2=\"pok\",\"\",IF(A57=\"\",\"\",COUNTIFS(SYNTHESE!$D:$D,A57,SYNTHESE!$E:$E,$G$1,SYNTHESE!$F:$F,\">=1\")))","v":""},{"$f":"IF($Z$2=\"pok\",\"\",IF(A57=\"\",\"\",COUNTIFS(SYNTHESE!$D:$D,A57,SYNTHESE!$E:$E,$H$1,SYNTHESE!$F:$F,\">=1\")))","v":""},{"$f":"IF($Z$2=\"pok\",\"\",IF(A57=\"\",\"\",COUNTIFS(SYNTHESE!$D:$D,A57,SYNTHESE!$E:$E,$I$1,SYNTHESE!$F:$F,\">=1\")))","v":""},{"$f":"IF($Z$2=\"pok\",\"\",IF(A57=\"\",\"\",COUNTIFS(SYNTHESE!$D:$D,A57,SYNTHESE!$E:$E,$J$1,SYNTHESE!$F:$F,\">=1\")))","v":""},{"$f":"IF($Z$2=\"pok\",\"\",IF(A57=\"\",\"\",COUNTIFS(SYNTHESE!$D:$D,A57,SYNTHESE!$E:$E,$K$1,SYNTHESE!$F:$F,\">=1\")))","v":""},{"$f":"IF($Z$2=\"pok\",\"\",IF(A57=\"\",\"\",COUNTIFS(SYNTHESE!$D:$D,A57,SYNTHESE!$E:$E,$L$1,SYNTHESE!$F:$F,\">=1\")))","v":""},{"$f":"IF($Z$2=\"pok\",\"\",IF(A57=\"\",\"\",COUNTIFS(SYNTHESE!$D:$D,A57,SYNTHESE!$E:$E,$M$1,SYNTHESE!$F:$F,\">=1\")))","v":""},{"$f":"IF($Z$2=\"pok\",\"\",IF(A57=\"\",\"\",COUNTIFS(SYNTHESE!$D:$D,A57,SYNTHESE!$E:$E,$N$1,SYNTHESE!$F:$F,\">=1\")))","v":""},{"$f":"IF($Z$2=\"pok\",\"\",IF(A57=\"\",\"\",COUNTIFS(SYNTHESE!$D:$D,A57,SYNTHESE!$E:$E,$O$1,SYNTHESE!$F:$F,\">=1\")))","v":""},{"$f":"IF($Z$2=\"pok\",\"\",IF(A57=\"\",\"\",COUNTIFS(SYNTHESE!$D:$D,A57,SYNTHESE!$E:$E,$P$1,SYNTHESE!$F:$F,\">=1\")))","v":""},{"$f":"IF($Z$2=\"pok\",\"\",IF(A57=\"\",\"\",COUNTIFS(SYNTHESE!$D:$D,A57,SYNTHESE!$E:$E,$Q$1,SYNTHESE!$F:$F,\">=1\")))","v":""},{"$f":"IF($Z$2=\"pok\",\"\",IF(A57=\"\",\"\",COUNTIFS(SYNTHESE!$D:$D,A57,SYNTHESE!$E:$E,$R$1,SYNTHESE!$F:$F,\">=1\")))","v":""},{"$f":"IF($Z$2=\"pok\",\"\",IF(A57=\"\",\"\",COUNTIFS(SYNTHESE!$D:$D,A57,SYNTHESE!$E:$E,$S$1,SYNTHESE!$F:$F,\">=1\")))","v":""},{"$f":"IF($Z$2=\"pok\",\"\",IF(A57=\"\",\"\",COUNTIFS(SYNTHESE!$D:$D,A57,SYNTHESE!$E:$E,$T$1,SYNTHESE!$F:$F,\">=1\")))","v":""},{"$f":"IF($Z$2=\"pok\",\"\",IF(A57=\"\",\"\",COUNTIFS(SYNTHESE!$D:$D,A57,SYNTHESE!$E:$E,$U$1,SYNTHESE!$F:$F,\">=1\")))","v":""},{"$f":"IF($Z$2=\"pok\",\"\",IF(A57=\"\",\"\",COUNTIFS(SYNTHESE!$D:$D,A57,SYNTHESE!$E:$E,$V$1,SYNTHESE!$F:$F,\">=1\")))","v":""},{"$f":"IF($Z$2=\"pok\",\"\",IF(A57=\"\",\"\",COUNTIFS(SYNTHESE!$D:$D,A57,SYNTHESE!$E:$E,$W$1,SYNTHESE!$F:$F,\">=1\")))","v":""},{"$f":"IF($Z$2=\"pok\",\"\",IF(A57=\"\",\"\",COUNTIFS(SYNTHESE!$D:$D,A57,SYNTHESE!$E:$E,$X$1,SYNTHESE!$F:$F,\">=1\")))","v":""},{"$f":"IF($Z$2=\"pok\",\"\",IF(A57=\"\",\"\",COUNTIFS(SYNTHESE!$D:$D,A57,SYNTHESE!$E:$E,$Y$1,SYNTHESE!$F:$F,\">=1\")))","v":""},0]
[{"$f":"IF(ETUDIANTS!A58=\"\",\"\",ETUDIANTS!A58)","v":""},{"$f":"IF($Z$2=\"pok\",\"\",IF(A58=\"\",\"\",COUNTIFS(SYNTHESE!$D:$D,A58,SYNTHESE!$E:$E,$B$1,SYNTHESE!$F:$F,\">=1\")))","v":""},{"$f":"IF($Z$2=\"pok\",\"\",IF(A58=\"\",\"\",COUNTIFS(SYNTHESE!$D:$D,A58,SYNTHESE!$E:$E,$C$1,SYNTHESE!$F:$F,\">=1\")))","v":""},{"$f":"IF($Z$2=\"pok\",\"\",IF(A58=\"\",\"\",COUNTIFS(SYNTHESE!$D:$D,A58,SYNTHESE!$E:$E,$D$1,SYNTHESE!$F:$F,\">=1\")))","v":""},{"$f":"IF($Z$2=\"pok\",\"\",IF(A58=\"\",\"\",COUNTIFS(SYNTHESE!$D:$D,A58,SYNTHESE!$E:$E,$E$1,SYNTHESE!$F:$F,\">=1\")))","v":""},{"$f":"IF($Z$2=\"pok\",\"\",IF(A58=\"\",\"\",COUNTIFS(SYNTHESE!$D:$D,A58,SYNTHESE!$E:$E,$F$1,SYNTHESE!$F:$F,\">=1\")))","v":""},{"$f":"IF($Z$2=\"pok\",\"\",IF(A58=\"\",\"\",COUNTIFS(SYNTHESE!$D:$D,A58,SYNTHESE!$E:$E,$G$1,SYNTHESE!$F:$F,\">=1\")))","v":""},{"$f":"IF($Z$2=\"pok\",\"\",IF(A58=\"\",\"\",COUNTIFS(SYNTHESE!$D:$D,A58,SYNTHESE!$E:$E,$H$1,SYNTHESE!$F:$F,\">=1\")))","v":""},{"$f":"IF($Z$2=\"pok\",\"\",IF(A58=\"\",\"\",COUNTIFS(SYNTHESE!$D:$D,A58,SYNTHESE!$E:$E,$I$1,SYNTHESE!$F:$F,\">=1\")))","v":""},{"$f":"IF($Z$2=\"pok\",\"\",IF(A58=\"\",\"\",COUNTIFS(SYNTHESE!$D:$D,A58,SYNTHESE!$E:$E,$J$1,SYNTHESE!$F:$F,\">=1\")))","v":""},{"$f":"IF($Z$2=\"pok\",\"\",IF(A58=\"\",\"\",COUNTIFS(SYNTHESE!$D:$D,A58,SYNTHESE!$E:$E,$K$1,SYNTHESE!$F:$F,\">=1\")))","v":""},{"$f":"IF($Z$2=\"pok\",\"\",IF(A58=\"\",\"\",COUNTIFS(SYNTHESE!$D:$D,A58,SYNTHESE!$E:$E,$L$1,SYNTHESE!$F:$F,\">=1\")))","v":""},{"$f":"IF($Z$2=\"pok\",\"\",IF(A58=\"\",\"\",COUNTIFS(SYNTHESE!$D:$D,A58,SYNTHESE!$E:$E,$M$1,SYNTHESE!$F:$F,\">=1\")))","v":""},{"$f":"IF($Z$2=\"pok\",\"\",IF(A58=\"\",\"\",COUNTIFS(SYNTHESE!$D:$D,A58,SYNTHESE!$E:$E,$N$1,SYNTHESE!$F:$F,\">=1\")))","v":""},{"$f":"IF($Z$2=\"pok\",\"\",IF(A58=\"\",\"\",COUNTIFS(SYNTHESE!$D:$D,A58,SYNTHESE!$E:$E,$O$1,SYNTHESE!$F:$F,\">=1\")))","v":""},{"$f":"IF($Z$2=\"pok\",\"\",IF(A58=\"\",\"\",COUNTIFS(SYNTHESE!$D:$D,A58,SYNTHESE!$E:$E,$P$1,SYNTHESE!$F:$F,\">=1\")))","v":""},{"$f":"IF($Z$2=\"pok\",\"\",IF(A58=\"\",\"\",COUNTIFS(SYNTHESE!$D:$D,A58,SYNTHESE!$E:$E,$Q$1,SYNTHESE!$F:$F,\">=1\")))","v":""},{"$f":"IF($Z$2=\"pok\",\"\",IF(A58=\"\",\"\",COUNTIFS(SYNTHESE!$D:$D,A58,SYNTHESE!$E:$E,$R$1,SYNTHESE!$F:$F,\">=1\")))","v":""},{"$f":"IF($Z$2=\"pok\",\"\",IF(A58=\"\",\"\",COUNTIFS(SYNTHESE!$D:$D,A58,SYNTHESE!$E:$E,$S$1,SYNTHESE!$F:$F,\">=1\")))","v":""},{"$f":"IF($Z$2=\"pok\",\"\",IF(A58=\"\",\"\",COUNTIFS(SYNTHESE!$D:$D,A58,SYNTHESE!$E:$E,$T$1,SYNTHESE!$F:$F,\">=1\")))","v":""},{"$f":"IF($Z$2=\"pok\",\"\",IF(A58=\"\",\"\",COUNTIFS(SYNTHESE!$D:$D,A58,SYNTHESE!$E:$E,$U$1,SYNTHESE!$F:$F,\">=1\")))","v":""},{"$f":"IF($Z$2=\"pok\",\"\",IF(A58=\"\",\"\",COUNTIFS(SYNTHESE!$D:$D,A58,SYNTHESE!$E:$E,$V$1,SYNTHESE!$F:$F,\">=1\")))","v":""},{"$f":"IF($Z$2=\"pok\",\"\",IF(A58=\"\",\"\",COUNTIFS(SYNTHESE!$D:$D,A58,SYNTHESE!$E:$E,$W$1,SYNTHESE!$F:$F,\">=1\")))","v":""},{"$f":"IF($Z$2=\"pok\",\"\",IF(A58=\"\",\"\",COUNTIFS(SYNTHESE!$D:$D,A58,SYNTHESE!$E:$E,$X$1,SYNTHESE!$F:$F,\">=1\")))","v":""},{"$f":"IF($Z$2=\"pok\",\"\",IF(A58=\"\",\"\",COUNTIFS(SYNTHESE!$D:$D,A58,SYNTHESE!$E:$E,$Y$1,SYNTHESE!$F:$F,\">=1\")))","v":""},0]
[{"$f":"IF(ETUDIANTS!A59=\"\",\"\",ETUDIANTS!A59)","v":""},{"$f":"IF($Z$2=\"pok\",\"\",IF(A59=\"\",\"\",COUNTIFS(SYNTHESE!$D:$D,A59,SYNTHESE!$E:$E,$B$1,SYNTHESE!$F:$F,\">=1\")))","v":""},{"$f":"IF($Z$2=\"pok\",\"\",IF(A59=\"\",\"\",COUNTIFS(SYNTHESE!$D:$D,A59,SYNTHESE!$E:$E,$C$1,SYNTHESE!$F:$F,\">=1\")))","v":""},{"$f":"IF($Z$2=\"pok\",\"\",IF(A59=\"\",\"\",COUNTIFS(SYNTHESE!$D:$D,A59,SYNTHESE!$E:$E,$D$1,SYNTHESE!$F:$F,\">=1\")))","v":""},{"$f":"IF($Z$2=\"pok\",\"\",IF(A59=\"\",\"\",COUNTIFS(SYNTHESE!$D:$D,A59,SYNTHESE!$E:$E,$E$1,SYNTHESE!$F:$F,\">=1\")))","v":""},{"$f":"IF($Z$2=\"pok\",\"\",IF(A59=\"\",\"\",COUNTIFS(SYNTHESE!$D:$D,A59,SYNTHESE!$E:$E,$F$1,SYNTHESE!$F:$F,\">=1\")))","v":""},{"$f":"IF($Z$2=\"pok\",\"\",IF(A59=\"\",\"\",COUNTIFS(SYNTHESE!$D:$D,A59,SYNTHESE!$E:$E,$G$1,SYNTHESE!$F:$F,\">=1\")))","v":""},{"$f":"IF($Z$2=\"pok\",\"\",IF(A59=\"\",\"\",COUNTIFS(SYNTHESE!$D:$D,A59,SYNTHESE!$E:$E,$H$1,SYNTHESE!$F:$F,\">=1\")))","v":""},{"$f":"IF($Z$2=\"pok\",\"\",IF(A59=\"\",\"\",COUNTIFS(SYNTHESE!$D:$D,A59,SYNTHESE!$E:$E,$I$1,SYNTHESE!$F:$F,\">=1\")))","v":""},{"$f":"IF($Z$2=\"pok\",\"\",IF(A59=\"\",\"\",COUNTIFS(SYNTHESE!$D:$D,A59,SYNTHESE!$E:$E,$J$1,SYNTHESE!$F:$F,\">=1\")))","v":""},{"$f":"IF($Z$2=\"pok\",\"\",IF(A59=\"\",\"\",COUNTIFS(SYNTHESE!$D:$D,A59,SYNTHESE!$E:$E,$K$1,SYNTHESE!$F:$F,\">=1\")))","v":""},{"$f":"IF($Z$2=\"pok\",\"\",IF(A59=\"\",\"\",COUNTIFS(SYNTHESE!$D:$D,A59,SYNTHESE!$E:$E,$L$1,SYNTHESE!$F:$F,\">=1\")))","v":""},{"$f":"IF($Z$2=\"pok\",\"\",IF(A59=\"\",\"\",COUNTIFS(SYNTHESE!$D:$D,A59,SYNTHESE!$E:$E,$M$1,SYNTHESE!$F:$F,\">=1\")))","v":""},{"$f":"IF($Z$2=\"pok\",\"\",IF(A59=\"\",\"\",COUNTIFS(SYNTHESE!$D:$D,A59,SYNTHESE!$E:$E,$N$1,SYNTHESE!$F:$F,\">=1\")))","v":""},{"$f":"IF($Z$2=\"pok\",\"\",IF(A59=\"\",\"\",COUNTIFS(SYNTHESE!$D:$D,A59,SYNTHESE!$E:$E,$O$1,SYNTHESE!$F:$F,\">=1\")))","v":""},{"$f":"IF($Z$2=\"pok\",\"\",IF(A59=\"\",\"\",COUNTIFS(SYNTHESE!$D:$D,A59,SYNTHESE!$E:$E,$P$1,SYNTHESE!$F:$F,\">=1\")))","v":""},{"$f":"IF($Z$2=\"pok\",\"\",IF(A59=\"\",\"\",COUNTIFS(SYNTHESE!$D:$D,A59,SYNTHESE!$E:$E,$Q$1,SYNTHESE!$F:$F,\">=1\")))","v":""},{"$f":"IF($Z$2=\"pok\",\"\",IF(A59=\"\",\"\",COUNTIFS(SYNTHESE!$D:$D,A59,SYNTHESE!$E:$E,$R$1,SYNTHESE!$F:$F,\">=1\")))","v":""},{"$f":"IF($Z$2=\"pok\",\"\",IF(A59=\"\",\"\",COUNTIFS(SYNTHESE!$D:$D,A59,SYNTHESE!$E:$E,$S$1,SYNTHESE!$F:$F,\">=1\")))","v":""},{"$f":"IF($Z$2=\"pok\",\"\",IF(A59=\"\",\"\",COUNTIFS(SYNTHESE!$D:$D,A59,SYNTHESE!$E:$E,$T$1,SYNTHESE!$F:$F,\">=1\")))","v":""},{"$f":"IF($Z$2=\"pok\",\"\",IF(A59=\"\",\"\",COUNTIFS(SYNTHESE!$D:$D,A59,SYNTHESE!$E:$E,$U$1,SYNTHESE!$F:$F,\">=1\")))","v":""},{"$f":"IF($Z$2=\"pok\",\"\",IF(A59=\"\",\"\",COUNTIFS(SYNTHESE!$D:$D,A59,SYNTHESE!$E:$E,$V$1,SYNTHESE!$F:$F,\">=1\")))","v":""},{"$f":"IF($Z$2=\"pok\",\"\",IF(A59=\"\",\"\",COUNTIFS(SYNTHESE!$D:$D,A59,SYNTHESE!$E:$E,$W$1,SYNTHESE!$F:$F,\">=1\")))","v":""},{"$f":"IF($Z$2=\"pok\",\"\",IF(A59=\"\",\"\",COUNTIFS(SYNTHESE!$D:$D,A59,SYNTHESE!$E:$E,$X$1,SYNTHESE!$F:$F,\">=1\")))","v":""},{"$f":"IF($Z$2=\"pok\",\"\",IF(A59=\"\",\"\",COUNTIFS(SYNTHESE!$D:$D,A59,SYNTHESE!$E:$E,$Y$1,SYNTHESE!$F:$F,\">=1\")))","v":""},0]
[{"$f":"IF(ETUDIANTS!A60=\"\",\"\",ETUDIANTS!A60)","v":""},{"$f":"IF($Z$2=\"pok\",\"\",IF(A60=\"\",\"\",COUNTIFS(SYNTHESE!$D:$D,A60,SYNTHESE!$E:$E,$B$1,SYNTHESE!$F:$F,\">=1\")))","v":""},{"$f":"IF($Z$2=\"pok\",\"\",IF(A60=\"\",\"\",COUNTIFS(SYNTHESE!$D:$D,A60,SYNTHESE!$E:$E,$C$1,SYNTHESE!$F:$F,\">=1\")))","v":""},{"$f":"IF($Z$2=\"pok\",\"\",IF(A60=\"\",\"\",COUNTIFS(SYNTHESE!$D:$D,A60,SYNTHESE!$E:$E,$D$1,SYNTHESE!$F:$F,\">=1\")))","v":""},{"$f":"IF($Z$2=\"pok\",\"\",IF(A60=\"\",\"\",COUNTIFS(SYNTHESE!$D:$D,A60,SYNTHESE!$E:$E,$E$1,SYNTHESE!$F:$F,\">=1\")))","v":""},{"$f":"IF($Z$2=\"pok\",\"\",IF(A60=\"\",\"\",COUNTIFS(SYNTHESE!$D:$D,A60,SYNTHESE!$E:$E,$F$1,SYNTHESE!$F:$F,\">=1\")))","v":""},{"$f":"IF($Z$2=\"pok\",\"\",IF(A60=\"\",\"\",COUNTIFS(SYNTHESE!$D:$D,A60,SYNTHESE!$E:$E,$G$1,SYNTHESE!$F:$F,\">=1\")))","v":""},{"$f":"IF($Z$2=\"pok\",\"\",IF(A60=\"\",\"\",COUNTIFS(SYNTHESE!$D:$D,A60,SYNTHESE!$E:$E,$H$1,SYNTHESE!$F:$F,\">=1\")))","v":""},{"$f":"IF($Z$2=\"pok\",\"\",IF(A60=\"\",\"\",COUNTIFS(SYNTHESE!$D:$D,A60,SYNTHESE!$E:$E,$I$1,SYNTHESE!$F:$F,\">=1\")))","v":""},{"$f":"IF($Z$2=\"pok\",\"\",IF(A60=\"\",\"\",COUNTIFS(SYNTHESE!$D:$D,A60,SYNTHESE!$E:$E,$J$1,SYNTHESE!$F:$F,\">=1\")))","v":""},{"$f":"IF($Z$2=\"pok\",\"\",IF(A60=\"\",\"\",COUNTIFS(SYNTHESE!$D:$D,A60,SYNTHESE!$E:$E,$K$1,SYNTHESE!$F:$F,\">=1\")))","v":""},{"$f":"IF($Z$2=\"pok\",\"\",IF(A60=\"\",\"\",COUNTIFS(SYNTHESE!$D:$D,A60,SYNTHESE!$E:$E,$L$1,SYNTHESE!$F:$F,\">=1\")))","v":""},{"$f":"IF($Z$2=\"pok\",\"\",IF(A60=\"\",\"\",COUNTIFS(SYNTHESE!$D:$D,A60,SYNTHESE!$E:$E,$M$1,SYNTHESE!$F:$F,\">=1\")))","v":""},{"$f":"IF($Z$2=\"pok\",\"\",IF(A60=\"\",\"\",COUNTIFS(SYNTHESE!$D:$D,A60,SYNTHESE!$E:$E,$N$1,SYNTHESE!$F:$F,\">=1\")))","v":""},{"$f":"IF($Z$2=\"pok\",\"\",IF(A60=\"\",\"\",COUNTIFS(SYNTHESE!$D:$D,A60,SYNTHESE!$E:$E,$O$1,SYNTHESE!$F:$F,\">=1\")))","v":""},{"$f":"IF($Z$2=\"pok\",\"\",IF(A60=\"\",\"\",COUNTIFS(SYNTHESE!$D:$D,A60,SYNTHESE!$E:$E,$P$1,SYNTHESE!$F:$F,\">=1\")))","v":""},{"$f":"IF($Z$2=\"pok\",\"\",IF(A60=\"\",\"\",COUNTIFS(SYNTHESE!$D:$D,A60,SYNTHESE!$E:$E,$Q$1,SYNTHESE!$F:$F,\">=1\")))","v":""},{"$f":"IF($Z$2=\"pok\",\"\",IF(A60=\"\",\"\",COUNTIFS(SYNTHESE!$D:$D,A60,SYNTHESE!$E:$E,$R$1,SYNTHESE!$F:$F,\">=1\")))","v":""},{"$f":"IF($Z$2=\"pok\",\"\",IF(A60=\"\",\"\",COUNTIFS(SYNTHESE!$D:$D,A60,SYNTHESE!$E:$E,$S$1,SYNTHESE!$F:$F,\">=1\")))","v":""},{"$f":"IF($Z$2=\"pok\",\"\",IF(A60=\"\",\"\",COUNTIFS(SYNTHESE!$D:$D,A60,SYNTHESE!$E:$E,$T$1,SYNTHESE!$F:$F,\">=1\")))","v":""},{"$f":"IF($Z$2=\"pok\",\"\",IF(A60=\"\",\"\",COUNTIFS(SYNTHESE!$D:$D,A60,SYNTHESE!$E:$E,$U$1,SYNTHESE!$F:$F,\">=1\")))","v":""},{"$f":"IF($Z$2=\"pok\",\"\",IF(A60=\"\",\"\",COUNTIFS(SYNTHESE!$D:$D,A60,SYNTHESE!$E:$E,$V$1,SYNTHESE!$F:$F,\">=1\")))","v":""},{"$f":"IF($Z$2=\"pok\",\"\",IF(A60=\"\",\"\",COUNTIFS(SYNTHESE!$D:$D,A60,SYNTHESE!$E:$E,$W$1,SYNTHESE!$F:$F,\">=1\")))","v":""},{"$f":"IF($Z$2=\"pok\",\"\",IF(A60=\"\",\"\",COUNTIFS(SYNTHESE!$D:$D,A60,SYNTHESE!$E:$E,$X$1,SYNTHESE!$F:$F,\">=1\")))","v":""},{"$f":"IF($Z$2=\"pok\",\"\",IF(A60=\"\",\"\",COUNTIFS(SYNTHESE!$D:$D,A60,SYNTHESE!$E:$E,$Y$1,SYNTHESE!$F:$F,\">=1\")))","v":""},0]
[{"$f":"IF(ETUDIANTS!A61=\"\",\"\",ETUDIANTS!A61)","v":""},{"$f":"IF($Z$2=\"pok\",\"\",IF(A61=\"\",\"\",COUNTIFS(SYNTHESE!$D:$D,A61,SYNTHESE!$E:$E,$B$1,SYNTHESE!$F:$F,\">=1\")))","v":""},{"$f":"IF($Z$2=\"pok\",\"\",IF(A61=\"\",\"\",COUNTIFS(SYNTHESE!$D:$D,A61,SYNTHESE!$E:$E,$C$1,SYNTHESE!$F:$F,\">=1\")))","v":""},{"$f":"IF($Z$2=\"pok\",\"\",IF(A61=\"\",\"\",COUNTIFS(SYNTHESE!$D:$D,A61,SYNTHESE!$E:$E,$D$1,SYNTHESE!$F:$F,\">=1\")))","v":""},{"$f":"IF($Z$2=\"pok\",\"\",IF(A61=\"\",\"\",COUNTIFS(SYNTHESE!$D:$D,A61,SYNTHESE!$E:$E,$E$1,SYNTHESE!$F:$F,\">=1\")))","v":""},{"$f":"IF($Z$2=\"pok\",\"\",IF(A61=\"\",\"\",COUNTIFS(SYNTHESE!$D:$D,A61,SYNTHESE!$E:$E,$F$1,SYNTHESE!$F:$F,\">=1\")))","v":""},{"$f":"IF($Z$2=\"pok\",\"\",IF(A61=\"\",\"\",COUNTIFS(SYNTHESE!$D:$D,A61,SYNTHESE!$E:$E,$G$1,SYNTHESE!$F:$F,\">=1\")))","v":""},{"$f":"IF($Z$2=\"pok\",\"\",IF(A61=\"\",\"\",COUNTIFS(SYNTHESE!$D:$D,A61,SYNTHESE!$E:$E,$H$1,SYNTHESE!$F:$F,\">=1\")))","v":""},{"$f":"IF($Z$2=\"pok\",\"\",IF(A61=\"\",\"\",COUNTIFS(SYNTHESE!$D:$D,A61,SYNTHESE!$E:$E,$I$1,SYNTHESE!$F:$F,\">=1\")))","v":""},{"$f":"IF($Z$2=\"pok\",\"\",IF(A61=\"\",\"\",COUNTIFS(SYNTHESE!$D:$D,A61,SYNTHESE!$E:$E,$J$1,SYNTHESE!$F:$F,\">=1\")))","v":""},{"$f":"IF($Z$2=\"pok\",\"\",IF(A61=\"\",\"\",COUNTIFS(SYNTHESE!$D:$D,A61,SYNTHESE!$E:$E,$K$1,SYNTHESE!$F:$F,\">=1\")))","v":""},{"$f":"IF($Z$2=\"pok\",\"\",IF(A61=\"\",\"\",COUNTIFS(SYNTHESE!$D:$D,A61,SYNTHESE!$E:$E,$L$1,SYNTHESE!$F:$F,\">=1\")))","v":""},{"$f":"IF($Z$2=\"pok\",\"\",IF(A61=\"\",\"\",COUNTIFS(SYNTHESE!$D:$D,A61,SYNTHESE!$E:$E,$M$1,SYNTHESE!$F:$F,\">=1\")))","v":""},{"$f":"IF($Z$2=\"pok\",\"\",IF(A61=\"\",\"\",COUNTIFS(SYNTHESE!$D:$D,A61,SYNTHESE!$E:$E,$N$1,SYNTHESE!$F:$F,\">=1\")))","v":""},{"$f":"IF($Z$2=\"pok\",\"\",IF(A61=\"\",\"\",COUNTIFS(SYNTHESE!$D:$D,A61,SYNTHESE!$E:$E,$O$1,SYNTHESE!$F:$F,\">=1\")))","v":""},{"$f":"IF($Z$2=\"pok\",\"\",IF(A61=\"\",\"\",COUNTIFS(SYNTHESE!$D:$D,A61,SYNTHESE!$E:$E,$P$1,SYNTHESE!$F:$F,\">=1\")))","v":""},{"$f":"IF($Z$2=\"pok\",\"\",IF(A61=\"\",\"\",COUNTIFS(SYNTHESE!$D:$D,A61,SYNTHESE!$E:$E,$Q$1,SYNTHESE!$F:$F,\">=1\")))","v":""},{"$f":"IF($Z$2=\"pok\",\"\",IF(A61=\"\",\"\",COUNTIFS(SYNTHESE!$D:$D,A61,SYNTHESE!$E:$E,$R$1,SYNTHESE!$F:$F,\">=1\")))","v":""},{"$f":"IF($Z$2=\"pok\",\"\",IF(A61=\"\",\"\",COUNTIFS(SYNTHESE!$D:$D,A61,SYNTHESE!$E:$E,$S$1,SYNTHESE!$F:$F,\">=1\")))","v":""},{"$f":"IF($Z$2=\"pok\",\"\",IF(A61=\"\",\"\",COUNTIFS(SYNTHESE!$D:$D,A61,SYNTHESE!$E:$E,$T$1,SYNTHESE!$F:$F,\">=1\")))","v":""},{"$f":"IF($Z$2=\"pok\",\"\",IF(A61=\"\",\"\",COUNTIFS(SYNTHESE!$D:$D,A61,SYNTHESE!$E:$E,$U$1,SYNTHESE!$F:$F,\">=1\")))","v":""},{"$f":"IF($Z$2=\"pok\",\"\",IF(A61=\"\",\"\",COUNTIFS(SYNTHESE!$D:$D,A61,SYNTHESE!$E:$E,$V$1,SYNTHESE!$F:$F,\">=1\")))","v":""},{"$f":"IF($Z$2=\"pok\",\"\",IF(A61=\"\",\"\",COUNTIFS(SYNTHESE!$D:$D,A61,SYNTHESE!$E:$E,$W$1,SYNTHESE!$F:$F,\">=1\")))","v":""},{"$f":"IF($Z$2=\"pok\",\"\",IF(A61=\"\",\"\",COUNTIFS(SYNTHESE!$D:$D,A61,SYNTHESE!$E:$E,$X$1,SYNTHESE!$F:$F,\">=1\")))","v":""},{"$f":"IF($Z$2=\"pok\",\"\",IF(A61=\"\",\"\",COUNTIFS(SYNTHESE!$D:$D,A61,SYNTHESE!$E:$E,$Y$1,SYNTHESE!$F:$F,\">=1\")))","v":""},0]
[{"$f":"IF(ETUDIANTS!A62=\"\",\"\",ETUDIANTS!A62)","v":""},{"$f":"IF($Z$2=\"pok\",\"\",IF(A62=\"\",\"\",COUNTIFS(SYNTHESE!$D:$D,A62,SYNTHESE!$E:$E,$B$1,SYNTHESE!$F:$F,\">=1\")))","v":""},{"$f":"IF($Z$2=\"pok\",\"\",IF(A62=\"\",\"\",COUNTIFS(SYNTHESE!$D:$D,A62,SYNTHESE!$E:$E,$C$1,SYNTHESE!$F:$F,\">=1\")))","v":""},{"$f":"IF($Z$2=\"pok\",\"\",IF(A62=\"\",\"\",COUNTIFS(SYNTHESE!$D:$D,A62,SYNTHESE!$E:$E,$D$1,SYNTHESE!$F:$F,\">=1\")))","v":""},{"$f":"IF($Z$2=\"pok\",\"\",IF(A62=\"\",\"\",COUNTIFS(SYNTHESE!$D:$D,A62,SYNTHESE!$E:$E,$E$1,SYNTHESE!$F:$F,\">=1\")))","v":""},{"$f":"IF($Z$2=\"pok\",\"\",IF(A62=\"\",\"\",COUNTIFS(SYNTHESE!$D:$D,A62,SYNTHESE!$E:$E,$F$1,SYNTHESE!$F:$F,\">=1\")))","v":""},{"$f":"IF($Z$2=\"pok\",\"\",IF(A62=\"\",\"\",COUNTIFS(SYNTHESE!$D:$D,A62,SYNTHESE!$E:$E,$G$1,SYNTHESE!$F:$F,\">=1\")))","v":""},{"$f":"IF($Z$2=\"pok\",\"\",IF(A62=\"\",\"\",COUNTIFS(SYNTHESE!$D:$D,A62,SYNTHESE!$E:$E,$H$1,SYNTHESE!$F:$F,\">=1\")))","v":""},{"$f":"IF($Z$2=\"pok\",\"\",IF(A62=\"\",\"\",COUNTIFS(SYNTHESE!$D:$D,A62,SYNTHESE!$E:$E,$I$1,SYNTHESE!$F:$F,\">=1\")))","v":""},{"$f":"IF($Z$2=\"pok\",\"\",IF(A62=\"\",\"\",COUNTIFS(SYNTHESE!$D:$D,A62,SYNTHESE!$E:$E,$J$1,SYNTHESE!$F:$F,\">=1\")))","v":""},{"$f":"IF($Z$2=\"pok\",\"\",IF(A62=\"\",\"\",COUNTIFS(SYNTHESE!$D:$D,A62,SYNTHESE!$E:$E,$K$1,SYNTHESE!$F:$F,\">=1\")))","v":""},{"$f":"IF($Z$2=\"pok\",\"\",IF(A62=\"\",\"\",COUNTIFS(SYNTHESE!$D:$D,A62,SYNTHESE!$E:$E,$L$1,SYNTHESE!$F:$F,\">=1\")))","v":""},{"$f":"IF($Z$2=\"pok\",\"\",IF(A62=\"\",\"\",COUNTIFS(SYNTHESE!$D:$D,A62,SYNTHESE!$E:$E,$M$1,SYNTHESE!$F:$F,\">=1\")))","v":""},{"$f":"IF($Z$2=\"pok\",\"\",IF(A62=\"\",\"\",COUNTIFS(SYNTHESE!$D:$D,A62,SYNTHESE!$E:$E,$N$1,SYNTHESE!$F:$F,\">=1\")))","v":""},{"$f":"IF($Z$2=\"pok\",\"\",IF(A62=\"\",\"\",COUNTIFS(SYNTHESE!$D:$D,A62,SYNTHESE!$E:$E,$O$1,SYNTHESE!$F:$F,\">=1\")))","v":""},{"$f":"IF($Z$2=\"pok\",\"\",IF(A62=\"\",\"\",COUNTIFS(SYNTHESE!$D:$D,A62,SYNTHESE!$E:$E,$P$1,SYNTHESE!$F:$F,\">=1\")))","v":""},{"$f":"IF($Z$2=\"pok\",\"\",IF(A62=\"\",\"\",COUNTIFS(SYNTHESE!$D:$D,A62,SYNTHESE!$E:$E,$Q$1,SYNTHESE!$F:$F,\">=1\")))","v":""},{"$f":"IF($Z$2=\"pok\",\"\",IF(A62=\"\",\"\",COUNTIFS(SYNTHESE!$D:$D,A62,SYNTHESE!$E:$E,$R$1,SYNTHESE!$F:$F,\">=1\")))","v":""},{"$f":"IF($Z$2=\"pok\",\"\",IF(A62=\"\",\"\",COUNTIFS(SYNTHESE!$D:$D,A62,SYNTHESE!$E:$E,$S$1,SYNTHESE!$F:$F,\">=1\")))","v":""},{"$f":"IF($Z$2=\"pok\",\"\",IF(A62=\"\",\"\",COUNTIFS(SYNTHESE!$D:$D,A62,SYNTHESE!$E:$E,$T$1,SYNTHESE!$F:$F,\">=1\")))","v":""},{"$f":"IF($Z$2=\"pok\",\"\",IF(A62=\"\",\"\",COUNTIFS(SYNTHESE!$D:$D,A62,SYNTHESE!$E:$E,$U$1,SYNTHESE!$F:$F,\">=1\")))","v":""},{"$f":"IF($Z$2=\"pok\",\"\",IF(A62=\"\",\"\",COUNTIFS(SYNTHESE!$D:$D,A62,SYNTHESE!$E:$E,$V$1,SYNTHESE!$F:$F,\">=1\")))","v":""},{"$f":"IF($Z$2=\"pok\",\"\",IF(A62=\"\",\"\",COUNTIFS(SYNTHESE!$D:$D,A62,SYNTHESE!$E:$E,$W$1,SYNTHESE!$F:$F,\">=1\")))","v":""},{"$f":"IF($Z$2=\"pok\",\"\",IF(A62=\"\",\"\",COUNTIFS(SYNTHESE!$D:$D,A62,SYNTHESE!$E:$E,$X$1,SYNTHESE!$F:$F,\">=1\")))","v":""},{"$f":"IF($Z$2=\"pok\",\"\",IF(A62=\"\",\"\",COUNTIFS(SYNTHESE!$D:$D,A62,SYNTHESE!$E:$E,$Y$1,SYNTHESE!$F:$F,\">=1\")))","v":""},0]
[{"$f":"IF(ETUDIANTS!A63=\"\",\"\",ETUDIANTS!A63)","v":""},{"$f":"IF($Z$2=\"pok\",\"\",IF(A63=\"\",\"\",COUNTIFS(SYNTHESE!$D:$D,A63,SYNTHESE!$E:$E,$B$1,SYNTHESE!$F:$F,\">=1\")))","v":""},{"$f":"IF($Z$2=\"pok\",\"\",IF(A63=\"\",\"\",COUNTIFS(SYNTHESE!$D:$D,A63,SYNTHESE!$E:$E,$C$1,SYNTHESE!$F:$F,\">=1\")))","v":""},{"$f":"IF($Z$2=\"pok\",\"\",IF(A63=\"\",\"\",COUNTIFS(SYNTHESE!$D:$D,A63,SYNTHESE!$E:$E,$D$1,SYNTHESE!$F:$F,\">=1\")))","v":""},{"$f":"IF($Z$2=\"pok\",\"\",IF(A63=\"\",\"\",COUNTIFS(SYNTHESE!$D:$D,A63,SYNTHESE!$E:$E,$E$1,SYNTHESE!$F:$F,\">=1\")))","v":""},{"$f":"IF($Z$2=\"pok\",\"\",IF(A63=\"\",\"\",COUNTIFS(SYNTHESE!$D:$D,A63,SYNTHESE!$E:$E,$F$1,SYNTHESE!$F:$F,\">=1\")))","v":""},{"$f":"IF($Z$2=\"pok\",\"\",IF(A63=\"\",\"\",COUNTIFS(SYNTHESE!$D:$D,A63,SYNTHESE!$E:$E,$G$1,SYNTHESE!$F:$F,\">=1\")))","v":""},{"$f":"IF($Z$2=\"pok\",\"\",IF(A63=\"\",\"\",COUNTIFS(SYNTHESE!$D:$D,A63,SYNTHESE!$E:$E,$H$1,SYNTHESE!$F:$F,\">=1\")))","v":""},{"$f":"IF($Z$2=\"pok\",\"\",IF(A63=\"\",\"\",COUNTIFS(SYNTHESE!$D:$D,A63,SYNTHESE!$E:$E,$I$1,SYNTHESE!$F:$F,\">=1\")))","v":""},{"$f":"IF($Z$2=\"pok\",\"\",IF(A63=\"\",\"\",COUNTIFS(SYNTHESE!$D:$D,A63,SYNTHESE!$E:$E,$J$1,SYNTHESE!$F:$F,\">=1\")))","v":""},{"$f":"IF($Z$2=\"pok\",\"\",IF(A63=\"\",\"\",COUNTIFS(SYNTHESE!$D:$D,A63,SYNTHESE!$E:$E,$K$1,SYNTHESE!$F:$F,\">=1\")))","v":""},{"$f":"IF($Z$2=\"pok\",\"\",IF(A63=\"\",\"\",COUNTIFS(SYNTHESE!$D:$D,A63,SYNTHESE!$E:$E,$L$1,SYNTHESE!$F:$F,\">=1\")))","v":""},{"$f":"IF($Z$2=\"pok\",\"\",IF(A63=\"\",\"\",COUNTIFS(SYNTHESE!$D:$D,A63,SYNTHESE!$E:$E,$M$1,SYNTHESE!$F:$F,\">=1\")))","v":""},{"$f":"IF($Z$2=\"pok\",\"\",IF(A63=\"\",\"\",COUNTIFS(SYNTHESE!$D:$D,A63,SYNTHESE!$E:$E,$N$1,SYNTHESE!$F:$F,\">=1\")))","v":""},{"$f":"IF($Z$2=\"pok\",\"\",IF(A63=\"\",\"\",COUNTIFS(SYNTHESE!$D:$D,A63,SYNTHESE!$E:$E,$O$1,SYNTHESE!$F:$F,\">=1\")))","v":""},{"$f":"IF($Z$2=\"pok\",\"\",IF(A63=\"\",\"\",COUNTIFS(SYNTHESE!$D:$D,A63,SYNTHESE!$E:$E,$P$1,SYNTHESE!$F:$F,\">=1\")))","v":""},{"$f":"IF($Z$2=\"pok\",\"\",IF(A63=\"\",\"\",COUNTIFS(SYNTHESE!$D:$D,A63,SYNTHESE!$E:$E,$Q$1,SYNTHESE!$F:$F,\">=1\")))","v":""},{"$f":"IF($Z$2=\"pok\",\"\",IF(A63=\"\",\"\",COUNTIFS(SYNTHESE!$D:$D,A63,SYNTHESE!$E:$E,$R$1,SYNTHESE!$F:$F,\">=1\")))","v":""},{"$f":"IF($Z$2=\"pok\",\"\",IF(A63=\"\",\"\",COUNTIFS(SYNTHESE!$D:$D,A63,SYNTHESE!$E:$E,$S$1,SYNTHESE!$F:$F,\">=1\")))","v":""},{"$f":"IF($Z$2=\"pok\",\"\",IF(A63=\"\",\"\",COUNTIFS(SYNTHESE!$D:$D,A63,SYNTHESE!$E:$E,$T$1,SYNTHESE!$F:$F,\">=1\")))","v":""},{"$f":"IF($Z$2=\"pok\",\"\",IF(A63=\"\",\"\",COUNTIFS(SYNTHESE!$D:$D,A63,SYNTHESE!$E:$E,$U$1,SYNTHESE!$F:$F,\">=1\")))","v":""},{"$f":"IF($Z$2=\"pok\",\"\",IF(A63=\"\",\"\",COUNTIFS(SYNTHESE!$D:$D,A63,SYNTHESE!$E:$E,$V$1,SYNTHESE!$F:$F,\">=1\")))","v":""},{"$f":"IF($Z$2=\"pok\",\"\",IF(A63=\"\",\"\",COUNTIFS(SYNTHESE!$D:$D,A63,SYNTHESE!$E:$E,$W$1,SYNTHESE!$F:$F,\">=1\")))","v":""},{"$f":"IF($Z$2=\"pok\",\"\",IF(A63=\"\",\"\",COUNTIFS(SYNTHESE!$D:$D,A63,SYNTHESE!$E:$E,$X$1,SYNTHESE!$F:$F,\">=1\")))","v":""},{"$f":"IF($Z$2=\"pok\",\"\",IF(A63=\"\",\"\",COUNTIFS(SYNTHESE!$D:$D,A63,SYNTHESE!$E:$E,$Y$1,SYNTHESE!$F:$F,\">=1\")))","v":""},0]
[{"$f":"IF(ETUDIANTS!A64=\"\",\"\",ETUDIANTS!A64)","v":""},{"$f":"IF($Z$2=\"pok\",\"\",IF(A64=\"\",\"\",COUNTIFS(SYNTHESE!$D:$D,A64,SYNTHESE!$E:$E,$B$1,SYNTHESE!$F:$F,\">=1\")))","v":""},{"$f":"IF($Z$2=\"pok\",\"\",IF(A64=\"\",\"\",COUNTIFS(SYNTHESE!$D:$D,A64,SYNTHESE!$E:$E,$C$1,SYNTHESE!$F:$F,\">=1\")))","v":""},{"$f":"IF($Z$2=\"pok\",\"\",IF(A64=\"\",\"\",COUNTIFS(SYNTHESE!$D:$D,A64,SYNTHESE!$E:$E,$D$1,SYNTHESE!$F:$F,\">=1\")))","v":""},{"$f":"IF($Z$2=\"pok\",\"\",IF(A64=\"\",\"\",COUNTIFS(SYNTHESE!$D:$D,A64,SYNTHESE!$E:$E,$E$1,SYNTHESE!$F:$F,\">=1\")))","v":""},{"$f":"IF($Z$2=\"pok\",\"\",IF(A64=\"\",\"\",COUNTIFS(SYNTHESE!$D:$D,A64,SYNTHESE!$E:$E,$F$1,SYNTHESE!$F:$F,\">=1\")))","v":""},{"$f":"IF($Z$2=\"pok\",\"\",IF(A64=\"\",\"\",COUNTIFS(SYNTHESE!$D:$D,A64,SYNTHESE!$E:$E,$G$1,SYNTHESE!$F:$F,\">=1\")))","v":""},{"$f":"IF($Z$2=\"pok\",\"\",IF(A64=\"\",\"\",COUNTIFS(SYNTHESE!$D:$D,A64,SYNTHESE!$E:$E,$H$1,SYNTHESE!$F:$F,\">=1\")))","v":""},{"$f":"IF($Z$2=\"pok\",\"\",IF(A64=\"\",\"\",COUNTIFS(SYNTHESE!$D:$D,A64,SYNTHESE!$E:$E,$I$1,SYNTHESE!$F:$F,\">=1\")))","v":""},{"$f":"IF($Z$2=\"pok\",\"\",IF(A64=\"\",\"\",COUNTIFS(SYNTHESE!$D:$D,A64,SYNTHESE!$E:$E,$J$1,SYNTHESE!$F:$F,\">=1\")))","v":""},{"$f":"IF($Z$2=\"pok\",\"\",IF(A64=\"\",\"\",COUNTIFS(SYNTHESE!$D:$D,A64,SYNTHESE!$E:$E,$K$1,SYNTHESE!$F:$F,\">=1\")))","v":""},{"$f":"IF($Z$2=\"pok\",\"\",IF(A64=\"\",\"\",COUNTIFS(SYNTHESE!$D:$D,A64,SYNTHESE!$E:$E,$L$1,SYNTHESE!$F:$F,\">=1\")))","v":""},{"$f":"IF($Z$2=\"pok\",\"\",IF(A64=\"\",\"\",COUNTIFS(SYNTHESE!$D:$D,A64,SYNTHESE!$E:$E,$M$1,SYNTHESE!$F:$F,\">=1\")))","v":""},{"$f":"IF($Z$2=\"pok\",\"\",IF(A64=\"\",\"\",COUNTIFS(SYNTHESE!$D:$D,A64,SYNTHESE!$E:$E,$N$1,SYNTHESE!$F:$F,\">=1\")))","v":""},{"$f":"IF($Z$2=\"pok\",\"\",IF(A64=\"\",\"\",COUNTIFS(SYNTHESE!$D:$D,A64,SYNTHESE!$E:$E,$O$1,SYNTHESE!$F:$F,\">=1\")))","v":""},{"$f":"IF($Z$2=\"pok\",\"\",IF(A64=\"\",\"\",COUNTIFS(SYNTHESE!$D:$D,A64,SYNTHESE!$E:$E,$P$1,SYNTHESE!$F:$F,\">=1\")))","v":""},{"$f":"IF($Z$2=\"pok\",\"\",IF(A64=\"\",\"\",COUNTIFS(SYNTHESE!$D:$D,A64,SYNTHESE!$E:$E,$Q$1,SYNTHESE!$F:$F,\">=1\")))","v":""},{"$f":"IF($Z$2=\"pok\",\"\",IF(A64=\"\",\"\",COUNTIFS(SYNTHESE!$D:$D,A64,SYNTHESE!$E:$E,$R$1,SYNTHESE!$F:$F,\">=1\")))","v":""},{"$f":"IF($Z$2=\"pok\",\"\",IF(A64=\"\",\"\",COUNTIFS(SYNTHESE!$D:$D,A64,SYNTHESE!$E:$E,$S$1,SYNTHESE!$F:$F,\">=1\")))","v":""},{"$f":"IF($Z$2=\"pok\",\"\",IF(A64=\"\",\"\",COUNTIFS(SYNTHESE!$D:$D,A64,SYNTHESE!$E:$E,$T$1,SYNTHESE!$F:$F,\">=1\")))","v":""},{"$f":"IF($Z$2=\"pok\",\"\",IF(A64=\"\",\"\",COUNTIFS(SYNTHESE!$D:$D,A64,SYNTHESE!$E:$E,$U$1,SYNTHESE!$F:$F,\">=1\")))","v":""},{"$f":"IF($Z$2=\"pok\",\"\",IF(A64=\"\",\"\",COUNTIFS(SYNTHESE!$D:$D,A64,SYNTHESE!$E:$E,$V$1,SYNTHESE!$F:$F,\">=1\")))","v":""},{"$f":"IF($Z$2=\"pok\",\"\",IF(A64=\"\",\"\",COUNTIFS(SYNTHESE!$D:$D,A64,SYNTHESE!$E:$E,$W$1,SYNTHESE!$F:$F,\">=1\")))","v":""},{"$f":"IF($Z$2=\"pok\",\"\",IF(A64=\"\",\"\",COUNTIFS(SYNTHESE!$D:$D,A64,SYNTHESE!$E:$E,$X$1,SYNTHESE!$F:$F,\">=1\")))","v":""},{"$f":"IF($Z$2=\"pok\",\"\",IF(A64=\"\",\"\",COUNTIFS(SYNTHESE!$D:$D,A64,SYNTHESE!$E:$E,$Y$1,SYNTHESE!$F:$F,\">=1\")))","v":""},0]
[{"$f":"IF(ETUDIANTS!A65=\"\",\"\",ETUDIANTS!A65)","v":""},{"$f":"IF($Z$2=\"pok\",\"\",IF(A65=\"\",\"\",COUNTIFS(SYNTHESE!$D:$D,A65,SYNTHESE!$E:$E,$B$1,SYNTHESE!$F:$F,\">=1\")))","v":""},{"$f":"IF($Z$2=\"pok\",\"\",IF(A65=\"\",\"\",COUNTIFS(SYNTHESE!$D:$D,A65,SYNTHESE!$E:$E,$C$1,SYNTHESE!$F:$F,\">=1\")))","v":""},{"$f":"IF($Z$2=\"pok\",\"\",IF(A65=\"\",\"\",COUNTIFS(SYNTHESE!$D:$D,A65,SYNTHESE!$E:$E,$D$1,SYNTHESE!$F:$F,\">=1\")))","v":""},{"$f":"IF($Z$2=\"pok\",\"\",IF(A65=\"\",\"\",COUNTIFS(SYNTHESE!$D:$D,A65,SYNTHESE!$E:$E,$E$1,SYNTHESE!$F:$F,\">=1\")))","v":""},{"$f":"IF($Z$2=\"pok\",\"\",IF(A65=\"\",\"\",COUNTIFS(SYNTHESE!$D:$D,A65,SYNTHESE!$E:$E,$F$1,SYNTHESE!$F:$F,\">=1\")))","v":""},{"$f":"IF($Z$2=\"pok\",\"\",IF(A65=\"\",\"\",COUNTIFS(SYNTHESE!$D:$D,A65,SYNTHESE!$E:$E,$G$1,SYNTHESE!$F:$F,\">=1\")))","v":""},{"$f":"IF($Z$2=\"pok\",\"\",IF(A65=\"\",\"\",COUNTIFS(SYNTHESE!$D:$D,A65,SYNTHESE!$E:$E,$H$1,SYNTHESE!$F:$F,\">=1\")))","v":""},{"$f":"IF($Z$2=\"pok\",\"\",IF(A65=\"\",\"\",COUNTIFS(SYNTHESE!$D:$D,A65,SYNTHESE!$E:$E,$I$1,SYNTHESE!$F:$F,\">=1\")))","v":""},{"$f":"IF($Z$2=\"pok\",\"\",IF(A65=\"\",\"\",COUNTIFS(SYNTHESE!$D:$D,A65,SYNTHESE!$E:$E,$J$1,SYNTHESE!$F:$F,\">=1\")))","v":""},{"$f":"IF($Z$2=\"pok\",\"\",IF(A65=\"\",\"\",COUNTIFS(SYNTHESE!$D:$D,A65,SYNTHESE!$E:$E,$K$1,SYNTHESE!$F:$F,\">=1\")))","v":""},{"$f":"IF($Z$2=\"pok\",\"\",IF(A65=\"\",\"\",COUNTIFS(SYNTHESE!$D:$D,A65,SYNTHESE!$E:$E,$L$1,SYNTHESE!$F:$F,\">=1\")))","v":""},{"$f":"IF($Z$2=\"pok\",\"\",IF(A65=\"\",\"\",COUNTIFS(SYNTHESE!$D:$D,A65,SYNTHESE!$E:$E,$M$1,SYNTHESE!$F:$F,\">=1\")))","v":""},{"$f":"IF($Z$2=\"pok\",\"\",IF(A65=\"\",\"\",COUNTIFS(SYNTHESE!$D:$D,A65,SYNTHESE!$E:$E,$N$1,SYNTHESE!$F:$F,\">=1\")))","v":""},{"$f":"IF($Z$2=\"pok\",\"\",IF(A65=\"\",\"\",COUNTIFS(SYNTHESE!$D:$D,A65,SYNTHESE!$E:$E,$O$1,SYNTHESE!$F:$F,\">=1\")))","v":""},{"$f":"IF($Z$2=\"pok\",\"\",IF(A65=\"\",\"\",COUNTIFS(SYNTHESE!$D:$D,A65,SYNTHESE!$E:$E,$P$1,SYNTHESE!$F:$F,\">=1\")))","v":""},{"$f":"IF($Z$2=\"pok\",\"\",IF(A65=\"\",\"\",COUNTIFS(SYNTHESE!$D:$D,A65,SYNTHESE!$E:$E,$Q$1,SYNTHESE!$F:$F,\">=1\")))","v":""},{"$f":"IF($Z$2=\"pok\",\"\",IF(A65=\"\",\"\",COUNTIFS(SYNTHESE!$D:$D,A65,SYNTHESE!$E:$E,$R$1,SYNTHESE!$F:$F,\">=1\")))","v":""},{"$f":"IF($Z$2=\"pok\",\"\",IF(A65=\"\",\"\",COUNTIFS(SYNTHESE!$D:$D,A65,SYNTHESE!$E:$E,$S$1,SYNTHESE!$F:$F,\">=1\")))","v":""},{"$f":"IF($Z$2=\"pok\",\"\",IF(A65=\"\",\"\",COUNTIFS(SYNTHESE!$D:$D,A65,SYNTHESE!$E:$E,$T$1,SYNTHESE!$F:$F,\">=1\")))","v":""},{"$f":"IF($Z$2=\"pok\",\"\",IF(A65=\"\",\"\",COUNTIFS(SYNTHESE!$D:$D,A65,SYNTHESE!$E:$E,$U$1,SYNTHESE!$F:$F,\">=1\")))","v":""},{"$f":"IF($Z$2=\"pok\",\"\",IF(A65=\"\",\"\",COUNTIFS(SYNTHESE!$D:$D,A65,SYNTHESE!$E:$E,$V$1,SYNTHESE!$F:$F,\">=1\")))","v":""},{"$f":"IF($Z$2=\"pok\",\"\",IF(A65=\"\",\"\",COUNTIFS(SYNTHESE!$D:$D,A65,SYNTHESE!$E:$E,$W$1,SYNTHESE!$F:$F,\">=1\")))","v":""},{"$f":"IF($Z$2=\"pok\",\"\",IF(A65=\"\",\"\",COUNTIFS(SYNTHESE!$D:$D,A65,SYNTHESE!$E:$E,$X$1,SYNTHESE!$F:$F,\">=1\")))","v":""},{"$f":"IF($Z$2=\"pok\",\"\",IF(A65=\"\",\"\",COUNTIFS(SYNTHESE!$D:$D,A65,SYNTHESE!$E:$E,$Y$1,SYNTHESE!$F:$F,\">=1\")))","v":""},0]
[{"$f":"IF(ETUDIANTS!A66=\"\",\"\",ETUDIANTS!A66)","v":""},{"$f":"IF($Z$2=\"pok\",\"\",IF(A66=\"\",\"\",COUNTIFS(SYNTHESE!$D:$D,A66,SYNTHESE!$E:$E,$B$1,SYNTHESE!$F:$F,\">=1\")))","v":""},{"$f":"IF($Z$2=\"pok\",\"\",IF(A66=\"\",\"\",COUNTIFS(SYNTHESE!$D:$D,A66,SYNTHESE!$E:$E,$C$1,SYNTHESE!$F:$F,\">=1\")))","v":""},{"$f":"IF($Z$2=\"pok\",\"\",IF(A66=\"\",\"\",COUNTIFS(SYNTHESE!$D:$D,A66,SYNTHESE!$E:$E,$D$1,SYNTHESE!$F:$F,\">=1\")))","v":""},{"$f":"IF($Z$2=\"pok\",\"\",IF(A66=\"\",\"\",COUNTIFS(SYNTHESE!$D:$D,A66,SYNTHESE!$E:$E,$E$1,SYNTHESE!$F:$F,\">=1\")))","v":""},{"$f":"IF($Z$2=\"pok\",\"\",IF(A66=\"\",\"\",COUNTIFS(SYNTHESE!$D:$D,A66,SYNTHESE!$E:$E,$F$1,SYNTHESE!$F:$F,\">=1\")))","v":""},{"$f":"IF($Z$2=\"pok\",\"\",IF(A66=\"\",\"\",COUNTIFS(SYNTHESE!$D:$D,A66,SYNTHESE!$E:$E,$G$1,SYNTHESE!$F:$F,\">=1\")))","v":""},{"$f":"IF($Z$2=\"pok\",\"\",IF(A66=\"\",\"\",COUNTIFS(SYNTHESE!$D:$D,A66,SYNTHESE!$E:$E,$H$1,SYNTHESE!$F:$F,\">=1\")))","v":""},{"$f":"IF($Z$2=\"pok\",\"\",IF(A66=\"\",\"\",COUNTIFS(SYNTHESE!$D:$D,A66,SYNTHESE!$E:$E,$I$1,SYNTHESE!$F:$F,\">=1\")))","v":""},{"$f":"IF($Z$2=\"pok\",\"\",IF(A66=\"\",\"\",COUNTIFS(SYNTHESE!$D:$D,A66,SYNTHESE!$E:$E,$J$1,SYNTHESE!$F:$F,\">=1\")))","v":""},{"$f":"IF($Z$2=\"pok\",\"\",IF(A66=\"\",\"\",COUNTIFS(SYNTHESE!$D:$D,A66,SYNTHESE!$E:$E,$K$1,SYNTHESE!$F:$F,\">=1\")))","v":""},{"$f":"IF($Z$2=\"pok\",\"\",IF(A66=\"\",\"\",COUNTIFS(SYNTHESE!$D:$D,A66,SYNTHESE!$E:$E,$L$1,SYNTHESE!$F:$F,\">=1\")))","v":""},{"$f":"IF($Z$2=\"pok\",\"\",IF(A66=\"\",\"\",COUNTIFS(SYNTHESE!$D:$D,A66,SYNTHESE!$E:$E,$M$1,SYNTHESE!$F:$F,\">=1\")))","v":""},{"$f":"IF($Z$2=\"pok\",\"\",IF(A66=\"\",\"\",COUNTIFS(SYNTHESE!$D:$D,A66,SYNTHESE!$E:$E,$N$1,SYNTHESE!$F:$F,\">=1\")))","v":""},{"$f":"IF($Z$2=\"pok\",\"\",IF(A66=\"\",\"\",COUNTIFS(SYNTHESE!$D:$D,A66,SYNTHESE!$E:$E,$O$1,SYNTHESE!$F:$F,\">=1\")))","v":""},{"$f":"IF($Z$2=\"pok\",\"\",IF(A66=\"\",\"\",COUNTIFS(SYNTHESE!$D:$D,A66,SYNTHESE!$E:$E,$P$1,SYNTHESE!$F:$F,\">=1\")))","v":""},{"$f":"IF($Z$2=\"pok\",\"\",IF(A66=\"\",\"\",COUNTIFS(SYNTHESE!$D:$D,A66,SYNTHESE!$E:$E,$Q$1,SYNTHESE!$F:$F,\">=1\")))","v":""},{"$f":"IF($Z$2=\"pok\",\"\",IF(A66=\"\",\"\",COUNTIFS(SYNTHESE!$D:$D,A66,SYNTHESE!$E:$E,$R$1,SYNTHESE!$F:$F,\">=1\")))","v":""},{"$f":"IF($Z$2=\"pok\",\"\",IF(A66=\"\",\"\",COUNTIFS(SYNTHESE!$D:$D,A66,SYNTHESE!$E:$E,$S$1,SYNTHESE!$F:$F,\">=1\")))","v":""},{"$f":"IF($Z$2=\"pok\",\"\",IF(A66=\"\",\"\",COUNTIFS(SYNTHESE!$D:$D,A66,SYNTHESE!$E:$E,$T$1,SYNTHESE!$F:$F,\">=1\")))","v":""},{"$f":"IF($Z$2=\"pok\",\"\",IF(A66=\"\",\"\",COUNTIFS(SYNTHESE!$D:$D,A66,SYNTHESE!$E:$E,$U$1,SYNTHESE!$F:$F,\">=1\")))","v":""},{"$f":"IF($Z$2=\"pok\",\"\",IF(A66=\"\",\"\",COUNTIFS(SYNTHESE!$D:$D,A66,SYNTHESE!$E:$E,$V$1,SYNTHESE!$F:$F,\">=1\")))","v":""},{"$f":"IF($Z$2=\"pok\",\"\",IF(A66=\"\",\"\",COUNTIFS(SYNTHESE!$D:$D,A66,SYNTHESE!$E:$E,$W$1,SYNTHESE!$F:$F,\">=1\")))","v":""},{"$f":"IF($Z$2=\"pok\",\"\",IF(A66=\"\",\"\",COUNTIFS(SYNTHESE!$D:$D,A66,SYNTHESE!$E:$E,$X$1,SYNTHESE!$F:$F,\">=1\")))","v":""},{"$f":"IF($Z$2=\"pok\",\"\",IF(A66=\"\",\"\",COUNTIFS(SYNTHESE!$D:$D,A66,SYNTHESE!$E:$E,$Y$1,SYNTHESE!$F:$F,\">=1\")))","v":""},0]
[{"$f":"IF(ETUDIANTS!A67=\"\",\"\",ETUDIANTS!A67)","v":""},{"$f":"IF($Z$2=\"pok\",\"\",IF(A67=\"\",\"\",COUNTIFS(SYNTHESE!$D:$D,A67,SYNTHESE!$E:$E,$B$1,SYNTHESE!$F:$F,\">=1\")))","v":""},{"$f":"IF($Z$2=\"pok\",\"\",IF(A67=\"\",\"\",COUNTIFS(SYNTHESE!$D:$D,A67,SYNTHESE!$E:$E,$C$1,SYNTHESE!$F:$F,\">=1\")))","v":""},{"$f":"IF($Z$2=\"pok\",\"\",IF(A67=\"\",\"\",COUNTIFS(SYNTHESE!$D:$D,A67,SYNTHESE!$E:$E,$D$1,SYNTHESE!$F:$F,\">=1\")))","v":""},{"$f":"IF($Z$2=\"pok\",\"\",IF(A67=\"\",\"\",COUNTIFS(SYNTHESE!$D:$D,A67,SYNTHESE!$E:$E,$E$1,SYNTHESE!$F:$F,\">=1\")))","v":""},{"$f":"IF($Z$2=\"pok\",\"\",IF(A67=\"\",\"\",COUNTIFS(SYNTHESE!$D:$D,A67,SYNTHESE!$E:$E,$F$1,SYNTHESE!$F:$F,\">=1\")))","v":""},{"$f":"IF($Z$2=\"pok\",\"\",IF(A67=\"\",\"\",COUNTIFS(SYNTHESE!$D:$D,A67,SYNTHESE!$E:$E,$G$1,SYNTHESE!$F:$F,\">=1\")))","v":""},{"$f":"IF($Z$2=\"pok\",\"\",IF(A67=\"\",\"\",COUNTIFS(SYNTHESE!$D:$D,A67,SYNTHESE!$E:$E,$H$1,SYNTHESE!$F:$F,\">=1\")))","v":""},{"$f":"IF($Z$2=\"pok\",\"\",IF(A67=\"\",\"\",COUNTIFS(SYNTHESE!$D:$D,A67,SYNTHESE!$E:$E,$I$1,SYNTHESE!$F:$F,\">=1\")))","v":""},{"$f":"IF($Z$2=\"pok\",\"\",IF(A67=\"\",\"\",COUNTIFS(SYNTHESE!$D:$D,A67,SYNTHESE!$E:$E,$J$1,SYNTHESE!$F:$F,\">=1\")))","v":""},{"$f":"IF($Z$2=\"pok\",\"\",IF(A67=\"\",\"\",COUNTIFS(SYNTHESE!$D:$D,A67,SYNTHESE!$E:$E,$K$1,SYNTHESE!$F:$F,\">=1\")))","v":""},{"$f":"IF($Z$2=\"pok\",\"\",IF(A67=\"\",\"\",COUNTIFS(SYNTHESE!$D:$D,A67,SYNTHESE!$E:$E,$L$1,SYNTHESE!$F:$F,\">=1\")))","v":""},{"$f":"IF($Z$2=\"pok\",\"\",IF(A67=\"\",\"\",COUNTIFS(SYNTHESE!$D:$D,A67,SYNTHESE!$E:$E,$M$1,SYNTHESE!$F:$F,\">=1\")))","v":""},{"$f":"IF($Z$2=\"pok\",\"\",IF(A67=\"\",\"\",COUNTIFS(SYNTHESE!$D:$D,A67,SYNTHESE!$E:$E,$N$1,SYNTHESE!$F:$F,\">=1\")))","v":""},{"$f":"IF($Z$2=\"pok\",\"\",IF(A67=\"\",\"\",COUNTIFS(SYNTHESE!$D:$D,A67,SYNTHESE!$E:$E,$O$1,SYNTHESE!$F:$F,\">=1\")))","v":""},{"$f":"IF($Z$2=\"pok\",\"\",IF(A67=\"\",\"\",COUNTIFS(SYNTHESE!$D:$D,A67,SYNTHESE!$E:$E,$P$1,SYNTHESE!$F:$F,\">=1\")))","v":""},{"$f":"IF($Z$2=\"pok\",\"\",IF(A67=\"\",\"\",COUNTIFS(SYNTHESE!$D:$D,A67,SYNTHESE!$E:$E,$Q$1,SYNTHESE!$F:$F,\">=1\")))","v":""},{"$f":"IF($Z$2=\"pok\",\"\",IF(A67=\"\",\"\",COUNTIFS(SYNTHESE!$D:$D,A67,SYNTHESE!$E:$E,$R$1,SYNTHESE!$F:$F,\">=1\")))","v":""},{"$f":"IF($Z$2=\"pok\",\"\",IF(A67=\"\",\"\",COUNTIFS(SYNTHESE!$D:$D,A67,SYNTHESE!$E:$E,$S$1,SYNTHESE!$F:$F,\">=1\")))","v":""},{"$f":"IF($Z$2=\"pok\",\"\",IF(A67=\"\",\"\",COUNTIFS(SYNTHESE!$D:$D,A67,SYNTHESE!$E:$E,$T$1,SYNTHESE!$F:$F,\">=1\")))","v":""},{"$f":"IF($Z$2=\"pok\",\"\",IF(A67=\"\",\"\",COUNTIFS(SYNTHESE!$D:$D,A67,SYNTHESE!$E:$E,$U$1,SYNTHESE!$F:$F,\">=1\")))","v":""},{"$f":"IF($Z$2=\"pok\",\"\",IF(A67=\"\",\"\",COUNTIFS(SYNTHESE!$D:$D,A67,SYNTHESE!$E:$E,$V$1,SYNTHESE!$F:$F,\">=1\")))","v":""},{"$f":"IF($Z$2=\"pok\",\"\",IF(A67=\"\",\"\",COUNTIFS(SYNTHESE!$D:$D,A67,SYNTHESE!$E:$E,$W$1,SYNTHESE!$F:$F,\">=1\")))","v":""},{"$f":"IF($Z$2=\"pok\",\"\",IF(A67=\"\",\"\",COUNTIFS(SYNTHESE!$D:$D,A67,SYNTHESE!$E:$E,$X$1,SYNTHESE!$F:$F,\">=1\")))","v":""},{"$f":"IF($Z$2=\"pok\",\"\",IF(A67=\"\",\"\",COUNTIFS(SYNTHESE!$D:$D,A67,SYNTHESE!$E:$E,$Y$1,SYNTHESE!$F:$F,\">=1\")))","v":""},0]
[{"$f":"IF(ETUDIANTS!A68=\"\",\"\",ETUDIANTS!A68)","v":""},{"$f":"IF($Z$2=\"pok\",\"\",IF(A68=\"\",\"\",COUNTIFS(SYNTHESE!$D:$D,A68,SYNTHESE!$E:$E,$B$1,SYNTHESE!$F:$F,\">=1\")))","v":""},{"$f":"IF($Z$2=\"pok\",\"\",IF(A68=\"\",\"\",COUNTIFS(SYNTHESE!$D:$D,A68,SYNTHESE!$E:$E,$C$1,SYNTHESE!$F:$F,\">=1\")))","v":""},{"$f":"IF($Z$2=\"pok\",\"\",IF(A68=\"\",\"\",COUNTIFS(SYNTHESE!$D:$D,A68,SYNTHESE!$E:$E,$D$1,SYNTHESE!$F:$F,\">=1\")))","v":""},{"$f":"IF($Z$2=\"pok\",\"\",IF(A68=\"\",\"\",COUNTIFS(SYNTHESE!$D:$D,A68,SYNTHESE!$E:$E,$E$1,SYNTHESE!$F:$F,\">=1\")))","v":""},{"$f":"IF($Z$2=\"pok\",\"\",IF(A68=\"\",\"\",COUNTIFS(SYNTHESE!$D:$D,A68,SYNTHESE!$E:$E,$F$1,SYNTHESE!$F:$F,\">=1\")))","v":""},{"$f":"IF($Z$2=\"pok\",\"\",IF(A68=\"\",\"\",COUNTIFS(SYNTHESE!$D:$D,A68,SYNTHESE!$E:$E,$G$1,SYNTHESE!$F:$F,\">=1\")))","v":""},{"$f":"IF($Z$2=\"pok\",\"\",IF(A68=\"\",\"\",COUNTIFS(SYNTHESE!$D:$D,A68,SYNTHESE!$E:$E,$H$1,SYNTHESE!$F:$F,\">=1\")))","v":""},{"$f":"IF($Z$2=\"pok\",\"\",IF(A68=\"\",\"\",COUNTIFS(SYNTHESE!$D:$D,A68,SYNTHESE!$E:$E,$I$1,SYNTHESE!$F:$F,\">=1\")))","v":""},{"$f":"IF($Z$2=\"pok\",\"\",IF(A68=\"\",\"\",COUNTIFS(SYNTHESE!$D:$D,A68,SYNTHESE!$E:$E,$J$1,SYNTHESE!$F:$F,\">=1\")))","v":""},{"$f":"IF($Z$2=\"pok\",\"\",IF(A68=\"\",\"\",COUNTIFS(SYNTHESE!$D:$D,A68,SYNTHESE!$E:$E,$K$1,SYNTHESE!$F:$F,\">=1\")))","v":""},{"$f":"IF($Z$2=\"pok\",\"\",IF(A68=\"\",\"\",COUNTIFS(SYNTHESE!$D:$D,A68,SYNTHESE!$E:$E,$L$1,SYNTHESE!$F:$F,\">=1\")))","v":""},{"$f":"IF($Z$2=\"pok\",\"\",IF(A68=\"\",\"\",COUNTIFS(SYNTHESE!$D:$D,A68,SYNTHESE!$E:$E,$M$1,SYNTHESE!$F:$F,\">=1\")))","v":""},{"$f":"IF($Z$2=\"pok\",\"\",IF(A68=\"\",\"\",COUNTIFS(SYNTHESE!$D:$D,A68,SYNTHESE!$E:$E,$N$1,SYNTHESE!$F:$F,\">=1\")))","v":""},{"$f":"IF($Z$2=\"pok\",\"\",IF(A68=\"\",\"\",COUNTIFS(SYNTHESE!$D:$D,A68,SYNTHESE!$E:$E,$O$1,SYNTHESE!$F:$F,\">=1\")))","v":""},{"$f":"IF($Z$2=\"pok\",\"\",IF(A68=\"\",\"\",COUNTIFS(SYNTHESE!$D:$D,A68,SYNTHESE!$E:$E,$P$1,SYNTHESE!$F:$F,\">=1\")))","v":""},{"$f":"IF($Z$2=\"pok\",\"\",IF(A68=\"\",\"\",COUNTIFS(SYNTHESE!$D:$D,A68,SYNTHESE!$E:$E,$Q$1,SYNTHESE!$F:$F,\">=1\")))","v":""},{"$f":"IF($Z$2=\"pok\",\"\",IF(A68=\"\",\"\",COUNTIFS(SYNTHESE!$D:$D,A68,SYNTHESE!$E:$E,$R$1,SYNTHESE!$F:$F,\">=1\")))","v":""},{"$f":"IF($Z$2=\"pok\",\"\",IF(A68=\"\",\"\",COUNTIFS(SYNTHESE!$D:$D,A68,SYNTHESE!$E:$E,$S$1,SYNTHESE!$F:$F,\">=1\")))","v":""},{"$f":"IF($Z$2=\"pok\",\"\",IF(A68=\"\",\"\",COUNTIFS(SYNTHESE!$D:$D,A68,SYNTHESE!$E:$E,$T$1,SYNTHESE!$F:$F,\">=1\")))","v":""},{"$f":"IF($Z$2=\"pok\",\"\",IF(A68=\"\",\"\",COUNTIFS(SYNTHESE!$D:$D,A68,SYNTHESE!$E:$E,$U$1,SYNTHESE!$F:$F,\">=1\")))","v":""},{"$f":"IF($Z$2=\"pok\",\"\",IF(A68=\"\",\"\",COUNTIFS(SYNTHESE!$D:$D,A68,SYNTHESE!$E:$E,$V$1,SYNTHESE!$F:$F,\">=1\")))","v":""},{"$f":"IF($Z$2=\"pok\",\"\",IF(A68=\"\",\"\",COUNTIFS(SYNTHESE!$D:$D,A68,SYNTHESE!$E:$E,$W$1,SYNTHESE!$F:$F,\">=1\")))","v":""},{"$f":"IF($Z$2=\"pok\",\"\",IF(A68=\"\",\"\",COUNTIFS(SYNTHESE!$D:$D,A68,SYNTHESE!$E:$E,$X$1,SYNTHESE!$F:$F,\">=1\")))","v":""},{"$f":"IF($Z$2=\"pok\",\"\",IF(A68=\"\",\"\",COUNTIFS(SYNTHESE!$D:$D,A68,SYNTHESE!$E:$E,$Y$1,SYNTHESE!$F:$F,\">=1\")))","v":""},{"$f":"SUM(B68:Y68)","v":0}]
[{"$f":"IF(ETUDIANTS!A69=\"\",\"\",ETUDIANTS!A69)","v":""},{"$f":"IF($Z$2=\"pok\",\"\",IF(A69=\"\",\"\",COUNTIFS(SYNTHESE!$D:$D,A69,SYNTHESE!$E:$E,$B$1,SYNTHESE!$F:$F,\">=1\")))","v":""},{"$f":"IF($Z$2=\"pok\",\"\",IF(A69=\"\",\"\",COUNTIFS(SYNTHESE!$D:$D,A69,SYNTHESE!$E:$E,$C$1,SYNTHESE!$F:$F,\">=1\")))","v":""},{"$f":"IF($Z$2=\"pok\",\"\",IF(A69=\"\",\"\",COUNTIFS(SYNTHESE!$D:$D,A69,SYNTHESE!$E:$E,$D$1,SYNTHESE!$F:$F,\">=1\")))","v":""},{"$f":"IF($Z$2=\"pok\",\"\",IF(A69=\"\",\"\",COUNTIFS(SYNTHESE!$D:$D,A69,SYNTHESE!$E:$E,$E$1,SYNTHESE!$F:$F,\">=1\")))","v":""},{"$f":"IF($Z$2=\"pok\",\"\",IF(A69=\"\",\"\",COUNTIFS(SYNTHESE!$D:$D,A69,SYNTHESE!$E:$E,$F$1,SYNTHESE!$F:$F,\">=1\")))","v":""},{"$f":"IF($Z$2=\"pok\",\"\",IF(A69=\"\",\"\",COUNTIFS(SYNTHESE!$D:$D,A69,SYNTHESE!$E:$E,$G$1,SYNTHESE!$F:$F,\">=1\")))","v":""},{"$f":"IF($Z$2=\"pok\",\"\",IF(A69=\"\",\"\",COUNTIFS(SYNTHESE!$D:$D,A69,SYNTHESE!$E:$E,$H$1,SYNTHESE!$F:$F,\">=1\")))","v":""},{"$f":"IF($Z$2=\"pok\",\"\",IF(A69=\"\",\"\",COUNTIFS(SYNTHESE!$D:$D,A69,SYNTHESE!$E:$E,$I$1,SYNTHESE!$F:$F,\">=1\")))","v":""},{"$f":"IF($Z$2=\"pok\",\"\",IF(A69=\"\",\"\",COUNTIFS(SYNTHESE!$D:$D,A69,SYNTHESE!$E:$E,$J$1,SYNTHESE!$F:$F,\">=1\")))","v":""},{"$f":"IF($Z$2=\"pok\",\"\",IF(A69=\"\",\"\",COUNTIFS(SYNTHESE!$D:$D,A69,SYNTHESE!$E:$E,$K$1,SYNTHESE!$F:$F,\">=1\")))","v":""},{"$f":"IF($Z$2=\"pok\",\"\",IF(A69=\"\",\"\",COUNTIFS(SYNTHESE!$D:$D,A69,SYNTHESE!$E:$E,$L$1,SYNTHESE!$F:$F,\">=1\")))","v":""},{"$f":"IF($Z$2=\"pok\",\"\",IF(A69=\"\",\"\",COUNTIFS(SYNTHESE!$D:$D,A69,SYNTHESE!$E:$E,$M$1,SYNTHESE!$F:$F,\">=1\")))","v":""},{"$f":"IF($Z$2=\"pok\",\"\",IF(A69=\"\",\"\",COUNTIFS(SYNTHESE!$D:$D,A69,SYNTHESE!$E:$E,$N$1,SYNTHESE!$F:$F,\">=1\")))","v":""},{"$f":"IF($Z$2=\"pok\",\"\",IF(A69=\"\",\"\",COUNTIFS(SYNTHESE!$D:$D,A69,SYNTHESE!$E:$E,$O$1,SYNTHESE!$F:$F,\">=1\")))","v":""},{"$f":"IF($Z$2=\"pok\",\"\",IF(A69=\"\",\"\",COUNTIFS(SYNTHESE!$D:$D,A69,SYNTHESE!$E:$E,$P$1,SYNTHESE!$F:$F,\">=1\")))","v":""},{"$f":"IF($Z$2=\"pok\",\"\",IF(A69=\"\",\"\",COUNTIFS(SYNTHESE!$D:$D,A69,SYNTHESE!$E:$E,$Q$1,SYNTHESE!$F:$F,\">=1\")))","v":""},{"$f":"IF($Z$2=\"pok\",\"\",IF(A69=\"\",\"\",COUNTIFS(SYNTHESE!$D:$D,A69,SYNTHESE!$E:$E,$R$1,SYNTHESE!$F:$F,\">=1\")))","v":""},{"$f":"IF($Z$2=\"pok\",\"\",IF(A69=\"\",\"\",COUNTIFS(SYNTHESE!$D:$D,A69,SYNTHESE!$E:$E,$S$1,SYNTHESE!$F:$F,\">=1\")))","v":""},{"$f":"IF($Z$2=\"pok\",\"\",IF(A69=\"\",\"\",COUNTIFS(SYNTHESE!$D:$D,A69,SYNTHESE!$E:$E,$T$1,SYNTHESE!$F:$F,\">=1\")))","v":""},{"$f":"IF($Z$2=\"pok\",\"\",IF(A69=\"\",\"\",COUNTIFS(SYNTHESE!$D:$D,A69,SYNTHESE!$E:$E,$U$1,SYNTHESE!$F:$F,\">=1\")))","v":""},{"$f":"IF($Z$2=\"pok\",\"\",IF(A69=\"\",\"\",COUNTIFS(SYNTHESE!$D:$D,A69,SYNTHESE!$E:$E,$V$1,SYNTHESE!$F:$F,\">=1\")))","v":""},{"$f":"IF($Z$2=\"pok\",\"\",IF(A69=\"\",\"\",COUNTIFS(SYNTHESE!$D:$D,A69,SYNTHESE!$E:$E,$W$1,SYNTHESE!$F:$F,\">=1\")))","v":""},{"$f":"IF($Z$2=\"pok\",\"\",IF(A69=\"\",\"\",COUNTIFS(SYNTHESE!$D:$D,A69,SYNTHESE!$E:$E,$X$1,SYNTHESE!$F:$F,\">=1\")))","v":""},{"$f":"IF($Z$2=\"pok\",\"\",IF(A69=\"\",\"\",COUNTIFS(SYNTHESE!$D:$D,A69,SYNTHESE!$E:$E,$Y$1,SYNTHESE!$F:$F,\">=1\")))","v":""},0]
[{"$f":"IF(ETUDIANTS!A70=\"\",\"\",ETUDIANTS!A70)","v":""},{"$f":"IF($Z$2=\"pok\",\"\",IF(A70=\"\",\"\",COUNTIFS(SYNTHESE!$D:$D,A70,SYNTHESE!$E:$E,$B$1,SYNTHESE!$F:$F,\">=1\")))","v":""},{"$f":"IF($Z$2=\"pok\",\"\",IF(A70=\"\",\"\",COUNTIFS(SYNTHESE!$D:$D,A70,SYNTHESE!$E:$E,$C$1,SYNTHESE!$F:$F,\">=1\")))","v":""},{"$f":"IF($Z$2=\"pok\",\"\",IF(A70=\"\",\"\",COUNTIFS(SYNTHESE!$D:$D,A70,SYNTHESE!$E:$E,$D$1,SYNTHESE!$F:$F,\">=1\")))","v":""},{"$f":"IF($Z$2=\"pok\",\"\",IF(A70=\"\",\"\",COUNTIFS(SYNTHESE!$D:$D,A70,SYNTHESE!$E:$E,$E$1,SYNTHESE!$F:$F,\">=1\")))","v":""},{"$f":"IF($Z$2=\"pok\",\"\",IF(A70=\"\",\"\",COUNTIFS(SYNTHESE!$D:$D,A70,SYNTHESE!$E:$E,$F$1,SYNTHESE!$F:$F,\">=1\")))","v":""},{"$f":"IF($Z$2=\"pok\",\"\",IF(A70=\"\",\"\",COUNTIFS(SYNTHESE!$D:$D,A70,SYNTHESE!$E:$E,$G$1,SYNTHESE!$F:$F,\">=1\")))","v":""},{"$f":"IF($Z$2=\"pok\",\"\",IF(A70=\"\",\"\",COUNTIFS(SYNTHESE!$D:$D,A70,SYNTHESE!$E:$E,$H$1,SYNTHESE!$F:$F,\">=1\")))","v":""},{"$f":"IF($Z$2=\"pok\",\"\",IF(A70=\"\",\"\",COUNTIFS(SYNTHESE!$D:$D,A70,SYNTHESE!$E:$E,$I$1,SYNTHESE!$F:$F,\">=1\")))","v":""},{"$f":"IF($Z$2=\"pok\",\"\",IF(A70=\"\",\"\",COUNTIFS(SYNTHESE!$D:$D,A70,SYNTHESE!$E:$E,$J$1,SYNTHESE!$F:$F,\">=1\")))","v":""},{"$f":"IF($Z$2=\"pok\",\"\",IF(A70=\"\",\"\",COUNTIFS(SYNTHESE!$D:$D,A70,SYNTHESE!$E:$E,$K$1,SYNTHESE!$F:$F,\">=1\")))","v":""},{"$f":"IF($Z$2=\"pok\",\"\",IF(A70=\"\",\"\",COUNTIFS(SYNTHESE!$D:$D,A70,SYNTHESE!$E:$E,$L$1,SYNTHESE!$F:$F,\">=1\")))","v":""},{"$f":"IF($Z$2=\"pok\",\"\",IF(A70=\"\",\"\",COUNTIFS(SYNTHESE!$D:$D,A70,SYNTHESE!$E:$E,$M$1,SYNTHESE!$F:$F,\">=1\")))","v":""},{"$f":"IF($Z$2=\"pok\",\"\",IF(A70=\"\",\"\",COUNTIFS(SYNTHESE!$D:$D,A70,SYNTHESE!$E:$E,$N$1,SYNTHESE!$F:$F,\">=1\")))","v":""},{"$f":"IF($Z$2=\"pok\",\"\",IF(A70=\"\",\"\",COUNTIFS(SYNTHESE!$D:$D,A70,SYNTHESE!$E:$E,$O$1,SYNTHESE!$F:$F,\">=1\")))","v":""},{"$f":"IF($Z$2=\"pok\",\"\",IF(A70=\"\",\"\",COUNTIFS(SYNTHESE!$D:$D,A70,SYNTHESE!$E:$E,$P$1,SYNTHESE!$F:$F,\">=1\")))","v":""},{"$f":"IF($Z$2=\"pok\",\"\",IF(A70=\"\",\"\",COUNTIFS(SYNTHESE!$D:$D,A70,SYNTHESE!$E:$E,$Q$1,SYNTHESE!$F:$F,\">=1\")))","v":""},{"$f":"IF($Z$2=\"pok\",\"\",IF(A70=\"\",\"\",COUNTIFS(SYNTHESE!$D:$D,A70,SYNTHESE!$E:$E,$R$1,SYNTHESE!$F:$F,\">=1\")))","v":""},{"$f":"IF($Z$2=\"pok\",\"\",IF(A70=\"\",\"\",COUNTIFS(SYNTHESE!$D:$D,A70,SYNTHESE!$E:$E,$S$1,SYNTHESE!$F:$F,\">=1\")))","v":""},{"$f":"IF($Z$2=\"pok\",\"\",IF(A70=\"\",\"\",COUNTIFS(SYNTHESE!$D:$D,A70,SYNTHESE!$E:$E,$T$1,SYNTHESE!$F:$F,\">=1\")))","v":""},{"$f":"IF($Z$2=\"pok\",\"\",IF(A70=\"\",\"\",COUNTIFS(SYNTHESE!$D:$D,A70,SYNTHESE!$E:$E,$U$1,SYNTHESE!$F:$F,\">=1\")))","v":""},{"$f":"IF($Z$2=\"pok\",\"\",IF(A70=\"\",\"\",COUNTIFS(SYNTHESE!$D:$D,A70,SYNTHESE!$E:$E,$V$1,SYNTHESE!$F:$F,\">=1\")))","v":""},{"$f":"IF($Z$2=\"pok\",\"\",IF(A70=\"\",\"\",COUNTIFS(SYNTHESE!$D:$D,A70,SYNTHESE!$E:$E,$W$1,SYNTHESE!$F:$F,\">=1\")))","v":""},{"$f":"IF($Z$2=\"pok\",\"\",IF(A70=\"\",\"\",COUNTIFS(SYNTHESE!$D:$D,A70,SYNTHESE!$E:$E,$X$1,SYNTHESE!$F:$F,\">=1\")))","v":""},{"$f":"IF($Z$2=\"pok\",\"\",IF(A70=\"\",\"\",COUNTIFS(SYNTHESE!$D:$D,A70,SYNTHESE!$E:$E,$Y$1,SYNTHESE!$F:$F,\">=1\")))","v":""},0]
[{"$f":"IF(ETUDIANTS!A71=\"\",\"\",ETUDIANTS!A71)","v":""},{"$f":"IF($Z$2=\"pok\",\"\",IF(A71=\"\",\"\",COUNTIFS(SYNTHESE!$D:$D,A71,SYNTHESE!$E:$E,$B$1,SYNTHESE!$F:$F,\">=1\")))","v":""},{"$f":"IF($Z$2=\"pok\",\"\",IF(A71=\"\",\"\",COUNTIFS(SYNTHESE!$D:$D,A71,SYNTHESE!$E:$E,$C$1,SYNTHESE!$F:$F,\">=1\")))","v":""},{"$f":"IF($Z$2=\"pok\",\"\",IF(A71=\"\",\"\",COUNTIFS(SYNTHESE!$D:$D,A71,SYNTHESE!$E:$E,$D$1,SYNTHESE!$F:$F,\">=1\")))","v":""},{"$f":"IF($Z$2=\"pok\",\"\",IF(A71=\"\",\"\",COUNTIFS(SYNTHESE!$D:$D,A71,SYNTHESE!$E:$E,$E$1,SYNTHESE!$F:$F,\">=1\")))","v":""},{"$f":"IF($Z$2=\"pok\",\"\",IF(A71=\"\",\"\",COUNTIFS(SYNTHESE!$D:$D,A71,SYNTHESE!$E:$E,$F$1,SYNTHESE!$F:$F,\">=1\")))","v":""},{"$f":"IF($Z$2=\"pok\",\"\",IF(A71=\"\",\"\",COUNTIFS(SYNTHESE!$D:$D,A71,SYNTHESE!$E:$E,$G$1,SYNTHESE!$F:$F,\">=1\")))","v":""},{"$f":"IF($Z$2=\"pok\",\"\",IF(A71=\"\",\"\",COUNTIFS(SYNTHESE!$D:$D,A71,SYNTHESE!$E:$E,$H$1,SYNTHESE!$F:$F,\">=1\")))","v":""},{"$f":"IF($Z$2=\"pok\",\"\",IF(A71=\"\",\"\",COUNTIFS(SYNTHESE!$D:$D,A71,SYNTHESE!$E:$E,$I$1,SYNTHESE!$F:$F,\">=1\")))","v":""},{"$f":"IF($Z$2=\"pok\",\"\",IF(A71=\"\",\"\",COUNTIFS(SYNTHESE!$D:$D,A71,SYNTHESE!$E:$E,$J$1,SYNTHESE!$F:$F,\">=1\")))","v":""},{"$f":"IF($Z$2=\"pok\",\"\",IF(A71=\"\",\"\",COUNTIFS(SYNTHESE!$D:$D,A71,SYNTHESE!$E:$E,$K$1,SYNTHESE!$F:$F,\">=1\")))","v":""},{"$f":"IF($Z$2=\"pok\",\"\",IF(A71=\"\",\"\",COUNTIFS(SYNTHESE!$D:$D,A71,SYNTHESE!$E:$E,$L$1,SYNTHESE!$F:$F,\">=1\")))","v":""},{"$f":"IF($Z$2=\"pok\",\"\",IF(A71=\"\",\"\",COUNTIFS(SYNTHESE!$D:$D,A71,SYNTHESE!$E:$E,$M$1,SYNTHESE!$F:$F,\">=1\")))","v":""},{"$f":"IF($Z$2=\"pok\",\"\",IF(A71=\"\",\"\",COUNTIFS(SYNTHESE!$D:$D,A71,SYNTHESE!$E:$E,$N$1,SYNTHESE!$F:$F,\">=1\")))","v":""},{"$f":"IF($Z$2=\"pok\",\"\",IF(A71=\"\",\"\",COUNTIFS(SYNTHESE!$D:$D,A71,SYNTHESE!$E:$E,$O$1,SYNTHESE!$F:$F,\">=1\")))","v":""},{"$f":"IF($Z$2=\"pok\",\"\",IF(A71=\"\",\"\",COUNTIFS(SYNTHESE!$D:$D,A71,SYNTHESE!$E:$E,$P$1,SYNTHESE!$F:$F,\">=1\")))","v":""},{"$f":"IF($Z$2=\"pok\",\"\",IF(A71=\"\",\"\",COUNTIFS(SYNTHESE!$D:$D,A71,SYNTHESE!$E:$E,$Q$1,SYNTHESE!$F:$F,\">=1\")))","v":""},{"$f":"IF($Z$2=\"pok\",\"\",IF(A71=\"\",\"\",COUNTIFS(SYNTHESE!$D:$D,A71,SYNTHESE!$E:$E,$R$1,SYNTHESE!$F:$F,\">=1\")))","v":""},{"$f":"IF($Z$2=\"pok\",\"\",IF(A71=\"\",\"\",COUNTIFS(SYNTHESE!$D:$D,A71,SYNTHESE!$E:$E,$S$1,SYNTHESE!$F:$F,\">=1\")))","v":""},{"$f":"IF($Z$2=\"pok\",\"\",IF(A71=\"\",\"\",COUNTIFS(SYNTHESE!$D:$D,A71,SYNTHESE!$E:$E,$T$1,SYNTHESE!$F:$F,\">=1\")))","v":""},{"$f":"IF($Z$2=\"pok\",\"\",IF(A71=\"\",\"\",COUNTIFS(SYNTHESE!$D:$D,A71,SYNTHESE!$E:$E,$U$1,SYNTHESE!$F:$F,\">=1\")))","v":""},{"$f":"IF($Z$2=\"pok\",\"\",IF(A71=\"\",\"\",COUNTIFS(SYNTHESE!$D:$D,A71,SYNTHESE!$E:$E,$V$1,SYNTHESE!$F:$F,\">=1\")))","v":""},{"$f":"IF($Z$2=\"pok\",\"\",IF(A71=\"\",\"\",COUNTIFS(SYNTHESE!$D:$D,A71,SYNTHESE!$E:$E,$W$1,SYNTHESE!$F:$F,\">=1\")))","v":""},{"$f":"IF($Z$2=\"pok\",\"\",IF(A71=\"\",\"\",COUNTIFS(SYNTHESE!$D:$D,A71,SYNTHESE!$E:$E,$X$1,SYNTHESE!$F:$F,\">=1\")))","v":""},{"$f":"IF($Z$2=\"pok\",\"\",IF(A71=\"\",\"\",COUNTIFS(SYNTHESE!$D:$D,A71,SYNTHESE!$E:$E,$Y$1,SYNTHESE!$F:$F,\">=1\")))","v":""},0]
[{"$f":"IF(ETUDIANTS!A72=\"\",\"\",ETUDIANTS!A72)","v":""},{"$f":"IF($Z$2=\"pok\",\"\",IF(A72=\"\",\"\",COUNTIFS(SYNTHESE!$D:$D,A72,SYNTHESE!$E:$E,$B$1,SYNTHESE!$F:$F,\">=1\")))","v":""},{"$f":"IF($Z$2=\"pok\",\"\",IF(A72=\"\",\"\",COUNTIFS(SYNTHESE!$D:$D,A72,SYNTHESE!$E:$E,$C$1,SYNTHESE!$F:$F,\">=1\")))","v":""},{"$f":"IF($Z$2=\"pok\",\"\",IF(A72=\"\",\"\",COUNTIFS(SYNTHESE!$D:$D,A72,SYNTHESE!$E:$E,$D$1,SYNTHESE!$F:$F,\">=1\")))","v":""},{"$f":"IF($Z$2=\"pok\",\"\",IF(A72=\"\",\"\",COUNTIFS(SYNTHESE!$D:$D,A72,SYNTHESE!$E:$E,$E$1,SYNTHESE!$F:$F,\">=1\")))","v":""},{"$f":"IF($Z$2=\"pok\",\"\",IF(A72=\"\",\"\",COUNTIFS(SYNTHESE!$D:$D,A72,SYNTHESE!$E:$E,$F$1,SYNTHESE!$F:$F,\">=1\")))","v":""},{"$f":"IF($Z$2=\"pok\",\"\",IF(A72=\"\",\"\",COUNTIFS(SYNTHESE!$D:$D,A72,SYNTHESE!$E:$E,$G$1,SYNTHESE!$F:$F,\">=1\")))","v":""},{"$f":"IF($Z$2=\"pok\",\"\",IF(A72=\"\",\"\",COUNTIFS(SYNTHESE!$D:$D,A72,SYNTHESE!$E:$E,$H$1,SYNTHESE!$F:$F,\">=1\")))","v":""},{"$f":"IF($Z$2=\"pok\",\"\",IF(A72=\"\",\"\",COUNTIFS(SYNTHESE!$D:$D,A72,SYNTHESE!$E:$E,$I$1,SYNTHESE!$F:$F,\">=1\")))","v":""},{"$f":"IF($Z$2=\"pok\",\"\",IF(A72=\"\",\"\",COUNTIFS(SYNTHESE!$D:$D,A72,SYNTHESE!$E:$E,$J$1,SYNTHESE!$F:$F,\">=1\")))","v":""},{"$f":"IF($Z$2=\"pok\",\"\",IF(A72=\"\",\"\",COUNTIFS(SYNTHESE!$D:$D,A72,SYNTHESE!$E:$E,$K$1,SYNTHESE!$F:$F,\">=1\")))","v":""},{"$f":"IF($Z$2=\"pok\",\"\",IF(A72=\"\",\"\",COUNTIFS(SYNTHESE!$D:$D,A72,SYNTHESE!$E:$E,$L$1,SYNTHESE!$F:$F,\">=1\")))","v":""},{"$f":"IF($Z$2=\"pok\",\"\",IF(A72=\"\",\"\",COUNTIFS(SYNTHESE!$D:$D,A72,SYNTHESE!$E:$E,$M$1,SYNTHESE!$F:$F,\">=1\")))","v":""},{"$f":"IF($Z$2=\"pok\",\"\",IF(A72=\"\",\"\",COUNTIFS(SYNTHESE!$D:$D,A72,SYNTHESE!$E:$E,$N$1,SYNTHESE!$F:$F,\">=1\")))","v":""},{"$f":"IF($Z$2=\"pok\",\"\",IF(A72=\"\",\"\",COUNTIFS(SYNTHESE!$D:$D,A72,SYNTHESE!$E:$E,$O$1,SYNTHESE!$F:$F,\">=1\")))","v":""},{"$f":"IF($Z$2=\"pok\",\"\",IF(A72=\"\",\"\",COUNTIFS(SYNTHESE!$D:$D,A72,SYNTHESE!$E:$E,$P$1,SYNTHESE!$F:$F,\">=1\")))","v":""},{"$f":"IF($Z$2=\"pok\",\"\",IF(A72=\"\",\"\",COUNTIFS(SYNTHESE!$D:$D,A72,SYNTHESE!$E:$E,$Q$1,SYNTHESE!$F:$F,\">=1\")))","v":""},{"$f":"IF($Z$2=\"pok\",\"\",IF(A72=\"\",\"\",COUNTIFS(SYNTHESE!$D:$D,A72,SYNTHESE!$E:$E,$R$1,SYNTHESE!$F:$F,\">=1\")))","v":""},{"$f":"IF($Z$2=\"pok\",\"\",IF(A72=\"\",\"\",COUNTIFS(SYNTHESE!$D:$D,A72,SYNTHESE!$E:$E,$S$1,SYNTHESE!$F:$F,\">=1\")))","v":""},{"$f":"IF($Z$2=\"pok\",\"\",IF(A72=\"\",\"\",COUNTIFS(SYNTHESE!$D:$D,A72,SYNTHESE!$E:$E,$T$1,SYNTHESE!$F:$F,\">=1\")))","v":""},{"$f":"IF($Z$2=\"pok\",\"\",IF(A72=\"\",\"\",COUNTIFS(SYNTHESE!$D:$D,A72,SYNTHESE!$E:$E,$U$1,SYNTHESE!$F:$F,\">=1\")))","v":""},{"$f":"IF($Z$2=\"pok\",\"\",IF(A72=\"\",\"\",COUNTIFS(SYNTHESE!$D:$D,A72,SYNTHESE!$E:$E,$V$1,SYNTHESE!$F:$F,\">=1\")))","v":""},{"$f":"IF($Z$2=\"pok\",\"\",IF(A72=\"\",\"\",COUNTIFS(SYNTHESE!$D:$D,A72,SYNTHESE!$E:$E,$W$1,SYNTHESE!$F:$F,\">=1\")))","v":""},{"$f":"IF($Z$2=\"pok\",\"\",IF(A72=\"\",\"\",COUNTIFS(SYNTHESE!$D:$D,A72,SYNTHESE!$E:$E,$X$1,SYNTHESE!$F:$F,\">=1\")))","v":""},{"$f":"IF($Z$2=\"pok\",\"\",IF(A72=\"\",\"\",COUNTIFS(SYNTHESE!$D:$D,A72,SYNTHESE!$E:$E,$Y$1,SYNTHESE!$F:$F,\">=1\")))","v":""},0]
[{"$f":"IF(ETUDIANTS!A73=\"\",\"\",ETUDIANTS!A73)","v":""},{"$f":"IF($Z$2=\"pok\",\"\",IF(A73=\"\",\"\",COUNTIFS(SYNTHESE!$D:$D,A73,SYNTHESE!$E:$E,$B$1,SYNTHESE!$F:$F,\">=1\")))","v":""},{"$f":"IF($Z$2=\"pok\",\"\",IF(A73=\"\",\"\",COUNTIFS(SYNTHESE!$D:$D,A73,SYNTHESE!$E:$E,$C$1,SYNTHESE!$F:$F,\">=1\")))","v":""},{"$f":"IF($Z$2=\"pok\",\"\",IF(A73=\"\",\"\",COUNTIFS(SYNTHESE!$D:$D,A73,SYNTHESE!$E:$E,$D$1,SYNTHESE!$F:$F,\">=1\")))","v":""},{"$f":"IF($Z$2=\"pok\",\"\",IF(A73=\"\",\"\",COUNTIFS(SYNTHESE!$D:$D,A73,SYNTHESE!$E:$E,$E$1,SYNTHESE!$F:$F,\">=1\")))","v":""},{"$f":"IF($Z$2=\"pok\",\"\",IF(A73=\"\",\"\",COUNTIFS(SYNTHESE!$D:$D,A73,SYNTHESE!$E:$E,$F$1,SYNTHESE!$F:$F,\">=1\")))","v":""},{"$f":"IF($Z$2=\"pok\",\"\",IF(A73=\"\",\"\",COUNTIFS(SYNTHESE!$D:$D,A73,SYNTHESE!$E:$E,$G$1,SYNTHESE!$F:$F,\">=1\")))","v":""},{"$f":"IF($Z$2=\"pok\",\"\",IF(A73=\"\",\"\",COUNTIFS(SYNTHESE!$D:$D,A73,SYNTHESE!$E:$E,$H$1,SYNTHESE!$F:$F,\">=1\")))","v":""},{"$f":"IF($Z$2=\"pok\",\"\",IF(A73=\"\",\"\",COUNTIFS(SYNTHESE!$D:$D,A73,SYNTHESE!$E:$E,$I$1,SYNTHESE!$F:$F,\">=1\")))","v":""},{"$f":"IF($Z$2=\"pok\",\"\",IF(A73=\"\",\"\",COUNTIFS(SYNTHESE!$D:$D,A73,SYNTHESE!$E:$E,$J$1,SYNTHESE!$F:$F,\">=1\")))","v":""},{"$f":"IF($Z$2=\"pok\",\"\",IF(A73=\"\",\"\",COUNTIFS(SYNTHESE!$D:$D,A73,SYNTHESE!$E:$E,$K$1,SYNTHESE!$F:$F,\">=1\")))","v":""},{"$f":"IF($Z$2=\"pok\",\"\",IF(A73=\"\",\"\",COUNTIFS(SYNTHESE!$D:$D,A73,SYNTHESE!$E:$E,$L$1,SYNTHESE!$F:$F,\">=1\")))","v":""},{"$f":"IF($Z$2=\"pok\",\"\",IF(A73=\"\",\"\",COUNTIFS(SYNTHESE!$D:$D,A73,SYNTHESE!$E:$E,$M$1,SYNTHESE!$F:$F,\">=1\")))","v":""},{"$f":"IF($Z$2=\"pok\",\"\",IF(A73=\"\",\"\",COUNTIFS(SYNTHESE!$D:$D,A73,SYNTHESE!$E:$E,$N$1,SYNTHESE!$F:$F,\">=1\")))","v":""},{"$f":"IF($Z$2=\"pok\",\"\",IF(A73=\"\",\"\",COUNTIFS(SYNTHESE!$D:$D,A73,SYNTHESE!$E:$E,$O$1,SYNTHESE!$F:$F,\">=1\")))","v":""},{"$f":"IF($Z$2=\"pok\",\"\",IF(A73=\"\",\"\",COUNTIFS(SYNTHESE!$D:$D,A73,SYNTHESE!$E:$E,$P$1,SYNTHESE!$F:$F,\">=1\")))","v":""},{"$f":"IF($Z$2=\"pok\",\"\",IF(A73=\"\",\"\",COUNTIFS(SYNTHESE!$D:$D,A73,SYNTHESE!$E:$E,$Q$1,SYNTHESE!$F:$F,\">=1\")))","v":""},{"$f":"IF($Z$2=\"pok\",\"\",IF(A73=\"\",\"\",COUNTIFS(SYNTHESE!$D:$D,A73,SYNTHESE!$E:$E,$R$1,SYNTHESE!$F:$F,\">=1\")))","v":""},{"$f":"IF($Z$2=\"pok\",\"\",IF(A73=\"\",\"\",COUNTIFS(SYNTHESE!$D:$D,A73,SYNTHESE!$E:$E,$S$1,SYNTHESE!$F:$F,\">=1\")))","v":""},{"$f":"IF($Z$2=\"pok\",\"\",IF(A73=\"\",\"\",COUNTIFS(SYNTHESE!$D:$D,A73,SYNTHESE!$E:$E,$T$1,SYNTHESE!$F:$F,\">=1\")))","v":""},{"$f":"IF($Z$2=\"pok\",\"\",IF(A73=\"\",\"\",COUNTIFS(SYNTHESE!$D:$D,A73,SYNTHESE!$E:$E,$U$1,SYNTHESE!$F:$F,\">=1\")))","v":""},{"$f":"IF($Z$2=\"pok\",\"\",IF(A73=\"\",\"\",COUNTIFS(SYNTHESE!$D:$D,A73,SYNTHESE!$E:$E,$V$1,SYNTHESE!$F:$F,\">=1\")))","v":""},{"$f":"IF($Z$2=\"pok\",\"\",IF(A73=\"\",\"\",COUNTIFS(SYNTHESE!$D:$D,A73,SYNTHESE!$E:$E,$W$1,SYNTHESE!$F:$F,\">=1\")))","v":""},{"$f":"IF($Z$2=\"pok\",\"\",IF(A73=\"\",\"\",COUNTIFS(SYNTHESE!$D:$D,A73,SYNTHESE!$E:$E,$X$1,SYNTHESE!$F:$F,\">=1\")))","v":""},{"$f":"IF($Z$2=\"pok\",\"\",IF(A73=\"\",\"\",COUNTIFS(SYNTHESE!$D:$D,A73,SYNTHESE!$E:$E,$Y$1,SYNTHESE!$F:$F,\">=1\")))","v":""},0]
[{"$f":"IF(ETUDIANTS!A74=\"\",\"\",ETUDIANTS!A74)","v":""},{"$f":"IF($Z$2=\"pok\",\"\",IF(A74=\"\",\"\",COUNTIFS(SYNTHESE!$D:$D,A74,SYNTHESE!$E:$E,$B$1,SYNTHESE!$F:$F,\">=1\")))","v":""},{"$f":"IF($Z$2=\"pok\",\"\",IF(A74=\"\",\"\",COUNTIFS(SYNTHESE!$D:$D,A74,SYNTHESE!$E:$E,$C$1,SYNTHESE!$F:$F,\">=1\")))","v":""},{"$f":"IF($Z$2=\"pok\",\"\",IF(A74=\"\",\"\",COUNTIFS(SYNTHESE!$D:$D,A74,SYNTHESE!$E:$E,$D$1,SYNTHESE!$F:$F,\">=1\")))","v":""},{"$f":"IF($Z$2=\"pok\",\"\",IF(A74=\"\",\"\",COUNTIFS(SYNTHESE!$D:$D,A74,SYNTHESE!$E:$E,$E$1,SYNTHESE!$F:$F,\">=1\")))","v":""},{"$f":"IF($Z$2=\"pok\",\"\",IF(A74=\"\",\"\",COUNTIFS(SYNTHESE!$D:$D,A74,SYNTHESE!$E:$E,$F$1,SYNTHESE!$F:$F,\">=1\")))","v":""},{"$f":"IF($Z$2=\"pok\",\"\",IF(A74=\"\",\"\",COUNTIFS(SYNTHESE!$D:$D,A74,SYNTHESE!$E:$E,$G$1,SYNTHESE!$F:$F,\">=1\")))","v":""},{"$f":"IF($Z$2=\"pok\",\"\",IF(A74=\"\",\"\",COUNTIFS(SYNTHESE!$D:$D,A74,SYNTHESE!$E:$E,$H$1,SYNTHESE!$F:$F,\">=1\")))","v":""},{"$f":"IF($Z$2=\"pok\",\"\",IF(A74=\"\",\"\",COUNTIFS(SYNTHESE!$D:$D,A74,SYNTHESE!$E:$E,$I$1,SYNTHESE!$F:$F,\">=1\")))","v":""},{"$f":"IF($Z$2=\"pok\",\"\",IF(A74=\"\",\"\",COUNTIFS(SYNTHESE!$D:$D,A74,SYNTHESE!$E:$E,$J$1,SYNTHESE!$F:$F,\">=1\")))","v":""},{"$f":"IF($Z$2=\"pok\",\"\",IF(A74=\"\",\"\",COUNTIFS(SYNTHESE!$D:$D,A74,SYNTHESE!$E:$E,$K$1,SYNTHESE!$F:$F,\">=1\")))","v":""},{"$f":"IF($Z$2=\"pok\",\"\",IF(A74=\"\",\"\",COUNTIFS(SYNTHESE!$D:$D,A74,SYNTHESE!$E:$E,$L$1,SYNTHESE!$F:$F,\">=1\")))","v":""},{"$f":"IF($Z$2=\"pok\",\"\",IF(A74=\"\",\"\",COUNTIFS(SYNTHESE!$D:$D,A74,SYNTHESE!$E:$E,$M$1,SYNTHESE!$F:$F,\">=1\")))","v":""},{"$f":"IF($Z$2=\"pok\",\"\",IF(A74=\"\",\"\",COUNTIFS(SYNTHESE!$D:$D,A74,SYNTHESE!$E:$E,$N$1,SYNTHESE!$F:$F,\">=1\")))","v":""},{"$f":"IF($Z$2=\"pok\",\"\",IF(A74=\"\",\"\",COUNTIFS(SYNTHESE!$D:$D,A74,SYNTHESE!$E:$E,$O$1,SYNTHESE!$F:$F,\">=1\")))","v":""},{"$f":"IF($Z$2=\"pok\",\"\",IF(A74=\"\",\"\",COUNTIFS(SYNTHESE!$D:$D,A74,SYNTHESE!$E:$E,$P$1,SYNTHESE!$F:$F,\">=1\")))","v":""},{"$f":"IF($Z$2=\"pok\",\"\",IF(A74=\"\",\"\",COUNTIFS(SYNTHESE!$D:$D,A74,SYNTHESE!$E:$E,$Q$1,SYNTHESE!$F:$F,\">=1\")))","v":""},{"$f":"IF($Z$2=\"pok\",\"\",IF(A74=\"\",\"\",COUNTIFS(SYNTHESE!$D:$D,A74,SYNTHESE!$E:$E,$R$1,SYNTHESE!$F:$F,\">=1\")))","v":""},{"$f":"IF($Z$2=\"pok\",\"\",IF(A74=\"\",\"\",COUNTIFS(SYNTHESE!$D:$D,A74,SYNTHESE!$E:$E,$S$1,SYNTHESE!$F:$F,\">=1\")))","v":""},{"$f":"IF($Z$2=\"pok\",\"\",IF(A74=\"\",\"\",COUNTIFS(SYNTHESE!$D:$D,A74,SYNTHESE!$E:$E,$T$1,SYNTHESE!$F:$F,\">=1\")))","v":""},{"$f":"IF($Z$2=\"pok\",\"\",IF(A74=\"\",\"\",COUNTIFS(SYNTHESE!$D:$D,A74,SYNTHESE!$E:$E,$U$1,SYNTHESE!$F:$F,\">=1\")))","v":""},{"$f":"IF($Z$2=\"pok\",\"\",IF(A74=\"\",\"\",COUNTIFS(SYNTHESE!$D:$D,A74,SYNTHESE!$E:$E,$V$1,SYNTHESE!$F:$F,\">=1\")))","v":""},{"$f":"IF($Z$2=\"pok\",\"\",IF(A74=\"\",\"\",COUNTIFS(SYNTHESE!$D:$D,A74,SYNTHESE!$E:$E,$W$1,SYNTHESE!$F:$F,\">=1\")))","v":""},{"$f":"IF($Z$2=\"pok\",\"\",IF(A74=\"\",\"\",COUNTIFS(SYNTHESE!$D:$D,A74,SYNTHESE!$E:$E,$X$1,SYNTHESE!$F:$F,\">=1\")))","v":""},{"$f":"IF($Z$2=\"pok\",\"\",IF(A74=\"\",\"\",COUNTIFS(SYNTHESE!$D:$D,A74,SYNTHESE!$E:$E,$Y$1,SYNTHESE!$F:$F,\">=1\")))","v":""},0]
[{"$f":"IF(ETUDIANTS!A75=\"\",\"\",ETUDIANTS!A75)","v":""},{"$f":"IF($Z$2=\"pok\",\"\",IF(A75=\"\",\"\",COUNTIFS(SYNTHESE!$D:$D,A75,SYNTHESE!$E:$E,$B$1,SYNTHESE!$F:$F,\">=1\")))","v":""},{"$f":"IF($Z$2=\"pok\",\"\",IF(A75=\"\",\"\",COUNTIFS(SYNTHESE!$D:$D,A75,SYNTHESE!$E:$E,$C$1,SYNTHESE!$F:$F,\">=1\")))","v":""},{"$f":"IF($Z$2=\"pok\",\"\",IF(A75=\"\",\"\",COUNTIFS(SYNTHESE!$D:$D,A75,SYNTHESE!$E:$E,$D$1,SYNTHESE!$F:$F,\">=1\")))","v":""},{"$f":"IF($Z$2=\"pok\",\"\",IF(A75=\"\",\"\",COUNTIFS(SYNTHESE!$D:$D,A75,SYNTHESE!$E:$E,$E$1,SYNTHESE!$F:$F,\">=1\")))","v":""},{"$f":"IF($Z$2=\"pok\",\"\",IF(A75=\"\",\"\",COUNTIFS(SYNTHESE!$D:$D,A75,SYNTHESE!$E:$E,$F$1,SYNTHESE!$F:$F,\">=1\")))","v":""},{"$f":"IF($Z$2=\"pok\",\"\",IF(A75=\"\",\"\",COUNTIFS(SYNTHESE!$D:$D,A75,SYNTHESE!$E:$E,$G$1,SYNTHESE!$F:$F,\">=1\")))","v":""},{"$f":"IF($Z$2=\"pok\",\"\",IF(A75=\"\",\"\",COUNTIFS(SYNTHESE!$D:$D,A75,SYNTHESE!$E:$E,$H$1,SYNTHESE!$F:$F,\">=1\")))","v":""},{"$f":"IF($Z$2=\"pok\",\"\",IF(A75=\"\",\"\",COUNTIFS(SYNTHESE!$D:$D,A75,SYNTHESE!$E:$E,$I$1,SYNTHESE!$F:$F,\">=1\")))","v":""},{"$f":"IF($Z$2=\"pok\",\"\",IF(A75=\"\",\"\",COUNTIFS(SYNTHESE!$D:$D,A75,SYNTHESE!$E:$E,$J$1,SYNTHESE!$F:$F,\">=1\")))","v":""},{"$f":"IF($Z$2=\"pok\",\"\",IF(A75=\"\",\"\",COUNTIFS(SYNTHESE!$D:$D,A75,SYNTHESE!$E:$E,$K$1,SYNTHESE!$F:$F,\">=1\")))","v":""},{"$f":"IF($Z$2=\"pok\",\"\",IF(A75=\"\",\"\",COUNTIFS(SYNTHESE!$D:$D,A75,SYNTHESE!$E:$E,$L$1,SYNTHESE!$F:$F,\">=1\")))","v":""},{"$f":"IF($Z$2=\"pok\",\"\",IF(A75=\"\",\"\",COUNTIFS(SYNTHESE!$D:$D,A75,SYNTHESE!$E:$E,$M$1,SYNTHESE!$F:$F,\">=1\")))","v":""},{"$f":"IF($Z$2=\"pok\",\"\",IF(A75=\"\",\"\",COUNTIFS(SYNTHESE!$D:$D,A75,SYNTHESE!$E:$E,$N$1,SYNTHESE!$F:$F,\">=1\")))","v":""},{"$f":"IF($Z$2=\"pok\",\"\",IF(A75=\"\",\"\",COUNTIFS(SYNTHESE!$D:$D,A75,SYNTHESE!$E:$E,$O$1,SYNTHESE!$F:$F,\">=1\")))","v":""},{"$f":"IF($Z$2=\"pok\",\"\",IF(A75=\"\",\"\",COUNTIFS(SYNTHESE!$D:$D,A75,SYNTHESE!$E:$E,$P$1,SYNTHESE!$F:$F,\">=1\")))","v":""},{"$f":"IF($Z$2=\"pok\",\"\",IF(A75=\"\",\"\",COUNTIFS(SYNTHESE!$D:$D,A75,SYNTHESE!$E:$E,$Q$1,SYNTHESE!$F:$F,\">=1\")))","v":""},{"$f":"IF($Z$2=\"pok\",\"\",IF(A75=\"\",\"\",COUNTIFS(SYNTHESE!$D:$D,A75,SYNTHESE!$E:$E,$R$1,SYNTHESE!$F:$F,\">=1\")))","v":""},{"$f":"IF($Z$2=\"pok\",\"\",IF(A75=\"\",\"\",COUNTIFS(SYNTHESE!$D:$D,A75,SYNTHESE!$E:$E,$S$1,SYNTHESE!$F:$F,\">=1\")))","v":""},{"$f":"IF($Z$2=\"pok\",\"\",IF(A75=\"\",\"\",COUNTIFS(SYNTHESE!$D:$D,A75,SYNTHESE!$E:$E,$T$1,SYNTHESE!$F:$F,\">=1\")))","v":""},{"$f":"IF($Z$2=\"pok\",\"\",IF(A75=\"\",\"\",COUNTIFS(SYNTHESE!$D:$D,A75,SYNTHESE!$E:$E,$U$1,SYNTHESE!$F:$F,\">=1\")))","v":""},{"$f":"IF($Z$2=\"pok\",\"\",IF(A75=\"\",\"\",COUNTIFS(SYNTHESE!$D:$D,A75,SYNTHESE!$E:$E,$V$1,SYNTHESE!$F:$F,\">=1\")))","v":""},{"$f":"IF($Z$2=\"pok\",\"\",IF(A75=\"\",\"\",COUNTIFS(SYNTHESE!$D:$D,A75,SYNTHESE!$E:$E,$W$1,SYNTHESE!$F:$F,\">=1\")))","v":""},{"$f":"IF($Z$2=\"pok\",\"\",IF(A75=\"\",\"\",COUNTIFS(SYNTHESE!$D:$D,A75,SYNTHESE!$E:$E,$X$1,SYNTHESE!$F:$F,\">=1\")))","v":""},{"$f":"IF($Z$2=\"pok\",\"\",IF(A75=\"\",\"\",COUNTIFS(SYNTHESE!$D:$D,A75,SYNTHESE!$E:$E,$Y$1,SYNTHESE!$F:$F,\">=1\")))","v":""},0]
[{"$f":"IF(ETUDIANTS!A76=\"\",\"\",ETUDIANTS!A76)","v":""},{"$f":"IF($Z$2=\"pok\",\"\",IF(A76=\"\",\"\",COUNTIFS(SYNTHESE!$D:$D,A76,SYNTHESE!$E:$E,$B$1,SYNTHESE!$F:$F,\">=1\")))","v":""},{"$f":"IF($Z$2=\"pok\",\"\",IF(A76=\"\",\"\",COUNTIFS(SYNTHESE!$D:$D,A76,SYNTHESE!$E:$E,$C$1,SYNTHESE!$F:$F,\">=1\")))","v":""},{"$f":"IF($Z$2=\"pok\",\"\",IF(A76=\"\",\"\",COUNTIFS(SYNTHESE!$D:$D,A76,SYNTHESE!$E:$E,$D$1,SYNTHESE!$F:$F,\">=1\")))","v":""},{"$f":"IF($Z$2=\"pok\",\"\",IF(A76=\"\",\"\",COUNTIFS(SYNTHESE!$D:$D,A76,SYNTHESE!$E:$E,$E$1,SYNTHESE!$F:$F,\">=1\")))","v":""},{"$f":"IF($Z$2=\"pok\",\"\",IF(A76=\"\",\"\",COUNTIFS(SYNTHESE!$D:$D,A76,SYNTHESE!$E:$E,$F$1,SYNTHESE!$F:$F,\">=1\")))","v":""},{"$f":"IF($Z$2=\"pok\",\"\",IF(A76=\"\",\"\",COUNTIFS(SYNTHESE!$D:$D,A76,SYNTHESE!$E:$E,$G$1,SYNTHESE!$F:$F,\">=1\")))","v":""},{"$f":"IF($Z$2=\"pok\",\"\",IF(A76=\"\",\"\",COUNTIFS(SYNTHESE!$D:$D,A76,SYNTHESE!$E:$E,$H$1,SYNTHESE!$F:$F,\">=1\")))","v":""},{"$f":"IF($Z$2=\"pok\",\"\",IF(A76=\"\",\"\",COUNTIFS(SYNTHESE!$D:$D,A76,SYNTHESE!$E:$E,$I$1,SYNTHESE!$F:$F,\">=1\")))","v":""},{"$f":"IF($Z$2=\"pok\",\"\",IF(A76=\"\",\"\",COUNTIFS(SYNTHESE!$D:$D,A76,SYNTHESE!$E:$E,$J$1,SYNTHESE!$F:$F,\">=1\")))","v":""},{"$f":"IF($Z$2=\"pok\",\"\",IF(A76=\"\",\"\",COUNTIFS(SYNTHESE!$D:$D,A76,SYNTHESE!$E:$E,$K$1,SYNTHESE!$F:$F,\">=1\")))","v":""},{"$f":"IF($Z$2=\"pok\",\"\",IF(A76=\"\",\"\",COUNTIFS(SYNTHESE!$D:$D,A76,SYNTHESE!$E:$E,$L$1,SYNTHESE!$F:$F,\">=1\")))","v":""},{"$f":"IF($Z$2=\"pok\",\"\",IF(A76=\"\",\"\",COUNTIFS(SYNTHESE!$D:$D,A76,SYNTHESE!$E:$E,$M$1,SYNTHESE!$F:$F,\">=1\")))","v":""},{"$f":"IF($Z$2=\"pok\",\"\",IF(A76=\"\",\"\",COUNTIFS(SYNTHESE!$D:$D,A76,SYNTHESE!$E:$E,$N$1,SYNTHESE!$F:$F,\">=1\")))","v":""},{"$f":"IF($Z$2=\"pok\",\"\",IF(A76=\"\",\"\",COUNTIFS(SYNTHESE!$D:$D,A76,SYNTHESE!$E:$E,$O$1,SYNTHESE!$F:$F,\">=1\")))","v":""},{"$f":"IF($Z$2=\"pok\",\"\",IF(A76=\"\",\"\",COUNTIFS(SYNTHESE!$D:$D,A76,SYNTHESE!$E:$E,$P$1,SYNTHESE!$F:$F,\">=1\")))","v":""},{"$f":"IF($Z$2=\"pok\",\"\",IF(A76=\"\",\"\",COUNTIFS(SYNTHESE!$D:$D,A76,SYNTHESE!$E:$E,$Q$1,SYNTHESE!$F:$F,\">=1\")))","v":""},{"$f":"IF($Z$2=\"pok\",\"\",IF(A76=\"\",\"\",COUNTIFS(SYNTHESE!$D:$D,A76,SYNTHESE!$E:$E,$R$1,SYNTHESE!$F:$F,\">=1\")))","v":""},{"$f":"IF($Z$2=\"pok\",\"\",IF(A76=\"\",\"\",COUNTIFS(SYNTHESE!$D:$D,A76,SYNTHESE!$E:$E,$S$1,SYNTHESE!$F:$F,\">=1\")))","v":""},{"$f":"IF($Z$2=\"pok\",\"\",IF(A76=\"\",\"\",COUNTIFS(SYNTHESE!$D:$D,A76,SYNTHESE!$E:$E,$T$1,SYNTHESE!$F:$F,\">=1\")))","v":""},{"$f":"IF($Z$2=\"pok\",\"\",IF(A76=\"\",\"\",COUNTIFS(SYNTHESE!$D:$D,A76,SYNTHESE!$E:$E,$U$1,SYNTHESE!$F:$F,\">=1\")))","v":""},{"$f":"IF($Z$2=\"pok\",\"\",IF(A76=\"\",\"\",COUNTIFS(SYNTHESE!$D:$D,A76,SYNTHESE!$E:$E,$V$1,SYNTHESE!$F:$F,\">=1\")))","v":""},{"$f":"IF($Z$2=\"pok\",\"\",IF(A76=\"\",\"\",COUNTIFS(SYNTHESE!$D:$D,A76,SYNTHESE!$E:$E,$W$1,SYNTHESE!$F:$F,\">=1\")))","v":""},{"$f":"IF($Z$2=\"pok\",\"\",IF(A76=\"\",\"\",COUNTIFS(SYNTHESE!$D:$D,A76,SYNTHESE!$E:$E,$X$1,SYNTHESE!$F:$F,\">=1\")))","v":""},{"$f":"IF($Z$2=\"pok\",\"\",IF(A76=\"\",\"\",COUNTIFS(SYNTHESE!$D:$D,A76,SYNTHESE!$E:$E,$Y$1,SYNTHESE!$F:$F,\">=1\")))","v":""},0]
[{"$f":"IF(ETUDIANTS!A77=\"\",\"\",ETUDIANTS!A77)","v":""},{"$f":"IF($Z$2=\"pok\",\"\",IF(A77=\"\",\"\",COUNTIFS(SYNTHESE!$D:$D,A77,SYNTHESE!$E:$E,$B$1,SYNTHESE!$F:$F,\">=1\")))","v":""},{"$f":"IF($Z$2=\"pok\",\"\",IF(A77=\"\",\"\",COUNTIFS(SYNTHESE!$D:$D,A77,SYNTHESE!$E:$E,$C$1,SYNTHESE!$F:$F,\">=1\")))","v":""},{"$f":"IF($Z$2=\"pok\",\"\",IF(A77=\"\",\"\",COUNTIFS(SYNTHESE!$D:$D,A77,SYNTHESE!$E:$E,$D$1,SYNTHESE!$F:$F,\">=1\")))","v":""},{"$f":"IF($Z$2=\"pok\",\"\",IF(A77=\"\",\"\",COUNTIFS(SYNTHESE!$D:$D,A77,SYNTHESE!$E:$E,$E$1,SYNTHESE!$F:$F,\">=1\")))","v":""},{"$f":"IF($Z$2=\"pok\",\"\",IF(A77=\"\",\"\",COUNTIFS(SYNTHESE!$D:$D,A77,SYNTHESE!$E:$E,$F$1,SYNTHESE!$F:$F,\">=1\")))","v":""},{"$f":"IF($Z$2=\"pok\",\"\",IF(A77=\"\",\"\",COUNTIFS(SYNTHESE!$D:$D,A77,SYNTHESE!$E:$E,$G$1,SYNTHESE!$F:$F,\">=1\")))","v":""},{"$f":"IF($Z$2=\"pok\",\"\",IF(A77=\"\",\"\",COUNTIFS(SYNTHESE!$D:$D,A77,SYNTHESE!$E:$E,$H$1,SYNTHESE!$F:$F,\">=1\")))","v":""},{"$f":"IF($Z$2=\"pok\",\"\",IF(A77=\"\",\"\",COUNTIFS(SYNTHESE!$D:$D,A77,SYNTHESE!$E:$E,$I$1,SYNTHESE!$F:$F,\">=1\")))","v":""},{"$f":"IF($Z$2=\"pok\",\"\",IF(A77=\"\",\"\",COUNTIFS(SYNTHESE!$D:$D,A77,SYNTHESE!$E:$E,$J$1,SYNTHESE!$F:$F,\">=1\")))","v":""},{"$f":"IF($Z$2=\"pok\",\"\",IF(A77=\"\",\"\",COUNTIFS(SYNTHESE!$D:$D,A77,SYNTHESE!$E:$E,$K$1,SYNTHESE!$F:$F,\">=1\")))","v":""},{"$f":"IF($Z$2=\"pok\",\"\",IF(A77=\"\",\"\",COUNTIFS(SYNTHESE!$D:$D,A77,SYNTHESE!$E:$E,$L$1,SYNTHESE!$F:$F,\">=1\")))","v":""},{"$f":"IF($Z$2=\"pok\",\"\",IF(A77=\"\",\"\",COUNTIFS(SYNTHESE!$D:$D,A77,SYNTHESE!$E:$E,$M$1,SYNTHESE!$F:$F,\">=1\")))","v":""},{"$f":"IF($Z$2=\"pok\",\"\",IF(A77=\"\",\"\",COUNTIFS(SYNTHESE!$D:$D,A77,SYNTHESE!$E:$E,$N$1,SYNTHESE!$F:$F,\">=1\")))","v":""},{"$f":"IF($Z$2=\"pok\",\"\",IF(A77=\"\",\"\",COUNTIFS(SYNTHESE!$D:$D,A77,SYNTHESE!$E:$E,$O$1,SYNTHESE!$F:$F,\">=1\")))","v":""},{"$f":"IF($Z$2=\"pok\",\"\",IF(A77=\"\",\"\",COUNTIFS(SYNTHESE!$D:$D,A77,SYNTHESE!$E:$E,$P$1,SYNTHESE!$F:$F,\">=1\")))","v":""},{"$f":"IF($Z$2=\"pok\",\"\",IF(A77=\"\",\"\",COUNTIFS(SYNTHESE!$D:$D,A77,SYNTHESE!$E:$E,$Q$1,SYNTHESE!$F:$F,\">=1\")))","v":""},{"$f":"IF($Z$2=\"pok\",\"\",IF(A77=\"\",\"\",COUNTIFS(SYNTHESE!$D:$D,A77,SYNTHESE!$E:$E,$R$1,SYNTHESE!$F:$F,\">=1\")))","v":""},{"$f":"IF($Z$2=\"pok\",\"\",IF(A77=\"\",\"\",COUNTIFS(SYNTHESE!$D:$D,A77,SYNTHESE!$E:$E,$S$1,SYNTHESE!$F:$F,\">=1\")))","v":""},{"$f":"IF($Z$2=\"pok\",\"\",IF(A77=\"\",\"\",COUNTIFS(SYNTHESE!$D:$D,A77,SYNTHESE!$E:$E,$T$1,SYNTHESE!$F:$F,\">=1\")))","v":""},{"$f":"IF($Z$2=\"pok\",\"\",IF(A77=\"\",\"\",COUNTIFS(SYNTHESE!$D:$D,A77,SYNTHESE!$E:$E,$U$1,SYNTHESE!$F:$F,\">=1\")))","v":""},{"$f":"IF($Z$2=\"pok\",\"\",IF(A77=\"\",\"\",COUNTIFS(SYNTHESE!$D:$D,A77,SYNTHESE!$E:$E,$V$1,SYNTHESE!$F:$F,\">=1\")))","v":""},{"$f":"IF($Z$2=\"pok\",\"\",IF(A77=\"\",\"\",COUNTIFS(SYNTHESE!$D:$D,A77,SYNTHESE!$E:$E,$W$1,SYNTHESE!$F:$F,\">=1\")))","v":""},{"$f":"IF($Z$2=\"pok\",\"\",IF(A77=\"\",\"\",COUNTIFS(SYNTHESE!$D:$D,A77,SYNTHESE!$E:$E,$X$1,SYNTHESE!$F:$F,\">=1\")))","v":""},{"$f":"IF($Z$2=\"pok\",\"\",IF(A77=\"\",\"\",COUNTIFS(SYNTHESE!$D:$D,A77,SYNTHESE!$E:$E,$Y$1,SYNTHESE!$F:$F,\">=1\")))","v":""},0]
[{"$f":"IF(ETUDIANTS!A78=\"\",\"\",ETUDIANTS!A78)","v":""},{"$f":"IF($Z$2=\"pok\",\"\",IF(A78=\"\",\"\",COUNTIFS(SYNTHESE!$D:$D,A78,SYNTHESE!$E:$E,$B$1,SYNTHESE!$F:$F,\">=1\")))","v":""},{"$f":"IF($Z$2=\"pok\",\"\",IF(A78=\"\",\"\",COUNTIFS(SYNTHESE!$D:$D,A78,SYNTHESE!$E:$E,$C$1,SYNTHESE!$F:$F,\">=1\")))","v":""},{"$f":"IF($Z$2=\"pok\",\"\",IF(A78=\"\",\"\",COUNTIFS(SYNTHESE!$D:$D,A78,SYNTHESE!$E:$E,$D$1,SYNTHESE!$F:$F,\">=1\")))","v":""},{"$f":"IF($Z$2=\"pok\",\"\",IF(A78=\"\",\"\",COUNTIFS(SYNTHESE!$D:$D,A78,SYNTHESE!$E:$E,$E$1,SYNTHESE!$F:$F,\">=1\")))","v":""},{"$f":"IF($Z$2=\"pok\",\"\",IF(A78=\"\",\"\",COUNTIFS(SYNTHESE!$D:$D,A78,SYNTHESE!$E:$E,$F$1,SYNTHESE!$F:$F,\">=1\")))","v":""},{"$f":"IF($Z$2=\"pok\",\"\",IF(A78=\"\",\"\",COUNTIFS(SYNTHESE!$D:$D,A78,SYNTHESE!$E:$E,$G$1,SYNTHESE!$F:$F,\">=1\")))","v":""},{"$f":"IF($Z$2=\"pok\",\"\",IF(A78=\"\",\"\",COUNTIFS(SYNTHESE!$D:$D,A78,SYNTHESE!$E:$E,$H$1,SYNTHESE!$F:$F,\">=1\")))","v":""},{"$f":"IF($Z$2=\"pok\",\"\",IF(A78=\"\",\"\",COUNTIFS(SYNTHESE!$D:$D,A78,SYNTHESE!$E:$E,$I$1,SYNTHESE!$F:$F,\">=1\")))","v":""},{"$f":"IF($Z$2=\"pok\",\"\",IF(A78=\"\",\"\",COUNTIFS(SYNTHESE!$D:$D,A78,SYNTHESE!$E:$E,$J$1,SYNTHESE!$F:$F,\">=1\")))","v":""},{"$f":"IF($Z$2=\"pok\",\"\",IF(A78=\"\",\"\",COUNTIFS(SYNTHESE!$D:$D,A78,SYNTHESE!$E:$E,$K$1,SYNTHESE!$F:$F,\">=1\")))","v":""},{"$f":"IF($Z$2=\"pok\",\"\",IF(A78=\"\",\"\",COUNTIFS(SYNTHESE!$D:$D,A78,SYNTHESE!$E:$E,$L$1,SYNTHESE!$F:$F,\">=1\")))","v":""},{"$f":"IF($Z$2=\"pok\",\"\",IF(A78=\"\",\"\",COUNTIFS(SYNTHESE!$D:$D,A78,SYNTHESE!$E:$E,$M$1,SYNTHESE!$F:$F,\">=1\")))","v":""},{"$f":"IF($Z$2=\"pok\",\"\",IF(A78=\"\",\"\",COUNTIFS(SYNTHESE!$D:$D,A78,SYNTHESE!$E:$E,$N$1,SYNTHESE!$F:$F,\">=1\")))","v":""},{"$f":"IF($Z$2=\"pok\",\"\",IF(A78=\"\",\"\",COUNTIFS(SYNTHESE!$D:$D,A78,SYNTHESE!$E:$E,$O$1,SYNTHESE!$F:$F,\">=1\")))","v":""},{"$f":"IF($Z$2=\"pok\",\"\",IF(A78=\"\",\"\",COUNTIFS(SYNTHESE!$D:$D,A78,SYNTHESE!$E:$E,$P$1,SYNTHESE!$F:$F,\">=1\")))","v":""},{"$f":"IF($Z$2=\"pok\",\"\",IF(A78=\"\",\"\",COUNTIFS(SYNTHESE!$D:$D,A78,SYNTHESE!$E:$E,$Q$1,SYNTHESE!$F:$F,\">=1\")))","v":""},{"$f":"IF($Z$2=\"pok\",\"\",IF(A78=\"\",\"\",COUNTIFS(SYNTHESE!$D:$D,A78,SYNTHESE!$E:$E,$R$1,SYNTHESE!$F:$F,\">=1\")))","v":""},{"$f":"IF($Z$2=\"pok\",\"\",IF(A78=\"\",\"\",COUNTIFS(SYNTHESE!$D:$D,A78,SYNTHESE!$E:$E,$S$1,SYNTHESE!$F:$F,\">=1\")))","v":""},{"$f":"IF($Z$2=\"pok\",\"\",IF(A78=\"\",\"\",COUNTIFS(SYNTHESE!$D:$D,A78,SYNTHESE!$E:$E,$T$1,SYNTHESE!$F:$F,\">=1\")))","v":""},{"$f":"IF($Z$2=\"pok\",\"\",IF(A78=\"\",\"\",COUNTIFS(SYNTHESE!$D:$D,A78,SYNTHESE!$E:$E,$U$1,SYNTHESE!$F:$F,\">=1\")))","v":""},{"$f":"IF($Z$2=\"pok\",\"\",IF(A78=\"\",\"\",COUNTIFS(SYNTHESE!$D:$D,A78,SYNTHESE!$E:$E,$V$1,SYNTHESE!$F:$F,\">=1\")))","v":""},{"$f":"IF($Z$2=\"pok\",\"\",IF(A78=\"\",\"\",COUNTIFS(SYNTHESE!$D:$D,A78,SYNTHESE!$E:$E,$W$1,SYNTHESE!$F:$F,\">=1\")))","v":""},{"$f":"IF($Z$2=\"pok\",\"\",IF(A78=\"\",\"\",COUNTIFS(SYNTHESE!$D:$D,A78,SYNTHESE!$E:$E,$X$1,SYNTHESE!$F:$F,\">=1\")))","v":""},{"$f":"IF($Z$2=\"pok\",\"\",IF(A78=\"\",\"\",COUNTIFS(SYNTHESE!$D:$D,A78,SYNTHESE!$E:$E,$Y$1,SYNTHESE!$F:$F,\">=1\")))","v":""},0]
[{"$f":"IF(ETUDIANTS!A79=\"\",\"\",ETUDIANTS!A79)","v":""},{"$f":"IF($Z$2=\"pok\",\"\",IF(A79=\"\",\"\",COUNTIFS(SYNTHESE!$D:$D,A79,SYNTHESE!$E:$E,$B$1,SYNTHESE!$F:$F,\">=1\")))","v":""},{"$f":"IF($Z$2=\"pok\",\"\",IF(A79=\"\",\"\",COUNTIFS(SYNTHESE!$D:$D,A79,SYNTHESE!$E:$E,$C$1,SYNTHESE!$F:$F,\">=1\")))","v":""},{"$f":"IF($Z$2=\"pok\",\"\",IF(A79=\"\",\"\",COUNTIFS(SYNTHESE!$D:$D,A79,SYNTHESE!$E:$E,$D$1,SYNTHESE!$F:$F,\">=1\")))","v":""},{"$f":"IF($Z$2=\"pok\",\"\",IF(A79=\"\",\"\",COUNTIFS(SYNTHESE!$D:$D,A79,SYNTHESE!$E:$E,$E$1,SYNTHESE!$F:$F,\">=1\")))","v":""},{"$f":"IF($Z$2=\"pok\",\"\",IF(A79=\"\",\"\",COUNTIFS(SYNTHESE!$D:$D,A79,SYNTHESE!$E:$E,$F$1,SYNTHESE!$F:$F,\">=1\")))","v":""},{"$f":"IF($Z$2=\"pok\",\"\",IF(A79=\"\",\"\",COUNTIFS(SYNTHESE!$D:$D,A79,SYNTHESE!$E:$E,$G$1,SYNTHESE!$F:$F,\">=1\")))","v":""},{"$f":"IF($Z$2=\"pok\",\"\",IF(A79=\"\",\"\",COUNTIFS(SYNTHESE!$D:$D,A79,SYNTHESE!$E:$E,$H$1,SYNTHESE!$F:$F,\">=1\")))","v":""},{"$f":"IF($Z$2=\"pok\",\"\",IF(A79=\"\",\"\",COUNTIFS(SYNTHESE!$D:$D,A79,SYNTHESE!$E:$E,$I$1,SYNTHESE!$F:$F,\">=1\")))","v":""},{"$f":"IF($Z$2=\"pok\",\"\",IF(A79=\"\",\"\",COUNTIFS(SYNTHESE!$D:$D,A79,SYNTHESE!$E:$E,$J$1,SYNTHESE!$F:$F,\">=1\")))","v":""},{"$f":"IF($Z$2=\"pok\",\"\",IF(A79=\"\",\"\",COUNTIFS(SYNTHESE!$D:$D,A79,SYNTHESE!$E:$E,$K$1,SYNTHESE!$F:$F,\">=1\")))","v":""},{"$f":"IF($Z$2=\"pok\",\"\",IF(A79=\"\",\"\",COUNTIFS(SYNTHESE!$D:$D,A79,SYNTHESE!$E:$E,$L$1,SYNTHESE!$F:$F,\">=1\")))","v":""},{"$f":"IF($Z$2=\"pok\",\"\",IF(A79=\"\",\"\",COUNTIFS(SYNTHESE!$D:$D,A79,SYNTHESE!$E:$E,$M$1,SYNTHESE!$F:$F,\">=1\")))","v":""},{"$f":"IF($Z$2=\"pok\",\"\",IF(A79=\"\",\"\",COUNTIFS(SYNTHESE!$D:$D,A79,SYNTHESE!$E:$E,$N$1,SYNTHESE!$F:$F,\">=1\")))","v":""},{"$f":"IF($Z$2=\"pok\",\"\",IF(A79=\"\",\"\",COUNTIFS(SYNTHESE!$D:$D,A79,SYNTHESE!$E:$E,$O$1,SYNTHESE!$F:$F,\">=1\")))","v":""},{"$f":"IF($Z$2=\"pok\",\"\",IF(A79=\"\",\"\",COUNTIFS(SYNTHESE!$D:$D,A79,SYNTHESE!$E:$E,$P$1,SYNTHESE!$F:$F,\">=1\")))","v":""},{"$f":"IF($Z$2=\"pok\",\"\",IF(A79=\"\",\"\",COUNTIFS(SYNTHESE!$D:$D,A79,SYNTHESE!$E:$E,$Q$1,SYNTHESE!$F:$F,\">=1\")))","v":""},{"$f":"IF($Z$2=\"pok\",\"\",IF(A79=\"\",\"\",COUNTIFS(SYNTHESE!$D:$D,A79,SYNTHESE!$E:$E,$R$1,SYNTHESE!$F:$F,\">=1\")))","v":""},{"$f":"IF($Z$2=\"pok\",\"\",IF(A79=\"\",\"\",COUNTIFS(SYNTHESE!$D:$D,A79,SYNTHESE!$E:$E,$S$1,SYNTHESE!$F:$F,\">=1\")))","v":""},{"$f":"IF($Z$2=\"pok\",\"\",IF(A79=\"\",\"\",COUNTIFS(SYNTHESE!$D:$D,A79,SYNTHESE!$E:$E,$T$1,SYNTHESE!$F:$F,\">=1\")))","v":""},{"$f":"IF($Z$2=\"pok\",\"\",IF(A79=\"\",\"\",COUNTIFS(SYNTHESE!$D:$D,A79,SYNTHESE!$E:$E,$U$1,SYNTHESE!$F:$F,\">=1\")))","v":""},{"$f":"IF($Z$2=\"pok\",\"\",IF(A79=\"\",\"\",COUNTIFS(SYNTHESE!$D:$D,A79,SYNTHESE!$E:$E,$V$1,SYNTHESE!$F:$F,\">=1\")))","v":""},{"$f":"IF($Z$2=\"pok\",\"\",IF(A79=\"\",\"\",COUNTIFS(SYNTHESE!$D:$D,A79,SYNTHESE!$E:$E,$W$1,SYNTHESE!$F:$F,\">=1\")))","v":""},{"$f":"IF($Z$2=\"pok\",\"\",IF(A79=\"\",\"\",COUNTIFS(SYNTHESE!$D:$D,A79,SYNTHESE!$E:$E,$X$1,SYNTHESE!$F:$F,\">=1\")))","v":""},{"$f":"IF($Z$2=\"pok\",\"\",IF(A79=\"\",\"\",COUNTIFS(SYNTHESE!$D:$D,A79,SYNTHESE!$E:$E,$Y$1,SYNTHESE!$F:$F,\">=1\")))","v":""},0]
[{"$f":"IF(ETUDIANTS!A80=\"\",\"\",ETUDIANTS!A80)","v":""},{"$f":"IF($Z$2=\"pok\",\"\",IF(A80=\"\",\"\",COUNTIFS(SYNTHESE!$D:$D,A80,SYNTHESE!$E:$E,$B$1,SYNTHESE!$F:$F,\">=1\")))","v":""},{"$f":"IF($Z$2=\"pok\",\"\",IF(A80=\"\",\"\",COUNTIFS(SYNTHESE!$D:$D,A80,SYNTHESE!$E:$E,$C$1,SYNTHESE!$F:$F,\">=1\")))","v":""},{"$f":"IF($Z$2=\"pok\",\"\",IF(A80=\"\",\"\",COUNTIFS(SYNTHESE!$D:$D,A80,SYNTHESE!$E:$E,$D$1,SYNTHESE!$F:$F,\">=1\")))","v":""},{"$f":"IF($Z$2=\"pok\",\"\",IF(A80=\"\",\"\",COUNTIFS(SYNTHESE!$D:$D,A80,SYNTHESE!$E:$E,$E$1,SYNTHESE!$F:$F,\">=1\")))","v":""},{"$f":"IF($Z$2=\"pok\",\"\",IF(A80=\"\",\"\",COUNTIFS(SYNTHESE!$D:$D,A80,SYNTHESE!$E:$E,$F$1,SYNTHESE!$F:$F,\">=1\")))","v":""},{"$f":"IF($Z$2=\"pok\",\"\",IF(A80=\"\",\"\",COUNTIFS(SYNTHESE!$D:$D,A80,SYNTHESE!$E:$E,$G$1,SYNTHESE!$F:$F,\">=1\")))","v":""},{"$f":"IF($Z$2=\"pok\",\"\",IF(A80=\"\",\"\",COUNTIFS(SYNTHESE!$D:$D,A80,SYNTHESE!$E:$E,$H$1,SYNTHESE!$F:$F,\">=1\")))","v":""},{"$f":"IF($Z$2=\"pok\",\"\",IF(A80=\"\",\"\",COUNTIFS(SYNTHESE!$D:$D,A80,SYNTHESE!$E:$E,$I$1,SYNTHESE!$F:$F,\">=1\")))","v":""},{"$f":"IF($Z$2=\"pok\",\"\",IF(A80=\"\",\"\",COUNTIFS(SYNTHESE!$D:$D,A80,SYNTHESE!$E:$E,$J$1,SYNTHESE!$F:$F,\">=1\")))","v":""},{"$f":"IF($Z$2=\"pok\",\"\",IF(A80=\"\",\"\",COUNTIFS(SYNTHESE!$D:$D,A80,SYNTHESE!$E:$E,$K$1,SYNTHESE!$F:$F,\">=1\")))","v":""},{"$f":"IF($Z$2=\"pok\",\"\",IF(A80=\"\",\"\",COUNTIFS(SYNTHESE!$D:$D,A80,SYNTHESE!$E:$E,$L$1,SYNTHESE!$F:$F,\">=1\")))","v":""},{"$f":"IF($Z$2=\"pok\",\"\",IF(A80=\"\",\"\",COUNTIFS(SYNTHESE!$D:$D,A80,SYNTHESE!$E:$E,$M$1,SYNTHESE!$F:$F,\">=1\")))","v":""},{"$f":"IF($Z$2=\"pok\",\"\",IF(A80=\"\",\"\",COUNTIFS(SYNTHESE!$D:$D,A80,SYNTHESE!$E:$E,$N$1,SYNTHESE!$F:$F,\">=1\")))","v":""},{"$f":"IF($Z$2=\"pok\",\"\",IF(A80=\"\",\"\",COUNTIFS(SYNTHESE!$D:$D,A80,SYNTHESE!$E:$E,$O$1,SYNTHESE!$F:$F,\">=1\")))","v":""},{"$f":"IF($Z$2=\"pok\",\"\",IF(A80=\"\",\"\",COUNTIFS(SYNTHESE!$D:$D,A80,SYNTHESE!$E:$E,$P$1,SYNTHESE!$F:$F,\">=1\")))","v":""},{"$f":"IF($Z$2=\"pok\",\"\",IF(A80=\"\",\"\",COUNTIFS(SYNTHESE!$D:$D,A80,SYNTHESE!$E:$E,$Q$1,SYNTHESE!$F:$F,\">=1\")))","v":""},{"$f":"IF($Z$2=\"pok\",\"\",IF(A80=\"\",\"\",COUNTIFS(SYNTHESE!$D:$D,A80,SYNTHESE!$E:$E,$R$1,SYNTHESE!$F:$F,\">=1\")))","v":""},{"$f":"IF($Z$2=\"pok\",\"\",IF(A80=\"\",\"\",COUNTIFS(SYNTHESE!$D:$D,A80,SYNTHESE!$E:$E,$S$1,SYNTHESE!$F:$F,\">=1\")))","v":""},{"$f":"IF($Z$2=\"pok\",\"\",IF(A80=\"\",\"\",COUNTIFS(SYNTHESE!$D:$D,A80,SYNTHESE!$E:$E,$T$1,SYNTHESE!$F:$F,\">=1\")))","v":""},{"$f":"IF($Z$2=\"pok\",\"\",IF(A80=\"\",\"\",COUNTIFS(SYNTHESE!$D:$D,A80,SYNTHESE!$E:$E,$U$1,SYNTHESE!$F:$F,\">=1\")))","v":""},{"$f":"IF($Z$2=\"pok\",\"\",IF(A80=\"\",\"\",COUNTIFS(SYNTHESE!$D:$D,A80,SYNTHESE!$E:$E,$V$1,SYNTHESE!$F:$F,\">=1\")))","v":""},{"$f":"IF($Z$2=\"pok\",\"\",IF(A80=\"\",\"\",COUNTIFS(SYNTHESE!$D:$D,A80,SYNTHESE!$E:$E,$W$1,SYNTHESE!$F:$F,\">=1\")))","v":""},{"$f":"IF($Z$2=\"pok\",\"\",IF(A80=\"\",\"\",COUNTIFS(SYNTHESE!$D:$D,A80,SYNTHESE!$E:$E,$X$1,SYNTHESE!$F:$F,\">=1\")))","v":""},{"$f":"IF($Z$2=\"pok\",\"\",IF(A80=\"\",\"\",COUNTIFS(SYNTHESE!$D:$D,A80,SYNTHESE!$E:$E,$Y$1,SYNTHESE!$F:$F,\">=1\")))","v":""},0]
[{"$f":"IF(ETUDIANTS!A81=\"\",\"\",ETUDIANTS!A81)","v":""},{"$f":"IF($Z$2=\"pok\",\"\",IF(A81=\"\",\"\",COUNTIFS(SYNTHESE!$D:$D,A81,SYNTHESE!$E:$E,$B$1,SYNTHESE!$F:$F,\">=1\")))","v":""},{"$f":"IF($Z$2=\"pok\",\"\",IF(A81=\"\",\"\",COUNTIFS(SYNTHESE!$D:$D,A81,SYNTHESE!$E:$E,$C$1,SYNTHESE!$F:$F,\">=1\")))","v":""},{"$f":"IF($Z$2=\"pok\",\"\",IF(A81=\"\",\"\",COUNTIFS(SYNTHESE!$D:$D,A81,SYNTHESE!$E:$E,$D$1,SYNTHESE!$F:$F,\">=1\")))","v":""},{"$f":"IF($Z$2=\"pok\",\"\",IF(A81=\"\",\"\",COUNTIFS(SYNTHESE!$D:$D,A81,SYNTHESE!$E:$E,$E$1,SYNTHESE!$F:$F,\">=1\")))","v":""},{"$f":"IF($Z$2=\"pok\",\"\",IF(A81=\"\",\"\",COUNTIFS(SYNTHESE!$D:$D,A81,SYNTHESE!$E:$E,$F$1,SYNTHESE!$F:$F,\">=1\")))","v":""},{"$f":"IF($Z$2=\"pok\",\"\",IF(A81=\"\",\"\",COUNTIFS(SYNTHESE!$D:$D,A81,SYNTHESE!$E:$E,$G$1,SYNTHESE!$F:$F,\">=1\")))","v":""},{"$f":"IF($Z$2=\"pok\",\"\",IF(A81=\"\",\"\",COUNTIFS(SYNTHESE!$D:$D,A81,SYNTHESE!$E:$E,$H$1,SYNTHESE!$F:$F,\">=1\")))","v":""},{"$f":"IF($Z$2=\"pok\",\"\",IF(A81=\"\",\"\",COUNTIFS(SYNTHESE!$D:$D,A81,SYNTHESE!$E:$E,$I$1,SYNTHESE!$F:$F,\">=1\")))","v":""},{"$f":"IF($Z$2=\"pok\",\"\",IF(A81=\"\",\"\",COUNTIFS(SYNTHESE!$D:$D,A81,SYNTHESE!$E:$E,$J$1,SYNTHESE!$F:$F,\">=1\")))","v":""},{"$f":"IF($Z$2=\"pok\",\"\",IF(A81=\"\",\"\",COUNTIFS(SYNTHESE!$D:$D,A81,SYNTHESE!$E:$E,$K$1,SYNTHESE!$F:$F,\">=1\")))","v":""},{"$f":"IF($Z$2=\"pok\",\"\",IF(A81=\"\",\"\",COUNTIFS(SYNTHESE!$D:$D,A81,SYNTHESE!$E:$E,$L$1,SYNTHESE!$F:$F,\">=1\")))","v":""},{"$f":"IF($Z$2=\"pok\",\"\",IF(A81=\"\",\"\",COUNTIFS(SYNTHESE!$D:$D,A81,SYNTHESE!$E:$E,$M$1,SYNTHESE!$F:$F,\">=1\")))","v":""},{"$f":"IF($Z$2=\"pok\",\"\",IF(A81=\"\",\"\",COUNTIFS(SYNTHESE!$D:$D,A81,SYNTHESE!$E:$E,$N$1,SYNTHESE!$F:$F,\">=1\")))","v":""},{"$f":"IF($Z$2=\"pok\",\"\",IF(A81=\"\",\"\",COUNTIFS(SYNTHESE!$D:$D,A81,SYNTHESE!$E:$E,$O$1,SYNTHESE!$F:$F,\">=1\")))","v":""},{"$f":"IF($Z$2=\"pok\",\"\",IF(A81=\"\",\"\",COUNTIFS(SYNTHESE!$D:$D,A81,SYNTHESE!$E:$E,$P$1,SYNTHESE!$F:$F,\">=1\")))","v":""},{"$f":"IF($Z$2=\"pok\",\"\",IF(A81=\"\",\"\",COUNTIFS(SYNTHESE!$D:$D,A81,SYNTHESE!$E:$E,$Q$1,SYNTHESE!$F:$F,\">=1\")))","v":""},{"$f":"IF($Z$2=\"pok\",\"\",IF(A81=\"\",\"\",COUNTIFS(SYNTHESE!$D:$D,A81,SYNTHESE!$E:$E,$R$1,SYNTHESE!$F:$F,\">=1\")))","v":""},{"$f":"IF($Z$2=\"pok\",\"\",IF(A81=\"\",\"\",COUNTIFS(SYNTHESE!$D:$D,A81,SYNTHESE!$E:$E,$S$1,SYNTHESE!$F:$F,\">=1\")))","v":""},{"$f":"IF($Z$2=\"pok\",\"\",IF(A81=\"\",\"\",COUNTIFS(SYNTHESE!$D:$D,A81,SYNTHESE!$E:$E,$T$1,SYNTHESE!$F:$F,\">=1\")))","v":""},{"$f":"IF($Z$2=\"pok\",\"\",IF(A81=\"\",\"\",COUNTIFS(SYNTHESE!$D:$D,A81,SYNTHESE!$E:$E,$U$1,SYNTHESE!$F:$F,\">=1\")))","v":""},{"$f":"IF($Z$2=\"pok\",\"\",IF(A81=\"\",\"\",COUNTIFS(SYNTHESE!$D:$D,A81,SYNTHESE!$E:$E,$V$1,SYNTHESE!$F:$F,\">=1\")))","v":""},{"$f":"IF($Z$2=\"pok\",\"\",IF(A81=\"\",\"\",COUNTIFS(SYNTHESE!$D:$D,A81,SYNTHESE!$E:$E,$W$1,SYNTHESE!$F:$F,\">=1\")))","v":""},{"$f":"IF($Z$2=\"pok\",\"\",IF(A81=\"\",\"\",COUNTIFS(SYNTHESE!$D:$D,A81,SYNTHESE!$E:$E,$X$1,SYNTHESE!$F:$F,\">=1\")))","v":""},{"$f":"IF($Z$2=\"pok\",\"\",IF(A81=\"\",\"\",COUNTIFS(SYNTHESE!$D:$D,A81,SYNTHESE!$E:$E,$Y$1,SYNTHESE!$F:$F,\">=1\")))","v":""},0]
[{"$f":"IF(ETUDIANTS!A82=\"\",\"\",ETUDIANTS!A82)","v":""},{"$f":"IF($Z$2=\"pok\",\"\",IF(A82=\"\",\"\",COUNTIFS(SYNTHESE!$D:$D,A82,SYNTHESE!$E:$E,$B$1,SYNTHESE!$F:$F,\">=1\")))","v":""},{"$f":"IF($Z$2=\"pok\",\"\",IF(A82=\"\",\"\",COUNTIFS(SYNTHESE!$D:$D,A82,SYNTHESE!$E:$E,$C$1,SYNTHESE!$F:$F,\">=1\")))","v":""},{"$f":"IF($Z$2=\"pok\",\"\",IF(A82=\"\",\"\",COUNTIFS(SYNTHESE!$D:$D,A82,SYNTHESE!$E:$E,$D$1,SYNTHESE!$F:$F,\">=1\")))","v":""},{"$f":"IF($Z$2=\"pok\",\"\",IF(A82=\"\",\"\",COUNTIFS(SYNTHESE!$D:$D,A82,SYNTHESE!$E:$E,$E$1,SYNTHESE!$F:$F,\">=1\")))","v":""},{"$f":"IF($Z$2=\"pok\",\"\",IF(A82=\"\",\"\",COUNTIFS(SYNTHESE!$D:$D,A82,SYNTHESE!$E:$E,$F$1,SYNTHESE!$F:$F,\">=1\")))","v":""},{"$f":"IF($Z$2=\"pok\",\"\",IF(A82=\"\",\"\",COUNTIFS(SYNTHESE!$D:$D,A82,SYNTHESE!$E:$E,$G$1,SYNTHESE!$F:$F,\">=1\")))","v":""},{"$f":"IF($Z$2=\"pok\",\"\",IF(A82=\"\",\"\",COUNTIFS(SYNTHESE!$D:$D,A82,SYNTHESE!$E:$E,$H$1,SYNTHESE!$F:$F,\">=1\")))","v":""},{"$f":"IF($Z$2=\"pok\",\"\",IF(A82=\"\",\"\",COUNTIFS(SYNTHESE!$D:$D,A82,SYNTHESE!$E:$E,$I$1,SYNTHESE!$F:$F,\">=1\")))","v":""},{"$f":"IF($Z$2=\"pok\",\"\",IF(A82=\"\",\"\",COUNTIFS(SYNTHESE!$D:$D,A82,SYNTHESE!$E:$E,$J$1,SYNTHESE!$F:$F,\">=1\")))","v":""},{"$f":"IF($Z$2=\"pok\",\"\",IF(A82=\"\",\"\",COUNTIFS(SYNTHESE!$D:$D,A82,SYNTHESE!$E:$E,$K$1,SYNTHESE!$F:$F,\">=1\")))","v":""},{"$f":"IF($Z$2=\"pok\",\"\",IF(A82=\"\",\"\",COUNTIFS(SYNTHESE!$D:$D,A82,SYNTHESE!$E:$E,$L$1,SYNTHESE!$F:$F,\">=1\")))","v":""},{"$f":"IF($Z$2=\"pok\",\"\",IF(A82=\"\",\"\",COUNTIFS(SYNTHESE!$D:$D,A82,SYNTHESE!$E:$E,$M$1,SYNTHESE!$F:$F,\">=1\")))","v":""},{"$f":"IF($Z$2=\"pok\",\"\",IF(A82=\"\",\"\",COUNTIFS(SYNTHESE!$D:$D,A82,SYNTHESE!$E:$E,$N$1,SYNTHESE!$F:$F,\">=1\")))","v":""},{"$f":"IF($Z$2=\"pok\",\"\",IF(A82=\"\",\"\",COUNTIFS(SYNTHESE!$D:$D,A82,SYNTHESE!$E:$E,$O$1,SYNTHESE!$F:$F,\">=1\")))","v":""},{"$f":"IF($Z$2=\"pok\",\"\",IF(A82=\"\",\"\",COUNTIFS(SYNTHESE!$D:$D,A82,SYNTHESE!$E:$E,$P$1,SYNTHESE!$F:$F,\">=1\")))","v":""},{"$f":"IF($Z$2=\"pok\",\"\",IF(A82=\"\",\"\",COUNTIFS(SYNTHESE!$D:$D,A82,SYNTHESE!$E:$E,$Q$1,SYNTHESE!$F:$F,\">=1\")))","v":""},{"$f":"IF($Z$2=\"pok\",\"\",IF(A82=\"\",\"\",COUNTIFS(SYNTHESE!$D:$D,A82,SYNTHESE!$E:$E,$R$1,SYNTHESE!$F:$F,\">=1\")))","v":""},{"$f":"IF($Z$2=\"pok\",\"\",IF(A82=\"\",\"\",COUNTIFS(SYNTHESE!$D:$D,A82,SYNTHESE!$E:$E,$S$1,SYNTHESE!$F:$F,\">=1\")))","v":""},{"$f":"IF($Z$2=\"pok\",\"\",IF(A82=\"\",\"\",COUNTIFS(SYNTHESE!$D:$D,A82,SYNTHESE!$E:$E,$T$1,SYNTHESE!$F:$F,\">=1\")))","v":""},{"$f":"IF($Z$2=\"pok\",\"\",IF(A82=\"\",\"\",COUNTIFS(SYNTHESE!$D:$D,A82,SYNTHESE!$E:$E,$U$1,SYNTHESE!$F:$F,\">=1\")))","v":""},{"$f":"IF($Z$2=\"pok\",\"\",IF(A82=\"\",\"\",COUNTIFS(SYNTHESE!$D:$D,A82,SYNTHESE!$E:$E,$V$1,SYNTHESE!$F:$F,\">=1\")))","v":""},{"$f":"IF($Z$2=\"pok\",\"\",IF(A82=\"\",\"\",COUNTIFS(SYNTHESE!$D:$D,A82,SYNTHESE!$E:$E,$W$1,SYNTHESE!$F:$F,\">=1\")))","v":""},{"$f":"IF($Z$2=\"pok\",\"\",IF(A82=\"\",\"\",COUNTIFS(SYNTHESE!$D:$D,A82,SYNTHESE!$E:$E,$X$1,SYNTHESE!$F:$F,\">=1\")))","v":""},{"$f":"IF($Z$2=\"pok\",\"\",IF(A82=\"\",\"\",COUNTIFS(SYNTHESE!$D:$D,A82,SYNTHESE!$E:$E,$Y$1,SYNTHESE!$F:$F,\">=1\")))","v":""},0]
[{"$f":"IF(ETUDIANTS!A83=\"\",\"\",ETUDIANTS!A83)","v":""},{"$f":"IF($Z$2=\"pok\",\"\",IF(A83=\"\",\"\",COUNTIFS(SYNTHESE!$D:$D,A83,SYNTHESE!$E:$E,$B$1,SYNTHESE!$F:$F,\">=1\")))","v":""},{"$f":"IF($Z$2=\"pok\",\"\",IF(A83=\"\",\"\",COUNTIFS(SYNTHESE!$D:$D,A83,SYNTHESE!$E:$E,$C$1,SYNTHESE!$F:$F,\">=1\")))","v":""},{"$f":"IF($Z$2=\"pok\",\"\",IF(A83=\"\",\"\",COUNTIFS(SYNTHESE!$D:$D,A83,SYNTHESE!$E:$E,$D$1,SYNTHESE!$F:$F,\">=1\")))","v":""},{"$f":"IF($Z$2=\"pok\",\"\",IF(A83=\"\",\"\",COUNTIFS(SYNTHESE!$D:$D,A83,SYNTHESE!$E:$E,$E$1,SYNTHESE!$F:$F,\">=1\")))","v":""},{"$f":"IF($Z$2=\"pok\",\"\",IF(A83=\"\",\"\",COUNTIFS(SYNTHESE!$D:$D,A83,SYNTHESE!$E:$E,$F$1,SYNTHESE!$F:$F,\">=1\")))","v":""},{"$f":"IF($Z$2=\"pok\",\"\",IF(A83=\"\",\"\",COUNTIFS(SYNTHESE!$D:$D,A83,SYNTHESE!$E:$E,$G$1,SYNTHESE!$F:$F,\">=1\")))","v":""},{"$f":"IF($Z$2=\"pok\",\"\",IF(A83=\"\",\"\",COUNTIFS(SYNTHESE!$D:$D,A83,SYNTHESE!$E:$E,$H$1,SYNTHESE!$F:$F,\">=1\")))","v":""},{"$f":"IF($Z$2=\"pok\",\"\",IF(A83=\"\",\"\",COUNTIFS(SYNTHESE!$D:$D,A83,SYNTHESE!$E:$E,$I$1,SYNTHESE!$F:$F,\">=1\")))","v":""},{"$f":"IF($Z$2=\"pok\",\"\",IF(A83=\"\",\"\",COUNTIFS(SYNTHESE!$D:$D,A83,SYNTHESE!$E:$E,$J$1,SYNTHESE!$F:$F,\">=1\")))","v":""},{"$f":"IF($Z$2=\"pok\",\"\",IF(A83=\"\",\"\",COUNTIFS(SYNTHESE!$D:$D,A83,SYNTHESE!$E:$E,$K$1,SYNTHESE!$F:$F,\">=1\")))","v":""},{"$f":"IF($Z$2=\"pok\",\"\",IF(A83=\"\",\"\",COUNTIFS(SYNTHESE!$D:$D,A83,SYNTHESE!$E:$E,$L$1,SYNTHESE!$F:$F,\">=1\")))","v":""},{"$f":"IF($Z$2=\"pok\",\"\",IF(A83=\"\",\"\",COUNTIFS(SYNTHESE!$D:$D,A83,SYNTHESE!$E:$E,$M$1,SYNTHESE!$F:$F,\">=1\")))","v":""},{"$f":"IF($Z$2=\"pok\",\"\",IF(A83=\"\",\"\",COUNTIFS(SYNTHESE!$D:$D,A83,SYNTHESE!$E:$E,$N$1,SYNTHESE!$F:$F,\">=1\")))","v":""},{"$f":"IF($Z$2=\"pok\",\"\",IF(A83=\"\",\"\",COUNTIFS(SYNTHESE!$D:$D,A83,SYNTHESE!$E:$E,$O$1,SYNTHESE!$F:$F,\">=1\")))","v":""},{"$f":"IF($Z$2=\"pok\",\"\",IF(A83=\"\",\"\",COUNTIFS(SYNTHESE!$D:$D,A83,SYNTHESE!$E:$E,$P$1,SYNTHESE!$F:$F,\">=1\")))","v":""},{"$f":"IF($Z$2=\"pok\",\"\",IF(A83=\"\",\"\",COUNTIFS(SYNTHESE!$D:$D,A83,SYNTHESE!$E:$E,$Q$1,SYNTHESE!$F:$F,\">=1\")))","v":""},{"$f":"IF($Z$2=\"pok\",\"\",IF(A83=\"\",\"\",COUNTIFS(SYNTHESE!$D:$D,A83,SYNTHESE!$E:$E,$R$1,SYNTHESE!$F:$F,\">=1\")))","v":""},{"$f":"IF($Z$2=\"pok\",\"\",IF(A83=\"\",\"\",COUNTIFS(SYNTHESE!$D:$D,A83,SYNTHESE!$E:$E,$S$1,SYNTHESE!$F:$F,\">=1\")))","v":""},{"$f":"IF($Z$2=\"pok\",\"\",IF(A83=\"\",\"\",COUNTIFS(SYNTHESE!$D:$D,A83,SYNTHESE!$E:$E,$T$1,SYNTHESE!$F:$F,\">=1\")))","v":""},{"$f":"IF($Z$2=\"pok\",\"\",IF(A83=\"\",\"\",COUNTIFS(SYNTHESE!$D:$D,A83,SYNTHESE!$E:$E,$U$1,SYNTHESE!$F:$F,\">=1\")))","v":""},{"$f":"IF($Z$2=\"pok\",\"\",IF(A83=\"\",\"\",COUNTIFS(SYNTHESE!$D:$D,A83,SYNTHESE!$E:$E,$V$1,SYNTHESE!$F:$F,\">=1\")))","v":""},{"$f":"IF($Z$2=\"pok\",\"\",IF(A83=\"\",\"\",COUNTIFS(SYNTHESE!$D:$D,A83,SYNTHESE!$E:$E,$W$1,SYNTHESE!$F:$F,\">=1\")))","v":""},{"$f":"IF($Z$2=\"pok\",\"\",IF(A83=\"\",\"\",COUNTIFS(SYNTHESE!$D:$D,A83,SYNTHESE!$E:$E,$X$1,SYNTHESE!$F:$F,\">=1\")))","v":""},{"$f":"IF($Z$2=\"pok\",\"\",IF(A83=\"\",\"\",COUNTIFS(SYNTHESE!$D:$D,A83,SYNTHESE!$E:$E,$Y$1,SYNTHESE!$F:$F,\">=1\")))","v":""},0]
[{"$f":"IF(ETUDIANTS!A84=\"\",\"\",ETUDIANTS!A84)","v":""},{"$f":"IF($Z$2=\"pok\",\"\",IF(A84=\"\",\"\",COUNTIFS(SYNTHESE!$D:$D,A84,SYNTHESE!$E:$E,$B$1,SYNTHESE!$F:$F,\">=1\")))","v":""},{"$f":"IF($Z$2=\"pok\",\"\",IF(A84=\"\",\"\",COUNTIFS(SYNTHESE!$D:$D,A84,SYNTHESE!$E:$E,$C$1,SYNTHESE!$F:$F,\">=1\")))","v":""},{"$f":"IF($Z$2=\"pok\",\"\",IF(A84=\"\",\"\",COUNTIFS(SYNTHESE!$D:$D,A84,SYNTHESE!$E:$E,$D$1,SYNTHESE!$F:$F,\">=1\")))","v":""},{"$f":"IF($Z$2=\"pok\",\"\",IF(A84=\"\",\"\",COUNTIFS(SYNTHESE!$D:$D,A84,SYNTHESE!$E:$E,$E$1,SYNTHESE!$F:$F,\">=1\")))","v":""},{"$f":"IF($Z$2=\"pok\",\"\",IF(A84=\"\",\"\",COUNTIFS(SYNTHESE!$D:$D,A84,SYNTHESE!$E:$E,$F$1,SYNTHESE!$F:$F,\">=1\")))","v":""},{"$f":"IF($Z$2=\"pok\",\"\",IF(A84=\"\",\"\",COUNTIFS(SYNTHESE!$D:$D,A84,SYNTHESE!$E:$E,$G$1,SYNTHESE!$F:$F,\">=1\")))","v":""},{"$f":"IF($Z$2=\"pok\",\"\",IF(A84=\"\",\"\",COUNTIFS(SYNTHESE!$D:$D,A84,SYNTHESE!$E:$E,$H$1,SYNTHESE!$F:$F,\">=1\")))","v":""},{"$f":"IF($Z$2=\"pok\",\"\",IF(A84=\"\",\"\",COUNTIFS(SYNTHESE!$D:$D,A84,SYNTHESE!$E:$E,$I$1,SYNTHESE!$F:$F,\">=1\")))","v":""},{"$f":"IF($Z$2=\"pok\",\"\",IF(A84=\"\",\"\",COUNTIFS(SYNTHESE!$D:$D,A84,SYNTHESE!$E:$E,$J$1,SYNTHESE!$F:$F,\">=1\")))","v":""},{"$f":"IF($Z$2=\"pok\",\"\",IF(A84=\"\",\"\",COUNTIFS(SYNTHESE!$D:$D,A84,SYNTHESE!$E:$E,$K$1,SYNTHESE!$F:$F,\">=1\")))","v":""},{"$f":"IF($Z$2=\"pok\",\"\",IF(A84=\"\",\"\",COUNTIFS(SYNTHESE!$D:$D,A84,SYNTHESE!$E:$E,$L$1,SYNTHESE!$F:$F,\">=1\")))","v":""},{"$f":"IF($Z$2=\"pok\",\"\",IF(A84=\"\",\"\",COUNTIFS(SYNTHESE!$D:$D,A84,SYNTHESE!$E:$E,$M$1,SYNTHESE!$F:$F,\">=1\")))","v":""},{"$f":"IF($Z$2=\"pok\",\"\",IF(A84=\"\",\"\",COUNTIFS(SYNTHESE!$D:$D,A84,SYNTHESE!$E:$E,$N$1,SYNTHESE!$F:$F,\">=1\")))","v":""},{"$f":"IF($Z$2=\"pok\",\"\",IF(A84=\"\",\"\",COUNTIFS(SYNTHESE!$D:$D,A84,SYNTHESE!$E:$E,$O$1,SYNTHESE!$F:$F,\">=1\")))","v":""},{"$f":"IF($Z$2=\"pok\",\"\",IF(A84=\"\",\"\",COUNTIFS(SYNTHESE!$D:$D,A84,SYNTHESE!$E:$E,$P$1,SYNTHESE!$F:$F,\">=1\")))","v":""},{"$f":"IF($Z$2=\"pok\",\"\",IF(A84=\"\",\"\",COUNTIFS(SYNTHESE!$D:$D,A84,SYNTHESE!$E:$E,$Q$1,SYNTHESE!$F:$F,\">=1\")))","v":""},{"$f":"IF($Z$2=\"pok\",\"\",IF(A84=\"\",\"\",COUNTIFS(SYNTHESE!$D:$D,A84,SYNTHESE!$E:$E,$R$1,SYNTHESE!$F:$F,\">=1\")))","v":""},{"$f":"IF($Z$2=\"pok\",\"\",IF(A84=\"\",\"\",COUNTIFS(SYNTHESE!$D:$D,A84,SYNTHESE!$E:$E,$S$1,SYNTHESE!$F:$F,\">=1\")))","v":""},{"$f":"IF($Z$2=\"pok\",\"\",IF(A84=\"\",\"\",COUNTIFS(SYNTHESE!$D:$D,A84,SYNTHESE!$E:$E,$T$1,SYNTHESE!$F:$F,\">=1\")))","v":""},{"$f":"IF($Z$2=\"pok\",\"\",IF(A84=\"\",\"\",COUNTIFS(SYNTHESE!$D:$D,A84,SYNTHESE!$E:$E,$U$1,SYNTHESE!$F:$F,\">=1\")))","v":""},{"$f":"IF($Z$2=\"pok\",\"\",IF(A84=\"\",\"\",COUNTIFS(SYNTHESE!$D:$D,A84,SYNTHESE!$E:$E,$V$1,SYNTHESE!$F:$F,\">=1\")))","v":""},{"$f":"IF($Z$2=\"pok\",\"\",IF(A84=\"\",\"\",COUNTIFS(SYNTHESE!$D:$D,A84,SYNTHESE!$E:$E,$W$1,SYNTHESE!$F:$F,\">=1\")))","v":""},{"$f":"IF($Z$2=\"pok\",\"\",IF(A84=\"\",\"\",COUNTIFS(SYNTHESE!$D:$D,A84,SYNTHESE!$E:$E,$X$1,SYNTHESE!$F:$F,\">=1\")))","v":""},{"$f":"IF($Z$2=\"pok\",\"\",IF(A84=\"\",\"\",COUNTIFS(SYNTHESE!$D:$D,A84,SYNTHESE!$E:$E,$Y$1,SYNTHESE!$F:$F,\">=1\")))","v":""},0]
[{"$f":"IF(ETUDIANTS!A85=\"\",\"\",ETUDIANTS!A85)","v":""},{"$f":"IF($Z$2=\"pok\",\"\",IF(A85=\"\",\"\",COUNTIFS(SYNTHESE!$D:$D,A85,SYNTHESE!$E:$E,$B$1,SYNTHESE!$F:$F,\">=1\")))","v":""},{"$f":"IF($Z$2=\"pok\",\"\",IF(A85=\"\",\"\",COUNTIFS(SYNTHESE!$D:$D,A85,SYNTHESE!$E:$E,$C$1,SYNTHESE!$F:$F,\">=1\")))","v":""},{"$f":"IF($Z$2=\"pok\",\"\",IF(A85=\"\",\"\",COUNTIFS(SYNTHESE!$D:$D,A85,SYNTHESE!$E:$E,$D$1,SYNTHESE!$F:$F,\">=1\")))","v":""},{"$f":"IF($Z$2=\"pok\",\"\",IF(A85=\"\",\"\",COUNTIFS(SYNTHESE!$D:$D,A85,SYNTHESE!$E:$E,$E$1,SYNTHESE!$F:$F,\">=1\")))","v":""},{"$f":"IF($Z$2=\"pok\",\"\",IF(A85=\"\",\"\",COUNTIFS(SYNTHESE!$D:$D,A85,SYNTHESE!$E:$E,$F$1,SYNTHESE!$F:$F,\">=1\")))","v":""},{"$f":"IF($Z$2=\"pok\",\"\",IF(A85=\"\",\"\",COUNTIFS(SYNTHESE!$D:$D,A85,SYNTHESE!$E:$E,$G$1,SYNTHESE!$F:$F,\">=1\")))","v":""},{"$f":"IF($Z$2=\"pok\",\"\",IF(A85=\"\",\"\",COUNTIFS(SYNTHESE!$D:$D,A85,SYNTHESE!$E:$E,$H$1,SYNTHESE!$F:$F,\">=1\")))","v":""},{"$f":"IF($Z$2=\"pok\",\"\",IF(A85=\"\",\"\",COUNTIFS(SYNTHESE!$D:$D,A85,SYNTHESE!$E:$E,$I$1,SYNTHESE!$F:$F,\">=1\")))","v":""},{"$f":"IF($Z$2=\"pok\",\"\",IF(A85=\"\",\"\",COUNTIFS(SYNTHESE!$D:$D,A85,SYNTHESE!$E:$E,$J$1,SYNTHESE!$F:$F,\">=1\")))","v":""},{"$f":"IF($Z$2=\"pok\",\"\",IF(A85=\"\",\"\",COUNTIFS(SYNTHESE!$D:$D,A85,SYNTHESE!$E:$E,$K$1,SYNTHESE!$F:$F,\">=1\")))","v":""},{"$f":"IF($Z$2=\"pok\",\"\",IF(A85=\"\",\"\",COUNTIFS(SYNTHESE!$D:$D,A85,SYNTHESE!$E:$E,$L$1,SYNTHESE!$F:$F,\">=1\")))","v":""},{"$f":"IF($Z$2=\"pok\",\"\",IF(A85=\"\",\"\",COUNTIFS(SYNTHESE!$D:$D,A85,SYNTHESE!$E:$E,$M$1,SYNTHESE!$F:$F,\">=1\")))","v":""},{"$f":"IF($Z$2=\"pok\",\"\",IF(A85=\"\",\"\",COUNTIFS(SYNTHESE!$D:$D,A85,SYNTHESE!$E:$E,$N$1,SYNTHESE!$F:$F,\">=1\")))","v":""},{"$f":"IF($Z$2=\"pok\",\"\",IF(A85=\"\",\"\",COUNTIFS(SYNTHESE!$D:$D,A85,SYNTHESE!$E:$E,$O$1,SYNTHESE!$F:$F,\">=1\")))","v":""},{"$f":"IF($Z$2=\"pok\",\"\",IF(A85=\"\",\"\",COUNTIFS(SYNTHESE!$D:$D,A85,SYNTHESE!$E:$E,$P$1,SYNTHESE!$F:$F,\">=1\")))","v":""},{"$f":"IF($Z$2=\"pok\",\"\",IF(A85=\"\",\"\",COUNTIFS(SYNTHESE!$D:$D,A85,SYNTHESE!$E:$E,$Q$1,SYNTHESE!$F:$F,\">=1\")))","v":""},{"$f":"IF($Z$2=\"pok\",\"\",IF(A85=\"\",\"\",COUNTIFS(SYNTHESE!$D:$D,A85,SYNTHESE!$E:$E,$R$1,SYNTHESE!$F:$F,\">=1\")))","v":""},{"$f":"IF($Z$2=\"pok\",\"\",IF(A85=\"\",\"\",COUNTIFS(SYNTHESE!$D:$D,A85,SYNTHESE!$E:$E,$S$1,SYNTHESE!$F:$F,\">=1\")))","v":""},{"$f":"IF($Z$2=\"pok\",\"\",IF(A85=\"\",\"\",COUNTIFS(SYNTHESE!$D:$D,A85,SYNTHESE!$E:$E,$T$1,SYNTHESE!$F:$F,\">=1\")))","v":""},{"$f":"IF($Z$2=\"pok\",\"\",IF(A85=\"\",\"\",COUNTIFS(SYNTHESE!$D:$D,A85,SYNTHESE!$E:$E,$U$1,SYNTHESE!$F:$F,\">=1\")))","v":""},{"$f":"IF($Z$2=\"pok\",\"\",IF(A85=\"\",\"\",COUNTIFS(SYNTHESE!$D:$D,A85,SYNTHESE!$E:$E,$V$1,SYNTHESE!$F:$F,\">=1\")))","v":""},{"$f":"IF($Z$2=\"pok\",\"\",IF(A85=\"\",\"\",COUNTIFS(SYNTHESE!$D:$D,A85,SYNTHESE!$E:$E,$W$1,SYNTHESE!$F:$F,\">=1\")))","v":""},{"$f":"IF($Z$2=\"pok\",\"\",IF(A85=\"\",\"\",COUNTIFS(SYNTHESE!$D:$D,A85,SYNTHESE!$E:$E,$X$1,SYNTHESE!$F:$F,\">=1\")))","v":""},{"$f":"IF($Z$2=\"pok\",\"\",IF(A85=\"\",\"\",COUNTIFS(SYNTHESE!$D:$D,A85,SYNTHESE!$E:$E,$Y$1,SYNTHESE!$F:$F,\">=1\")))","v":""},0]
[{"$f":"IF(ETUDIANTS!A86=\"\",\"\",ETUDIANTS!A86)","v":""},{"$f":"IF($Z$2=\"pok\",\"\",IF(A86=\"\",\"\",COUNTIFS(SYNTHESE!$D:$D,A86,SYNTHESE!$E:$E,$B$1,SYNTHESE!$F:$F,\">=1\")))","v":""},{"$f":"IF($Z$2=\"pok\",\"\",IF(A86=\"\",\"\",COUNTIFS(SYNTHESE!$D:$D,A86,SYNTHESE!$E:$E,$C$1,SYNTHESE!$F:$F,\">=1\")))","v":""},{"$f":"IF($Z$2=\"pok\",\"\",IF(A86=\"\",\"\",COUNTIFS(SYNTHESE!$D:$D,A86,SYNTHESE!$E:$E,$D$1,SYNTHESE!$F:$F,\">=1\")))","v":""},{"$f":"IF($Z$2=\"pok\",\"\",IF(A86=\"\",\"\",COUNTIFS(SYNTHESE!$D:$D,A86,SYNTHESE!$E:$E,$E$1,SYNTHESE!$F:$F,\">=1\")))","v":""},{"$f":"IF($Z$2=\"pok\",\"\",IF(A86=\"\",\"\",COUNTIFS(SYNTHESE!$D:$D,A86,SYNTHESE!$E:$E,$F$1,SYNTHESE!$F:$F,\">=1\")))","v":""},{"$f":"IF($Z$2=\"pok\",\"\",IF(A86=\"\",\"\",COUNTIFS(SYNTHESE!$D:$D,A86,SYNTHESE!$E:$E,$G$1,SYNTHESE!$F:$F,\">=1\")))","v":""},{"$f":"IF($Z$2=\"pok\",\"\",IF(A86=\"\",\"\",COUNTIFS(SYNTHESE!$D:$D,A86,SYNTHESE!$E:$E,$H$1,SYNTHESE!$F:$F,\">=1\")))","v":""},{"$f":"IF($Z$2=\"pok\",\"\",IF(A86=\"\",\"\",COUNTIFS(SYNTHESE!$D:$D,A86,SYNTHESE!$E:$E,$I$1,SYNTHESE!$F:$F,\">=1\")))","v":""},{"$f":"IF($Z$2=\"pok\",\"\",IF(A86=\"\",\"\",COUNTIFS(SYNTHESE!$D:$D,A86,SYNTHESE!$E:$E,$J$1,SYNTHESE!$F:$F,\">=1\")))","v":""},{"$f":"IF($Z$2=\"pok\",\"\",IF(A86=\"\",\"\",COUNTIFS(SYNTHESE!$D:$D,A86,SYNTHESE!$E:$E,$K$1,SYNTHESE!$F:$F,\">=1\")))","v":""},{"$f":"IF($Z$2=\"pok\",\"\",IF(A86=\"\",\"\",COUNTIFS(SYNTHESE!$D:$D,A86,SYNTHESE!$E:$E,$L$1,SYNTHESE!$F:$F,\">=1\")))","v":""},{"$f":"IF($Z$2=\"pok\",\"\",IF(A86=\"\",\"\",COUNTIFS(SYNTHESE!$D:$D,A86,SYNTHESE!$E:$E,$M$1,SYNTHESE!$F:$F,\">=1\")))","v":""},{"$f":"IF($Z$2=\"pok\",\"\",IF(A86=\"\",\"\",COUNTIFS(SYNTHESE!$D:$D,A86,SYNTHESE!$E:$E,$N$1,SYNTHESE!$F:$F,\">=1\")))","v":""},{"$f":"IF($Z$2=\"pok\",\"\",IF(A86=\"\",\"\",COUNTIFS(SYNTHESE!$D:$D,A86,SYNTHESE!$E:$E,$O$1,SYNTHESE!$F:$F,\">=1\")))","v":""},{"$f":"IF($Z$2=\"pok\",\"\",IF(A86=\"\",\"\",COUNTIFS(SYNTHESE!$D:$D,A86,SYNTHESE!$E:$E,$P$1,SYNTHESE!$F:$F,\">=1\")))","v":""},{"$f":"IF($Z$2=\"pok\",\"\",IF(A86=\"\",\"\",COUNTIFS(SYNTHESE!$D:$D,A86,SYNTHESE!$E:$E,$Q$1,SYNTHESE!$F:$F,\">=1\")))","v":""},{"$f":"IF($Z$2=\"pok\",\"\",IF(A86=\"\",\"\",COUNTIFS(SYNTHESE!$D:$D,A86,SYNTHESE!$E:$E,$R$1,SYNTHESE!$F:$F,\">=1\")))","v":""},{"$f":"IF($Z$2=\"pok\",\"\",IF(A86=\"\",\"\",COUNTIFS(SYNTHESE!$D:$D,A86,SYNTHESE!$E:$E,$S$1,SYNTHESE!$F:$F,\">=1\")))","v":""},{"$f":"IF($Z$2=\"pok\",\"\",IF(A86=\"\",\"\",COUNTIFS(SYNTHESE!$D:$D,A86,SYNTHESE!$E:$E,$T$1,SYNTHESE!$F:$F,\">=1\")))","v":""},{"$f":"IF($Z$2=\"pok\",\"\",IF(A86=\"\",\"\",COUNTIFS(SYNTHESE!$D:$D,A86,SYNTHESE!$E:$E,$U$1,SYNTHESE!$F:$F,\">=1\")))","v":""},{"$f":"IF($Z$2=\"pok\",\"\",IF(A86=\"\",\"\",COUNTIFS(SYNTHESE!$D:$D,A86,SYNTHESE!$E:$E,$V$1,SYNTHESE!$F:$F,\">=1\")))","v":""},{"$f":"IF($Z$2=\"pok\",\"\",IF(A86=\"\",\"\",COUNTIFS(SYNTHESE!$D:$D,A86,SYNTHESE!$E:$E,$W$1,SYNTHESE!$F:$F,\">=1\")))","v":""},{"$f":"IF($Z$2=\"pok\",\"\",IF(A86=\"\",\"\",COUNTIFS(SYNTHESE!$D:$D,A86,SYNTHESE!$E:$E,$X$1,SYNTHESE!$F:$F,\">=1\")))","v":""},{"$f":"IF($Z$2=\"pok\",\"\",IF(A86=\"\",\"\",COUNTIFS(SYNTHESE!$D:$D,A86,SYNTHESE!$E:$E,$Y$1,SYNTHESE!$F:$F,\">=1\")))","v":""},0]
[{"$f":"IF(ETUDIANTS!A87=\"\",\"\",ETUDIANTS!A87)","v":""},{"$f":"IF($Z$2=\"pok\",\"\",IF(A87=\"\",\"\",COUNTIFS(SYNTHESE!$D:$D,A87,SYNTHESE!$E:$E,$B$1,SYNTHESE!$F:$F,\">=1\")))","v":""},{"$f":"IF($Z$2=\"pok\",\"\",IF(A87=\"\",\"\",COUNTIFS(SYNTHESE!$D:$D,A87,SYNTHESE!$E:$E,$C$1,SYNTHESE!$F:$F,\">=1\")))","v":""},{"$f":"IF($Z$2=\"pok\",\"\",IF(A87=\"\",\"\",COUNTIFS(SYNTHESE!$D:$D,A87,SYNTHESE!$E:$E,$D$1,SYNTHESE!$F:$F,\">=1\")))","v":""},{"$f":"IF($Z$2=\"pok\",\"\",IF(A87=\"\",\"\",COUNTIFS(SYNTHESE!$D:$D,A87,SYNTHESE!$E:$E,$E$1,SYNTHESE!$F:$F,\">=1\")))","v":""},{"$f":"IF($Z$2=\"pok\",\"\",IF(A87=\"\",\"\",COUNTIFS(SYNTHESE!$D:$D,A87,SYNTHESE!$E:$E,$F$1,SYNTHESE!$F:$F,\">=1\")))","v":""},{"$f":"IF($Z$2=\"pok\",\"\",IF(A87=\"\",\"\",COUNTIFS(SYNTHESE!$D:$D,A87,SYNTHESE!$E:$E,$G$1,SYNTHESE!$F:$F,\">=1\")))","v":""},{"$f":"IF($Z$2=\"pok\",\"\",IF(A87=\"\",\"\",COUNTIFS(SYNTHESE!$D:$D,A87,SYNTHESE!$E:$E,$H$1,SYNTHESE!$F:$F,\">=1\")))","v":""},{"$f":"IF($Z$2=\"pok\",\"\",IF(A87=\"\",\"\",COUNTIFS(SYNTHESE!$D:$D,A87,SYNTHESE!$E:$E,$I$1,SYNTHESE!$F:$F,\">=1\")))","v":""},{"$f":"IF($Z$2=\"pok\",\"\",IF(A87=\"\",\"\",COUNTIFS(SYNTHESE!$D:$D,A87,SYNTHESE!$E:$E,$J$1,SYNTHESE!$F:$F,\">=1\")))","v":""},{"$f":"IF($Z$2=\"pok\",\"\",IF(A87=\"\",\"\",COUNTIFS(SYNTHESE!$D:$D,A87,SYNTHESE!$E:$E,$K$1,SYNTHESE!$F:$F,\">=1\")))","v":""},{"$f":"IF($Z$2=\"pok\",\"\",IF(A87=\"\",\"\",COUNTIFS(SYNTHESE!$D:$D,A87,SYNTHESE!$E:$E,$L$1,SYNTHESE!$F:$F,\">=1\")))","v":""},{"$f":"IF($Z$2=\"pok\",\"\",IF(A87=\"\",\"\",COUNTIFS(SYNTHESE!$D:$D,A87,SYNTHESE!$E:$E,$M$1,SYNTHESE!$F:$F,\">=1\")))","v":""},{"$f":"IF($Z$2=\"pok\",\"\",IF(A87=\"\",\"\",COUNTIFS(SYNTHESE!$D:$D,A87,SYNTHESE!$E:$E,$N$1,SYNTHESE!$F:$F,\">=1\")))","v":""},{"$f":"IF($Z$2=\"pok\",\"\",IF(A87=\"\",\"\",COUNTIFS(SYNTHESE!$D:$D,A87,SYNTHESE!$E:$E,$O$1,SYNTHESE!$F:$F,\">=1\")))","v":""},{"$f":"IF($Z$2=\"pok\",\"\",IF(A87=\"\",\"\",COUNTIFS(SYNTHESE!$D:$D,A87,SYNTHESE!$E:$E,$P$1,SYNTHESE!$F:$F,\">=1\")))","v":""},{"$f":"IF($Z$2=\"pok\",\"\",IF(A87=\"\",\"\",COUNTIFS(SYNTHESE!$D:$D,A87,SYNTHESE!$E:$E,$Q$1,SYNTHESE!$F:$F,\">=1\")))","v":""},{"$f":"IF($Z$2=\"pok\",\"\",IF(A87=\"\",\"\",COUNTIFS(SYNTHESE!$D:$D,A87,SYNTHESE!$E:$E,$R$1,SYNTHESE!$F:$F,\">=1\")))","v":""},{"$f":"IF($Z$2=\"pok\",\"\",IF(A87=\"\",\"\",COUNTIFS(SYNTHESE!$D:$D,A87,SYNTHESE!$E:$E,$S$1,SYNTHESE!$F:$F,\">=1\")))","v":""},{"$f":"IF($Z$2=\"pok\",\"\",IF(A87=\"\",\"\",COUNTIFS(SYNTHESE!$D:$D,A87,SYNTHESE!$E:$E,$T$1,SYNTHESE!$F:$F,\">=1\")))","v":""},{"$f":"IF($Z$2=\"pok\",\"\",IF(A87=\"\",\"\",COUNTIFS(SYNTHESE!$D:$D,A87,SYNTHESE!$E:$E,$U$1,SYNTHESE!$F:$F,\">=1\")))","v":""},{"$f":"IF($Z$2=\"pok\",\"\",IF(A87=\"\",\"\",COUNTIFS(SYNTHESE!$D:$D,A87,SYNTHESE!$E:$E,$V$1,SYNTHESE!$F:$F,\">=1\")))","v":""},{"$f":"IF($Z$2=\"pok\",\"\",IF(A87=\"\",\"\",COUNTIFS(SYNTHESE!$D:$D,A87,SYNTHESE!$E:$E,$W$1,SYNTHESE!$F:$F,\">=1\")))","v":""},{"$f":"IF($Z$2=\"pok\",\"\",IF(A87=\"\",\"\",COUNTIFS(SYNTHESE!$D:$D,A87,SYNTHESE!$E:$E,$X$1,SYNTHESE!$F:$F,\">=1\")))","v":""},{"$f":"IF($Z$2=\"pok\",\"\",IF(A87=\"\",\"\",COUNTIFS(SYNTHESE!$D:$D,A87,SYNTHESE!$E:$E,$Y$1,SYNTHESE!$F:$F,\">=1\")))","v":""},0]
[{"$f":"IF(ETUDIANTS!A88=\"\",\"\",ETUDIANTS!A88)","v":""},{"$f":"IF($Z$2=\"pok\",\"\",IF(A88=\"\",\"\",COUNTIFS(SYNTHESE!$D:$D,A88,SYNTHESE!$E:$E,$B$1,SYNTHESE!$F:$F,\">=1\")))","v":""},{"$f":"IF($Z$2=\"pok\",\"\",IF(A88=\"\",\"\",COUNTIFS(SYNTHESE!$D:$D,A88,SYNTHESE!$E:$E,$C$1,SYNTHESE!$F:$F,\">=1\")))","v":""},{"$f":"IF($Z$2=\"pok\",\"\",IF(A88=\"\",\"\",COUNTIFS(SYNTHESE!$D:$D,A88,SYNTHESE!$E:$E,$D$1,SYNTHESE!$F:$F,\">=1\")))","v":""},{"$f":"IF($Z$2=\"pok\",\"\",IF(A88=\"\",\"\",COUNTIFS(SYNTHESE!$D:$D,A88,SYNTHESE!$E:$E,$E$1,SYNTHESE!$F:$F,\">=1\")))","v":""},{"$f":"IF($Z$2=\"pok\",\"\",IF(A88=\"\",\"\",COUNTIFS(SYNTHESE!$D:$D,A88,SYNTHESE!$E:$E,$F$1,SYNTHESE!$F:$F,\">=1\")))","v":""},{"$f":"IF($Z$2=\"pok\",\"\",IF(A88=\"\",\"\",COUNTIFS(SYNTHESE!$D:$D,A88,SYNTHESE!$E:$E,$G$1,SYNTHESE!$F:$F,\">=1\")))","v":""},{"$f":"IF($Z$2=\"pok\",\"\",IF(A88=\"\",\"\",COUNTIFS(SYNTHESE!$D:$D,A88,SYNTHESE!$E:$E,$H$1,SYNTHESE!$F:$F,\">=1\")))","v":""},{"$f":"IF($Z$2=\"pok\",\"\",IF(A88=\"\",\"\",COUNTIFS(SYNTHESE!$D:$D,A88,SYNTHESE!$E:$E,$I$1,SYNTHESE!$F:$F,\">=1\")))","v":""},{"$f":"IF($Z$2=\"pok\",\"\",IF(A88=\"\",\"\",COUNTIFS(SYNTHESE!$D:$D,A88,SYNTHESE!$E:$E,$J$1,SYNTHESE!$F:$F,\">=1\")))","v":""},{"$f":"IF($Z$2=\"pok\",\"\",IF(A88=\"\",\"\",COUNTIFS(SYNTHESE!$D:$D,A88,SYNTHESE!$E:$E,$K$1,SYNTHESE!$F:$F,\">=1\")))","v":""},{"$f":"IF($Z$2=\"pok\",\"\",IF(A88=\"\",\"\",COUNTIFS(SYNTHESE!$D:$D,A88,SYNTHESE!$E:$E,$L$1,SYNTHESE!$F:$F,\">=1\")))","v":""},{"$f":"IF($Z$2=\"pok\",\"\",IF(A88=\"\",\"\",COUNTIFS(SYNTHESE!$D:$D,A88,SYNTHESE!$E:$E,$M$1,SYNTHESE!$F:$F,\">=1\")))","v":""},{"$f":"IF($Z$2=\"pok\",\"\",IF(A88=\"\",\"\",COUNTIFS(SYNTHESE!$D:$D,A88,SYNTHESE!$E:$E,$N$1,SYNTHESE!$F:$F,\">=1\")))","v":""},{"$f":"IF($Z$2=\"pok\",\"\",IF(A88=\"\",\"\",COUNTIFS(SYNTHESE!$D:$D,A88,SYNTHESE!$E:$E,$O$1,SYNTHESE!$F:$F,\">=1\")))","v":""},{"$f":"IF($Z$2=\"pok\",\"\",IF(A88=\"\",\"\",COUNTIFS(SYNTHESE!$D:$D,A88,SYNTHESE!$E:$E,$P$1,SYNTHESE!$F:$F,\">=1\")))","v":""},{"$f":"IF($Z$2=\"pok\",\"\",IF(A88=\"\",\"\",COUNTIFS(SYNTHESE!$D:$D,A88,SYNTHESE!$E:$E,$Q$1,SYNTHESE!$F:$F,\">=1\")))","v":""},{"$f":"IF($Z$2=\"pok\",\"\",IF(A88=\"\",\"\",COUNTIFS(SYNTHESE!$D:$D,A88,SYNTHESE!$E:$E,$R$1,SYNTHESE!$F:$F,\">=1\")))","v":""},{"$f":"IF($Z$2=\"pok\",\"\",IF(A88=\"\",\"\",COUNTIFS(SYNTHESE!$D:$D,A88,SYNTHESE!$E:$E,$S$1,SYNTHESE!$F:$F,\">=1\")))","v":""},{"$f":"IF($Z$2=\"pok\",\"\",IF(A88=\"\",\"\",COUNTIFS(SYNTHESE!$D:$D,A88,SYNTHESE!$E:$E,$T$1,SYNTHESE!$F:$F,\">=1\")))","v":""},{"$f":"IF($Z$2=\"pok\",\"\",IF(A88=\"\",\"\",COUNTIFS(SYNTHESE!$D:$D,A88,SYNTHESE!$E:$E,$U$1,SYNTHESE!$F:$F,\">=1\")))","v":""},{"$f":"IF($Z$2=\"pok\",\"\",IF(A88=\"\",\"\",COUNTIFS(SYNTHESE!$D:$D,A88,SYNTHESE!$E:$E,$V$1,SYNTHESE!$F:$F,\">=1\")))","v":""},{"$f":"IF($Z$2=\"pok\",\"\",IF(A88=\"\",\"\",COUNTIFS(SYNTHESE!$D:$D,A88,SYNTHESE!$E:$E,$W$1,SYNTHESE!$F:$F,\">=1\")))","v":""},{"$f":"IF($Z$2=\"pok\",\"\",IF(A88=\"\",\"\",COUNTIFS(SYNTHESE!$D:$D,A88,SYNTHESE!$E:$E,$X$1,SYNTHESE!$F:$F,\">=1\")))","v":""},{"$f":"IF($Z$2=\"pok\",\"\",IF(A88=\"\",\"\",COUNTIFS(SYNTHESE!$D:$D,A88,SYNTHESE!$E:$E,$Y$1,SYNTHESE!$F:$F,\">=1\")))","v":""},0]
[{"$f":"IF(ETUDIANTS!A89=\"\",\"\",ETUDIANTS!A89)","v":""},{"$f":"IF($Z$2=\"pok\",\"\",IF(A89=\"\",\"\",COUNTIFS(SYNTHESE!$D:$D,A89,SYNTHESE!$E:$E,$B$1,SYNTHESE!$F:$F,\">=1\")))","v":""},{"$f":"IF($Z$2=\"pok\",\"\",IF(A89=\"\",\"\",COUNTIFS(SYNTHESE!$D:$D,A89,SYNTHESE!$E:$E,$C$1,SYNTHESE!$F:$F,\">=1\")))","v":""},{"$f":"IF($Z$2=\"pok\",\"\",IF(A89=\"\",\"\",COUNTIFS(SYNTHESE!$D:$D,A89,SYNTHESE!$E:$E,$D$1,SYNTHESE!$F:$F,\">=1\")))","v":""},{"$f":"IF($Z$2=\"pok\",\"\",IF(A89=\"\",\"\",COUNTIFS(SYNTHESE!$D:$D,A89,SYNTHESE!$E:$E,$E$1,SYNTHESE!$F:$F,\">=1\")))","v":""},{"$f":"IF($Z$2=\"pok\",\"\",IF(A89=\"\",\"\",COUNTIFS(SYNTHESE!$D:$D,A89,SYNTHESE!$E:$E,$F$1,SYNTHESE!$F:$F,\">=1\")))","v":""},{"$f":"IF($Z$2=\"pok\",\"\",IF(A89=\"\",\"\",COUNTIFS(SYNTHESE!$D:$D,A89,SYNTHESE!$E:$E,$G$1,SYNTHESE!$F:$F,\">=1\")))","v":""},{"$f":"IF($Z$2=\"pok\",\"\",IF(A89=\"\",\"\",COUNTIFS(SYNTHESE!$D:$D,A89,SYNTHESE!$E:$E,$H$1,SYNTHESE!$F:$F,\">=1\")))","v":""},{"$f":"IF($Z$2=\"pok\",\"\",IF(A89=\"\",\"\",COUNTIFS(SYNTHESE!$D:$D,A89,SYNTHESE!$E:$E,$I$1,SYNTHESE!$F:$F,\">=1\")))","v":""},{"$f":"IF($Z$2=\"pok\",\"\",IF(A89=\"\",\"\",COUNTIFS(SYNTHESE!$D:$D,A89,SYNTHESE!$E:$E,$J$1,SYNTHESE!$F:$F,\">=1\")))","v":""},{"$f":"IF($Z$2=\"pok\",\"\",IF(A89=\"\",\"\",COUNTIFS(SYNTHESE!$D:$D,A89,SYNTHESE!$E:$E,$K$1,SYNTHESE!$F:$F,\">=1\")))","v":""},{"$f":"IF($Z$2=\"pok\",\"\",IF(A89=\"\",\"\",COUNTIFS(SYNTHESE!$D:$D,A89,SYNTHESE!$E:$E,$L$1,SYNTHESE!$F:$F,\">=1\")))","v":""},{"$f":"IF($Z$2=\"pok\",\"\",IF(A89=\"\",\"\",COUNTIFS(SYNTHESE!$D:$D,A89,SYNTHESE!$E:$E,$M$1,SYNTHESE!$F:$F,\">=1\")))","v":""},{"$f":"IF($Z$2=\"pok\",\"\",IF(A89=\"\",\"\",COUNTIFS(SYNTHESE!$D:$D,A89,SYNTHESE!$E:$E,$N$1,SYNTHESE!$F:$F,\">=1\")))","v":""},{"$f":"IF($Z$2=\"pok\",\"\",IF(A89=\"\",\"\",COUNTIFS(SYNTHESE!$D:$D,A89,SYNTHESE!$E:$E,$O$1,SYNTHESE!$F:$F,\">=1\")))","v":""},{"$f":"IF($Z$2=\"pok\",\"\",IF(A89=\"\",\"\",COUNTIFS(SYNTHESE!$D:$D,A89,SYNTHESE!$E:$E,$P$1,SYNTHESE!$F:$F,\">=1\")))","v":""},{"$f":"IF($Z$2=\"pok\",\"\",IF(A89=\"\",\"\",COUNTIFS(SYNTHESE!$D:$D,A89,SYNTHESE!$E:$E,$Q$1,SYNTHESE!$F:$F,\">=1\")))","v":""},{"$f":"IF($Z$2=\"pok\",\"\",IF(A89=\"\",\"\",COUNTIFS(SYNTHESE!$D:$D,A89,SYNTHESE!$E:$E,$R$1,SYNTHESE!$F:$F,\">=1\")))","v":""},{"$f":"IF($Z$2=\"pok\",\"\",IF(A89=\"\",\"\",COUNTIFS(SYNTHESE!$D:$D,A89,SYNTHESE!$E:$E,$S$1,SYNTHESE!$F:$F,\">=1\")))","v":""},{"$f":"IF($Z$2=\"pok\",\"\",IF(A89=\"\",\"\",COUNTIFS(SYNTHESE!$D:$D,A89,SYNTHESE!$E:$E,$T$1,SYNTHESE!$F:$F,\">=1\")))","v":""},{"$f":"IF($Z$2=\"pok\",\"\",IF(A89=\"\",\"\",COUNTIFS(SYNTHESE!$D:$D,A89,SYNTHESE!$E:$E,$U$1,SYNTHESE!$F:$F,\">=1\")))","v":""},{"$f":"IF($Z$2=\"pok\",\"\",IF(A89=\"\",\"\",COUNTIFS(SYNTHESE!$D:$D,A89,SYNTHESE!$E:$E,$V$1,SYNTHESE!$F:$F,\">=1\")))","v":""},{"$f":"IF($Z$2=\"pok\",\"\",IF(A89=\"\",\"\",COUNTIFS(SYNTHESE!$D:$D,A89,SYNTHESE!$E:$E,$W$1,SYNTHESE!$F:$F,\">=1\")))","v":""},{"$f":"IF($Z$2=\"pok\",\"\",IF(A89=\"\",\"\",COUNTIFS(SYNTHESE!$D:$D,A89,SYNTHESE!$E:$E,$X$1,SYNTHESE!$F:$F,\">=1\")))","v":""},{"$f":"IF($Z$2=\"pok\",\"\",IF(A89=\"\",\"\",COUNTIFS(SYNTHESE!$D:$D,A89,SYNTHESE!$E:$E,$Y$1,SYNTHESE!$F:$F,\">=1\")))","v":""},0]
[{"$f":"IF(ETUDIANTS!A90=\"\",\"\",ETUDIANTS!A90)","v":""},{"$f":"IF($Z$2=\"pok\",\"\",IF(A90=\"\",\"\",COUNTIFS(SYNTHESE!$D:$D,A90,SYNTHESE!$E:$E,$B$1,SYNTHESE!$F:$F,\">=1\")))","v":""},{"$f":"IF($Z$2=\"pok\",\"\",IF(A90=\"\",\"\",COUNTIFS(SYNTHESE!$D:$D,A90,SYNTHESE!$E:$E,$C$1,SYNTHESE!$F:$F,\">=1\")))","v":""},{"$f":"IF($Z$2=\"pok\",\"\",IF(A90=\"\",\"\",COUNTIFS(SYNTHESE!$D:$D,A90,SYNTHESE!$E:$E,$D$1,SYNTHESE!$F:$F,\">=1\")))","v":""},{"$f":"IF($Z$2=\"pok\",\"\",IF(A90=\"\",\"\",COUNTIFS(SYNTHESE!$D:$D,A90,SYNTHESE!$E:$E,$E$1,SYNTHESE!$F:$F,\">=1\")))","v":""},{"$f":"IF($Z$2=\"pok\",\"\",IF(A90=\"\",\"\",COUNTIFS(SYNTHESE!$D:$D,A90,SYNTHESE!$E:$E,$F$1,SYNTHESE!$F:$F,\">=1\")))","v":""},{"$f":"IF($Z$2=\"pok\",\"\",IF(A90=\"\",\"\",COUNTIFS(SYNTHESE!$D:$D,A90,SYNTHESE!$E:$E,$G$1,SYNTHESE!$F:$F,\">=1\")))","v":""},{"$f":"IF($Z$2=\"pok\",\"\",IF(A90=\"\",\"\",COUNTIFS(SYNTHESE!$D:$D,A90,SYNTHESE!$E:$E,$H$1,SYNTHESE!$F:$F,\">=1\")))","v":""},{"$f":"IF($Z$2=\"pok\",\"\",IF(A90=\"\",\"\",COUNTIFS(SYNTHESE!$D:$D,A90,SYNTHESE!$E:$E,$I$1,SYNTHESE!$F:$F,\">=1\")))","v":""},{"$f":"IF($Z$2=\"pok\",\"\",IF(A90=\"\",\"\",COUNTIFS(SYNTHESE!$D:$D,A90,SYNTHESE!$E:$E,$J$1,SYNTHESE!$F:$F,\">=1\")))","v":""},{"$f":"IF($Z$2=\"pok\",\"\",IF(A90=\"\",\"\",COUNTIFS(SYNTHESE!$D:$D,A90,SYNTHESE!$E:$E,$K$1,SYNTHESE!$F:$F,\">=1\")))","v":""},{"$f":"IF($Z$2=\"pok\",\"\",IF(A90=\"\",\"\",COUNTIFS(SYNTHESE!$D:$D,A90,SYNTHESE!$E:$E,$L$1,SYNTHESE!$F:$F,\">=1\")))","v":""},{"$f":"IF($Z$2=\"pok\",\"\",IF(A90=\"\",\"\",COUNTIFS(SYNTHESE!$D:$D,A90,SYNTHESE!$E:$E,$M$1,SYNTHESE!$F:$F,\">=1\")))","v":""},{"$f":"IF($Z$2=\"pok\",\"\",IF(A90=\"\",\"\",COUNTIFS(SYNTHESE!$D:$D,A90,SYNTHESE!$E:$E,$N$1,SYNTHESE!$F:$F,\">=1\")))","v":""},{"$f":"IF($Z$2=\"pok\",\"\",IF(A90=\"\",\"\",COUNTIFS(SYNTHESE!$D:$D,A90,SYNTHESE!$E:$E,$O$1,SYNTHESE!$F:$F,\">=1\")))","v":""},{"$f":"IF($Z$2=\"pok\",\"\",IF(A90=\"\",\"\",COUNTIFS(SYNTHESE!$D:$D,A90,SYNTHESE!$E:$E,$P$1,SYNTHESE!$F:$F,\">=1\")))","v":""},{"$f":"IF($Z$2=\"pok\",\"\",IF(A90=\"\",\"\",COUNTIFS(SYNTHESE!$D:$D,A90,SYNTHESE!$E:$E,$Q$1,SYNTHESE!$F:$F,\">=1\")))","v":""},{"$f":"IF($Z$2=\"pok\",\"\",IF(A90=\"\",\"\",COUNTIFS(SYNTHESE!$D:$D,A90,SYNTHESE!$E:$E,$R$1,SYNTHESE!$F:$F,\">=1\")))","v":""},{"$f":"IF($Z$2=\"pok\",\"\",IF(A90=\"\",\"\",COUNTIFS(SYNTHESE!$D:$D,A90,SYNTHESE!$E:$E,$S$1,SYNTHESE!$F:$F,\">=1\")))","v":""},{"$f":"IF($Z$2=\"pok\",\"\",IF(A90=\"\",\"\",COUNTIFS(SYNTHESE!$D:$D,A90,SYNTHESE!$E:$E,$T$1,SYNTHESE!$F:$F,\">=1\")))","v":""},{"$f":"IF($Z$2=\"pok\",\"\",IF(A90=\"\",\"\",COUNTIFS(SYNTHESE!$D:$D,A90,SYNTHESE!$E:$E,$U$1,SYNTHESE!$F:$F,\">=1\")))","v":""},{"$f":"IF($Z$2=\"pok\",\"\",IF(A90=\"\",\"\",COUNTIFS(SYNTHESE!$D:$D,A90,SYNTHESE!$E:$E,$V$1,SYNTHESE!$F:$F,\">=1\")))","v":""},{"$f":"IF($Z$2=\"pok\",\"\",IF(A90=\"\",\"\",COUNTIFS(SYNTHESE!$D:$D,A90,SYNTHESE!$E:$E,$W$1,SYNTHESE!$F:$F,\">=1\")))","v":""},{"$f":"IF($Z$2=\"pok\",\"\",IF(A90=\"\",\"\",COUNTIFS(SYNTHESE!$D:$D,A90,SYNTHESE!$E:$E,$X$1,SYNTHESE!$F:$F,\">=1\")))","v":""},{"$f":"IF($Z$2=\"pok\",\"\",IF(A90=\"\",\"\",COUNTIFS(SYNTHESE!$D:$D,A90,SYNTHESE!$E:$E,$Y$1,SYNTHESE!$F:$F,\">=1\")))","v":""},0]
[{"$f":"IF(ETUDIANTS!A91=\"\",\"\",ETUDIANTS!A91)","v":""},{"$f":"IF($Z$2=\"pok\",\"\",IF(A91=\"\",\"\",COUNTIFS(SYNTHESE!$D:$D,A91,SYNTHESE!$E:$E,$B$1,SYNTHESE!$F:$F,\">=1\")))","v":""},{"$f":"IF($Z$2=\"pok\",\"\",IF(A91=\"\",\"\",COUNTIFS(SYNTHESE!$D:$D,A91,SYNTHESE!$E:$E,$C$1,SYNTHESE!$F:$F,\">=1\")))","v":""},{"$f":"IF($Z$2=\"pok\",\"\",IF(A91=\"\",\"\",COUNTIFS(SYNTHESE!$D:$D,A91,SYNTHESE!$E:$E,$D$1,SYNTHESE!$F:$F,\">=1\")))","v":""},{"$f":"IF($Z$2=\"pok\",\"\",IF(A91=\"\",\"\",COUNTIFS(SYNTHESE!$D:$D,A91,SYNTHESE!$E:$E,$E$1,SYNTHESE!$F:$F,\">=1\")))","v":""},{"$f":"IF($Z$2=\"pok\",\"\",IF(A91=\"\",\"\",COUNTIFS(SYNTHESE!$D:$D,A91,SYNTHESE!$E:$E,$F$1,SYNTHESE!$F:$F,\">=1\")))","v":""},{"$f":"IF($Z$2=\"pok\",\"\",IF(A91=\"\",\"\",COUNTIFS(SYNTHESE!$D:$D,A91,SYNTHESE!$E:$E,$G$1,SYNTHESE!$F:$F,\">=1\")))","v":""},{"$f":"IF($Z$2=\"pok\",\"\",IF(A91=\"\",\"\",COUNTIFS(SYNTHESE!$D:$D,A91,SYNTHESE!$E:$E,$H$1,SYNTHESE!$F:$F,\">=1\")))","v":""},{"$f":"IF($Z$2=\"pok\",\"\",IF(A91=\"\",\"\",COUNTIFS(SYNTHESE!$D:$D,A91,SYNTHESE!$E:$E,$I$1,SYNTHESE!$F:$F,\">=1\")))","v":""},{"$f":"IF($Z$2=\"pok\",\"\",IF(A91=\"\",\"\",COUNTIFS(SYNTHESE!$D:$D,A91,SYNTHESE!$E:$E,$J$1,SYNTHESE!$F:$F,\">=1\")))","v":""},{"$f":"IF($Z$2=\"pok\",\"\",IF(A91=\"\",\"\",COUNTIFS(SYNTHESE!$D:$D,A91,SYNTHESE!$E:$E,$K$1,SYNTHESE!$F:$F,\">=1\")))","v":""},{"$f":"IF($Z$2=\"pok\",\"\",IF(A91=\"\",\"\",COUNTIFS(SYNTHESE!$D:$D,A91,SYNTHESE!$E:$E,$L$1,SYNTHESE!$F:$F,\">=1\")))","v":""},{"$f":"IF($Z$2=\"pok\",\"\",IF(A91=\"\",\"\",COUNTIFS(SYNTHESE!$D:$D,A91,SYNTHESE!$E:$E,$M$1,SYNTHESE!$F:$F,\">=1\")))","v":""},{"$f":"IF($Z$2=\"pok\",\"\",IF(A91=\"\",\"\",COUNTIFS(SYNTHESE!$D:$D,A91,SYNTHESE!$E:$E,$N$1,SYNTHESE!$F:$F,\">=1\")))","v":""},{"$f":"IF($Z$2=\"pok\",\"\",IF(A91=\"\",\"\",COUNTIFS(SYNTHESE!$D:$D,A91,SYNTHESE!$E:$E,$O$1,SYNTHESE!$F:$F,\">=1\")))","v":""},{"$f":"IF($Z$2=\"pok\",\"\",IF(A91=\"\",\"\",COUNTIFS(SYNTHESE!$D:$D,A91,SYNTHESE!$E:$E,$P$1,SYNTHESE!$F:$F,\">=1\")))","v":""},{"$f":"IF($Z$2=\"pok\",\"\",IF(A91=\"\",\"\",COUNTIFS(SYNTHESE!$D:$D,A91,SYNTHESE!$E:$E,$Q$1,SYNTHESE!$F:$F,\">=1\")))","v":""},{"$f":"IF($Z$2=\"pok\",\"\",IF(A91=\"\",\"\",COUNTIFS(SYNTHESE!$D:$D,A91,SYNTHESE!$E:$E,$R$1,SYNTHESE!$F:$F,\">=1\")))","v":""},{"$f":"IF($Z$2=\"pok\",\"\",IF(A91=\"\",\"\",COUNTIFS(SYNTHESE!$D:$D,A91,SYNTHESE!$E:$E,$S$1,SYNTHESE!$F:$F,\">=1\")))","v":""},{"$f":"IF($Z$2=\"pok\",\"\",IF(A91=\"\",\"\",COUNTIFS(SYNTHESE!$D:$D,A91,SYNTHESE!$E:$E,$T$1,SYNTHESE!$F:$F,\">=1\")))","v":""},{"$f":"IF($Z$2=\"pok\",\"\",IF(A91=\"\",\"\",COUNTIFS(SYNTHESE!$D:$D,A91,SYNTHESE!$E:$E,$U$1,SYNTHESE!$F:$F,\">=1\")))","v":""},{"$f":"IF($Z$2=\"pok\",\"\",IF(A91=\"\",\"\",COUNTIFS(SYNTHESE!$D:$D,A91,SYNTHESE!$E:$E,$V$1,SYNTHESE!$F:$F,\">=1\")))","v":""},{"$f":"IF($Z$2=\"pok\",\"\",IF(A91=\"\",\"\",COUNTIFS(SYNTHESE!$D:$D,A91,SYNTHESE!$E:$E,$W$1,SYNTHESE!$F:$F,\">=1\")))","v":""},{"$f":"IF($Z$2=\"pok\",\"\",IF(A91=\"\",\"\",COUNTIFS(SYNTHESE!$D:$D,A91,SYNTHESE!$E:$E,$X$1,SYNTHESE!$F:$F,\">=1\")))","v":""},{"$f":"IF($Z$2=\"pok\",\"\",IF(A91=\"\",\"\",COUNTIFS(SYNTHESE!$D:$D,A91,SYNTHESE!$E:$E,$Y$1,SYNTHESE!$F:$F,\">=1\")))","v":""},0]
[{"$f":"IF(ETUDIANTS!A92=\"\",\"\",ETUDIANTS!A92)","v":""},{"$f":"IF($Z$2=\"pok\",\"\",IF(A92=\"\",\"\",COUNTIFS(SYNTHESE!$D:$D,A92,SYNTHESE!$E:$E,$B$1,SYNTHESE!$F:$F,\">=1\")))","v":""},{"$f":"IF($Z$2=\"pok\",\"\",IF(A92=\"\",\"\",COUNTIFS(SYNTHESE!$D:$D,A92,SYNTHESE!$E:$E,$C$1,SYNTHESE!$F:$F,\">=1\")))","v":""},{"$f":"IF($Z$2=\"pok\",\"\",IF(A92=\"\",\"\",COUNTIFS(SYNTHESE!$D:$D,A92,SYNTHESE!$E:$E,$D$1,SYNTHESE!$F:$F,\">=1\")))","v":""},{"$f":"IF($Z$2=\"pok\",\"\",IF(A92=\"\",\"\",COUNTIFS(SYNTHESE!$D:$D,A92,SYNTHESE!$E:$E,$E$1,SYNTHESE!$F:$F,\">=1\")))","v":""},{"$f":"IF($Z$2=\"pok\",\"\",IF(A92=\"\",\"\",COUNTIFS(SYNTHESE!$D:$D,A92,SYNTHESE!$E:$E,$F$1,SYNTHESE!$F:$F,\">=1\")))","v":""},{"$f":"IF($Z$2=\"pok\",\"\",IF(A92=\"\",\"\",COUNTIFS(SYNTHESE!$D:$D,A92,SYNTHESE!$E:$E,$G$1,SYNTHESE!$F:$F,\">=1\")))","v":""},{"$f":"IF($Z$2=\"pok\",\"\",IF(A92=\"\",\"\",COUNTIFS(SYNTHESE!$D:$D,A92,SYNTHESE!$E:$E,$H$1,SYNTHESE!$F:$F,\">=1\")))","v":""},{"$f":"IF($Z$2=\"pok\",\"\",IF(A92=\"\",\"\",COUNTIFS(SYNTHESE!$D:$D,A92,SYNTHESE!$E:$E,$I$1,SYNTHESE!$F:$F,\">=1\")))","v":""},{"$f":"IF($Z$2=\"pok\",\"\",IF(A92=\"\",\"\",COUNTIFS(SYNTHESE!$D:$D,A92,SYNTHESE!$E:$E,$J$1,SYNTHESE!$F:$F,\">=1\")))","v":""},{"$f":"IF($Z$2=\"pok\",\"\",IF(A92=\"\",\"\",COUNTIFS(SYNTHESE!$D:$D,A92,SYNTHESE!$E:$E,$K$1,SYNTHESE!$F:$F,\">=1\")))","v":""},{"$f":"IF($Z$2=\"pok\",\"\",IF(A92=\"\",\"\",COUNTIFS(SYNTHESE!$D:$D,A92,SYNTHESE!$E:$E,$L$1,SYNTHESE!$F:$F,\">=1\")))","v":""},{"$f":"IF($Z$2=\"pok\",\"\",IF(A92=\"\",\"\",COUNTIFS(SYNTHESE!$D:$D,A92,SYNTHESE!$E:$E,$M$1,SYNTHESE!$F:$F,\">=1\")))","v":""},{"$f":"IF($Z$2=\"pok\",\"\",IF(A92=\"\",\"\",COUNTIFS(SYNTHESE!$D:$D,A92,SYNTHESE!$E:$E,$N$1,SYNTHESE!$F:$F,\">=1\")))","v":""},{"$f":"IF($Z$2=\"pok\",\"\",IF(A92=\"\",\"\",COUNTIFS(SYNTHESE!$D:$D,A92,SYNTHESE!$E:$E,$O$1,SYNTHESE!$F:$F,\">=1\")))","v":""},{"$f":"IF($Z$2=\"pok\",\"\",IF(A92=\"\",\"\",COUNTIFS(SYNTHESE!$D:$D,A92,SYNTHESE!$E:$E,$P$1,SYNTHESE!$F:$F,\">=1\")))","v":""},{"$f":"IF($Z$2=\"pok\",\"\",IF(A92=\"\",\"\",COUNTIFS(SYNTHESE!$D:$D,A92,SYNTHESE!$E:$E,$Q$1,SYNTHESE!$F:$F,\">=1\")))","v":""},{"$f":"IF($Z$2=\"pok\",\"\",IF(A92=\"\",\"\",COUNTIFS(SYNTHESE!$D:$D,A92,SYNTHESE!$E:$E,$R$1,SYNTHESE!$F:$F,\">=1\")))","v":""},{"$f":"IF($Z$2=\"pok\",\"\",IF(A92=\"\",\"\",COUNTIFS(SYNTHESE!$D:$D,A92,SYNTHESE!$E:$E,$S$1,SYNTHESE!$F:$F,\">=1\")))","v":""},{"$f":"IF($Z$2=\"pok\",\"\",IF(A92=\"\",\"\",COUNTIFS(SYNTHESE!$D:$D,A92,SYNTHESE!$E:$E,$T$1,SYNTHESE!$F:$F,\">=1\")))","v":""},{"$f":"IF($Z$2=\"pok\",\"\",IF(A92=\"\",\"\",COUNTIFS(SYNTHESE!$D:$D,A92,SYNTHESE!$E:$E,$U$1,SYNTHESE!$F:$F,\">=1\")))","v":""},{"$f":"IF($Z$2=\"pok\",\"\",IF(A92=\"\",\"\",COUNTIFS(SYNTHESE!$D:$D,A92,SYNTHESE!$E:$E,$V$1,SYNTHESE!$F:$F,\">=1\")))","v":""},{"$f":"IF($Z$2=\"pok\",\"\",IF(A92=\"\",\"\",COUNTIFS(SYNTHESE!$D:$D,A92,SYNTHESE!$E:$E,$W$1,SYNTHESE!$F:$F,\">=1\")))","v":""},{"$f":"IF($Z$2=\"pok\",\"\",IF(A92=\"\",\"\",COUNTIFS(SYNTHESE!$D:$D,A92,SYNTHESE!$E:$E,$X$1,SYNTHESE!$F:$F,\">=1\")))","v":""},{"$f":"IF($Z$2=\"pok\",\"\",IF(A92=\"\",\"\",COUNTIFS(SYNTHESE!$D:$D,A92,SYNTHESE!$E:$E,$Y$1,SYNTHESE!$F:$F,\">=1\")))","v":""},0]
[{"$f":"IF(ETUDIANTS!A93=\"\",\"\",ETUDIANTS!A93)","v":""},{"$f":"IF($Z$2=\"pok\",\"\",IF(A93=\"\",\"\",COUNTIFS(SYNTHESE!$D:$D,A93,SYNTHESE!$E:$E,$B$1,SYNTHESE!$F:$F,\">=1\")))","v":""},{"$f":"IF($Z$2=\"pok\",\"\",IF(A93=\"\",\"\",COUNTIFS(SYNTHESE!$D:$D,A93,SYNTHESE!$E:$E,$C$1,SYNTHESE!$F:$F,\">=1\")))","v":""},{"$f":"IF($Z$2=\"pok\",\"\",IF(A93=\"\",\"\",COUNTIFS(SYNTHESE!$D:$D,A93,SYNTHESE!$E:$E,$D$1,SYNTHESE!$F:$F,\">=1\")))","v":""},{"$f":"IF($Z$2=\"pok\",\"\",IF(A93=\"\",\"\",COUNTIFS(SYNTHESE!$D:$D,A93,SYNTHESE!$E:$E,$E$1,SYNTHESE!$F:$F,\">=1\")))","v":""},{"$f":"IF($Z$2=\"pok\",\"\",IF(A93=\"\",\"\",COUNTIFS(SYNTHESE!$D:$D,A93,SYNTHESE!$E:$E,$F$1,SYNTHESE!$F:$F,\">=1\")))","v":""},{"$f":"IF($Z$2=\"pok\",\"\",IF(A93=\"\",\"\",COUNTIFS(SYNTHESE!$D:$D,A93,SYNTHESE!$E:$E,$G$1,SYNTHESE!$F:$F,\">=1\")))","v":""},{"$f":"IF($Z$2=\"pok\",\"\",IF(A93=\"\",\"\",COUNTIFS(SYNTHESE!$D:$D,A93,SYNTHESE!$E:$E,$H$1,SYNTHESE!$F:$F,\">=1\")))","v":""},{"$f":"IF($Z$2=\"pok\",\"\",IF(A93=\"\",\"\",COUNTIFS(SYNTHESE!$D:$D,A93,SYNTHESE!$E:$E,$I$1,SYNTHESE!$F:$F,\">=1\")))","v":""},{"$f":"IF($Z$2=\"pok\",\"\",IF(A93=\"\",\"\",COUNTIFS(SYNTHESE!$D:$D,A93,SYNTHESE!$E:$E,$J$1,SYNTHESE!$F:$F,\">=1\")))","v":""},{"$f":"IF($Z$2=\"pok\",\"\",IF(A93=\"\",\"\",COUNTIFS(SYNTHESE!$D:$D,A93,SYNTHESE!$E:$E,$K$1,SYNTHESE!$F:$F,\">=1\")))","v":""},{"$f":"IF($Z$2=\"pok\",\"\",IF(A93=\"\",\"\",COUNTIFS(SYNTHESE!$D:$D,A93,SYNTHESE!$E:$E,$L$1,SYNTHESE!$F:$F,\">=1\")))","v":""},{"$f":"IF($Z$2=\"pok\",\"\",IF(A93=\"\",\"\",COUNTIFS(SYNTHESE!$D:$D,A93,SYNTHESE!$E:$E,$M$1,SYNTHESE!$F:$F,\">=1\")))","v":""},{"$f":"IF($Z$2=\"pok\",\"\",IF(A93=\"\",\"\",COUNTIFS(SYNTHESE!$D:$D,A93,SYNTHESE!$E:$E,$N$1,SYNTHESE!$F:$F,\">=1\")))","v":""},{"$f":"IF($Z$2=\"pok\",\"\",IF(A93=\"\",\"\",COUNTIFS(SYNTHESE!$D:$D,A93,SYNTHESE!$E:$E,$O$1,SYNTHESE!$F:$F,\">=1\")))","v":""},{"$f":"IF($Z$2=\"pok\",\"\",IF(A93=\"\",\"\",COUNTIFS(SYNTHESE!$D:$D,A93,SYNTHESE!$E:$E,$P$1,SYNTHESE!$F:$F,\">=1\")))","v":""},{"$f":"IF($Z$2=\"pok\",\"\",IF(A93=\"\",\"\",COUNTIFS(SYNTHESE!$D:$D,A93,SYNTHESE!$E:$E,$Q$1,SYNTHESE!$F:$F,\">=1\")))","v":""},{"$f":"IF($Z$2=\"pok\",\"\",IF(A93=\"\",\"\",COUNTIFS(SYNTHESE!$D:$D,A93,SYNTHESE!$E:$E,$R$1,SYNTHESE!$F:$F,\">=1\")))","v":""},{"$f":"IF($Z$2=\"pok\",\"\",IF(A93=\"\",\"\",COUNTIFS(SYNTHESE!$D:$D,A93,SYNTHESE!$E:$E,$S$1,SYNTHESE!$F:$F,\">=1\")))","v":""},{"$f":"IF($Z$2=\"pok\",\"\",IF(A93=\"\",\"\",COUNTIFS(SYNTHESE!$D:$D,A93,SYNTHESE!$E:$E,$T$1,SYNTHESE!$F:$F,\">=1\")))","v":""},{"$f":"IF($Z$2=\"pok\",\"\",IF(A93=\"\",\"\",COUNTIFS(SYNTHESE!$D:$D,A93,SYNTHESE!$E:$E,$U$1,SYNTHESE!$F:$F,\">=1\")))","v":""},{"$f":"IF($Z$2=\"pok\",\"\",IF(A93=\"\",\"\",COUNTIFS(SYNTHESE!$D:$D,A93,SYNTHESE!$E:$E,$V$1,SYNTHESE!$F:$F,\">=1\")))","v":""},{"$f":"IF($Z$2=\"pok\",\"\",IF(A93=\"\",\"\",COUNTIFS(SYNTHESE!$D:$D,A93,SYNTHESE!$E:$E,$W$1,SYNTHESE!$F:$F,\">=1\")))","v":""},{"$f":"IF($Z$2=\"pok\",\"\",IF(A93=\"\",\"\",COUNTIFS(SYNTHESE!$D:$D,A93,SYNTHESE!$E:$E,$X$1,SYNTHESE!$F:$F,\">=1\")))","v":""},{"$f":"IF($Z$2=\"pok\",\"\",IF(A93=\"\",\"\",COUNTIFS(SYNTHESE!$D:$D,A93,SYNTHESE!$E:$E,$Y$1,SYNTHESE!$F:$F,\">=1\")))","v":""},0]
[{"$f":"IF(ETUDIANTS!A94=\"\",\"\",ETUDIANTS!A94)","v":""},{"$f":"IF($Z$2=\"pok\",\"\",IF(A94=\"\",\"\",COUNTIFS(SYNTHESE!$D:$D,A94,SYNTHESE!$E:$E,$B$1,SYNTHESE!$F:$F,\">=1\")))","v":""},{"$f":"IF($Z$2=\"pok\",\"\",IF(A94=\"\",\"\",COUNTIFS(SYNTHESE!$D:$D,A94,SYNTHESE!$E:$E,$C$1,SYNTHESE!$F:$F,\">=1\")))","v":""},{"$f":"IF($Z$2=\"pok\",\"\",IF(A94=\"\",\"\",COUNTIFS(SYNTHESE!$D:$D,A94,SYNTHESE!$E:$E,$D$1,SYNTHESE!$F:$F,\">=1\")))","v":""},{"$f":"IF($Z$2=\"pok\",\"\",IF(A94=\"\",\"\",COUNTIFS(SYNTHESE!$D:$D,A94,SYNTHESE!$E:$E,$E$1,SYNTHESE!$F:$F,\">=1\")))","v":""},{"$f":"IF($Z$2=\"pok\",\"\",IF(A94=\"\",\"\",COUNTIFS(SYNTHESE!$D:$D,A94,SYNTHESE!$E:$E,$F$1,SYNTHESE!$F:$F,\">=1\")))","v":""},{"$f":"IF($Z$2=\"pok\",\"\",IF(A94=\"\",\"\",COUNTIFS(SYNTHESE!$D:$D,A94,SYNTHESE!$E:$E,$G$1,SYNTHESE!$F:$F,\">=1\")))","v":""},{"$f":"IF($Z$2=\"pok\",\"\",IF(A94=\"\",\"\",COUNTIFS(SYNTHESE!$D:$D,A94,SYNTHESE!$E:$E,$H$1,SYNTHESE!$F:$F,\">=1\")))","v":""},{"$f":"IF($Z$2=\"pok\",\"\",IF(A94=\"\",\"\",COUNTIFS(SYNTHESE!$D:$D,A94,SYNTHESE!$E:$E,$I$1,SYNTHESE!$F:$F,\">=1\")))","v":""},{"$f":"IF($Z$2=\"pok\",\"\",IF(A94=\"\",\"\",COUNTIFS(SYNTHESE!$D:$D,A94,SYNTHESE!$E:$E,$J$1,SYNTHESE!$F:$F,\">=1\")))","v":""},{"$f":"IF($Z$2=\"pok\",\"\",IF(A94=\"\",\"\",COUNTIFS(SYNTHESE!$D:$D,A94,SYNTHESE!$E:$E,$K$1,SYNTHESE!$F:$F,\">=1\")))","v":""},{"$f":"IF($Z$2=\"pok\",\"\",IF(A94=\"\",\"\",COUNTIFS(SYNTHESE!$D:$D,A94,SYNTHESE!$E:$E,$L$1,SYNTHESE!$F:$F,\">=1\")))","v":""},{"$f":"IF($Z$2=\"pok\",\"\",IF(A94=\"\",\"\",COUNTIFS(SYNTHESE!$D:$D,A94,SYNTHESE!$E:$E,$M$1,SYNTHESE!$F:$F,\">=1\")))","v":""},{"$f":"IF($Z$2=\"pok\",\"\",IF(A94=\"\",\"\",COUNTIFS(SYNTHESE!$D:$D,A94,SYNTHESE!$E:$E,$N$1,SYNTHESE!$F:$F,\">=1\")))","v":""},{"$f":"IF($Z$2=\"pok\",\"\",IF(A94=\"\",\"\",COUNTIFS(SYNTHESE!$D:$D,A94,SYNTHESE!$E:$E,$O$1,SYNTHESE!$F:$F,\">=1\")))","v":""},{"$f":"IF($Z$2=\"pok\",\"\",IF(A94=\"\",\"\",COUNTIFS(SYNTHESE!$D:$D,A94,SYNTHESE!$E:$E,$P$1,SYNTHESE!$F:$F,\">=1\")))","v":""},{"$f":"IF($Z$2=\"pok\",\"\",IF(A94=\"\",\"\",COUNTIFS(SYNTHESE!$D:$D,A94,SYNTHESE!$E:$E,$Q$1,SYNTHESE!$F:$F,\">=1\")))","v":""},{"$f":"IF($Z$2=\"pok\",\"\",IF(A94=\"\",\"\",COUNTIFS(SYNTHESE!$D:$D,A94,SYNTHESE!$E:$E,$R$1,SYNTHESE!$F:$F,\">=1\")))","v":""},{"$f":"IF($Z$2=\"pok\",\"\",IF(A94=\"\",\"\",COUNTIFS(SYNTHESE!$D:$D,A94,SYNTHESE!$E:$E,$S$1,SYNTHESE!$F:$F,\">=1\")))","v":""},{"$f":"IF($Z$2=\"pok\",\"\",IF(A94=\"\",\"\",COUNTIFS(SYNTHESE!$D:$D,A94,SYNTHESE!$E:$E,$T$1,SYNTHESE!$F:$F,\">=1\")))","v":""},{"$f":"IF($Z$2=\"pok\",\"\",IF(A94=\"\",\"\",COUNTIFS(SYNTHESE!$D:$D,A94,SYNTHESE!$E:$E,$U$1,SYNTHESE!$F:$F,\">=1\")))","v":""},{"$f":"IF($Z$2=\"pok\",\"\",IF(A94=\"\",\"\",COUNTIFS(SYNTHESE!$D:$D,A94,SYNTHESE!$E:$E,$V$1,SYNTHESE!$F:$F,\">=1\")))","v":""},{"$f":"IF($Z$2=\"pok\",\"\",IF(A94=\"\",\"\",COUNTIFS(SYNTHESE!$D:$D,A94,SYNTHESE!$E:$E,$W$1,SYNTHESE!$F:$F,\">=1\")))","v":""},{"$f":"IF($Z$2=\"pok\",\"\",IF(A94=\"\",\"\",COUNTIFS(SYNTHESE!$D:$D,A94,SYNTHESE!$E:$E,$X$1,SYNTHESE!$F:$F,\">=1\")))","v":""},{"$f":"IF($Z$2=\"pok\",\"\",IF(A94=\"\",\"\",COUNTIFS(SYNTHESE!$D:$D,A94,SYNTHESE!$E:$E,$Y$1,SYNTHESE!$F:$F,\">=1\")))","v":""},0]
[{"$f":"IF(ETUDIANTS!A95=\"\",\"\",ETUDIANTS!A95)","v":""},{"$f":"IF($Z$2=\"pok\",\"\",IF(A95=\"\",\"\",COUNTIFS(SYNTHESE!$D:$D,A95,SYNTHESE!$E:$E,$B$1,SYNTHESE!$F:$F,\">=1\")))","v":""},{"$f":"IF($Z$2=\"pok\",\"\",IF(A95=\"\",\"\",COUNTIFS(SYNTHESE!$D:$D,A95,SYNTHESE!$E:$E,$C$1,SYNTHESE!$F:$F,\">=1\")))","v":""},{"$f":"IF($Z$2=\"pok\",\"\",IF(A95=\"\",\"\",COUNTIFS(SYNTHESE!$D:$D,A95,SYNTHESE!$E:$E,$D$1,SYNTHESE!$F:$F,\">=1\")))","v":""},{"$f":"IF($Z$2=\"pok\",\"\",IF(A95=\"\",\"\",COUNTIFS(SYNTHESE!$D:$D,A95,SYNTHESE!$E:$E,$E$1,SYNTHESE!$F:$F,\">=1\")))","v":""},{"$f":"IF($Z$2=\"pok\",\"\",IF(A95=\"\",\"\",COUNTIFS(SYNTHESE!$D:$D,A95,SYNTHESE!$E:$E,$F$1,SYNTHESE!$F:$F,\">=1\")))","v":""},{"$f":"IF($Z$2=\"pok\",\"\",IF(A95=\"\",\"\",COUNTIFS(SYNTHESE!$D:$D,A95,SYNTHESE!$E:$E,$G$1,SYNTHESE!$F:$F,\">=1\")))","v":""},{"$f":"IF($Z$2=\"pok\",\"\",IF(A95=\"\",\"\",COUNTIFS(SYNTHESE!$D:$D,A95,SYNTHESE!$E:$E,$H$1,SYNTHESE!$F:$F,\">=1\")))","v":""},{"$f":"IF($Z$2=\"pok\",\"\",IF(A95=\"\",\"\",COUNTIFS(SYNTHESE!$D:$D,A95,SYNTHESE!$E:$E,$I$1,SYNTHESE!$F:$F,\">=1\")))","v":""},{"$f":"IF($Z$2=\"pok\",\"\",IF(A95=\"\",\"\",COUNTIFS(SYNTHESE!$D:$D,A95,SYNTHESE!$E:$E,$J$1,SYNTHESE!$F:$F,\">=1\")))","v":""},{"$f":"IF($Z$2=\"pok\",\"\",IF(A95=\"\",\"\",COUNTIFS(SYNTHESE!$D:$D,A95,SYNTHESE!$E:$E,$K$1,SYNTHESE!$F:$F,\">=1\")))","v":""},{"$f":"IF($Z$2=\"pok\",\"\",IF(A95=\"\",\"\",COUNTIFS(SYNTHESE!$D:$D,A95,SYNTHESE!$E:$E,$L$1,SYNTHESE!$F:$F,\">=1\")))","v":""},{"$f":"IF($Z$2=\"pok\",\"\",IF(A95=\"\",\"\",COUNTIFS(SYNTHESE!$D:$D,A95,SYNTHESE!$E:$E,$M$1,SYNTHESE!$F:$F,\">=1\")))","v":""},{"$f":"IF($Z$2=\"pok\",\"\",IF(A95=\"\",\"\",COUNTIFS(SYNTHESE!$D:$D,A95,SYNTHESE!$E:$E,$N$1,SYNTHESE!$F:$F,\">=1\")))","v":""},{"$f":"IF($Z$2=\"pok\",\"\",IF(A95=\"\",\"\",COUNTIFS(SYNTHESE!$D:$D,A95,SYNTHESE!$E:$E,$O$1,SYNTHESE!$F:$F,\">=1\")))","v":""},{"$f":"IF($Z$2=\"pok\",\"\",IF(A95=\"\",\"\",COUNTIFS(SYNTHESE!$D:$D,A95,SYNTHESE!$E:$E,$P$1,SYNTHESE!$F:$F,\">=1\")))","v":""},{"$f":"IF($Z$2=\"pok\",\"\",IF(A95=\"\",\"\",COUNTIFS(SYNTHESE!$D:$D,A95,SYNTHESE!$E:$E,$Q$1,SYNTHESE!$F:$F,\">=1\")))","v":""},{"$f":"IF($Z$2=\"pok\",\"\",IF(A95=\"\",\"\",COUNTIFS(SYNTHESE!$D:$D,A95,SYNTHESE!$E:$E,$R$1,SYNTHESE!$F:$F,\">=1\")))","v":""},{"$f":"IF($Z$2=\"pok\",\"\",IF(A95=\"\",\"\",COUNTIFS(SYNTHESE!$D:$D,A95,SYNTHESE!$E:$E,$S$1,SYNTHESE!$F:$F,\">=1\")))","v":""},{"$f":"IF($Z$2=\"pok\",\"\",IF(A95=\"\",\"\",COUNTIFS(SYNTHESE!$D:$D,A95,SYNTHESE!$E:$E,$T$1,SYNTHESE!$F:$F,\">=1\")))","v":""},{"$f":"IF($Z$2=\"pok\",\"\",IF(A95=\"\",\"\",COUNTIFS(SYNTHESE!$D:$D,A95,SYNTHESE!$E:$E,$U$1,SYNTHESE!$F:$F,\">=1\")))","v":""},{"$f":"IF($Z$2=\"pok\",\"\",IF(A95=\"\",\"\",COUNTIFS(SYNTHESE!$D:$D,A95,SYNTHESE!$E:$E,$V$1,SYNTHESE!$F:$F,\">=1\")))","v":""},{"$f":"IF($Z$2=\"pok\",\"\",IF(A95=\"\",\"\",COUNTIFS(SYNTHESE!$D:$D,A95,SYNTHESE!$E:$E,$W$1,SYNTHESE!$F:$F,\">=1\")))","v":""},{"$f":"IF($Z$2=\"pok\",\"\",IF(A95=\"\",\"\",COUNTIFS(SYNTHESE!$D:$D,A95,SYNTHESE!$E:$E,$X$1,SYNTHESE!$F:$F,\">=1\")))","v":""},{"$f":"IF($Z$2=\"pok\",\"\",IF(A95=\"\",\"\",COUNTIFS(SYNTHESE!$D:$D,A95,SYNTHESE!$E:$E,$Y$1,SYNTHESE!$F:$F,\">=1\")))","v":""},0]
[{"$f":"IF(ETUDIANTS!A96=\"\",\"\",ETUDIANTS!A96)","v":""},{"$f":"IF($Z$2=\"pok\",\"\",IF(A96=\"\",\"\",COUNTIFS(SYNTHESE!$D:$D,A96,SYNTHESE!$E:$E,$B$1,SYNTHESE!$F:$F,\">=1\")))","v":""},{"$f":"IF($Z$2=\"pok\",\"\",IF(A96=\"\",\"\",COUNTIFS(SYNTHESE!$D:$D,A96,SYNTHESE!$E:$E,$C$1,SYNTHESE!$F:$F,\">=1\")))","v":""},{"$f":"IF($Z$2=\"pok\",\"\",IF(A96=\"\",\"\",COUNTIFS(SYNTHESE!$D:$D,A96,SYNTHESE!$E:$E,$D$1,SYNTHESE!$F:$F,\">=1\")))","v":""},{"$f":"IF($Z$2=\"pok\",\"\",IF(A96=\"\",\"\",COUNTIFS(SYNTHESE!$D:$D,A96,SYNTHESE!$E:$E,$E$1,SYNTHESE!$F:$F,\">=1\")))","v":""},{"$f":"IF($Z$2=\"pok\",\"\",IF(A96=\"\",\"\",COUNTIFS(SYNTHESE!$D:$D,A96,SYNTHESE!$E:$E,$F$1,SYNTHESE!$F:$F,\">=1\")))","v":""},{"$f":"IF($Z$2=\"pok\",\"\",IF(A96=\"\",\"\",COUNTIFS(SYNTHESE!$D:$D,A96,SYNTHESE!$E:$E,$G$1,SYNTHESE!$F:$F,\">=1\")))","v":""},{"$f":"IF($Z$2=\"pok\",\"\",IF(A96=\"\",\"\",COUNTIFS(SYNTHESE!$D:$D,A96,SYNTHESE!$E:$E,$H$1,SYNTHESE!$F:$F,\">=1\")))","v":""},{"$f":"IF($Z$2=\"pok\",\"\",IF(A96=\"\",\"\",COUNTIFS(SYNTHESE!$D:$D,A96,SYNTHESE!$E:$E,$I$1,SYNTHESE!$F:$F,\">=1\")))","v":""},{"$f":"IF($Z$2=\"pok\",\"\",IF(A96=\"\",\"\",COUNTIFS(SYNTHESE!$D:$D,A96,SYNTHESE!$E:$E,$J$1,SYNTHESE!$F:$F,\">=1\")))","v":""},{"$f":"IF($Z$2=\"pok\",\"\",IF(A96=\"\",\"\",COUNTIFS(SYNTHESE!$D:$D,A96,SYNTHESE!$E:$E,$K$1,SYNTHESE!$F:$F,\">=1\")))","v":""},{"$f":"IF($Z$2=\"pok\",\"\",IF(A96=\"\",\"\",COUNTIFS(SYNTHESE!$D:$D,A96,SYNTHESE!$E:$E,$L$1,SYNTHESE!$F:$F,\">=1\")))","v":""},{"$f":"IF($Z$2=\"pok\",\"\",IF(A96=\"\",\"\",COUNTIFS(SYNTHESE!$D:$D,A96,SYNTHESE!$E:$E,$M$1,SYNTHESE!$F:$F,\">=1\")))","v":""},{"$f":"IF($Z$2=\"pok\",\"\",IF(A96=\"\",\"\",COUNTIFS(SYNTHESE!$D:$D,A96,SYNTHESE!$E:$E,$N$1,SYNTHESE!$F:$F,\">=1\")))","v":""},{"$f":"IF($Z$2=\"pok\",\"\",IF(A96=\"\",\"\",COUNTIFS(SYNTHESE!$D:$D,A96,SYNTHESE!$E:$E,$O$1,SYNTHESE!$F:$F,\">=1\")))","v":""},{"$f":"IF($Z$2=\"pok\",\"\",IF(A96=\"\",\"\",COUNTIFS(SYNTHESE!$D:$D,A96,SYNTHESE!$E:$E,$P$1,SYNTHESE!$F:$F,\">=1\")))","v":""},{"$f":"IF($Z$2=\"pok\",\"\",IF(A96=\"\",\"\",COUNTIFS(SYNTHESE!$D:$D,A96,SYNTHESE!$E:$E,$Q$1,SYNTHESE!$F:$F,\">=1\")))","v":""},{"$f":"IF($Z$2=\"pok\",\"\",IF(A96=\"\",\"\",COUNTIFS(SYNTHESE!$D:$D,A96,SYNTHESE!$E:$E,$R$1,SYNTHESE!$F:$F,\">=1\")))","v":""},{"$f":"IF($Z$2=\"pok\",\"\",IF(A96=\"\",\"\",COUNTIFS(SYNTHESE!$D:$D,A96,SYNTHESE!$E:$E,$S$1,SYNTHESE!$F:$F,\">=1\")))","v":""},{"$f":"IF($Z$2=\"pok\",\"\",IF(A96=\"\",\"\",COUNTIFS(SYNTHESE!$D:$D,A96,SYNTHESE!$E:$E,$T$1,SYNTHESE!$F:$F,\">=1\")))","v":""},{"$f":"IF($Z$2=\"pok\",\"\",IF(A96=\"\",\"\",COUNTIFS(SYNTHESE!$D:$D,A96,SYNTHESE!$E:$E,$U$1,SYNTHESE!$F:$F,\">=1\")))","v":""},{"$f":"IF($Z$2=\"pok\",\"\",IF(A96=\"\",\"\",COUNTIFS(SYNTHESE!$D:$D,A96,SYNTHESE!$E:$E,$V$1,SYNTHESE!$F:$F,\">=1\")))","v":""},{"$f":"IF($Z$2=\"pok\",\"\",IF(A96=\"\",\"\",COUNTIFS(SYNTHESE!$D:$D,A96,SYNTHESE!$E:$E,$W$1,SYNTHESE!$F:$F,\">=1\")))","v":""},{"$f":"IF($Z$2=\"pok\",\"\",IF(A96=\"\",\"\",COUNTIFS(SYNTHESE!$D:$D,A96,SYNTHESE!$E:$E,$X$1,SYNTHESE!$F:$F,\">=1\")))","v":""},{"$f":"IF($Z$2=\"pok\",\"\",IF(A96=\"\",\"\",COUNTIFS(SYNTHESE!$D:$D,A96,SYNTHESE!$E:$E,$Y$1,SYNTHESE!$F:$F,\">=1\")))","v":""},0]
[{"$f":"IF(ETUDIANTS!A97=\"\",\"\",ETUDIANTS!A97)","v":""},{"$f":"IF($Z$2=\"pok\",\"\",IF(A97=\"\",\"\",COUNTIFS(SYNTHESE!$D:$D,A97,SYNTHESE!$E:$E,$B$1,SYNTHESE!$F:$F,\">=1\")))","v":""},{"$f":"IF($Z$2=\"pok\",\"\",IF(A97=\"\",\"\",COUNTIFS(SYNTHESE!$D:$D,A97,SYNTHESE!$E:$E,$C$1,SYNTHESE!$F:$F,\">=1\")))","v":""},{"$f":"IF($Z$2=\"pok\",\"\",IF(A97=\"\",\"\",COUNTIFS(SYNTHESE!$D:$D,A97,SYNTHESE!$E:$E,$D$1,SYNTHESE!$F:$F,\">=1\")))","v":""},{"$f":"IF($Z$2=\"pok\",\"\",IF(A97=\"\",\"\",COUNTIFS(SYNTHESE!$D:$D,A97,SYNTHESE!$E:$E,$E$1,SYNTHESE!$F:$F,\">=1\")))","v":""},{"$f":"IF($Z$2=\"pok\",\"\",IF(A97=\"\",\"\",COUNTIFS(SYNTHESE!$D:$D,A97,SYNTHESE!$E:$E,$F$1,SYNTHESE!$F:$F,\">=1\")))","v":""},{"$f":"IF($Z$2=\"pok\",\"\",IF(A97=\"\",\"\",COUNTIFS(SYNTHESE!$D:$D,A97,SYNTHESE!$E:$E,$G$1,SYNTHESE!$F:$F,\">=1\")))","v":""},{"$f":"IF($Z$2=\"pok\",\"\",IF(A97=\"\",\"\",COUNTIFS(SYNTHESE!$D:$D,A97,SYNTHESE!$E:$E,$H$1,SYNTHESE!$F:$F,\">=1\")))","v":""},{"$f":"IF($Z$2=\"pok\",\"\",IF(A97=\"\",\"\",COUNTIFS(SYNTHESE!$D:$D,A97,SYNTHESE!$E:$E,$I$1,SYNTHESE!$F:$F,\">=1\")))","v":""},{"$f":"IF($Z$2=\"pok\",\"\",IF(A97=\"\",\"\",COUNTIFS(SYNTHESE!$D:$D,A97,SYNTHESE!$E:$E,$J$1,SYNTHESE!$F:$F,\">=1\")))","v":""},{"$f":"IF($Z$2=\"pok\",\"\",IF(A97=\"\",\"\",COUNTIFS(SYNTHESE!$D:$D,A97,SYNTHESE!$E:$E,$K$1,SYNTHESE!$F:$F,\">=1\")))","v":""},{"$f":"IF($Z$2=\"pok\",\"\",IF(A97=\"\",\"\",COUNTIFS(SYNTHESE!$D:$D,A97,SYNTHESE!$E:$E,$L$1,SYNTHESE!$F:$F,\">=1\")))","v":""},{"$f":"IF($Z$2=\"pok\",\"\",IF(A97=\"\",\"\",COUNTIFS(SYNTHESE!$D:$D,A97,SYNTHESE!$E:$E,$M$1,SYNTHESE!$F:$F,\">=1\")))","v":""},{"$f":"IF($Z$2=\"pok\",\"\",IF(A97=\"\",\"\",COUNTIFS(SYNTHESE!$D:$D,A97,SYNTHESE!$E:$E,$N$1,SYNTHESE!$F:$F,\">=1\")))","v":""},{"$f":"IF($Z$2=\"pok\",\"\",IF(A97=\"\",\"\",COUNTIFS(SYNTHESE!$D:$D,A97,SYNTHESE!$E:$E,$O$1,SYNTHESE!$F:$F,\">=1\")))","v":""},{"$f":"IF($Z$2=\"pok\",\"\",IF(A97=\"\",\"\",COUNTIFS(SYNTHESE!$D:$D,A97,SYNTHESE!$E:$E,$P$1,SYNTHESE!$F:$F,\">=1\")))","v":""},{"$f":"IF($Z$2=\"pok\",\"\",IF(A97=\"\",\"\",COUNTIFS(SYNTHESE!$D:$D,A97,SYNTHESE!$E:$E,$Q$1,SYNTHESE!$F:$F,\">=1\")))","v":""},{"$f":"IF($Z$2=\"pok\",\"\",IF(A97=\"\",\"\",COUNTIFS(SYNTHESE!$D:$D,A97,SYNTHESE!$E:$E,$R$1,SYNTHESE!$F:$F,\">=1\")))","v":""},{"$f":"IF($Z$2=\"pok\",\"\",IF(A97=\"\",\"\",COUNTIFS(SYNTHESE!$D:$D,A97,SYNTHESE!$E:$E,$S$1,SYNTHESE!$F:$F,\">=1\")))","v":""},{"$f":"IF($Z$2=\"pok\",\"\",IF(A97=\"\",\"\",COUNTIFS(SYNTHESE!$D:$D,A97,SYNTHESE!$E:$E,$T$1,SYNTHESE!$F:$F,\">=1\")))","v":""},{"$f":"IF($Z$2=\"pok\",\"\",IF(A97=\"\",\"\",COUNTIFS(SYNTHESE!$D:$D,A97,SYNTHESE!$E:$E,$U$1,SYNTHESE!$F:$F,\">=1\")))","v":""},{"$f":"IF($Z$2=\"pok\",\"\",IF(A97=\"\",\"\",COUNTIFS(SYNTHESE!$D:$D,A97,SYNTHESE!$E:$E,$V$1,SYNTHESE!$F:$F,\">=1\")))","v":""},{"$f":"IF($Z$2=\"pok\",\"\",IF(A97=\"\",\"\",COUNTIFS(SYNTHESE!$D:$D,A97,SYNTHESE!$E:$E,$W$1,SYNTHESE!$F:$F,\">=1\")))","v":""},{"$f":"IF($Z$2=\"pok\",\"\",IF(A97=\"\",\"\",COUNTIFS(SYNTHESE!$D:$D,A97,SYNTHESE!$E:$E,$X$1,SYNTHESE!$F:$F,\">=1\")))","v":""},{"$f":"IF($Z$2=\"pok\",\"\",IF(A97=\"\",\"\",COUNTIFS(SYNTHESE!$D:$D,A97,SYNTHESE!$E:$E,$Y$1,SYNTHESE!$F:$F,\">=1\")))","v":""},0]
[{"$f":"IF(ETUDIANTS!A98=\"\",\"\",ETUDIANTS!A98)","v":""},{"$f":"IF($Z$2=\"pok\",\"\",IF(A98=\"\",\"\",COUNTIFS(SYNTHESE!$D:$D,A98,SYNTHESE!$E:$E,$B$1,SYNTHESE!$F:$F,\">=1\")))","v":""},{"$f":"IF($Z$2=\"pok\",\"\",IF(A98=\"\",\"\",COUNTIFS(SYNTHESE!$D:$D,A98,SYNTHESE!$E:$E,$C$1,SYNTHESE!$F:$F,\">=1\")))","v":""},{"$f":"IF($Z$2=\"pok\",\"\",IF(A98=\"\",\"\",COUNTIFS(SYNTHESE!$D:$D,A98,SYNTHESE!$E:$E,$D$1,SYNTHESE!$F:$F,\">=1\")))","v":""},{"$f":"IF($Z$2=\"pok\",\"\",IF(A98=\"\",\"\",COUNTIFS(SYNTHESE!$D:$D,A98,SYNTHESE!$E:$E,$E$1,SYNTHESE!$F:$F,\">=1\")))","v":""},{"$f":"IF($Z$2=\"pok\",\"\",IF(A98=\"\",\"\",COUNTIFS(SYNTHESE!$D:$D,A98,SYNTHESE!$E:$E,$F$1,SYNTHESE!$F:$F,\">=1\")))","v":""},{"$f":"IF($Z$2=\"pok\",\"\",IF(A98=\"\",\"\",COUNTIFS(SYNTHESE!$D:$D,A98,SYNTHESE!$E:$E,$G$1,SYNTHESE!$F:$F,\">=1\")))","v":""},{"$f":"IF($Z$2=\"pok\",\"\",IF(A98=\"\",\"\",COUNTIFS(SYNTHESE!$D:$D,A98,SYNTHESE!$E:$E,$H$1,SYNTHESE!$F:$F,\">=1\")))","v":""},{"$f":"IF($Z$2=\"pok\",\"\",IF(A98=\"\",\"\",COUNTIFS(SYNTHESE!$D:$D,A98,SYNTHESE!$E:$E,$I$1,SYNTHESE!$F:$F,\">=1\")))","v":""},{"$f":"IF($Z$2=\"pok\",\"\",IF(A98=\"\",\"\",COUNTIFS(SYNTHESE!$D:$D,A98,SYNTHESE!$E:$E,$J$1,SYNTHESE!$F:$F,\">=1\")))","v":""},{"$f":"IF($Z$2=\"pok\",\"\",IF(A98=\"\",\"\",COUNTIFS(SYNTHESE!$D:$D,A98,SYNTHESE!$E:$E,$K$1,SYNTHESE!$F:$F,\">=1\")))","v":""},{"$f":"IF($Z$2=\"pok\",\"\",IF(A98=\"\",\"\",COUNTIFS(SYNTHESE!$D:$D,A98,SYNTHESE!$E:$E,$L$1,SYNTHESE!$F:$F,\">=1\")))","v":""},{"$f":"IF($Z$2=\"pok\",\"\",IF(A98=\"\",\"\",COUNTIFS(SYNTHESE!$D:$D,A98,SYNTHESE!$E:$E,$M$1,SYNTHESE!$F:$F,\">=1\")))","v":""},{"$f":"IF($Z$2=\"pok\",\"\",IF(A98=\"\",\"\",COUNTIFS(SYNTHESE!$D:$D,A98,SYNTHESE!$E:$E,$N$1,SYNTHESE!$F:$F,\">=1\")))","v":""},{"$f":"IF($Z$2=\"pok\",\"\",IF(A98=\"\",\"\",COUNTIFS(SYNTHESE!$D:$D,A98,SYNTHESE!$E:$E,$O$1,SYNTHESE!$F:$F,\">=1\")))","v":""},{"$f":"IF($Z$2=\"pok\",\"\",IF(A98=\"\",\"\",COUNTIFS(SYNTHESE!$D:$D,A98,SYNTHESE!$E:$E,$P$1,SYNTHESE!$F:$F,\">=1\")))","v":""},{"$f":"IF($Z$2=\"pok\",\"\",IF(A98=\"\",\"\",COUNTIFS(SYNTHESE!$D:$D,A98,SYNTHESE!$E:$E,$Q$1,SYNTHESE!$F:$F,\">=1\")))","v":""},{"$f":"IF($Z$2=\"pok\",\"\",IF(A98=\"\",\"\",COUNTIFS(SYNTHESE!$D:$D,A98,SYNTHESE!$E:$E,$R$1,SYNTHESE!$F:$F,\">=1\")))","v":""},{"$f":"IF($Z$2=\"pok\",\"\",IF(A98=\"\",\"\",COUNTIFS(SYNTHESE!$D:$D,A98,SYNTHESE!$E:$E,$S$1,SYNTHESE!$F:$F,\">=1\")))","v":""},{"$f":"IF($Z$2=\"pok\",\"\",IF(A98=\"\",\"\",COUNTIFS(SYNTHESE!$D:$D,A98,SYNTHESE!$E:$E,$T$1,SYNTHESE!$F:$F,\">=1\")))","v":""},{"$f":"IF($Z$2=\"pok\",\"\",IF(A98=\"\",\"\",COUNTIFS(SYNTHESE!$D:$D,A98,SYNTHESE!$E:$E,$U$1,SYNTHESE!$F:$F,\">=1\")))","v":""},{"$f":"IF($Z$2=\"pok\",\"\",IF(A98=\"\",\"\",COUNTIFS(SYNTHESE!$D:$D,A98,SYNTHESE!$E:$E,$V$1,SYNTHESE!$F:$F,\">=1\")))","v":""},{"$f":"IF($Z$2=\"pok\",\"\",IF(A98=\"\",\"\",COUNTIFS(SYNTHESE!$D:$D,A98,SYNTHESE!$E:$E,$W$1,SYNTHESE!$F:$F,\">=1\")))","v":""},{"$f":"IF($Z$2=\"pok\",\"\",IF(A98=\"\",\"\",COUNTIFS(SYNTHESE!$D:$D,A98,SYNTHESE!$E:$E,$X$1,SYNTHESE!$F:$F,\">=1\")))","v":""},{"$f":"IF($Z$2=\"pok\",\"\",IF(A98=\"\",\"\",COUNTIFS(SYNTHESE!$D:$D,A98,SYNTHESE!$E:$E,$Y$1,SYNTHESE!$F:$F,\">=1\")))","v":""},0]
[{"$f":"IF(ETUDIANTS!A99=\"\",\"\",ETUDIANTS!A99)","v":""},{"$f":"IF($Z$2=\"pok\",\"\",IF(A99=\"\",\"\",COUNTIFS(SYNTHESE!$D:$D,A99,SYNTHESE!$E:$E,$B$1,SYNTHESE!$F:$F,\">=1\")))","v":""},{"$f":"IF($Z$2=\"pok\",\"\",IF(A99=\"\",\"\",COUNTIFS(SYNTHESE!$D:$D,A99,SYNTHESE!$E:$E,$C$1,SYNTHESE!$F:$F,\">=1\")))","v":""},{"$f":"IF($Z$2=\"pok\",\"\",IF(A99=\"\",\"\",COUNTIFS(SYNTHESE!$D:$D,A99,SYNTHESE!$E:$E,$D$1,SYNTHESE!$F:$F,\">=1\")))","v":""},{"$f":"IF($Z$2=\"pok\",\"\",IF(A99=\"\",\"\",COUNTIFS(SYNTHESE!$D:$D,A99,SYNTHESE!$E:$E,$E$1,SYNTHESE!$F:$F,\">=1\")))","v":""},{"$f":"IF($Z$2=\"pok\",\"\",IF(A99=\"\",\"\",COUNTIFS(SYNTHESE!$D:$D,A99,SYNTHESE!$E:$E,$F$1,SYNTHESE!$F:$F,\">=1\")))","v":""},{"$f":"IF($Z$2=\"pok\",\"\",IF(A99=\"\",\"\",COUNTIFS(SYNTHESE!$D:$D,A99,SYNTHESE!$E:$E,$G$1,SYNTHESE!$F:$F,\">=1\")))","v":""},{"$f":"IF($Z$2=\"pok\",\"\",IF(A99=\"\",\"\",COUNTIFS(SYNTHESE!$D:$D,A99,SYNTHESE!$E:$E,$H$1,SYNTHESE!$F:$F,\">=1\")))","v":""},{"$f":"IF($Z$2=\"pok\",\"\",IF(A99=\"\",\"\",COUNTIFS(SYNTHESE!$D:$D,A99,SYNTHESE!$E:$E,$I$1,SYNTHESE!$F:$F,\">=1\")))","v":""},{"$f":"IF($Z$2=\"pok\",\"\",IF(A99=\"\",\"\",COUNTIFS(SYNTHESE!$D:$D,A99,SYNTHESE!$E:$E,$J$1,SYNTHESE!$F:$F,\">=1\")))","v":""},{"$f":"IF($Z$2=\"pok\",\"\",IF(A99=\"\",\"\",COUNTIFS(SYNTHESE!$D:$D,A99,SYNTHESE!$E:$E,$K$1,SYNTHESE!$F:$F,\">=1\")))","v":""},{"$f":"IF($Z$2=\"pok\",\"\",IF(A99=\"\",\"\",COUNTIFS(SYNTHESE!$D:$D,A99,SYNTHESE!$E:$E,$L$1,SYNTHESE!$F:$F,\">=1\")))","v":""},{"$f":"IF($Z$2=\"pok\",\"\",IF(A99=\"\",\"\",COUNTIFS(SYNTHESE!$D:$D,A99,SYNTHESE!$E:$E,$M$1,SYNTHESE!$F:$F,\">=1\")))","v":""},{"$f":"IF($Z$2=\"pok\",\"\",IF(A99=\"\",\"\",COUNTIFS(SYNTHESE!$D:$D,A99,SYNTHESE!$E:$E,$N$1,SYNTHESE!$F:$F,\">=1\")))","v":""},{"$f":"IF($Z$2=\"pok\",\"\",IF(A99=\"\",\"\",COUNTIFS(SYNTHESE!$D:$D,A99,SYNTHESE!$E:$E,$O$1,SYNTHESE!$F:$F,\">=1\")))","v":""},{"$f":"IF($Z$2=\"pok\",\"\",IF(A99=\"\",\"\",COUNTIFS(SYNTHESE!$D:$D,A99,SYNTHESE!$E:$E,$P$1,SYNTHESE!$F:$F,\">=1\")))","v":""},{"$f":"IF($Z$2=\"pok\",\"\",IF(A99=\"\",\"\",COUNTIFS(SYNTHESE!$D:$D,A99,SYNTHESE!$E:$E,$Q$1,SYNTHESE!$F:$F,\">=1\")))","v":""},{"$f":"IF($Z$2=\"pok\",\"\",IF(A99=\"\",\"\",COUNTIFS(SYNTHESE!$D:$D,A99,SYNTHESE!$E:$E,$R$1,SYNTHESE!$F:$F,\">=1\")))","v":""},{"$f":"IF($Z$2=\"pok\",\"\",IF(A99=\"\",\"\",COUNTIFS(SYNTHESE!$D:$D,A99,SYNTHESE!$E:$E,$S$1,SYNTHESE!$F:$F,\">=1\")))","v":""},{"$f":"IF($Z$2=\"pok\",\"\",IF(A99=\"\",\"\",COUNTIFS(SYNTHESE!$D:$D,A99,SYNTHESE!$E:$E,$T$1,SYNTHESE!$F:$F,\">=1\")))","v":""},{"$f":"IF($Z$2=\"pok\",\"\",IF(A99=\"\",\"\",COUNTIFS(SYNTHESE!$D:$D,A99,SYNTHESE!$E:$E,$U$1,SYNTHESE!$F:$F,\">=1\")))","v":""},{"$f":"IF($Z$2=\"pok\",\"\",IF(A99=\"\",\"\",COUNTIFS(SYNTHESE!$D:$D,A99,SYNTHESE!$E:$E,$V$1,SYNTHESE!$F:$F,\">=1\")))","v":""},{"$f":"IF($Z$2=\"pok\",\"\",IF(A99=\"\",\"\",COUNTIFS(SYNTHESE!$D:$D,A99,SYNTHESE!$E:$E,$W$1,SYNTHESE!$F:$F,\">=1\")))","v":""},{"$f":"IF($Z$2=\"pok\",\"\",IF(A99=\"\",\"\",COUNTIFS(SYNTHESE!$D:$D,A99,SYNTHESE!$E:$E,$X$1,SYNTHESE!$F:$F,\">=1\")))","v":""},{"$f":"IF($Z$2=\"pok\",\"\",IF(A99=\"\",\"\",COUNTIFS(SYNTHESE!$D:$D,A99,SYNTHESE!$E:$E,$Y$1,SYNTHESE!$F:$F,\">=1\")))","v":""},0]
[{"$f":"IF(ETUDIANTS!A100=\"\",\"\",ETUDIANTS!A100)","v":""},{"$f":"IF($Z$2=\"pok\",\"\",IF(A100=\"\",\"\",COUNTIFS(SYNTHESE!$D:$D,A100,SYNTHESE!$E:$E,$B$1,SYNTHESE!$F:$F,\">=1\")))","v":""},{"$f":"IF($Z$2=\"pok\",\"\",IF(A100=\"\",\"\",COUNTIFS(SYNTHESE!$D:$D,A100,SYNTHESE!$E:$E,$C$1,SYNTHESE!$F:$F,\">=1\")))","v":""},{"$f":"IF($Z$2=\"pok\",\"\",IF(A100=\"\",\"\",COUNTIFS(SYNTHESE!$D:$D,A100,SYNTHESE!$E:$E,$D$1,SYNTHESE!$F:$F,\">=1\")))","v":""},{"$f":"IF($Z$2=\"pok\",\"\",IF(A100=\"\",\"\",COUNTIFS(SYNTHESE!$D:$D,A100,SYNTHESE!$E:$E,$E$1,SYNTHESE!$F:$F,\">=1\")))","v":""},{"$f":"IF($Z$2=\"pok\",\"\",IF(A100=\"\",\"\",COUNTIFS(SYNTHESE!$D:$D,A100,SYNTHESE!$E:$E,$F$1,SYNTHESE!$F:$F,\">=1\")))","v":""},{"$f":"IF($Z$2=\"pok\",\"\",IF(A100=\"\",\"\",COUNTIFS(SYNTHESE!$D:$D,A100,SYNTHESE!$E:$E,$G$1,SYNTHESE!$F:$F,\">=1\")))","v":""},{"$f":"IF($Z$2=\"pok\",\"\",IF(A100=\"\",\"\",COUNTIFS(SYNTHESE!$D:$D,A100,SYNTHESE!$E:$E,$H$1,SYNTHESE!$F:$F,\">=1\")))","v":""},{"$f":"IF($Z$2=\"pok\",\"\",IF(A100=\"\",\"\",COUNTIFS(SYNTHESE!$D:$D,A100,SYNTHESE!$E:$E,$I$1,SYNTHESE!$F:$F,\">=1\")))","v":""},{"$f":"IF($Z$2=\"pok\",\"\",IF(A100=\"\",\"\",COUNTIFS(SYNTHESE!$D:$D,A100,SYNTHESE!$E:$E,$J$1,SYNTHESE!$F:$F,\">=1\")))","v":""},{"$f":"IF($Z$2=\"pok\",\"\",IF(A100=\"\",\"\",COUNTIFS(SYNTHESE!$D:$D,A100,SYNTHESE!$E:$E,$K$1,SYNTHESE!$F:$F,\">=1\")))","v":""},{"$f":"IF($Z$2=\"pok\",\"\",IF(A100=\"\",\"\",COUNTIFS(SYNTHESE!$D:$D,A100,SYNTHESE!$E:$E,$L$1,SYNTHESE!$F:$F,\">=1\")))","v":""},{"$f":"IF($Z$2=\"pok\",\"\",IF(A100=\"\",\"\",COUNTIFS(SYNTHESE!$D:$D,A100,SYNTHESE!$E:$E,$M$1,SYNTHESE!$F:$F,\">=1\")))","v":""},{"$f":"IF($Z$2=\"pok\",\"\",IF(A100=\"\",\"\",COUNTIFS(SYNTHESE!$D:$D,A100,SYNTHESE!$E:$E,$N$1,SYNTHESE!$F:$F,\">=1\")))","v":""},{"$f":"IF($Z$2=\"pok\",\"\",IF(A100=\"\",\"\",COUNTIFS(SYNTHESE!$D:$D,A100,SYNTHESE!$E:$E,$O$1,SYNTHESE!$F:$F,\">=1\")))","v":""},{"$f":"IF($Z$2=\"pok\",\"\",IF(A100=\"\",\"\",COUNTIFS(SYNTHESE!$D:$D,A100,SYNTHESE!$E:$E,$P$1,SYNTHESE!$F:$F,\">=1\")))","v":""},{"$f":"IF($Z$2=\"pok\",\"\",IF(A100=\"\",\"\",COUNTIFS(SYNTHESE!$D:$D,A100,SYNTHESE!$E:$E,$Q$1,SYNTHESE!$F:$F,\">=1\")))","v":""},{"$f":"IF($Z$2=\"pok\",\"\",IF(A100=\"\",\"\",COUNTIFS(SYNTHESE!$D:$D,A100,SYNTHESE!$E:$E,$R$1,SYNTHESE!$F:$F,\">=1\")))","v":""},{"$f":"IF($Z$2=\"pok\",\"\",IF(A100=\"\",\"\",COUNTIFS(SYNTHESE!$D:$D,A100,SYNTHESE!$E:$E,$S$1,SYNTHESE!$F:$F,\">=1\")))","v":""},{"$f":"IF($Z$2=\"pok\",\"\",IF(A100=\"\",\"\",COUNTIFS(SYNTHESE!$D:$D,A100,SYNTHESE!$E:$E,$T$1,SYNTHESE!$F:$F,\">=1\")))","v":""},{"$f":"IF($Z$2=\"pok\",\"\",IF(A100=\"\",\"\",COUNTIFS(SYNTHESE!$D:$D,A100,SYNTHESE!$E:$E,$U$1,SYNTHESE!$F:$F,\">=1\")))","v":""},{"$f":"IF($Z$2=\"pok\",\"\",IF(A100=\"\",\"\",COUNTIFS(SYNTHESE!$D:$D,A100,SYNTHESE!$E:$E,$V$1,SYNTHESE!$F:$F,\">=1\")))","v":""},{"$f":"IF($Z$2=\"pok\",\"\",IF(A100=\"\",\"\",COUNTIFS(SYNTHESE!$D:$D,A100,SYNTHESE!$E:$E,$W$1,SYNTHESE!$F:$F,\">=1\")))","v":""},{"$f":"IF($Z$2=\"pok\",\"\",IF(A100=\"\",\"\",COUNTIFS(SYNTHESE!$D:$D,A100,SYNTHESE!$E:$E,$X$1,SYNTHESE!$F:$F,\">=1\")))","v":""},{"$f":"IF($Z$2=\"pok\",\"\",IF(A100=\"\",\"\",COUNTIFS(SYNTHESE!$D:$D,A100,SYNTHESE!$E:$E,$Y$1,SYNTHESE!$F:$F,\">=1\")))","v":""},0]
[{"$f":"IF(ETUDIANTS!A101=\"\",\"\",ETUDIANTS!A101)","v":""},{"$f":"IF($Z$2=\"pok\",\"\",IF(A101=\"\",\"\",COUNTIFS(SYNTHESE!$D:$D,A101,SYNTHESE!$E:$E,$B$1,SYNTHESE!$F:$F,\">=1\")))","v":""},{"$f":"IF($Z$2=\"pok\",\"\",IF(A101=\"\",\"\",COUNTIFS(SYNTHESE!$D:$D,A101,SYNTHESE!$E:$E,$C$1,SYNTHESE!$F:$F,\">=1\")))","v":""},{"$f":"IF($Z$2=\"pok\",\"\",IF(A101=\"\",\"\",COUNTIFS(SYNTHESE!$D:$D,A101,SYNTHESE!$E:$E,$D$1,SYNTHESE!$F:$F,\">=1\")))","v":""},{"$f":"IF($Z$2=\"pok\",\"\",IF(A101=\"\",\"\",COUNTIFS(SYNTHESE!$D:$D,A101,SYNTHESE!$E:$E,$E$1,SYNTHESE!$F:$F,\">=1\")))","v":""},{"$f":"IF($Z$2=\"pok\",\"\",IF(A101=\"\",\"\",COUNTIFS(SYNTHESE!$D:$D,A101,SYNTHESE!$E:$E,$F$1,SYNTHESE!$F:$F,\">=1\")))","v":""},{"$f":"IF($Z$2=\"pok\",\"\",IF(A101=\"\",\"\",COUNTIFS(SYNTHESE!$D:$D,A101,SYNTHESE!$E:$E,$G$1,SYNTHESE!$F:$F,\">=1\")))","v":""},{"$f":"IF($Z$2=\"pok\",\"\",IF(A101=\"\",\"\",COUNTIFS(SYNTHESE!$D:$D,A101,SYNTHESE!$E:$E,$H$1,SYNTHESE!$F:$F,\">=1\")))","v":""},{"$f":"IF($Z$2=\"pok\",\"\",IF(A101=\"\",\"\",COUNTIFS(SYNTHESE!$D:$D,A101,SYNTHESE!$E:$E,$I$1,SYNTHESE!$F:$F,\">=1\")))","v":""},{"$f":"IF($Z$2=\"pok\",\"\",IF(A101=\"\",\"\",COUNTIFS(SYNTHESE!$D:$D,A101,SYNTHESE!$E:$E,$J$1,SYNTHESE!$F:$F,\">=1\")))","v":""},{"$f":"IF($Z$2=\"pok\",\"\",IF(A101=\"\",\"\",COUNTIFS(SYNTHESE!$D:$D,A101,SYNTHESE!$E:$E,$K$1,SYNTHESE!$F:$F,\">=1\")))","v":""},{"$f":"IF($Z$2=\"pok\",\"\",IF(A101=\"\",\"\",COUNTIFS(SYNTHESE!$D:$D,A101,SYNTHESE!$E:$E,$L$1,SYNTHESE!$F:$F,\">=1\")))","v":""},{"$f":"IF($Z$2=\"pok\",\"\",IF(A101=\"\",\"\",COUNTIFS(SYNTHESE!$D:$D,A101,SYNTHESE!$E:$E,$M$1,SYNTHESE!$F:$F,\">=1\")))","v":""},{"$f":"IF($Z$2=\"pok\",\"\",IF(A101=\"\",\"\",COUNTIFS(SYNTHESE!$D:$D,A101,SYNTHESE!$E:$E,$N$1,SYNTHESE!$F:$F,\">=1\")))","v":""},{"$f":"IF($Z$2=\"pok\",\"\",IF(A101=\"\",\"\",COUNTIFS(SYNTHESE!$D:$D,A101,SYNTHESE!$E:$E,$O$1,SYNTHESE!$F:$F,\">=1\")))","v":""},{"$f":"IF($Z$2=\"pok\",\"\",IF(A101=\"\",\"\",COUNTIFS(SYNTHESE!$D:$D,A101,SYNTHESE!$E:$E,$P$1,SYNTHESE!$F:$F,\">=1\")))","v":""},{"$f":"IF($Z$2=\"pok\",\"\",IF(A101=\"\",\"\",COUNTIFS(SYNTHESE!$D:$D,A101,SYNTHESE!$E:$E,$Q$1,SYNTHESE!$F:$F,\">=1\")))","v":""},{"$f":"IF($Z$2=\"pok\",\"\",IF(A101=\"\",\"\",COUNTIFS(SYNTHESE!$D:$D,A101,SYNTHESE!$E:$E,$R$1,SYNTHESE!$F:$F,\">=1\")))","v":""},{"$f":"IF($Z$2=\"pok\",\"\",IF(A101=\"\",\"\",COUNTIFS(SYNTHESE!$D:$D,A101,SYNTHESE!$E:$E,$S$1,SYNTHESE!$F:$F,\">=1\")))","v":""},{"$f":"IF($Z$2=\"pok\",\"\",IF(A101=\"\",\"\",COUNTIFS(SYNTHESE!$D:$D,A101,SYNTHESE!$E:$E,$T$1,SYNTHESE!$F:$F,\">=1\")))","v":""},{"$f":"IF($Z$2=\"pok\",\"\",IF(A101=\"\",\"\",COUNTIFS(SYNTHESE!$D:$D,A101,SYNTHESE!$E:$E,$U$1,SYNTHESE!$F:$F,\">=1\")))","v":""},{"$f":"IF($Z$2=\"pok\",\"\",IF(A101=\"\",\"\",COUNTIFS(SYNTHESE!$D:$D,A101,SYNTHESE!$E:$E,$V$1,SYNTHESE!$F:$F,\">=1\")))","v":""},{"$f":"IF($Z$2=\"pok\",\"\",IF(A101=\"\",\"\",COUNTIFS(SYNTHESE!$D:$D,A101,SYNTHESE!$E:$E,$W$1,SYNTHESE!$F:$F,\">=1\")))","v":""},{"$f":"IF($Z$2=\"pok\",\"\",IF(A101=\"\",\"\",COUNTIFS(SYNTHESE!$D:$D,A101,SYNTHESE!$E:$E,$X$1,SYNTHESE!$F:$F,\">=1\")))","v":""},{"$f":"IF($Z$2=\"pok\",\"\",IF(A101=\"\",\"\",COUNTIFS(SYNTHESE!$D:$D,A101,SYNTHESE!$E:$E,$Y$1,SYNTHESE!$F:$F,\">=1\")))","v":""},0]
[{"$f":"IF(ETUDIANTS!A102=\"\",\"\",ETUDIANTS!A102)","v":""},{"$f":"IF($Z$2=\"pok\",\"\",IF(A102=\"\",\"\",COUNTIFS(SYNTHESE!$D:$D,A102,SYNTHESE!$E:$E,$B$1,SYNTHESE!$F:$F,\">=1\")))","v":""},{"$f":"IF($Z$2=\"pok\",\"\",IF(A102=\"\",\"\",COUNTIFS(SYNTHESE!$D:$D,A102,SYNTHESE!$E:$E,$C$1,SYNTHESE!$F:$F,\">=1\")))","v":""},{"$f":"IF($Z$2=\"pok\",\"\",IF(A102=\"\",\"\",COUNTIFS(SYNTHESE!$D:$D,A102,SYNTHESE!$E:$E,$D$1,SYNTHESE!$F:$F,\">=1\")))","v":""},{"$f":"IF($Z$2=\"pok\",\"\",IF(A102=\"\",\"\",COUNTIFS(SYNTHESE!$D:$D,A102,SYNTHESE!$E:$E,$E$1,SYNTHESE!$F:$F,\">=1\")))","v":""},{"$f":"IF($Z$2=\"pok\",\"\",IF(A102=\"\",\"\",COUNTIFS(SYNTHESE!$D:$D,A102,SYNTHESE!$E:$E,$F$1,SYNTHESE!$F:$F,\">=1\")))","v":""},{"$f":"IF($Z$2=\"pok\",\"\",IF(A102=\"\",\"\",COUNTIFS(SYNTHESE!$D:$D,A102,SYNTHESE!$E:$E,$G$1,SYNTHESE!$F:$F,\">=1\")))","v":""},{"$f":"IF($Z$2=\"pok\",\"\",IF(A102=\"\",\"\",COUNTIFS(SYNTHESE!$D:$D,A102,SYNTHESE!$E:$E,$H$1,SYNTHESE!$F:$F,\">=1\")))","v":""},{"$f":"IF($Z$2=\"pok\",\"\",IF(A102=\"\",\"\",COUNTIFS(SYNTHESE!$D:$D,A102,SYNTHESE!$E:$E,$I$1,SYNTHESE!$F:$F,\">=1\")))","v":""},{"$f":"IF($Z$2=\"pok\",\"\",IF(A102=\"\",\"\",COUNTIFS(SYNTHESE!$D:$D,A102,SYNTHESE!$E:$E,$J$1,SYNTHESE!$F:$F,\">=1\")))","v":""},{"$f":"IF($Z$2=\"pok\",\"\",IF(A102=\"\",\"\",COUNTIFS(SYNTHESE!$D:$D,A102,SYNTHESE!$E:$E,$K$1,SYNTHESE!$F:$F,\">=1\")))","v":""},{"$f":"IF($Z$2=\"pok\",\"\",IF(A102=\"\",\"\",COUNTIFS(SYNTHESE!$D:$D,A102,SYNTHESE!$E:$E,$L$1,SYNTHESE!$F:$F,\">=1\")))","v":""},{"$f":"IF($Z$2=\"pok\",\"\",IF(A102=\"\",\"\",COUNTIFS(SYNTHESE!$D:$D,A102,SYNTHESE!$E:$E,$M$1,SYNTHESE!$F:$F,\">=1\")))","v":""},{"$f":"IF($Z$2=\"pok\",\"\",IF(A102=\"\",\"\",COUNTIFS(SYNTHESE!$D:$D,A102,SYNTHESE!$E:$E,$N$1,SYNTHESE!$F:$F,\">=1\")))","v":""},{"$f":"IF($Z$2=\"pok\",\"\",IF(A102=\"\",\"\",COUNTIFS(SYNTHESE!$D:$D,A102,SYNTHESE!$E:$E,$O$1,SYNTHESE!$F:$F,\">=1\")))","v":""},{"$f":"IF($Z$2=\"pok\",\"\",IF(A102=\"\",\"\",COUNTIFS(SYNTHESE!$D:$D,A102,SYNTHESE!$E:$E,$P$1,SYNTHESE!$F:$F,\">=1\")))","v":""},{"$f":"IF($Z$2=\"pok\",\"\",IF(A102=\"\",\"\",COUNTIFS(SYNTHESE!$D:$D,A102,SYNTHESE!$E:$E,$Q$1,SYNTHESE!$F:$F,\">=1\")))","v":""},{"$f":"IF($Z$2=\"pok\",\"\",IF(A102=\"\",\"\",COUNTIFS(SYNTHESE!$D:$D,A102,SYNTHESE!$E:$E,$R$1,SYNTHESE!$F:$F,\">=1\")))","v":""},{"$f":"IF($Z$2=\"pok\",\"\",IF(A102=\"\",\"\",COUNTIFS(SYNTHESE!$D:$D,A102,SYNTHESE!$E:$E,$S$1,SYNTHESE!$F:$F,\">=1\")))","v":""},{"$f":"IF($Z$2=\"pok\",\"\",IF(A102=\"\",\"\",COUNTIFS(SYNTHESE!$D:$D,A102,SYNTHESE!$E:$E,$T$1,SYNTHESE!$F:$F,\">=1\")))","v":""},{"$f":"IF($Z$2=\"pok\",\"\",IF(A102=\"\",\"\",COUNTIFS(SYNTHESE!$D:$D,A102,SYNTHESE!$E:$E,$U$1,SYNTHESE!$F:$F,\">=1\")))","v":""},{"$f":"IF($Z$2=\"pok\",\"\",IF(A102=\"\",\"\",COUNTIFS(SYNTHESE!$D:$D,A102,SYNTHESE!$E:$E,$V$1,SYNTHESE!$F:$F,\">=1\")))","v":""},{"$f":"IF($Z$2=\"pok\",\"\",IF(A102=\"\",\"\",COUNTIFS(SYNTHESE!$D:$D,A102,SYNTHESE!$E:$E,$W$1,SYNTHESE!$F:$F,\">=1\")))","v":""},{"$f":"IF($Z$2=\"pok\",\"\",IF(A102=\"\",\"\",COUNTIFS(SYNTHESE!$D:$D,A102,SYNTHESE!$E:$E,$X$1,SYNTHESE!$F:$F,\">=1\")))","v":""},{"$f":"IF($Z$2=\"pok\",\"\",IF(A102=\"\",\"\",COUNTIFS(SYNTHESE!$D:$D,A102,SYNTHESE!$E:$E,$Y$1,SYNTHESE!$F:$F,\">=1\")))","v":""},0]
[{"$f":"IF(ETUDIANTS!A103=\"\",\"\",ETUDIANTS!A103)","v":""},{"$f":"IF($Z$2=\"pok\",\"\",IF(A103=\"\",\"\",COUNTIFS(SYNTHESE!$D:$D,A103,SYNTHESE!$E:$E,$B$1,SYNTHESE!$F:$F,\">=1\")))","v":""},{"$f":"IF($Z$2=\"pok\",\"\",IF(A103=\"\",\"\",COUNTIFS(SYNTHESE!$D:$D,A103,SYNTHESE!$E:$E,$C$1,SYNTHESE!$F:$F,\">=1\")))","v":""},{"$f":"IF($Z$2=\"pok\",\"\",IF(A103=\"\",\"\",COUNTIFS(SYNTHESE!$D:$D,A103,SYNTHESE!$E:$E,$D$1,SYNTHESE!$F:$F,\">=1\")))","v":""},{"$f":"IF($Z$2=\"pok\",\"\",IF(A103=\"\",\"\",COUNTIFS(SYNTHESE!$D:$D,A103,SYNTHESE!$E:$E,$E$1,SYNTHESE!$F:$F,\">=1\")))","v":""},{"$f":"IF($Z$2=\"pok\",\"\",IF(A103=\"\",\"\",COUNTIFS(SYNTHESE!$D:$D,A103,SYNTHESE!$E:$E,$F$1,SYNTHESE!$F:$F,\">=1\")))","v":""},{"$f":"IF($Z$2=\"pok\",\"\",IF(A103=\"\",\"\",COUNTIFS(SYNTHESE!$D:$D,A103,SYNTHESE!$E:$E,$G$1,SYNTHESE!$F:$F,\">=1\")))","v":""},{"$f":"IF($Z$2=\"pok\",\"\",IF(A103=\"\",\"\",COUNTIFS(SYNTHESE!$D:$D,A103,SYNTHESE!$E:$E,$H$1,SYNTHESE!$F:$F,\">=1\")))","v":""},{"$f":"IF($Z$2=\"pok\",\"\",IF(A103=\"\",\"\",COUNTIFS(SYNTHESE!$D:$D,A103,SYNTHESE!$E:$E,$I$1,SYNTHESE!$F:$F,\">=1\")))","v":""},{"$f":"IF($Z$2=\"pok\",\"\",IF(A103=\"\",\"\",COUNTIFS(SYNTHESE!$D:$D,A103,SYNTHESE!$E:$E,$J$1,SYNTHESE!$F:$F,\">=1\")))","v":""},{"$f":"IF($Z$2=\"pok\",\"\",IF(A103=\"\",\"\",COUNTIFS(SYNTHESE!$D:$D,A103,SYNTHESE!$E:$E,$K$1,SYNTHESE!$F:$F,\">=1\")))","v":""},{"$f":"IF($Z$2=\"pok\",\"\",IF(A103=\"\",\"\",COUNTIFS(SYNTHESE!$D:$D,A103,SYNTHESE!$E:$E,$L$1,SYNTHESE!$F:$F,\">=1\")))","v":""},{"$f":"IF($Z$2=\"pok\",\"\",IF(A103=\"\",\"\",COUNTIFS(SYNTHESE!$D:$D,A103,SYNTHESE!$E:$E,$M$1,SYNTHESE!$F:$F,\">=1\")))","v":""},{"$f":"IF($Z$2=\"pok\",\"\",IF(A103=\"\",\"\",COUNTIFS(SYNTHESE!$D:$D,A103,SYNTHESE!$E:$E,$N$1,SYNTHESE!$F:$F,\">=1\")))","v":""},{"$f":"IF($Z$2=\"pok\",\"\",IF(A103=\"\",\"\",COUNTIFS(SYNTHESE!$D:$D,A103,SYNTHESE!$E:$E,$O$1,SYNTHESE!$F:$F,\">=1\")))","v":""},{"$f":"IF($Z$2=\"pok\",\"\",IF(A103=\"\",\"\",COUNTIFS(SYNTHESE!$D:$D,A103,SYNTHESE!$E:$E,$P$1,SYNTHESE!$F:$F,\">=1\")))","v":""},{"$f":"IF($Z$2=\"pok\",\"\",IF(A103=\"\",\"\",COUNTIFS(SYNTHESE!$D:$D,A103,SYNTHESE!$E:$E,$Q$1,SYNTHESE!$F:$F,\">=1\")))","v":""},{"$f":"IF($Z$2=\"pok\",\"\",IF(A103=\"\",\"\",COUNTIFS(SYNTHESE!$D:$D,A103,SYNTHESE!$E:$E,$R$1,SYNTHESE!$F:$F,\">=1\")))","v":""},{"$f":"IF($Z$2=\"pok\",\"\",IF(A103=\"\",\"\",COUNTIFS(SYNTHESE!$D:$D,A103,SYNTHESE!$E:$E,$S$1,SYNTHESE!$F:$F,\">=1\")))","v":""},{"$f":"IF($Z$2=\"pok\",\"\",IF(A103=\"\",\"\",COUNTIFS(SYNTHESE!$D:$D,A103,SYNTHESE!$E:$E,$T$1,SYNTHESE!$F:$F,\">=1\")))","v":""},{"$f":"IF($Z$2=\"pok\",\"\",IF(A103=\"\",\"\",COUNTIFS(SYNTHESE!$D:$D,A103,SYNTHESE!$E:$E,$U$1,SYNTHESE!$F:$F,\">=1\")))","v":""},{"$f":"IF($Z$2=\"pok\",\"\",IF(A103=\"\",\"\",COUNTIFS(SYNTHESE!$D:$D,A103,SYNTHESE!$E:$E,$V$1,SYNTHESE!$F:$F,\">=1\")))","v":""},{"$f":"IF($Z$2=\"pok\",\"\",IF(A103=\"\",\"\",COUNTIFS(SYNTHESE!$D:$D,A103,SYNTHESE!$E:$E,$W$1,SYNTHESE!$F:$F,\">=1\")))","v":""},{"$f":"IF($Z$2=\"pok\",\"\",IF(A103=\"\",\"\",COUNTIFS(SYNTHESE!$D:$D,A103,SYNTHESE!$E:$E,$X$1,SYNTHESE!$F:$F,\">=1\")))","v":""},{"$f":"IF($Z$2=\"pok\",\"\",IF(A103=\"\",\"\",COUNTIFS(SYNTHESE!$D:$D,A103,SYNTHESE!$E:$E,$Y$1,SYNTHESE!$F:$F,\">=1\")))","v":""},0]
[{"$f":"IF(ETUDIANTS!A104=\"\",\"\",ETUDIANTS!A104)","v":""},{"$f":"IF($Z$2=\"pok\",\"\",IF(A104=\"\",\"\",COUNTIFS(SYNTHESE!$D:$D,A104,SYNTHESE!$E:$E,$B$1,SYNTHESE!$F:$F,\">=1\")))","v":""},{"$f":"IF($Z$2=\"pok\",\"\",IF(A104=\"\",\"\",COUNTIFS(SYNTHESE!$D:$D,A104,SYNTHESE!$E:$E,$C$1,SYNTHESE!$F:$F,\">=1\")))","v":""},{"$f":"IF($Z$2=\"pok\",\"\",IF(A104=\"\",\"\",COUNTIFS(SYNTHESE!$D:$D,A104,SYNTHESE!$E:$E,$D$1,SYNTHESE!$F:$F,\">=1\")))","v":""},{"$f":"IF($Z$2=\"pok\",\"\",IF(A104=\"\",\"\",COUNTIFS(SYNTHESE!$D:$D,A104,SYNTHESE!$E:$E,$E$1,SYNTHESE!$F:$F,\">=1\")))","v":""},{"$f":"IF($Z$2=\"pok\",\"\",IF(A104=\"\",\"\",COUNTIFS(SYNTHESE!$D:$D,A104,SYNTHESE!$E:$E,$F$1,SYNTHESE!$F:$F,\">=1\")))","v":""},{"$f":"IF($Z$2=\"pok\",\"\",IF(A104=\"\",\"\",COUNTIFS(SYNTHESE!$D:$D,A104,SYNTHESE!$E:$E,$G$1,SYNTHESE!$F:$F,\">=1\")))","v":""},{"$f":"IF($Z$2=\"pok\",\"\",IF(A104=\"\",\"\",COUNTIFS(SYNTHESE!$D:$D,A104,SYNTHESE!$E:$E,$H$1,SYNTHESE!$F:$F,\">=1\")))","v":""},{"$f":"IF($Z$2=\"pok\",\"\",IF(A104=\"\",\"\",COUNTIFS(SYNTHESE!$D:$D,A104,SYNTHESE!$E:$E,$I$1,SYNTHESE!$F:$F,\">=1\")))","v":""},{"$f":"IF($Z$2=\"pok\",\"\",IF(A104=\"\",\"\",COUNTIFS(SYNTHESE!$D:$D,A104,SYNTHESE!$E:$E,$J$1,SYNTHESE!$F:$F,\">=1\")))","v":""},{"$f":"IF($Z$2=\"pok\",\"\",IF(A104=\"\",\"\",COUNTIFS(SYNTHESE!$D:$D,A104,SYNTHESE!$E:$E,$K$1,SYNTHESE!$F:$F,\">=1\")))","v":""},{"$f":"IF($Z$2=\"pok\",\"\",IF(A104=\"\",\"\",COUNTIFS(SYNTHESE!$D:$D,A104,SYNTHESE!$E:$E,$L$1,SYNTHESE!$F:$F,\">=1\")))","v":""},{"$f":"IF($Z$2=\"pok\",\"\",IF(A104=\"\",\"\",COUNTIFS(SYNTHESE!$D:$D,A104,SYNTHESE!$E:$E,$M$1,SYNTHESE!$F:$F,\">=1\")))","v":""},{"$f":"IF($Z$2=\"pok\",\"\",IF(A104=\"\",\"\",COUNTIFS(SYNTHESE!$D:$D,A104,SYNTHESE!$E:$E,$N$1,SYNTHESE!$F:$F,\">=1\")))","v":""},{"$f":"IF($Z$2=\"pok\",\"\",IF(A104=\"\",\"\",COUNTIFS(SYNTHESE!$D:$D,A104,SYNTHESE!$E:$E,$O$1,SYNTHESE!$F:$F,\">=1\")))","v":""},{"$f":"IF($Z$2=\"pok\",\"\",IF(A104=\"\",\"\",COUNTIFS(SYNTHESE!$D:$D,A104,SYNTHESE!$E:$E,$P$1,SYNTHESE!$F:$F,\">=1\")))","v":""},{"$f":"IF($Z$2=\"pok\",\"\",IF(A104=\"\",\"\",COUNTIFS(SYNTHESE!$D:$D,A104,SYNTHESE!$E:$E,$Q$1,SYNTHESE!$F:$F,\">=1\")))","v":""},{"$f":"IF($Z$2=\"pok\",\"\",IF(A104=\"\",\"\",COUNTIFS(SYNTHESE!$D:$D,A104,SYNTHESE!$E:$E,$R$1,SYNTHESE!$F:$F,\">=1\")))","v":""},{"$f":"IF($Z$2=\"pok\",\"\",IF(A104=\"\",\"\",COUNTIFS(SYNTHESE!$D:$D,A104,SYNTHESE!$E:$E,$S$1,SYNTHESE!$F:$F,\">=1\")))","v":""},{"$f":"IF($Z$2=\"pok\",\"\",IF(A104=\"\",\"\",COUNTIFS(SYNTHESE!$D:$D,A104,SYNTHESE!$E:$E,$T$1,SYNTHESE!$F:$F,\">=1\")))","v":""},{"$f":"IF($Z$2=\"pok\",\"\",IF(A104=\"\",\"\",COUNTIFS(SYNTHESE!$D:$D,A104,SYNTHESE!$E:$E,$U$1,SYNTHESE!$F:$F,\">=1\")))","v":""},{"$f":"IF($Z$2=\"pok\",\"\",IF(A104=\"\",\"\",COUNTIFS(SYNTHESE!$D:$D,A104,SYNTHESE!$E:$E,$V$1,SYNTHESE!$F:$F,\">=1\")))","v":""},{"$f":"IF($Z$2=\"pok\",\"\",IF(A104=\"\",\"\",COUNTIFS(SYNTHESE!$D:$D,A104,SYNTHESE!$E:$E,$W$1,SYNTHESE!$F:$F,\">=1\")))","v":""},{"$f":"IF($Z$2=\"pok\",\"\",IF(A104=\"\",\"\",COUNTIFS(SYNTHESE!$D:$D,A104,SYNTHESE!$E:$E,$X$1,SYNTHESE!$F:$F,\">=1\")))","v":""},{"$f":"IF($Z$2=\"pok\",\"\",IF(A104=\"\",\"\",COUNTIFS(SYNTHESE!$D:$D,A104,SYNTHESE!$E:$E,$Y$1,SYNTHESE!$F:$F,\">=1\")))","v":""},0]
[{"$f":"IF(ETUDIANTS!A105=\"\",\"\",ETUDIANTS!A105)","v":""},{"$f":"IF($Z$2=\"pok\",\"\",IF(A105=\"\",\"\",COUNTIFS(SYNTHESE!$D:$D,A105,SYNTHESE!$E:$E,$B$1,SYNTHESE!$F:$F,\">=1\")))","v":""},{"$f":"IF($Z$2=\"pok\",\"\",IF(A105=\"\",\"\",COUNTIFS(SYNTHESE!$D:$D,A105,SYNTHESE!$E:$E,$C$1,SYNTHESE!$F:$F,\">=1\")))","v":""},{"$f":"IF($Z$2=\"pok\",\"\",IF(A105=\"\",\"\",COUNTIFS(SYNTHESE!$D:$D,A105,SYNTHESE!$E:$E,$D$1,SYNTHESE!$F:$F,\">=1\")))","v":""},{"$f":"IF($Z$2=\"pok\",\"\",IF(A105=\"\",\"\",COUNTIFS(SYNTHESE!$D:$D,A105,SYNTHESE!$E:$E,$E$1,SYNTHESE!$F:$F,\">=1\")))","v":""},{"$f":"IF($Z$2=\"pok\",\"\",IF(A105=\"\",\"\",COUNTIFS(SYNTHESE!$D:$D,A105,SYNTHESE!$E:$E,$F$1,SYNTHESE!$F:$F,\">=1\")))","v":""},{"$f":"IF($Z$2=\"pok\",\"\",IF(A105=\"\",\"\",COUNTIFS(SYNTHESE!$D:$D,A105,SYNTHESE!$E:$E,$G$1,SYNTHESE!$F:$F,\">=1\")))","v":""},{"$f":"IF($Z$2=\"pok\",\"\",IF(A105=\"\",\"\",COUNTIFS(SYNTHESE!$D:$D,A105,SYNTHESE!$E:$E,$H$1,SYNTHESE!$F:$F,\">=1\")))","v":""},{"$f":"IF($Z$2=\"pok\",\"\",IF(A105=\"\",\"\",COUNTIFS(SYNTHESE!$D:$D,A105,SYNTHESE!$E:$E,$I$1,SYNTHESE!$F:$F,\">=1\")))","v":""},{"$f":"IF($Z$2=\"pok\",\"\",IF(A105=\"\",\"\",COUNTIFS(SYNTHESE!$D:$D,A105,SYNTHESE!$E:$E,$J$1,SYNTHESE!$F:$F,\">=1\")))","v":""},{"$f":"IF($Z$2=\"pok\",\"\",IF(A105=\"\",\"\",COUNTIFS(SYNTHESE!$D:$D,A105,SYNTHESE!$E:$E,$K$1,SYNTHESE!$F:$F,\">=1\")))","v":""},{"$f":"IF($Z$2=\"pok\",\"\",IF(A105=\"\",\"\",COUNTIFS(SYNTHESE!$D:$D,A105,SYNTHESE!$E:$E,$L$1,SYNTHESE!$F:$F,\">=1\")))","v":""},{"$f":"IF($Z$2=\"pok\",\"\",IF(A105=\"\",\"\",COUNTIFS(SYNTHESE!$D:$D,A105,SYNTHESE!$E:$E,$M$1,SYNTHESE!$F:$F,\">=1\")))","v":""},{"$f":"IF($Z$2=\"pok\",\"\",IF(A105=\"\",\"\",COUNTIFS(SYNTHESE!$D:$D,A105,SYNTHESE!$E:$E,$N$1,SYNTHESE!$F:$F,\">=1\")))","v":""},{"$f":"IF($Z$2=\"pok\",\"\",IF(A105=\"\",\"\",COUNTIFS(SYNTHESE!$D:$D,A105,SYNTHESE!$E:$E,$O$1,SYNTHESE!$F:$F,\">=1\")))","v":""},{"$f":"IF($Z$2=\"pok\",\"\",IF(A105=\"\",\"\",COUNTIFS(SYNTHESE!$D:$D,A105,SYNTHESE!$E:$E,$P$1,SYNTHESE!$F:$F,\">=1\")))","v":""},{"$f":"IF($Z$2=\"pok\",\"\",IF(A105=\"\",\"\",COUNTIFS(SYNTHESE!$D:$D,A105,SYNTHESE!$E:$E,$Q$1,SYNTHESE!$F:$F,\">=1\")))","v":""},{"$f":"IF($Z$2=\"pok\",\"\",IF(A105=\"\",\"\",COUNTIFS(SYNTHESE!$D:$D,A105,SYNTHESE!$E:$E,$R$1,SYNTHESE!$F:$F,\">=1\")))","v":""},{"$f":"IF($Z$2=\"pok\",\"\",IF(A105=\"\",\"\",COUNTIFS(SYNTHESE!$D:$D,A105,SYNTHESE!$E:$E,$S$1,SYNTHESE!$F:$F,\">=1\")))","v":""},{"$f":"IF($Z$2=\"pok\",\"\",IF(A105=\"\",\"\",COUNTIFS(SYNTHESE!$D:$D,A105,SYNTHESE!$E:$E,$T$1,SYNTHESE!$F:$F,\">=1\")))","v":""},{"$f":"IF($Z$2=\"pok\",\"\",IF(A105=\"\",\"\",COUNTIFS(SYNTHESE!$D:$D,A105,SYNTHESE!$E:$E,$U$1,SYNTHESE!$F:$F,\">=1\")))","v":""},{"$f":"IF($Z$2=\"pok\",\"\",IF(A105=\"\",\"\",COUNTIFS(SYNTHESE!$D:$D,A105,SYNTHESE!$E:$E,$V$1,SYNTHESE!$F:$F,\">=1\")))","v":""},{"$f":"IF($Z$2=\"pok\",\"\",IF(A105=\"\",\"\",COUNTIFS(SYNTHESE!$D:$D,A105,SYNTHESE!$E:$E,$W$1,SYNTHESE!$F:$F,\">=1\")))","v":""},{"$f":"IF($Z$2=\"pok\",\"\",IF(A105=\"\",\"\",COUNTIFS(SYNTHESE!$D:$D,A105,SYNTHESE!$E:$E,$X$1,SYNTHESE!$F:$F,\">=1\")))","v":""},{"$f":"IF($Z$2=\"pok\",\"\",IF(A105=\"\",\"\",COUNTIFS(SYNTHESE!$D:$D,A105,SYNTHESE!$E:$E,$Y$1,SYNTHESE!$F:$F,\">=1\")))","v":""},0]
[{"$f":"IF(ETUDIANTS!A106=\"\",\"\",ETUDIANTS!A106)","v":""},{"$f":"IF($Z$2=\"pok\",\"\",IF(A106=\"\",\"\",COUNTIFS(SYNTHESE!$D:$D,A106,SYNTHESE!$E:$E,$B$1,SYNTHESE!$F:$F,\">=1\")))","v":""},{"$f":"IF($Z$2=\"pok\",\"\",IF(A106=\"\",\"\",COUNTIFS(SYNTHESE!$D:$D,A106,SYNTHESE!$E:$E,$C$1,SYNTHESE!$F:$F,\">=1\")))","v":""},{"$f":"IF($Z$2=\"pok\",\"\",IF(A106=\"\",\"\",COUNTIFS(SYNTHESE!$D:$D,A106,SYNTHESE!$E:$E,$D$1,SYNTHESE!$F:$F,\">=1\")))","v":""},{"$f":"IF($Z$2=\"pok\",\"\",IF(A106=\"\",\"\",COUNTIFS(SYNTHESE!$D:$D,A106,SYNTHESE!$E:$E,$E$1,SYNTHESE!$F:$F,\">=1\")))","v":""},{"$f":"IF($Z$2=\"pok\",\"\",IF(A106=\"\",\"\",COUNTIFS(SYNTHESE!$D:$D,A106,SYNTHESE!$E:$E,$F$1,SYNTHESE!$F:$F,\">=1\")))","v":""},{"$f":"IF($Z$2=\"pok\",\"\",IF(A106=\"\",\"\",COUNTIFS(SYNTHESE!$D:$D,A106,SYNTHESE!$E:$E,$G$1,SYNTHESE!$F:$F,\">=1\")))","v":""},{"$f":"IF($Z$2=\"pok\",\"\",IF(A106=\"\",\"\",COUNTIFS(SYNTHESE!$D:$D,A106,SYNTHESE!$E:$E,$H$1,SYNTHESE!$F:$F,\">=1\")))","v":""},{"$f":"IF($Z$2=\"pok\",\"\",IF(A106=\"\",\"\",COUNTIFS(SYNTHESE!$D:$D,A106,SYNTHESE!$E:$E,$I$1,SYNTHESE!$F:$F,\">=1\")))","v":""},{"$f":"IF($Z$2=\"pok\",\"\",IF(A106=\"\",\"\",COUNTIFS(SYNTHESE!$D:$D,A106,SYNTHESE!$E:$E,$J$1,SYNTHESE!$F:$F,\">=1\")))","v":""},{"$f":"IF($Z$2=\"pok\",\"\",IF(A106=\"\",\"\",COUNTIFS(SYNTHESE!$D:$D,A106,SYNTHESE!$E:$E,$K$1,SYNTHESE!$F:$F,\">=1\")))","v":""},{"$f":"IF($Z$2=\"pok\",\"\",IF(A106=\"\",\"\",COUNTIFS(SYNTHESE!$D:$D,A106,SYNTHESE!$E:$E,$L$1,SYNTHESE!$F:$F,\">=1\")))","v":""},{"$f":"IF($Z$2=\"pok\",\"\",IF(A106=\"\",\"\",COUNTIFS(SYNTHESE!$D:$D,A106,SYNTHESE!$E:$E,$M$1,SYNTHESE!$F:$F,\">=1\")))","v":""},{"$f":"IF($Z$2=\"pok\",\"\",IF(A106=\"\",\"\",COUNTIFS(SYNTHESE!$D:$D,A106,SYNTHESE!$E:$E,$N$1,SYNTHESE!$F:$F,\">=1\")))","v":""},{"$f":"IF($Z$2=\"pok\",\"\",IF(A106=\"\",\"\",COUNTIFS(SYNTHESE!$D:$D,A106,SYNTHESE!$E:$E,$O$1,SYNTHESE!$F:$F,\">=1\")))","v":""},{"$f":"IF($Z$2=\"pok\",\"\",IF(A106=\"\",\"\",COUNTIFS(SYNTHESE!$D:$D,A106,SYNTHESE!$E:$E,$P$1,SYNTHESE!$F:$F,\">=1\")))","v":""},{"$f":"IF($Z$2=\"pok\",\"\",IF(A106=\"\",\"\",COUNTIFS(SYNTHESE!$D:$D,A106,SYNTHESE!$E:$E,$Q$1,SYNTHESE!$F:$F,\">=1\")))","v":""},{"$f":"IF($Z$2=\"pok\",\"\",IF(A106=\"\",\"\",COUNTIFS(SYNTHESE!$D:$D,A106,SYNTHESE!$E:$E,$R$1,SYNTHESE!$F:$F,\">=1\")))","v":""},{"$f":"IF($Z$2=\"pok\",\"\",IF(A106=\"\",\"\",COUNTIFS(SYNTHESE!$D:$D,A106,SYNTHESE!$E:$E,$S$1,SYNTHESE!$F:$F,\">=1\")))","v":""},{"$f":"IF($Z$2=\"pok\",\"\",IF(A106=\"\",\"\",COUNTIFS(SYNTHESE!$D:$D,A106,SYNTHESE!$E:$E,$T$1,SYNTHESE!$F:$F,\">=1\")))","v":""},{"$f":"IF($Z$2=\"pok\",\"\",IF(A106=\"\",\"\",COUNTIFS(SYNTHESE!$D:$D,A106,SYNTHESE!$E:$E,$U$1,SYNTHESE!$F:$F,\">=1\")))","v":""},{"$f":"IF($Z$2=\"pok\",\"\",IF(A106=\"\",\"\",COUNTIFS(SYNTHESE!$D:$D,A106,SYNTHESE!$E:$E,$V$1,SYNTHESE!$F:$F,\">=1\")))","v":""},{"$f":"IF($Z$2=\"pok\",\"\",IF(A106=\"\",\"\",COUNTIFS(SYNTHESE!$D:$D,A106,SYNTHESE!$E:$E,$W$1,SYNTHESE!$F:$F,\">=1\")))","v":""},{"$f":"IF($Z$2=\"pok\",\"\",IF(A106=\"\",\"\",COUNTIFS(SYNTHESE!$D:$D,A106,SYNTHESE!$E:$E,$X$1,SYNTHESE!$F:$F,\">=1\")))","v":""},{"$f":"IF($Z$2=\"pok\",\"\",IF(A106=\"\",\"\",COUNTIFS(SYNTHESE!$D:$D,A106,SYNTHESE!$E:$E,$Y$1,SYNTHESE!$F:$F,\">=1\")))","v":""},0]
[{"$f":"IF(ETUDIANTS!A107=\"\",\"\",ETUDIANTS!A107)","v":""},{"$f":"IF($Z$2=\"pok\",\"\",IF(A107=\"\",\"\",COUNTIFS(SYNTHESE!$D:$D,A107,SYNTHESE!$E:$E,$B$1,SYNTHESE!$F:$F,\">=1\")))","v":""},{"$f":"IF($Z$2=\"pok\",\"\",IF(A107=\"\",\"\",COUNTIFS(SYNTHESE!$D:$D,A107,SYNTHESE!$E:$E,$C$1,SYNTHESE!$F:$F,\">=1\")))","v":""},{"$f":"IF($Z$2=\"pok\",\"\",IF(A107=\"\",\"\",COUNTIFS(SYNTHESE!$D:$D,A107,SYNTHESE!$E:$E,$D$1,SYNTHESE!$F:$F,\">=1\")))","v":""},{"$f":"IF($Z$2=\"pok\",\"\",IF(A107=\"\",\"\",COUNTIFS(SYNTHESE!$D:$D,A107,SYNTHESE!$E:$E,$E$1,SYNTHESE!$F:$F,\">=1\")))","v":""},{"$f":"IF($Z$2=\"pok\",\"\",IF(A107=\"\",\"\",COUNTIFS(SYNTHESE!$D:$D,A107,SYNTHESE!$E:$E,$F$1,SYNTHESE!$F:$F,\">=1\")))","v":""},{"$f":"IF($Z$2=\"pok\",\"\",IF(A107=\"\",\"\",COUNTIFS(SYNTHESE!$D:$D,A107,SYNTHESE!$E:$E,$G$1,SYNTHESE!$F:$F,\">=1\")))","v":""},{"$f":"IF($Z$2=\"pok\",\"\",IF(A107=\"\",\"\",COUNTIFS(SYNTHESE!$D:$D,A107,SYNTHESE!$E:$E,$H$1,SYNTHESE!$F:$F,\">=1\")))","v":""},{"$f":"IF($Z$2=\"pok\",\"\",IF(A107=\"\",\"\",COUNTIFS(SYNTHESE!$D:$D,A107,SYNTHESE!$E:$E,$I$1,SYNTHESE!$F:$F,\">=1\")))","v":""},{"$f":"IF($Z$2=\"pok\",\"\",IF(A107=\"\",\"\",COUNTIFS(SYNTHESE!$D:$D,A107,SYNTHESE!$E:$E,$J$1,SYNTHESE!$F:$F,\">=1\")))","v":""},{"$f":"IF($Z$2=\"pok\",\"\",IF(A107=\"\",\"\",COUNTIFS(SYNTHESE!$D:$D,A107,SYNTHESE!$E:$E,$K$1,SYNTHESE!$F:$F,\">=1\")))","v":""},{"$f":"IF($Z$2=\"pok\",\"\",IF(A107=\"\",\"\",COUNTIFS(SYNTHESE!$D:$D,A107,SYNTHESE!$E:$E,$L$1,SYNTHESE!$F:$F,\">=1\")))","v":""},{"$f":"IF($Z$2=\"pok\",\"\",IF(A107=\"\",\"\",COUNTIFS(SYNTHESE!$D:$D,A107,SYNTHESE!$E:$E,$M$1,SYNTHESE!$F:$F,\">=1\")))","v":""},{"$f":"IF($Z$2=\"pok\",\"\",IF(A107=\"\",\"\",COUNTIFS(SYNTHESE!$D:$D,A107,SYNTHESE!$E:$E,$N$1,SYNTHESE!$F:$F,\">=1\")))","v":""},{"$f":"IF($Z$2=\"pok\",\"\",IF(A107=\"\",\"\",COUNTIFS(SYNTHESE!$D:$D,A107,SYNTHESE!$E:$E,$O$1,SYNTHESE!$F:$F,\">=1\")))","v":""},{"$f":"IF($Z$2=\"pok\",\"\",IF(A107=\"\",\"\",COUNTIFS(SYNTHESE!$D:$D,A107,SYNTHESE!$E:$E,$P$1,SYNTHESE!$F:$F,\">=1\")))","v":""},{"$f":"IF($Z$2=\"pok\",\"\",IF(A107=\"\",\"\",COUNTIFS(SYNTHESE!$D:$D,A107,SYNTHESE!$E:$E,$Q$1,SYNTHESE!$F:$F,\">=1\")))","v":""},{"$f":"IF($Z$2=\"pok\",\"\",IF(A107=\"\",\"\",COUNTIFS(SYNTHESE!$D:$D,A107,SYNTHESE!$E:$E,$R$1,SYNTHESE!$F:$F,\">=1\")))","v":""},{"$f":"IF($Z$2=\"pok\",\"\",IF(A107=\"\",\"\",COUNTIFS(SYNTHESE!$D:$D,A107,SYNTHESE!$E:$E,$S$1,SYNTHESE!$F:$F,\">=1\")))","v":""},{"$f":"IF($Z$2=\"pok\",\"\",IF(A107=\"\",\"\",COUNTIFS(SYNTHESE!$D:$D,A107,SYNTHESE!$E:$E,$T$1,SYNTHESE!$F:$F,\">=1\")))","v":""},{"$f":"IF($Z$2=\"pok\",\"\",IF(A107=\"\",\"\",COUNTIFS(SYNTHESE!$D:$D,A107,SYNTHESE!$E:$E,$U$1,SYNTHESE!$F:$F,\">=1\")))","v":""},{"$f":"IF($Z$2=\"pok\",\"\",IF(A107=\"\",\"\",COUNTIFS(SYNTHESE!$D:$D,A107,SYNTHESE!$E:$E,$V$1,SYNTHESE!$F:$F,\">=1\")))","v":""},{"$f":"IF($Z$2=\"pok\",\"\",IF(A107=\"\",\"\",COUNTIFS(SYNTHESE!$D:$D,A107,SYNTHESE!$E:$E,$W$1,SYNTHESE!$F:$F,\">=1\")))","v":""},{"$f":"IF($Z$2=\"pok\",\"\",IF(A107=\"\",\"\",COUNTIFS(SYNTHESE!$D:$D,A107,SYNTHESE!$E:$E,$X$1,SYNTHESE!$F:$F,\">=1\")))","v":""},{"$f":"IF($Z$2=\"pok\",\"\",IF(A107=\"\",\"\",COUNTIFS(SYNTHESE!$D:$D,A107,SYNTHESE!$E:$E,$Y$1,SYNTHESE!$F:$F,\">=1\")))","v":""},0]
[{"$f":"IF(ETUDIANTS!A108=\"\",\"\",ETUDIANTS!A108)","v":""},{"$f":"IF($Z$2=\"pok\",\"\",IF(A108=\"\",\"\",COUNTIFS(SYNTHESE!$D:$D,A108,SYNTHESE!$E:$E,$B$1,SYNTHESE!$F:$F,\">=1\")))","v":""},{"$f":"IF($Z$2=\"pok\",\"\",IF(A108=\"\",\"\",COUNTIFS(SYNTHESE!$D:$D,A108,SYNTHESE!$E:$E,$C$1,SYNTHESE!$F:$F,\">=1\")))","v":""},{"$f":"IF($Z$2=\"pok\",\"\",IF(A108=\"\",\"\",COUNTIFS(SYNTHESE!$D:$D,A108,SYNTHESE!$E:$E,$D$1,SYNTHESE!$F:$F,\">=1\")))","v":""},{"$f":"IF($Z$2=\"pok\",\"\",IF(A108=\"\",\"\",COUNTIFS(SYNTHESE!$D:$D,A108,SYNTHESE!$E:$E,$E$1,SYNTHESE!$F:$F,\">=1\")))","v":""},{"$f":"IF($Z$2=\"pok\",\"\",IF(A108=\"\",\"\",COUNTIFS(SYNTHESE!$D:$D,A108,SYNTHESE!$E:$E,$F$1,SYNTHESE!$F:$F,\">=1\")))","v":""},{"$f":"IF($Z$2=\"pok\",\"\",IF(A108=\"\",\"\",COUNTIFS(SYNTHESE!$D:$D,A108,SYNTHESE!$E:$E,$G$1,SYNTHESE!$F:$F,\">=1\")))","v":""},{"$f":"IF($Z$2=\"pok\",\"\",IF(A108=\"\",\"\",COUNTIFS(SYNTHESE!$D:$D,A108,SYNTHESE!$E:$E,$H$1,SYNTHESE!$F:$F,\">=1\")))","v":""},{"$f":"IF($Z$2=\"pok\",\"\",IF(A108=\"\",\"\",COUNTIFS(SYNTHESE!$D:$D,A108,SYNTHESE!$E:$E,$I$1,SYNTHESE!$F:$F,\">=1\")))","v":""},{"$f":"IF($Z$2=\"pok\",\"\",IF(A108=\"\",\"\",COUNTIFS(SYNTHESE!$D:$D,A108,SYNTHESE!$E:$E,$J$1,SYNTHESE!$F:$F,\">=1\")))","v":""},{"$f":"IF($Z$2=\"pok\",\"\",IF(A108=\"\",\"\",COUNTIFS(SYNTHESE!$D:$D,A108,SYNTHESE!$E:$E,$K$1,SYNTHESE!$F:$F,\">=1\")))","v":""},{"$f":"IF($Z$2=\"pok\",\"\",IF(A108=\"\",\"\",COUNTIFS(SYNTHESE!$D:$D,A108,SYNTHESE!$E:$E,$L$1,SYNTHESE!$F:$F,\">=1\")))","v":""},{"$f":"IF($Z$2=\"pok\",\"\",IF(A108=\"\",\"\",COUNTIFS(SYNTHESE!$D:$D,A108,SYNTHESE!$E:$E,$M$1,SYNTHESE!$F:$F,\">=1\")))","v":""},{"$f":"IF($Z$2=\"pok\",\"\",IF(A108=\"\",\"\",COUNTIFS(SYNTHESE!$D:$D,A108,SYNTHESE!$E:$E,$N$1,SYNTHESE!$F:$F,\">=1\")))","v":""},{"$f":"IF($Z$2=\"pok\",\"\",IF(A108=\"\",\"\",COUNTIFS(SYNTHESE!$D:$D,A108,SYNTHESE!$E:$E,$O$1,SYNTHESE!$F:$F,\">=1\")))","v":""},{"$f":"IF($Z$2=\"pok\",\"\",IF(A108=\"\",\"\",COUNTIFS(SYNTHESE!$D:$D,A108,SYNTHESE!$E:$E,$P$1,SYNTHESE!$F:$F,\">=1\")))","v":""},{"$f":"IF($Z$2=\"pok\",\"\",IF(A108=\"\",\"\",COUNTIFS(SYNTHESE!$D:$D,A108,SYNTHESE!$E:$E,$Q$1,SYNTHESE!$F:$F,\">=1\")))","v":""},{"$f":"IF($Z$2=\"pok\",\"\",IF(A108=\"\",\"\",COUNTIFS(SYNTHESE!$D:$D,A108,SYNTHESE!$E:$E,$R$1,SYNTHESE!$F:$F,\">=1\")))","v":""},{"$f":"IF($Z$2=\"pok\",\"\",IF(A108=\"\",\"\",COUNTIFS(SYNTHESE!$D:$D,A108,SYNTHESE!$E:$E,$S$1,SYNTHESE!$F:$F,\">=1\")))","v":""},{"$f":"IF($Z$2=\"pok\",\"\",IF(A108=\"\",\"\",COUNTIFS(SYNTHESE!$D:$D,A108,SYNTHESE!$E:$E,$T$1,SYNTHESE!$F:$F,\">=1\")))","v":""},{"$f":"IF($Z$2=\"pok\",\"\",IF(A108=\"\",\"\",COUNTIFS(SYNTHESE!$D:$D,A108,SYNTHESE!$E:$E,$U$1,SYNTHESE!$F:$F,\">=1\")))","v":""},{"$f":"IF($Z$2=\"pok\",\"\",IF(A108=\"\",\"\",COUNTIFS(SYNTHESE!$D:$D,A108,SYNTHESE!$E:$E,$V$1,SYNTHESE!$F:$F,\">=1\")))","v":""},{"$f":"IF($Z$2=\"pok\",\"\",IF(A108=\"\",\"\",COUNTIFS(SYNTHESE!$D:$D,A108,SYNTHESE!$E:$E,$W$1,SYNTHESE!$F:$F,\">=1\")))","v":""},{"$f":"IF($Z$2=\"pok\",\"\",IF(A108=\"\",\"\",COUNTIFS(SYNTHESE!$D:$D,A108,SYNTHESE!$E:$E,$X$1,SYNTHESE!$F:$F,\">=1\")))","v":""},{"$f":"IF($Z$2=\"pok\",\"\",IF(A108=\"\",\"\",COUNTIFS(SYNTHESE!$D:$D,A108,SYNTHESE!$E:$E,$Y$1,SYNTHESE!$F:$F,\">=1\")))","v":""},0]
[{"$f":"IF(ETUDIANTS!A109=\"\",\"\",ETUDIANTS!A109)","v":""},{"$f":"IF($Z$2=\"pok\",\"\",IF(A109=\"\",\"\",COUNTIFS(SYNTHESE!$D:$D,A109,SYNTHESE!$E:$E,$B$1,SYNTHESE!$F:$F,\">=1\")))","v":""},{"$f":"IF($Z$2=\"pok\",\"\",IF(A109=\"\",\"\",COUNTIFS(SYNTHESE!$D:$D,A109,SYNTHESE!$E:$E,$C$1,SYNTHESE!$F:$F,\">=1\")))","v":""},{"$f":"IF($Z$2=\"pok\",\"\",IF(A109=\"\",\"\",COUNTIFS(SYNTHESE!$D:$D,A109,SYNTHESE!$E:$E,$D$1,SYNTHESE!$F:$F,\">=1\")))","v":""},{"$f":"IF($Z$2=\"pok\",\"\",IF(A109=\"\",\"\",COUNTIFS(SYNTHESE!$D:$D,A109,SYNTHESE!$E:$E,$E$1,SYNTHESE!$F:$F,\">=1\")))","v":""},{"$f":"IF($Z$2=\"pok\",\"\",IF(A109=\"\",\"\",COUNTIFS(SYNTHESE!$D:$D,A109,SYNTHESE!$E:$E,$F$1,SYNTHESE!$F:$F,\">=1\")))","v":""},{"$f":"IF($Z$2=\"pok\",\"\",IF(A109=\"\",\"\",COUNTIFS(SYNTHESE!$D:$D,A109,SYNTHESE!$E:$E,$G$1,SYNTHESE!$F:$F,\">=1\")))","v":""},{"$f":"IF($Z$2=\"pok\",\"\",IF(A109=\"\",\"\",COUNTIFS(SYNTHESE!$D:$D,A109,SYNTHESE!$E:$E,$H$1,SYNTHESE!$F:$F,\">=1\")))","v":""},{"$f":"IF($Z$2=\"pok\",\"\",IF(A109=\"\",\"\",COUNTIFS(SYNTHESE!$D:$D,A109,SYNTHESE!$E:$E,$I$1,SYNTHESE!$F:$F,\">=1\")))","v":""},{"$f":"IF($Z$2=\"pok\",\"\",IF(A109=\"\",\"\",COUNTIFS(SYNTHESE!$D:$D,A109,SYNTHESE!$E:$E,$J$1,SYNTHESE!$F:$F,\">=1\")))","v":""},{"$f":"IF($Z$2=\"pok\",\"\",IF(A109=\"\",\"\",COUNTIFS(SYNTHESE!$D:$D,A109,SYNTHESE!$E:$E,$K$1,SYNTHESE!$F:$F,\">=1\")))","v":""},{"$f":"IF($Z$2=\"pok\",\"\",IF(A109=\"\",\"\",COUNTIFS(SYNTHESE!$D:$D,A109,SYNTHESE!$E:$E,$L$1,SYNTHESE!$F:$F,\">=1\")))","v":""},{"$f":"IF($Z$2=\"pok\",\"\",IF(A109=\"\",\"\",COUNTIFS(SYNTHESE!$D:$D,A109,SYNTHESE!$E:$E,$M$1,SYNTHESE!$F:$F,\">=1\")))","v":""},{"$f":"IF($Z$2=\"pok\",\"\",IF(A109=\"\",\"\",COUNTIFS(SYNTHESE!$D:$D,A109,SYNTHESE!$E:$E,$N$1,SYNTHESE!$F:$F,\">=1\")))","v":""},{"$f":"IF($Z$2=\"pok\",\"\",IF(A109=\"\",\"\",COUNTIFS(SYNTHESE!$D:$D,A109,SYNTHESE!$E:$E,$O$1,SYNTHESE!$F:$F,\">=1\")))","v":""},{"$f":"IF($Z$2=\"pok\",\"\",IF(A109=\"\",\"\",COUNTIFS(SYNTHESE!$D:$D,A109,SYNTHESE!$E:$E,$P$1,SYNTHESE!$F:$F,\">=1\")))","v":""},{"$f":"IF($Z$2=\"pok\",\"\",IF(A109=\"\",\"\",COUNTIFS(SYNTHESE!$D:$D,A109,SYNTHESE!$E:$E,$Q$1,SYNTHESE!$F:$F,\">=1\")))","v":""},{"$f":"IF($Z$2=\"pok\",\"\",IF(A109=\"\",\"\",COUNTIFS(SYNTHESE!$D:$D,A109,SYNTHESE!$E:$E,$R$1,SYNTHESE!$F:$F,\">=1\")))","v":""},{"$f":"IF($Z$2=\"pok\",\"\",IF(A109=\"\",\"\",COUNTIFS(SYNTHESE!$D:$D,A109,SYNTHESE!$E:$E,$S$1,SYNTHESE!$F:$F,\">=1\")))","v":""},{"$f":"IF($Z$2=\"pok\",\"\",IF(A109=\"\",\"\",COUNTIFS(SYNTHESE!$D:$D,A109,SYNTHESE!$E:$E,$T$1,SYNTHESE!$F:$F,\">=1\")))","v":""},{"$f":"IF($Z$2=\"pok\",\"\",IF(A109=\"\",\"\",COUNTIFS(SYNTHESE!$D:$D,A109,SYNTHESE!$E:$E,$U$1,SYNTHESE!$F:$F,\">=1\")))","v":""},{"$f":"IF($Z$2=\"pok\",\"\",IF(A109=\"\",\"\",COUNTIFS(SYNTHESE!$D:$D,A109,SYNTHESE!$E:$E,$V$1,SYNTHESE!$F:$F,\">=1\")))","v":""},{"$f":"IF($Z$2=\"pok\",\"\",IF(A109=\"\",\"\",COUNTIFS(SYNTHESE!$D:$D,A109,SYNTHESE!$E:$E,$W$1,SYNTHESE!$F:$F,\">=1\")))","v":""},{"$f":"IF($Z$2=\"pok\",\"\",IF(A109=\"\",\"\",COUNTIFS(SYNTHESE!$D:$D,A109,SYNTHESE!$E:$E,$X$1,SYNTHESE!$F:$F,\">=1\")))","v":""},{"$f":"IF($Z$2=\"pok\",\"\",IF(A109=\"\",\"\",COUNTIFS(SYNTHESE!$D:$D,A109,SYNTHESE!$E:$E,$Y$1,SYNTHESE!$F:$F,\">=1\")))","v":""},0]
[{"$f":"IF(ETUDIANTS!A110=\"\",\"\",ETUDIANTS!A110)","v":""},{"$f":"IF($Z$2=\"pok\",\"\",IF(A110=\"\",\"\",COUNTIFS(SYNTHESE!$D:$D,A110,SYNTHESE!$E:$E,$B$1,SYNTHESE!$F:$F,\">=1\")))","v":""},{"$f":"IF($Z$2=\"pok\",\"\",IF(A110=\"\",\"\",COUNTIFS(SYNTHESE!$D:$D,A110,SYNTHESE!$E:$E,$C$1,SYNTHESE!$F:$F,\">=1\")))","v":""},{"$f":"IF($Z$2=\"pok\",\"\",IF(A110=\"\",\"\",COUNTIFS(SYNTHESE!$D:$D,A110,SYNTHESE!$E:$E,$D$1,SYNTHESE!$F:$F,\">=1\")))","v":""},{"$f":"IF($Z$2=\"pok\",\"\",IF(A110=\"\",\"\",COUNTIFS(SYNTHESE!$D:$D,A110,SYNTHESE!$E:$E,$E$1,SYNTHESE!$F:$F,\">=1\")))","v":""},{"$f":"IF($Z$2=\"pok\",\"\",IF(A110=\"\",\"\",COUNTIFS(SYNTHESE!$D:$D,A110,SYNTHESE!$E:$E,$F$1,SYNTHESE!$F:$F,\">=1\")))","v":""},{"$f":"IF($Z$2=\"pok\",\"\",IF(A110=\"\",\"\",COUNTIFS(SYNTHESE!$D:$D,A110,SYNTHESE!$E:$E,$G$1,SYNTHESE!$F:$F,\">=1\")))","v":""},{"$f":"IF($Z$2=\"pok\",\"\",IF(A110=\"\",\"\",COUNTIFS(SYNTHESE!$D:$D,A110,SYNTHESE!$E:$E,$H$1,SYNTHESE!$F:$F,\">=1\")))","v":""},{"$f":"IF($Z$2=\"pok\",\"\",IF(A110=\"\",\"\",COUNTIFS(SYNTHESE!$D:$D,A110,SYNTHESE!$E:$E,$I$1,SYNTHESE!$F:$F,\">=1\")))","v":""},{"$f":"IF($Z$2=\"pok\",\"\",IF(A110=\"\",\"\",COUNTIFS(SYNTHESE!$D:$D,A110,SYNTHESE!$E:$E,$J$1,SYNTHESE!$F:$F,\">=1\")))","v":""},{"$f":"IF($Z$2=\"pok\",\"\",IF(A110=\"\",\"\",COUNTIFS(SYNTHESE!$D:$D,A110,SYNTHESE!$E:$E,$K$1,SYNTHESE!$F:$F,\">=1\")))","v":""},{"$f":"IF($Z$2=\"pok\",\"\",IF(A110=\"\",\"\",COUNTIFS(SYNTHESE!$D:$D,A110,SYNTHESE!$E:$E,$L$1,SYNTHESE!$F:$F,\">=1\")))","v":""},{"$f":"IF($Z$2=\"pok\",\"\",IF(A110=\"\",\"\",COUNTIFS(SYNTHESE!$D:$D,A110,SYNTHESE!$E:$E,$M$1,SYNTHESE!$F:$F,\">=1\")))","v":""},{"$f":"IF($Z$2=\"pok\",\"\",IF(A110=\"\",\"\",COUNTIFS(SYNTHESE!$D:$D,A110,SYNTHESE!$E:$E,$N$1,SYNTHESE!$F:$F,\">=1\")))","v":""},{"$f":"IF($Z$2=\"pok\",\"\",IF(A110=\"\",\"\",COUNTIFS(SYNTHESE!$D:$D,A110,SYNTHESE!$E:$E,$O$1,SYNTHESE!$F:$F,\">=1\")))","v":""},{"$f":"IF($Z$2=\"pok\",\"\",IF(A110=\"\",\"\",COUNTIFS(SYNTHESE!$D:$D,A110,SYNTHESE!$E:$E,$P$1,SYNTHESE!$F:$F,\">=1\")))","v":""},{"$f":"IF($Z$2=\"pok\",\"\",IF(A110=\"\",\"\",COUNTIFS(SYNTHESE!$D:$D,A110,SYNTHESE!$E:$E,$Q$1,SYNTHESE!$F:$F,\">=1\")))","v":""},{"$f":"IF($Z$2=\"pok\",\"\",IF(A110=\"\",\"\",COUNTIFS(SYNTHESE!$D:$D,A110,SYNTHESE!$E:$E,$R$1,SYNTHESE!$F:$F,\">=1\")))","v":""},{"$f":"IF($Z$2=\"pok\",\"\",IF(A110=\"\",\"\",COUNTIFS(SYNTHESE!$D:$D,A110,SYNTHESE!$E:$E,$S$1,SYNTHESE!$F:$F,\">=1\")))","v":""},{"$f":"IF($Z$2=\"pok\",\"\",IF(A110=\"\",\"\",COUNTIFS(SYNTHESE!$D:$D,A110,SYNTHESE!$E:$E,$T$1,SYNTHESE!$F:$F,\">=1\")))","v":""},{"$f":"IF($Z$2=\"pok\",\"\",IF(A110=\"\",\"\",COUNTIFS(SYNTHESE!$D:$D,A110,SYNTHESE!$E:$E,$U$1,SYNTHESE!$F:$F,\">=1\")))","v":""},{"$f":"IF($Z$2=\"pok\",\"\",IF(A110=\"\",\"\",COUNTIFS(SYNTHESE!$D:$D,A110,SYNTHESE!$E:$E,$V$1,SYNTHESE!$F:$F,\">=1\")))","v":""},{"$f":"IF($Z$2=\"pok\",\"\",IF(A110=\"\",\"\",COUNTIFS(SYNTHESE!$D:$D,A110,SYNTHESE!$E:$E,$W$1,SYNTHESE!$F:$F,\">=1\")))","v":""},{"$f":"IF($Z$2=\"pok\",\"\",IF(A110=\"\",\"\",COUNTIFS(SYNTHESE!$D:$D,A110,SYNTHESE!$E:$E,$X$1,SYNTHESE!$F:$F,\">=1\")))","v":""},{"$f":"IF($Z$2=\"pok\",\"\",IF(A110=\"\",\"\",COUNTIFS(SYNTHESE!$D:$D,A110,SYNTHESE!$E:$E,$Y$1,SYNTHESE!$F:$F,\">=1\")))","v":""},0]
[{"$f":"IF(ETUDIANTS!A111=\"\",\"\",ETUDIANTS!A111)","v":""},{"$f":"IF($Z$2=\"pok\",\"\",IF(A111=\"\",\"\",COUNTIFS(SYNTHESE!$D:$D,A111,SYNTHESE!$E:$E,$B$1,SYNTHESE!$F:$F,\">=1\")))","v":""},{"$f":"IF($Z$2=\"pok\",\"\",IF(A111=\"\",\"\",COUNTIFS(SYNTHESE!$D:$D,A111,SYNTHESE!$E:$E,$C$1,SYNTHESE!$F:$F,\">=1\")))","v":""},{"$f":"IF($Z$2=\"pok\",\"\",IF(A111=\"\",\"\",COUNTIFS(SYNTHESE!$D:$D,A111,SYNTHESE!$E:$E,$D$1,SYNTHESE!$F:$F,\">=1\")))","v":""},{"$f":"IF($Z$2=\"pok\",\"\",IF(A111=\"\",\"\",COUNTIFS(SYNTHESE!$D:$D,A111,SYNTHESE!$E:$E,$E$1,SYNTHESE!$F:$F,\">=1\")))","v":""},{"$f":"IF($Z$2=\"pok\",\"\",IF(A111=\"\",\"\",COUNTIFS(SYNTHESE!$D:$D,A111,SYNTHESE!$E:$E,$F$1,SYNTHESE!$F:$F,\">=1\")))","v":""},{"$f":"IF($Z$2=\"pok\",\"\",IF(A111=\"\",\"\",COUNTIFS(SYNTHESE!$D:$D,A111,SYNTHESE!$E:$E,$G$1,SYNTHESE!$F:$F,\">=1\")))","v":""},{"$f":"IF($Z$2=\"pok\",\"\",IF(A111=\"\",\"\",COUNTIFS(SYNTHESE!$D:$D,A111,SYNTHESE!$E:$E,$H$1,SYNTHESE!$F:$F,\">=1\")))","v":""},{"$f":"IF($Z$2=\"pok\",\"\",IF(A111=\"\",\"\",COUNTIFS(SYNTHESE!$D:$D,A111,SYNTHESE!$E:$E,$I$1,SYNTHESE!$F:$F,\">=1\")))","v":""},{"$f":"IF($Z$2=\"pok\",\"\",IF(A111=\"\",\"\",COUNTIFS(SYNTHESE!$D:$D,A111,SYNTHESE!$E:$E,$J$1,SYNTHESE!$F:$F,\">=1\")))","v":""},{"$f":"IF($Z$2=\"pok\",\"\",IF(A111=\"\",\"\",COUNTIFS(SYNTHESE!$D:$D,A111,SYNTHESE!$E:$E,$K$1,SYNTHESE!$F:$F,\">=1\")))","v":""},{"$f":"IF($Z$2=\"pok\",\"\",IF(A111=\"\",\"\",COUNTIFS(SYNTHESE!$D:$D,A111,SYNTHESE!$E:$E,$L$1,SYNTHESE!$F:$F,\">=1\")))","v":""},{"$f":"IF($Z$2=\"pok\",\"\",IF(A111=\"\",\"\",COUNTIFS(SYNTHESE!$D:$D,A111,SYNTHESE!$E:$E,$M$1,SYNTHESE!$F:$F,\">=1\")))","v":""},{"$f":"IF($Z$2=\"pok\",\"\",IF(A111=\"\",\"\",COUNTIFS(SYNTHESE!$D:$D,A111,SYNTHESE!$E:$E,$N$1,SYNTHESE!$F:$F,\">=1\")))","v":""},{"$f":"IF($Z$2=\"pok\",\"\",IF(A111=\"\",\"\",COUNTIFS(SYNTHESE!$D:$D,A111,SYNTHESE!$E:$E,$O$1,SYNTHESE!$F:$F,\">=1\")))","v":""},{"$f":"IF($Z$2=\"pok\",\"\",IF(A111=\"\",\"\",COUNTIFS(SYNTHESE!$D:$D,A111,SYNTHESE!$E:$E,$P$1,SYNTHESE!$F:$F,\">=1\")))","v":""},{"$f":"IF($Z$2=\"pok\",\"\",IF(A111=\"\",\"\",COUNTIFS(SYNTHESE!$D:$D,A111,SYNTHESE!$E:$E,$Q$1,SYNTHESE!$F:$F,\">=1\")))","v":""},{"$f":"IF($Z$2=\"pok\",\"\",IF(A111=\"\",\"\",COUNTIFS(SYNTHESE!$D:$D,A111,SYNTHESE!$E:$E,$R$1,SYNTHESE!$F:$F,\">=1\")))","v":""},{"$f":"IF($Z$2=\"pok\",\"\",IF(A111=\"\",\"\",COUNTIFS(SYNTHESE!$D:$D,A111,SYNTHESE!$E:$E,$S$1,SYNTHESE!$F:$F,\">=1\")))","v":""},{"$f":"IF($Z$2=\"pok\",\"\",IF(A111=\"\",\"\",COUNTIFS(SYNTHESE!$D:$D,A111,SYNTHESE!$E:$E,$T$1,SYNTHESE!$F:$F,\">=1\")))","v":""},{"$f":"IF($Z$2=\"pok\",\"\",IF(A111=\"\",\"\",COUNTIFS(SYNTHESE!$D:$D,A111,SYNTHESE!$E:$E,$U$1,SYNTHESE!$F:$F,\">=1\")))","v":""},{"$f":"IF($Z$2=\"pok\",\"\",IF(A111=\"\",\"\",COUNTIFS(SYNTHESE!$D:$D,A111,SYNTHESE!$E:$E,$V$1,SYNTHESE!$F:$F,\">=1\")))","v":""},{"$f":"IF($Z$2=\"pok\",\"\",IF(A111=\"\",\"\",COUNTIFS(SYNTHESE!$D:$D,A111,SYNTHESE!$E:$E,$W$1,SYNTHESE!$F:$F,\">=1\")))","v":""},{"$f":"IF($Z$2=\"pok\",\"\",IF(A111=\"\",\"\",COUNTIFS(SYNTHESE!$D:$D,A111,SYNTHESE!$E:$E,$X$1,SYNTHESE!$F:$F,\">=1\")))","v":""},{"$f":"IF($Z$2=\"pok\",\"\",IF(A111=\"\",\"\",COUNTIFS(SYNTHESE!$D:$D,A111,SYNTHESE!$E:$E,$Y$1,SYNTHESE!$F:$F,\">=1\")))","v":""},0]
[{"$f":"IF(ETUDIANTS!A112=\"\",\"\",ETUDIANTS!A112)","v":""},{"$f":"IF($Z$2=\"pok\",\"\",IF(A112=\"\",\"\",COUNTIFS(SYNTHESE!$D:$D,A112,SYNTHESE!$E:$E,$B$1,SYNTHESE!$F:$F,\">=1\")))","v":""},{"$f":"IF($Z$2=\"pok\",\"\",IF(A112=\"\",\"\",COUNTIFS(SYNTHESE!$D:$D,A112,SYNTHESE!$E:$E,$C$1,SYNTHESE!$F:$F,\">=1\")))","v":""},{"$f":"IF($Z$2=\"pok\",\"\",IF(A112=\"\",\"\",COUNTIFS(SYNTHESE!$D:$D,A112,SYNTHESE!$E:$E,$D$1,SYNTHESE!$F:$F,\">=1\")))","v":""},{"$f":"IF($Z$2=\"pok\",\"\",IF(A112=\"\",\"\",COUNTIFS(SYNTHESE!$D:$D,A112,SYNTHESE!$E:$E,$E$1,SYNTHESE!$F:$F,\">=1\")))","v":""},{"$f":"IF($Z$2=\"pok\",\"\",IF(A112=\"\",\"\",COUNTIFS(SYNTHESE!$D:$D,A112,SYNTHESE!$E:$E,$F$1,SYNTHESE!$F:$F,\">=1\")))","v":""},{"$f":"IF($Z$2=\"pok\",\"\",IF(A112=\"\",\"\",COUNTIFS(SYNTHESE!$D:$D,A112,SYNTHESE!$E:$E,$G$1,SYNTHESE!$F:$F,\">=1\")))","v":""},{"$f":"IF($Z$2=\"pok\",\"\",IF(A112=\"\",\"\",COUNTIFS(SYNTHESE!$D:$D,A112,SYNTHESE!$E:$E,$H$1,SYNTHESE!$F:$F,\">=1\")))","v":""},{"$f":"IF($Z$2=\"pok\",\"\",IF(A112=\"\",\"\",COUNTIFS(SYNTHESE!$D:$D,A112,SYNTHESE!$E:$E,$I$1,SYNTHESE!$F:$F,\">=1\")))","v":""},{"$f":"IF($Z$2=\"pok\",\"\",IF(A112=\"\",\"\",COUNTIFS(SYNTHESE!$D:$D,A112,SYNTHESE!$E:$E,$J$1,SYNTHESE!$F:$F,\">=1\")))","v":""},{"$f":"IF($Z$2=\"pok\",\"\",IF(A112=\"\",\"\",COUNTIFS(SYNTHESE!$D:$D,A112,SYNTHESE!$E:$E,$K$1,SYNTHESE!$F:$F,\">=1\")))","v":""},{"$f":"IF($Z$2=\"pok\",\"\",IF(A112=\"\",\"\",COUNTIFS(SYNTHESE!$D:$D,A112,SYNTHESE!$E:$E,$L$1,SYNTHESE!$F:$F,\">=1\")))","v":""},{"$f":"IF($Z$2=\"pok\",\"\",IF(A112=\"\",\"\",COUNTIFS(SYNTHESE!$D:$D,A112,SYNTHESE!$E:$E,$M$1,SYNTHESE!$F:$F,\">=1\")))","v":""},{"$f":"IF($Z$2=\"pok\",\"\",IF(A112=\"\",\"\",COUNTIFS(SYNTHESE!$D:$D,A112,SYNTHESE!$E:$E,$N$1,SYNTHESE!$F:$F,\">=1\")))","v":""},{"$f":"IF($Z$2=\"pok\",\"\",IF(A112=\"\",\"\",COUNTIFS(SYNTHESE!$D:$D,A112,SYNTHESE!$E:$E,$O$1,SYNTHESE!$F:$F,\">=1\")))","v":""},{"$f":"IF($Z$2=\"pok\",\"\",IF(A112=\"\",\"\",COUNTIFS(SYNTHESE!$D:$D,A112,SYNTHESE!$E:$E,$P$1,SYNTHESE!$F:$F,\">=1\")))","v":""},{"$f":"IF($Z$2=\"pok\",\"\",IF(A112=\"\",\"\",COUNTIFS(SYNTHESE!$D:$D,A112,SYNTHESE!$E:$E,$Q$1,SYNTHESE!$F:$F,\">=1\")))","v":""},{"$f":"IF($Z$2=\"pok\",\"\",IF(A112=\"\",\"\",COUNTIFS(SYNTHESE!$D:$D,A112,SYNTHESE!$E:$E,$R$1,SYNTHESE!$F:$F,\">=1\")))","v":""},{"$f":"IF($Z$2=\"pok\",\"\",IF(A112=\"\",\"\",COUNTIFS(SYNTHESE!$D:$D,A112,SYNTHESE!$E:$E,$S$1,SYNTHESE!$F:$F,\">=1\")))","v":""},{"$f":"IF($Z$2=\"pok\",\"\",IF(A112=\"\",\"\",COUNTIFS(SYNTHESE!$D:$D,A112,SYNTHESE!$E:$E,$T$1,SYNTHESE!$F:$F,\">=1\")))","v":""},{"$f":"IF($Z$2=\"pok\",\"\",IF(A112=\"\",\"\",COUNTIFS(SYNTHESE!$D:$D,A112,SYNTHESE!$E:$E,$U$1,SYNTHESE!$F:$F,\">=1\")))","v":""},{"$f":"IF($Z$2=\"pok\",\"\",IF(A112=\"\",\"\",COUNTIFS(SYNTHESE!$D:$D,A112,SYNTHESE!$E:$E,$V$1,SYNTHESE!$F:$F,\">=1\")))","v":""},{"$f":"IF($Z$2=\"pok\",\"\",IF(A112=\"\",\"\",COUNTIFS(SYNTHESE!$D:$D,A112,SYNTHESE!$E:$E,$W$1,SYNTHESE!$F:$F,\">=1\")))","v":""},{"$f":"IF($Z$2=\"pok\",\"\",IF(A112=\"\",\"\",COUNTIFS(SYNTHESE!$D:$D,A112,SYNTHESE!$E:$E,$X$1,SYNTHESE!$F:$F,\">=1\")))","v":""},{"$f":"IF($Z$2=\"pok\",\"\",IF(A112=\"\",\"\",COUNTIFS(SYNTHESE!$D:$D,A112,SYNTHESE!$E:$E,$Y$1,SYNTHESE!$F:$F,\">=1\")))","v":""},0]
[{"$f":"IF(ETUDIANTS!A113=\"\",\"\",ETUDIANTS!A113)","v":""},{"$f":"IF($Z$2=\"pok\",\"\",IF(A113=\"\",\"\",COUNTIFS(SYNTHESE!$D:$D,A113,SYNTHESE!$E:$E,$B$1,SYNTHESE!$F:$F,\">=1\")))","v":""},{"$f":"IF($Z$2=\"pok\",\"\",IF(A113=\"\",\"\",COUNTIFS(SYNTHESE!$D:$D,A113,SYNTHESE!$E:$E,$C$1,SYNTHESE!$F:$F,\">=1\")))","v":""},{"$f":"IF($Z$2=\"pok\",\"\",IF(A113=\"\",\"\",COUNTIFS(SYNTHESE!$D:$D,A113,SYNTHESE!$E:$E,$D$1,SYNTHESE!$F:$F,\">=1\")))","v":""},{"$f":"IF($Z$2=\"pok\",\"\",IF(A113=\"\",\"\",COUNTIFS(SYNTHESE!$D:$D,A113,SYNTHESE!$E:$E,$E$1,SYNTHESE!$F:$F,\">=1\")))","v":""},{"$f":"IF($Z$2=\"pok\",\"\",IF(A113=\"\",\"\",COUNTIFS(SYNTHESE!$D:$D,A113,SYNTHESE!$E:$E,$F$1,SYNTHESE!$F:$F,\">=1\")))","v":""},{"$f":"IF($Z$2=\"pok\",\"\",IF(A113=\"\",\"\",COUNTIFS(SYNTHESE!$D:$D,A113,SYNTHESE!$E:$E,$G$1,SYNTHESE!$F:$F,\">=1\")))","v":""},{"$f":"IF($Z$2=\"pok\",\"\",IF(A113=\"\",\"\",COUNTIFS(SYNTHESE!$D:$D,A113,SYNTHESE!$E:$E,$H$1,SYNTHESE!$F:$F,\">=1\")))","v":""},{"$f":"IF($Z$2=\"pok\",\"\",IF(A113=\"\",\"\",COUNTIFS(SYNTHESE!$D:$D,A113,SYNTHESE!$E:$E,$I$1,SYNTHESE!$F:$F,\">=1\")))","v":""},{"$f":"IF($Z$2=\"pok\",\"\",IF(A113=\"\",\"\",COUNTIFS(SYNTHESE!$D:$D,A113,SYNTHESE!$E:$E,$J$1,SYNTHESE!$F:$F,\">=1\")))","v":""},{"$f":"IF($Z$2=\"pok\",\"\",IF(A113=\"\",\"\",COUNTIFS(SYNTHESE!$D:$D,A113,SYNTHESE!$E:$E,$K$1,SYNTHESE!$F:$F,\">=1\")))","v":""},{"$f":"IF($Z$2=\"pok\",\"\",IF(A113=\"\",\"\",COUNTIFS(SYNTHESE!$D:$D,A113,SYNTHESE!$E:$E,$L$1,SYNTHESE!$F:$F,\">=1\")))","v":""},{"$f":"IF($Z$2=\"pok\",\"\",IF(A113=\"\",\"\",COUNTIFS(SYNTHESE!$D:$D,A113,SYNTHESE!$E:$E,$M$1,SYNTHESE!$F:$F,\">=1\")))","v":""},{"$f":"IF($Z$2=\"pok\",\"\",IF(A113=\"\",\"\",COUNTIFS(SYNTHESE!$D:$D,A113,SYNTHESE!$E:$E,$N$1,SYNTHESE!$F:$F,\">=1\")))","v":""},{"$f":"IF($Z$2=\"pok\",\"\",IF(A113=\"\",\"\",COUNTIFS(SYNTHESE!$D:$D,A113,SYNTHESE!$E:$E,$O$1,SYNTHESE!$F:$F,\">=1\")))","v":""},{"$f":"IF($Z$2=\"pok\",\"\",IF(A113=\"\",\"\",COUNTIFS(SYNTHESE!$D:$D,A113,SYNTHESE!$E:$E,$P$1,SYNTHESE!$F:$F,\">=1\")))","v":""},{"$f":"IF($Z$2=\"pok\",\"\",IF(A113=\"\",\"\",COUNTIFS(SYNTHESE!$D:$D,A113,SYNTHESE!$E:$E,$Q$1,SYNTHESE!$F:$F,\">=1\")))","v":""},{"$f":"IF($Z$2=\"pok\",\"\",IF(A113=\"\",\"\",COUNTIFS(SYNTHESE!$D:$D,A113,SYNTHESE!$E:$E,$R$1,SYNTHESE!$F:$F,\">=1\")))","v":""},{"$f":"IF($Z$2=\"pok\",\"\",IF(A113=\"\",\"\",COUNTIFS(SYNTHESE!$D:$D,A113,SYNTHESE!$E:$E,$S$1,SYNTHESE!$F:$F,\">=1\")))","v":""},{"$f":"IF($Z$2=\"pok\",\"\",IF(A113=\"\",\"\",COUNTIFS(SYNTHESE!$D:$D,A113,SYNTHESE!$E:$E,$T$1,SYNTHESE!$F:$F,\">=1\")))","v":""},{"$f":"IF($Z$2=\"pok\",\"\",IF(A113=\"\",\"\",COUNTIFS(SYNTHESE!$D:$D,A113,SYNTHESE!$E:$E,$U$1,SYNTHESE!$F:$F,\">=1\")))","v":""},{"$f":"IF($Z$2=\"pok\",\"\",IF(A113=\"\",\"\",COUNTIFS(SYNTHESE!$D:$D,A113,SYNTHESE!$E:$E,$V$1,SYNTHESE!$F:$F,\">=1\")))","v":""},{"$f":"IF($Z$2=\"pok\",\"\",IF(A113=\"\",\"\",COUNTIFS(SYNTHESE!$D:$D,A113,SYNTHESE!$E:$E,$W$1,SYNTHESE!$F:$F,\">=1\")))","v":""},{"$f":"IF($Z$2=\"pok\",\"\",IF(A113=\"\",\"\",COUNTIFS(SYNTHESE!$D:$D,A113,SYNTHESE!$E:$E,$X$1,SYNTHESE!$F:$F,\">=1\")))","v":""},{"$f":"IF($Z$2=\"pok\",\"\",IF(A113=\"\",\"\",COUNTIFS(SYNTHESE!$D:$D,A113,SYNTHESE!$E:$E,$Y$1,SYNTHESE!$F:$F,\">=1\")))","v":""},0]
[{"$f":"IF(ETUDIANTS!A114=\"\",\"\",ETUDIANTS!A114)","v":""},{"$f":"IF($Z$2=\"pok\",\"\",IF(A114=\"\",\"\",COUNTIFS(SYNTHESE!$D:$D,A114,SYNTHESE!$E:$E,$B$1,SYNTHESE!$F:$F,\">=1\")))","v":""},{"$f":"IF($Z$2=\"pok\",\"\",IF(A114=\"\",\"\",COUNTIFS(SYNTHESE!$D:$D,A114,SYNTHESE!$E:$E,$C$1,SYNTHESE!$F:$F,\">=1\")))","v":""},{"$f":"IF($Z$2=\"pok\",\"\",IF(A114=\"\",\"\",COUNTIFS(SYNTHESE!$D:$D,A114,SYNTHESE!$E:$E,$D$1,SYNTHESE!$F:$F,\">=1\")))","v":""},{"$f":"IF($Z$2=\"pok\",\"\",IF(A114=\"\",\"\",COUNTIFS(SYNTHESE!$D:$D,A114,SYNTHESE!$E:$E,$E$1,SYNTHESE!$F:$F,\">=1\")))","v":""},{"$f":"IF($Z$2=\"pok\",\"\",IF(A114=\"\",\"\",COUNTIFS(SYNTHESE!$D:$D,A114,SYNTHESE!$E:$E,$F$1,SYNTHESE!$F:$F,\">=1\")))","v":""},{"$f":"IF($Z$2=\"pok\",\"\",IF(A114=\"\",\"\",COUNTIFS(SYNTHESE!$D:$D,A114,SYNTHESE!$E:$E,$G$1,SYNTHESE!$F:$F,\">=1\")))","v":""},{"$f":"IF($Z$2=\"pok\",\"\",IF(A114=\"\",\"\",COUNTIFS(SYNTHESE!$D:$D,A114,SYNTHESE!$E:$E,$H$1,SYNTHESE!$F:$F,\">=1\")))","v":""},{"$f":"IF($Z$2=\"pok\",\"\",IF(A114=\"\",\"\",COUNTIFS(SYNTHESE!$D:$D,A114,SYNTHESE!$E:$E,$I$1,SYNTHESE!$F:$F,\">=1\")))","v":""},{"$f":"IF($Z$2=\"pok\",\"\",IF(A114=\"\",\"\",COUNTIFS(SYNTHESE!$D:$D,A114,SYNTHESE!$E:$E,$J$1,SYNTHESE!$F:$F,\">=1\")))","v":""},{"$f":"IF($Z$2=\"pok\",\"\",IF(A114=\"\",\"\",COUNTIFS(SYNTHESE!$D:$D,A114,SYNTHESE!$E:$E,$K$1,SYNTHESE!$F:$F,\">=1\")))","v":""},{"$f":"IF($Z$2=\"pok\",\"\",IF(A114=\"\",\"\",COUNTIFS(SYNTHESE!$D:$D,A114,SYNTHESE!$E:$E,$L$1,SYNTHESE!$F:$F,\">=1\")))","v":""},{"$f":"IF($Z$2=\"pok\",\"\",IF(A114=\"\",\"\",COUNTIFS(SYNTHESE!$D:$D,A114,SYNTHESE!$E:$E,$M$1,SYNTHESE!$F:$F,\">=1\")))","v":""},{"$f":"IF($Z$2=\"pok\",\"\",IF(A114=\"\",\"\",COUNTIFS(SYNTHESE!$D:$D,A114,SYNTHESE!$E:$E,$N$1,SYNTHESE!$F:$F,\">=1\")))","v":""},{"$f":"IF($Z$2=\"pok\",\"\",IF(A114=\"\",\"\",COUNTIFS(SYNTHESE!$D:$D,A114,SYNTHESE!$E:$E,$O$1,SYNTHESE!$F:$F,\">=1\")))","v":""},{"$f":"IF($Z$2=\"pok\",\"\",IF(A114=\"\",\"\",COUNTIFS(SYNTHESE!$D:$D,A114,SYNTHESE!$E:$E,$P$1,SYNTHESE!$F:$F,\">=1\")))","v":""},{"$f":"IF($Z$2=\"pok\",\"\",IF(A114=\"\",\"\",COUNTIFS(SYNTHESE!$D:$D,A114,SYNTHESE!$E:$E,$Q$1,SYNTHESE!$F:$F,\">=1\")))","v":""},{"$f":"IF($Z$2=\"pok\",\"\",IF(A114=\"\",\"\",COUNTIFS(SYNTHESE!$D:$D,A114,SYNTHESE!$E:$E,$R$1,SYNTHESE!$F:$F,\">=1\")))","v":""},{"$f":"IF($Z$2=\"pok\",\"\",IF(A114=\"\",\"\",COUNTIFS(SYNTHESE!$D:$D,A114,SYNTHESE!$E:$E,$S$1,SYNTHESE!$F:$F,\">=1\")))","v":""},{"$f":"IF($Z$2=\"pok\",\"\",IF(A114=\"\",\"\",COUNTIFS(SYNTHESE!$D:$D,A114,SYNTHESE!$E:$E,$T$1,SYNTHESE!$F:$F,\">=1\")))","v":""},{"$f":"IF($Z$2=\"pok\",\"\",IF(A114=\"\",\"\",COUNTIFS(SYNTHESE!$D:$D,A114,SYNTHESE!$E:$E,$U$1,SYNTHESE!$F:$F,\">=1\")))","v":""},{"$f":"IF($Z$2=\"pok\",\"\",IF(A114=\"\",\"\",COUNTIFS(SYNTHESE!$D:$D,A114,SYNTHESE!$E:$E,$V$1,SYNTHESE!$F:$F,\">=1\")))","v":""},{"$f":"IF($Z$2=\"pok\",\"\",IF(A114=\"\",\"\",COUNTIFS(SYNTHESE!$D:$D,A114,SYNTHESE!$E:$E,$W$1,SYNTHESE!$F:$F,\">=1\")))","v":""},{"$f":"IF($Z$2=\"pok\",\"\",IF(A114=\"\",\"\",COUNTIFS(SYNTHESE!$D:$D,A114,SYNTHESE!$E:$E,$X$1,SYNTHESE!$F:$F,\">=1\")))","v":""},{"$f":"IF($Z$2=\"pok\",\"\",IF(A114=\"\",\"\",COUNTIFS(SYNTHESE!$D:$D,A114,SYNTHESE!$E:$E,$Y$1,SYNTHESE!$F:$F,\">=1\")))","v":""},0]
[{"$f":"IF(ETUDIANTS!A115=\"\",\"\",ETUDIANTS!A115)","v":""},{"$f":"IF($Z$2=\"pok\",\"\",IF(A115=\"\",\"\",COUNTIFS(SYNTHESE!$D:$D,A115,SYNTHESE!$E:$E,$B$1,SYNTHESE!$F:$F,\">=1\")))","v":""},{"$f":"IF($Z$2=\"pok\",\"\",IF(A115=\"\",\"\",COUNTIFS(SYNTHESE!$D:$D,A115,SYNTHESE!$E:$E,$C$1,SYNTHESE!$F:$F,\">=1\")))","v":""},{"$f":"IF($Z$2=\"pok\",\"\",IF(A115=\"\",\"\",COUNTIFS(SYNTHESE!$D:$D,A115,SYNTHESE!$E:$E,$D$1,SYNTHESE!$F:$F,\">=1\")))","v":""},{"$f":"IF($Z$2=\"pok\",\"\",IF(A115=\"\",\"\",COUNTIFS(SYNTHESE!$D:$D,A115,SYNTHESE!$E:$E,$E$1,SYNTHESE!$F:$F,\">=1\")))","v":""},{"$f":"IF($Z$2=\"pok\",\"\",IF(A115=\"\",\"\",COUNTIFS(SYNTHESE!$D:$D,A115,SYNTHESE!$E:$E,$F$1,SYNTHESE!$F:$F,\">=1\")))","v":""},{"$f":"IF($Z$2=\"pok\",\"\",IF(A115=\"\",\"\",COUNTIFS(SYNTHESE!$D:$D,A115,SYNTHESE!$E:$E,$G$1,SYNTHESE!$F:$F,\">=1\")))","v":""},{"$f":"IF($Z$2=\"pok\",\"\",IF(A115=\"\",\"\",COUNTIFS(SYNTHESE!$D:$D,A115,SYNTHESE!$E:$E,$H$1,SYNTHESE!$F:$F,\">=1\")))","v":""},{"$f":"IF($Z$2=\"pok\",\"\",IF(A115=\"\",\"\",COUNTIFS(SYNTHESE!$D:$D,A115,SYNTHESE!$E:$E,$I$1,SYNTHESE!$F:$F,\">=1\")))","v":""},{"$f":"IF($Z$2=\"pok\",\"\",IF(A115=\"\",\"\",COUNTIFS(SYNTHESE!$D:$D,A115,SYNTHESE!$E:$E,$J$1,SYNTHESE!$F:$F,\">=1\")))","v":""},{"$f":"IF($Z$2=\"pok\",\"\",IF(A115=\"\",\"\",COUNTIFS(SYNTHESE!$D:$D,A115,SYNTHESE!$E:$E,$K$1,SYNTHESE!$F:$F,\">=1\")))","v":""},{"$f":"IF($Z$2=\"pok\",\"\",IF(A115=\"\",\"\",COUNTIFS(SYNTHESE!$D:$D,A115,SYNTHESE!$E:$E,$L$1,SYNTHESE!$F:$F,\">=1\")))","v":""},{"$f":"IF($Z$2=\"pok\",\"\",IF(A115=\"\",\"\",COUNTIFS(SYNTHESE!$D:$D,A115,SYNTHESE!$E:$E,$M$1,SYNTHESE!$F:$F,\">=1\")))","v":""},{"$f":"IF($Z$2=\"pok\",\"\",IF(A115=\"\",\"\",COUNTIFS(SYNTHESE!$D:$D,A115,SYNTHESE!$E:$E,$N$1,SYNTHESE!$F:$F,\">=1\")))","v":""},{"$f":"IF($Z$2=\"pok\",\"\",IF(A115=\"\",\"\",COUNTIFS(SYNTHESE!$D:$D,A115,SYNTHESE!$E:$E,$O$1,SYNTHESE!$F:$F,\">=1\")))","v":""},{"$f":"IF($Z$2=\"pok\",\"\",IF(A115=\"\",\"\",COUNTIFS(SYNTHESE!$D:$D,A115,SYNTHESE!$E:$E,$P$1,SYNTHESE!$F:$F,\">=1\")))","v":""},{"$f":"IF($Z$2=\"pok\",\"\",IF(A115=\"\",\"\",COUNTIFS(SYNTHESE!$D:$D,A115,SYNTHESE!$E:$E,$Q$1,SYNTHESE!$F:$F,\">=1\")))","v":""},{"$f":"IF($Z$2=\"pok\",\"\",IF(A115=\"\",\"\",COUNTIFS(SYNTHESE!$D:$D,A115,SYNTHESE!$E:$E,$R$1,SYNTHESE!$F:$F,\">=1\")))","v":""},{"$f":"IF($Z$2=\"pok\",\"\",IF(A115=\"\",\"\",COUNTIFS(SYNTHESE!$D:$D,A115,SYNTHESE!$E:$E,$S$1,SYNTHESE!$F:$F,\">=1\")))","v":""},{"$f":"IF($Z$2=\"pok\",\"\",IF(A115=\"\",\"\",COUNTIFS(SYNTHESE!$D:$D,A115,SYNTHESE!$E:$E,$T$1,SYNTHESE!$F:$F,\">=1\")))","v":""},{"$f":"IF($Z$2=\"pok\",\"\",IF(A115=\"\",\"\",COUNTIFS(SYNTHESE!$D:$D,A115,SYNTHESE!$E:$E,$U$1,SYNTHESE!$F:$F,\">=1\")))","v":""},{"$f":"IF($Z$2=\"pok\",\"\",IF(A115=\"\",\"\",COUNTIFS(SYNTHESE!$D:$D,A115,SYNTHESE!$E:$E,$V$1,SYNTHESE!$F:$F,\">=1\")))","v":""},{"$f":"IF($Z$2=\"pok\",\"\",IF(A115=\"\",\"\",COUNTIFS(SYNTHESE!$D:$D,A115,SYNTHESE!$E:$E,$W$1,SYNTHESE!$F:$F,\">=1\")))","v":""},{"$f":"IF($Z$2=\"pok\",\"\",IF(A115=\"\",\"\",COUNTIFS(SYNTHESE!$D:$D,A115,SYNTHESE!$E:$E,$X$1,SYNTHESE!$F:$F,\">=1\")))","v":""},{"$f":"IF($Z$2=\"pok\",\"\",IF(A115=\"\",\"\",COUNTIFS(SYNTHESE!$D:$D,A115,SYNTHESE!$E:$E,$Y$1,SYNTHESE!$F:$F,\">=1\")))","v":""},0]
[{"$f":"IF(ETUDIANTS!A116=\"\",\"\",ETUDIANTS!A116)","v":""},{"$f":"IF($Z$2=\"pok\",\"\",IF(A116=\"\",\"\",COUNTIFS(SYNTHESE!$D:$D,A116,SYNTHESE!$E:$E,$B$1,SYNTHESE!$F:$F,\">=1\")))","v":""},{"$f":"IF($Z$2=\"pok\",\"\",IF(A116=\"\",\"\",COUNTIFS(SYNTHESE!$D:$D,A116,SYNTHESE!$E:$E,$C$1,SYNTHESE!$F:$F,\">=1\")))","v":""},{"$f":"IF($Z$2=\"pok\",\"\",IF(A116=\"\",\"\",COUNTIFS(SYNTHESE!$D:$D,A116,SYNTHESE!$E:$E,$D$1,SYNTHESE!$F:$F,\">=1\")))","v":""},{"$f":"IF($Z$2=\"pok\",\"\",IF(A116=\"\",\"\",COUNTIFS(SYNTHESE!$D:$D,A116,SYNTHESE!$E:$E,$E$1,SYNTHESE!$F:$F,\">=1\")))","v":""},{"$f":"IF($Z$2=\"pok\",\"\",IF(A116=\"\",\"\",COUNTIFS(SYNTHESE!$D:$D,A116,SYNTHESE!$E:$E,$F$1,SYNTHESE!$F:$F,\">=1\")))","v":""},{"$f":"IF($Z$2=\"pok\",\"\",IF(A116=\"\",\"\",COUNTIFS(SYNTHESE!$D:$D,A116,SYNTHESE!$E:$E,$G$1,SYNTHESE!$F:$F,\">=1\")))","v":""},{"$f":"IF($Z$2=\"pok\",\"\",IF(A116=\"\",\"\",COUNTIFS(SYNTHESE!$D:$D,A116,SYNTHESE!$E:$E,$H$1,SYNTHESE!$F:$F,\">=1\")))","v":""},{"$f":"IF($Z$2=\"pok\",\"\",IF(A116=\"\",\"\",COUNTIFS(SYNTHESE!$D:$D,A116,SYNTHESE!$E:$E,$I$1,SYNTHESE!$F:$F,\">=1\")))","v":""},{"$f":"IF($Z$2=\"pok\",\"\",IF(A116=\"\",\"\",COUNTIFS(SYNTHESE!$D:$D,A116,SYNTHESE!$E:$E,$J$1,SYNTHESE!$F:$F,\">=1\")))","v":""},{"$f":"IF($Z$2=\"pok\",\"\",IF(A116=\"\",\"\",COUNTIFS(SYNTHESE!$D:$D,A116,SYNTHESE!$E:$E,$K$1,SYNTHESE!$F:$F,\">=1\")))","v":""},{"$f":"IF($Z$2=\"pok\",\"\",IF(A116=\"\",\"\",COUNTIFS(SYNTHESE!$D:$D,A116,SYNTHESE!$E:$E,$L$1,SYNTHESE!$F:$F,\">=1\")))","v":""},{"$f":"IF($Z$2=\"pok\",\"\",IF(A116=\"\",\"\",COUNTIFS(SYNTHESE!$D:$D,A116,SYNTHESE!$E:$E,$M$1,SYNTHESE!$F:$F,\">=1\")))","v":""},{"$f":"IF($Z$2=\"pok\",\"\",IF(A116=\"\",\"\",COUNTIFS(SYNTHESE!$D:$D,A116,SYNTHESE!$E:$E,$N$1,SYNTHESE!$F:$F,\">=1\")))","v":""},{"$f":"IF($Z$2=\"pok\",\"\",IF(A116=\"\",\"\",COUNTIFS(SYNTHESE!$D:$D,A116,SYNTHESE!$E:$E,$O$1,SYNTHESE!$F:$F,\">=1\")))","v":""},{"$f":"IF($Z$2=\"pok\",\"\",IF(A116=\"\",\"\",COUNTIFS(SYNTHESE!$D:$D,A116,SYNTHESE!$E:$E,$P$1,SYNTHESE!$F:$F,\">=1\")))","v":""},{"$f":"IF($Z$2=\"pok\",\"\",IF(A116=\"\",\"\",COUNTIFS(SYNTHESE!$D:$D,A116,SYNTHESE!$E:$E,$Q$1,SYNTHESE!$F:$F,\">=1\")))","v":""},{"$f":"IF($Z$2=\"pok\",\"\",IF(A116=\"\",\"\",COUNTIFS(SYNTHESE!$D:$D,A116,SYNTHESE!$E:$E,$R$1,SYNTHESE!$F:$F,\">=1\")))","v":""},{"$f":"IF($Z$2=\"pok\",\"\",IF(A116=\"\",\"\",COUNTIFS(SYNTHESE!$D:$D,A116,SYNTHESE!$E:$E,$S$1,SYNTHESE!$F:$F,\">=1\")))","v":""},{"$f":"IF($Z$2=\"pok\",\"\",IF(A116=\"\",\"\",COUNTIFS(SYNTHESE!$D:$D,A116,SYNTHESE!$E:$E,$T$1,SYNTHESE!$F:$F,\">=1\")))","v":""},{"$f":"IF($Z$2=\"pok\",\"\",IF(A116=\"\",\"\",COUNTIFS(SYNTHESE!$D:$D,A116,SYNTHESE!$E:$E,$U$1,SYNTHESE!$F:$F,\">=1\")))","v":""},{"$f":"IF($Z$2=\"pok\",\"\",IF(A116=\"\",\"\",COUNTIFS(SYNTHESE!$D:$D,A116,SYNTHESE!$E:$E,$V$1,SYNTHESE!$F:$F,\">=1\")))","v":""},{"$f":"IF($Z$2=\"pok\",\"\",IF(A116=\"\",\"\",COUNTIFS(SYNTHESE!$D:$D,A116,SYNTHESE!$E:$E,$W$1,SYNTHESE!$F:$F,\">=1\")))","v":""},{"$f":"IF($Z$2=\"pok\",\"\",IF(A116=\"\",\"\",COUNTIFS(SYNTHESE!$D:$D,A116,SYNTHESE!$E:$E,$X$1,SYNTHESE!$F:$F,\">=1\")))","v":""},{"$f":"IF($Z$2=\"pok\",\"\",IF(A116=\"\",\"\",COUNTIFS(SYNTHESE!$D:$D,A116,SYNTHESE!$E:$E,$Y$1,SYNTHESE!$F:$F,\">=1\")))","v":""},0]
[{"$f":"IF(ETUDIANTS!A117=\"\",\"\",ETUDIANTS!A117)","v":""},{"$f":"IF($Z$2=\"pok\",\"\",IF(A117=\"\",\"\",COUNTIFS(SYNTHESE!$D:$D,A117,SYNTHESE!$E:$E,$B$1,SYNTHESE!$F:$F,\">=1\")))","v":""},{"$f":"IF($Z$2=\"pok\",\"\",IF(A117=\"\",\"\",COUNTIFS(SYNTHESE!$D:$D,A117,SYNTHESE!$E:$E,$C$1,SYNTHESE!$F:$F,\">=1\")))","v":""},{"$f":"IF($Z$2=\"pok\",\"\",IF(A117=\"\",\"\",COUNTIFS(SYNTHESE!$D:$D,A117,SYNTHESE!$E:$E,$D$1,SYNTHESE!$F:$F,\">=1\")))","v":""},{"$f":"IF($Z$2=\"pok\",\"\",IF(A117=\"\",\"\",COUNTIFS(SYNTHESE!$D:$D,A117,SYNTHESE!$E:$E,$E$1,SYNTHESE!$F:$F,\">=1\")))","v":""},{"$f":"IF($Z$2=\"pok\",\"\",IF(A117=\"\",\"\",COUNTIFS(SYNTHESE!$D:$D,A117,SYNTHESE!$E:$E,$F$1,SYNTHESE!$F:$F,\">=1\")))","v":""},{"$f":"IF($Z$2=\"pok\",\"\",IF(A117=\"\",\"\",COUNTIFS(SYNTHESE!$D:$D,A117,SYNTHESE!$E:$E,$G$1,SYNTHESE!$F:$F,\">=1\")))","v":""},{"$f":"IF($Z$2=\"pok\",\"\",IF(A117=\"\",\"\",COUNTIFS(SYNTHESE!$D:$D,A117,SYNTHESE!$E:$E,$H$1,SYNTHESE!$F:$F,\">=1\")))","v":""},{"$f":"IF($Z$2=\"pok\",\"\",IF(A117=\"\",\"\",COUNTIFS(SYNTHESE!$D:$D,A117,SYNTHESE!$E:$E,$I$1,SYNTHESE!$F:$F,\">=1\")))","v":""},{"$f":"IF($Z$2=\"pok\",\"\",IF(A117=\"\",\"\",COUNTIFS(SYNTHESE!$D:$D,A117,SYNTHESE!$E:$E,$J$1,SYNTHESE!$F:$F,\">=1\")))","v":""},{"$f":"IF($Z$2=\"pok\",\"\",IF(A117=\"\",\"\",COUNTIFS(SYNTHESE!$D:$D,A117,SYNTHESE!$E:$E,$K$1,SYNTHESE!$F:$F,\">=1\")))","v":""},{"$f":"IF($Z$2=\"pok\",\"\",IF(A117=\"\",\"\",COUNTIFS(SYNTHESE!$D:$D,A117,SYNTHESE!$E:$E,$L$1,SYNTHESE!$F:$F,\">=1\")))","v":""},{"$f":"IF($Z$2=\"pok\",\"\",IF(A117=\"\",\"\",COUNTIFS(SYNTHESE!$D:$D,A117,SYNTHESE!$E:$E,$M$1,SYNTHESE!$F:$F,\">=1\")))","v":""},{"$f":"IF($Z$2=\"pok\",\"\",IF(A117=\"\",\"\",COUNTIFS(SYNTHESE!$D:$D,A117,SYNTHESE!$E:$E,$N$1,SYNTHESE!$F:$F,\">=1\")))","v":""},{"$f":"IF($Z$2=\"pok\",\"\",IF(A117=\"\",\"\",COUNTIFS(SYNTHESE!$D:$D,A117,SYNTHESE!$E:$E,$O$1,SYNTHESE!$F:$F,\">=1\")))","v":""},{"$f":"IF($Z$2=\"pok\",\"\",IF(A117=\"\",\"\",COUNTIFS(SYNTHESE!$D:$D,A117,SYNTHESE!$E:$E,$P$1,SYNTHESE!$F:$F,\">=1\")))","v":""},{"$f":"IF($Z$2=\"pok\",\"\",IF(A117=\"\",\"\",COUNTIFS(SYNTHESE!$D:$D,A117,SYNTHESE!$E:$E,$Q$1,SYNTHESE!$F:$F,\">=1\")))","v":""},{"$f":"IF($Z$2=\"pok\",\"\",IF(A117=\"\",\"\",COUNTIFS(SYNTHESE!$D:$D,A117,SYNTHESE!$E:$E,$R$1,SYNTHESE!$F:$F,\">=1\")))","v":""},{"$f":"IF($Z$2=\"pok\",\"\",IF(A117=\"\",\"\",COUNTIFS(SYNTHESE!$D:$D,A117,SYNTHESE!$E:$E,$S$1,SYNTHESE!$F:$F,\">=1\")))","v":""},{"$f":"IF($Z$2=\"pok\",\"\",IF(A117=\"\",\"\",COUNTIFS(SYNTHESE!$D:$D,A117,SYNTHESE!$E:$E,$T$1,SYNTHESE!$F:$F,\">=1\")))","v":""},{"$f":"IF($Z$2=\"pok\",\"\",IF(A117=\"\",\"\",COUNTIFS(SYNTHESE!$D:$D,A117,SYNTHESE!$E:$E,$U$1,SYNTHESE!$F:$F,\">=1\")))","v":""},{"$f":"IF($Z$2=\"pok\",\"\",IF(A117=\"\",\"\",COUNTIFS(SYNTHESE!$D:$D,A117,SYNTHESE!$E:$E,$V$1,SYNTHESE!$F:$F,\">=1\")))","v":""},{"$f":"IF($Z$2=\"pok\",\"\",IF(A117=\"\",\"\",COUNTIFS(SYNTHESE!$D:$D,A117,SYNTHESE!$E:$E,$W$1,SYNTHESE!$F:$F,\">=1\")))","v":""},{"$f":"IF($Z$2=\"pok\",\"\",IF(A117=\"\",\"\",COUNTIFS(SYNTHESE!$D:$D,A117,SYNTHESE!$E:$E,$X$1,SYNTHESE!$F:$F,\">=1\")))","v":""},{"$f":"IF($Z$2=\"pok\",\"\",IF(A117=\"\",\"\",COUNTIFS(SYNTHESE!$D:$D,A117,SYNTHESE!$E:$E,$Y$1,SYNTHESE!$F:$F,\">=1\")))","v":""},0]
[{"$f":"IF(ETUDIANTS!A118=\"\",\"\",ETUDIANTS!A118)","v":""},{"$f":"IF($Z$2=\"pok\",\"\",IF(A118=\"\",\"\",COUNTIFS(SYNTHESE!$D:$D,A118,SYNTHESE!$E:$E,$B$1,SYNTHESE!$F:$F,\">=1\")))","v":""},{"$f":"IF($Z$2=\"pok\",\"\",IF(A118=\"\",\"\",COUNTIFS(SYNTHESE!$D:$D,A118,SYNTHESE!$E:$E,$C$1,SYNTHESE!$F:$F,\">=1\")))","v":""},{"$f":"IF($Z$2=\"pok\",\"\",IF(A118=\"\",\"\",COUNTIFS(SYNTHESE!$D:$D,A118,SYNTHESE!$E:$E,$D$1,SYNTHESE!$F:$F,\">=1\")))","v":""},{"$f":"IF($Z$2=\"pok\",\"\",IF(A118=\"\",\"\",COUNTIFS(SYNTHESE!$D:$D,A118,SYNTHESE!$E:$E,$E$1,SYNTHESE!$F:$F,\">=1\")))","v":""},{"$f":"IF($Z$2=\"pok\",\"\",IF(A118=\"\",\"\",COUNTIFS(SYNTHESE!$D:$D,A118,SYNTHESE!$E:$E,$F$1,SYNTHESE!$F:$F,\">=1\")))","v":""},{"$f":"IF($Z$2=\"pok\",\"\",IF(A118=\"\",\"\",COUNTIFS(SYNTHESE!$D:$D,A118,SYNTHESE!$E:$E,$G$1,SYNTHESE!$F:$F,\">=1\")))","v":""},{"$f":"IF($Z$2=\"pok\",\"\",IF(A118=\"\",\"\",COUNTIFS(SYNTHESE!$D:$D,A118,SYNTHESE!$E:$E,$H$1,SYNTHESE!$F:$F,\">=1\")))","v":""},{"$f":"IF($Z$2=\"pok\",\"\",IF(A118=\"\",\"\",COUNTIFS(SYNTHESE!$D:$D,A118,SYNTHESE!$E:$E,$I$1,SYNTHESE!$F:$F,\">=1\")))","v":""},{"$f":"IF($Z$2=\"pok\",\"\",IF(A118=\"\",\"\",COUNTIFS(SYNTHESE!$D:$D,A118,SYNTHESE!$E:$E,$J$1,SYNTHESE!$F:$F,\">=1\")))","v":""},{"$f":"IF($Z$2=\"pok\",\"\",IF(A118=\"\",\"\",COUNTIFS(SYNTHESE!$D:$D,A118,SYNTHESE!$E:$E,$K$1,SYNTHESE!$F:$F,\">=1\")))","v":""},{"$f":"IF($Z$2=\"pok\",\"\",IF(A118=\"\",\"\",COUNTIFS(SYNTHESE!$D:$D,A118,SYNTHESE!$E:$E,$L$1,SYNTHESE!$F:$F,\">=1\")))","v":""},{"$f":"IF($Z$2=\"pok\",\"\",IF(A118=\"\",\"\",COUNTIFS(SYNTHESE!$D:$D,A118,SYNTHESE!$E:$E,$M$1,SYNTHESE!$F:$F,\">=1\")))","v":""},{"$f":"IF($Z$2=\"pok\",\"\",IF(A118=\"\",\"\",COUNTIFS(SYNTHESE!$D:$D,A118,SYNTHESE!$E:$E,$N$1,SYNTHESE!$F:$F,\">=1\")))","v":""},{"$f":"IF($Z$2=\"pok\",\"\",IF(A118=\"\",\"\",COUNTIFS(SYNTHESE!$D:$D,A118,SYNTHESE!$E:$E,$O$1,SYNTHESE!$F:$F,\">=1\")))","v":""},{"$f":"IF($Z$2=\"pok\",\"\",IF(A118=\"\",\"\",COUNTIFS(SYNTHESE!$D:$D,A118,SYNTHESE!$E:$E,$P$1,SYNTHESE!$F:$F,\">=1\")))","v":""},{"$f":"IF($Z$2=\"pok\",\"\",IF(A118=\"\",\"\",COUNTIFS(SYNTHESE!$D:$D,A118,SYNTHESE!$E:$E,$Q$1,SYNTHESE!$F:$F,\">=1\")))","v":""},{"$f":"IF($Z$2=\"pok\",\"\",IF(A118=\"\",\"\",COUNTIFS(SYNTHESE!$D:$D,A118,SYNTHESE!$E:$E,$R$1,SYNTHESE!$F:$F,\">=1\")))","v":""},{"$f":"IF($Z$2=\"pok\",\"\",IF(A118=\"\",\"\",COUNTIFS(SYNTHESE!$D:$D,A118,SYNTHESE!$E:$E,$S$1,SYNTHESE!$F:$F,\">=1\")))","v":""},{"$f":"IF($Z$2=\"pok\",\"\",IF(A118=\"\",\"\",COUNTIFS(SYNTHESE!$D:$D,A118,SYNTHESE!$E:$E,$T$1,SYNTHESE!$F:$F,\">=1\")))","v":""},{"$f":"IF($Z$2=\"pok\",\"\",IF(A118=\"\",\"\",COUNTIFS(SYNTHESE!$D:$D,A118,SYNTHESE!$E:$E,$U$1,SYNTHESE!$F:$F,\">=1\")))","v":""},{"$f":"IF($Z$2=\"pok\",\"\",IF(A118=\"\",\"\",COUNTIFS(SYNTHESE!$D:$D,A118,SYNTHESE!$E:$E,$V$1,SYNTHESE!$F:$F,\">=1\")))","v":""},{"$f":"IF($Z$2=\"pok\",\"\",IF(A118=\"\",\"\",COUNTIFS(SYNTHESE!$D:$D,A118,SYNTHESE!$E:$E,$W$1,SYNTHESE!$F:$F,\">=1\")))","v":""},{"$f":"IF($Z$2=\"pok\",\"\",IF(A118=\"\",\"\",COUNTIFS(SYNTHESE!$D:$D,A118,SYNTHESE!$E:$E,$X$1,SYNTHESE!$F:$F,\">=1\")))","v":""},{"$f":"IF($Z$2=\"pok\",\"\",IF(A118=\"\",\"\",COUNTIFS(SYNTHESE!$D:$D,A118,SYNTHESE!$E:$E,$Y$1,SYNTHESE!$F:$F,\">=1\")))","v":""},0]
[{"$f":"IF(ETUDIANTS!A119=\"\",\"\",ETUDIANTS!A119)","v":""},{"$f":"IF($Z$2=\"pok\",\"\",IF(A119=\"\",\"\",COUNTIFS(SYNTHESE!$D:$D,A119,SYNTHESE!$E:$E,$B$1,SYNTHESE!$F:$F,\">=1\")))","v":""},{"$f":"IF($Z$2=\"pok\",\"\",IF(A119=\"\",\"\",COUNTIFS(SYNTHESE!$D:$D,A119,SYNTHESE!$E:$E,$C$1,SYNTHESE!$F:$F,\">=1\")))","v":""},{"$f":"IF($Z$2=\"pok\",\"\",IF(A119=\"\",\"\",COUNTIFS(SYNTHESE!$D:$D,A119,SYNTHESE!$E:$E,$D$1,SYNTHESE!$F:$F,\">=1\")))","v":""},{"$f":"IF($Z$2=\"pok\",\"\",IF(A119=\"\",\"\",COUNTIFS(SYNTHESE!$D:$D,A119,SYNTHESE!$E:$E,$E$1,SYNTHESE!$F:$F,\">=1\")))","v":""},{"$f":"IF($Z$2=\"pok\",\"\",IF(A119=\"\",\"\",COUNTIFS(SYNTHESE!$D:$D,A119,SYNTHESE!$E:$E,$F$1,SYNTHESE!$F:$F,\">=1\")))","v":""},{"$f":"IF($Z$2=\"pok\",\"\",IF(A119=\"\",\"\",COUNTIFS(SYNTHESE!$D:$D,A119,SYNTHESE!$E:$E,$G$1,SYNTHESE!$F:$F,\">=1\")))","v":""},{"$f":"IF($Z$2=\"pok\",\"\",IF(A119=\"\",\"\",COUNTIFS(SYNTHESE!$D:$D,A119,SYNTHESE!$E:$E,$H$1,SYNTHESE!$F:$F,\">=1\")))","v":""},{"$f":"IF($Z$2=\"pok\",\"\",IF(A119=\"\",\"\",COUNTIFS(SYNTHESE!$D:$D,A119,SYNTHESE!$E:$E,$I$1,SYNTHESE!$F:$F,\">=1\")))","v":""},{"$f":"IF($Z$2=\"pok\",\"\",IF(A119=\"\",\"\",COUNTIFS(SYNTHESE!$D:$D,A119,SYNTHESE!$E:$E,$J$1,SYNTHESE!$F:$F,\">=1\")))","v":""},{"$f":"IF($Z$2=\"pok\",\"\",IF(A119=\"\",\"\",COUNTIFS(SYNTHESE!$D:$D,A119,SYNTHESE!$E:$E,$K$1,SYNTHESE!$F:$F,\">=1\")))","v":""},{"$f":"IF($Z$2=\"pok\",\"\",IF(A119=\"\",\"\",COUNTIFS(SYNTHESE!$D:$D,A119,SYNTHESE!$E:$E,$L$1,SYNTHESE!$F:$F,\">=1\")))","v":""},{"$f":"IF($Z$2=\"pok\",\"\",IF(A119=\"\",\"\",COUNTIFS(SYNTHESE!$D:$D,A119,SYNTHESE!$E:$E,$M$1,SYNTHESE!$F:$F,\">=1\")))","v":""},{"$f":"IF($Z$2=\"pok\",\"\",IF(A119=\"\",\"\",COUNTIFS(SYNTHESE!$D:$D,A119,SYNTHESE!$E:$E,$N$1,SYNTHESE!$F:$F,\">=1\")))","v":""},{"$f":"IF($Z$2=\"pok\",\"\",IF(A119=\"\",\"\",COUNTIFS(SYNTHESE!$D:$D,A119,SYNTHESE!$E:$E,$O$1,SYNTHESE!$F:$F,\">=1\")))","v":""},{"$f":"IF($Z$2=\"pok\",\"\",IF(A119=\"\",\"\",COUNTIFS(SYNTHESE!$D:$D,A119,SYNTHESE!$E:$E,$P$1,SYNTHESE!$F:$F,\">=1\")))","v":""},{"$f":"IF($Z$2=\"pok\",\"\",IF(A119=\"\",\"\",COUNTIFS(SYNTHESE!$D:$D,A119,SYNTHESE!$E:$E,$Q$1,SYNTHESE!$F:$F,\">=1\")))","v":""},{"$f":"IF($Z$2=\"pok\",\"\",IF(A119=\"\",\"\",COUNTIFS(SYNTHESE!$D:$D,A119,SYNTHESE!$E:$E,$R$1,SYNTHESE!$F:$F,\">=1\")))","v":""},{"$f":"IF($Z$2=\"pok\",\"\",IF(A119=\"\",\"\",COUNTIFS(SYNTHESE!$D:$D,A119,SYNTHESE!$E:$E,$S$1,SYNTHESE!$F:$F,\">=1\")))","v":""},{"$f":"IF($Z$2=\"pok\",\"\",IF(A119=\"\",\"\",COUNTIFS(SYNTHESE!$D:$D,A119,SYNTHESE!$E:$E,$T$1,SYNTHESE!$F:$F,\">=1\")))","v":""},{"$f":"IF($Z$2=\"pok\",\"\",IF(A119=\"\",\"\",COUNTIFS(SYNTHESE!$D:$D,A119,SYNTHESE!$E:$E,$U$1,SYNTHESE!$F:$F,\">=1\")))","v":""},{"$f":"IF($Z$2=\"pok\",\"\",IF(A119=\"\",\"\",COUNTIFS(SYNTHESE!$D:$D,A119,SYNTHESE!$E:$E,$V$1,SYNTHESE!$F:$F,\">=1\")))","v":""},{"$f":"IF($Z$2=\"pok\",\"\",IF(A119=\"\",\"\",COUNTIFS(SYNTHESE!$D:$D,A119,SYNTHESE!$E:$E,$W$1,SYNTHESE!$F:$F,\">=1\")))","v":""},{"$f":"IF($Z$2=\"pok\",\"\",IF(A119=\"\",\"\",COUNTIFS(SYNTHESE!$D:$D,A119,SYNTHESE!$E:$E,$X$1,SYNTHESE!$F:$F,\">=1\")))","v":""},{"$f":"IF($Z$2=\"pok\",\"\",IF(A119=\"\",\"\",COUNTIFS(SYNTHESE!$D:$D,A119,SYNTHESE!$E:$E,$Y$1,SYNTHESE!$F:$F,\">=1\")))","v":""},0]
[{"$f":"IF(ETUDIANTS!A120=\"\",\"\",ETUDIANTS!A120)","v":""},{"$f":"IF($Z$2=\"pok\",\"\",IF(A120=\"\",\"\",COUNTIFS(SYNTHESE!$D:$D,A120,SYNTHESE!$E:$E,$B$1,SYNTHESE!$F:$F,\">=1\")))","v":""},{"$f":"IF($Z$2=\"pok\",\"\",IF(A120=\"\",\"\",COUNTIFS(SYNTHESE!$D:$D,A120,SYNTHESE!$E:$E,$C$1,SYNTHESE!$F:$F,\">=1\")))","v":""},{"$f":"IF($Z$2=\"pok\",\"\",IF(A120=\"\",\"\",COUNTIFS(SYNTHESE!$D:$D,A120,SYNTHESE!$E:$E,$D$1,SYNTHESE!$F:$F,\">=1\")))","v":""},{"$f":"IF($Z$2=\"pok\",\"\",IF(A120=\"\",\"\",COUNTIFS(SYNTHESE!$D:$D,A120,SYNTHESE!$E:$E,$E$1,SYNTHESE!$F:$F,\">=1\")))","v":""},{"$f":"IF($Z$2=\"pok\",\"\",IF(A120=\"\",\"\",COUNTIFS(SYNTHESE!$D:$D,A120,SYNTHESE!$E:$E,$F$1,SYNTHESE!$F:$F,\">=1\")))","v":""},{"$f":"IF($Z$2=\"pok\",\"\",IF(A120=\"\",\"\",COUNTIFS(SYNTHESE!$D:$D,A120,SYNTHESE!$E:$E,$G$1,SYNTHESE!$F:$F,\">=1\")))","v":""},{"$f":"IF($Z$2=\"pok\",\"\",IF(A120=\"\",\"\",COUNTIFS(SYNTHESE!$D:$D,A120,SYNTHESE!$E:$E,$H$1,SYNTHESE!$F:$F,\">=1\")))","v":""},{"$f":"IF($Z$2=\"pok\",\"\",IF(A120=\"\",\"\",COUNTIFS(SYNTHESE!$D:$D,A120,SYNTHESE!$E:$E,$I$1,SYNTHESE!$F:$F,\">=1\")))","v":""},{"$f":"IF($Z$2=\"pok\",\"\",IF(A120=\"\",\"\",COUNTIFS(SYNTHESE!$D:$D,A120,SYNTHESE!$E:$E,$J$1,SYNTHESE!$F:$F,\">=1\")))","v":""},{"$f":"IF($Z$2=\"pok\",\"\",IF(A120=\"\",\"\",COUNTIFS(SYNTHESE!$D:$D,A120,SYNTHESE!$E:$E,$K$1,SYNTHESE!$F:$F,\">=1\")))","v":""},{"$f":"IF($Z$2=\"pok\",\"\",IF(A120=\"\",\"\",COUNTIFS(SYNTHESE!$D:$D,A120,SYNTHESE!$E:$E,$L$1,SYNTHESE!$F:$F,\">=1\")))","v":""},{"$f":"IF($Z$2=\"pok\",\"\",IF(A120=\"\",\"\",COUNTIFS(SYNTHESE!$D:$D,A120,SYNTHESE!$E:$E,$M$1,SYNTHESE!$F:$F,\">=1\")))","v":""},{"$f":"IF($Z$2=\"pok\",\"\",IF(A120=\"\",\"\",COUNTIFS(SYNTHESE!$D:$D,A120,SYNTHESE!$E:$E,$N$1,SYNTHESE!$F:$F,\">=1\")))","v":""},{"$f":"IF($Z$2=\"pok\",\"\",IF(A120=\"\",\"\",COUNTIFS(SYNTHESE!$D:$D,A120,SYNTHESE!$E:$E,$O$1,SYNTHESE!$F:$F,\">=1\")))","v":""},{"$f":"IF($Z$2=\"pok\",\"\",IF(A120=\"\",\"\",COUNTIFS(SYNTHESE!$D:$D,A120,SYNTHESE!$E:$E,$P$1,SYNTHESE!$F:$F,\">=1\")))","v":""},{"$f":"IF($Z$2=\"pok\",\"\",IF(A120=\"\",\"\",COUNTIFS(SYNTHESE!$D:$D,A120,SYNTHESE!$E:$E,$Q$1,SYNTHESE!$F:$F,\">=1\")))","v":""},{"$f":"IF($Z$2=\"pok\",\"\",IF(A120=\"\",\"\",COUNTIFS(SYNTHESE!$D:$D,A120,SYNTHESE!$E:$E,$R$1,SYNTHESE!$F:$F,\">=1\")))","v":""},{"$f":"IF($Z$2=\"pok\",\"\",IF(A120=\"\",\"\",COUNTIFS(SYNTHESE!$D:$D,A120,SYNTHESE!$E:$E,$S$1,SYNTHESE!$F:$F,\">=1\")))","v":""},{"$f":"IF($Z$2=\"pok\",\"\",IF(A120=\"\",\"\",COUNTIFS(SYNTHESE!$D:$D,A120,SYNTHESE!$E:$E,$T$1,SYNTHESE!$F:$F,\">=1\")))","v":""},{"$f":"IF($Z$2=\"pok\",\"\",IF(A120=\"\",\"\",COUNTIFS(SYNTHESE!$D:$D,A120,SYNTHESE!$E:$E,$U$1,SYNTHESE!$F:$F,\">=1\")))","v":""},{"$f":"IF($Z$2=\"pok\",\"\",IF(A120=\"\",\"\",COUNTIFS(SYNTHESE!$D:$D,A120,SYNTHESE!$E:$E,$V$1,SYNTHESE!$F:$F,\">=1\")))","v":""},{"$f":"IF($Z$2=\"pok\",\"\",IF(A120=\"\",\"\",COUNTIFS(SYNTHESE!$D:$D,A120,SYNTHESE!$E:$E,$W$1,SYNTHESE!$F:$F,\">=1\")))","v":""},{"$f":"IF($Z$2=\"pok\",\"\",IF(A120=\"\",\"\",COUNTIFS(SYNTHESE!$D:$D,A120,SYNTHESE!$E:$E,$X$1,SYNTHESE!$F:$F,\">=1\")))","v":""},{"$f":"IF($Z$2=\"pok\",\"\",IF(A120=\"\",\"\",COUNTIFS(SYNTHESE!$D:$D,A120,SYNTHESE!$E:$E,$Y$1,SYNTHESE!$F:$F,\">=1\")))","v":""},0]
[{"$f":"IF(ETUDIANTS!A121=\"\",\"\",ETUDIANTS!A121)","v":""},{"$f":"IF($Z$2=\"pok\",\"\",IF(A121=\"\",\"\",COUNTIFS(SYNTHESE!$D:$D,A121,SYNTHESE!$E:$E,$B$1,SYNTHESE!$F:$F,\">=1\")))","v":""},{"$f":"IF($Z$2=\"pok\",\"\",IF(A121=\"\",\"\",COUNTIFS(SYNTHESE!$D:$D,A121,SYNTHESE!$E:$E,$C$1,SYNTHESE!$F:$F,\">=1\")))","v":""},{"$f":"IF($Z$2=\"pok\",\"\",IF(A121=\"\",\"\",COUNTIFS(SYNTHESE!$D:$D,A121,SYNTHESE!$E:$E,$D$1,SYNTHESE!$F:$F,\">=1\")))","v":""},{"$f":"IF($Z$2=\"pok\",\"\",IF(A121=\"\",\"\",COUNTIFS(SYNTHESE!$D:$D,A121,SYNTHESE!$E:$E,$E$1,SYNTHESE!$F:$F,\">=1\")))","v":""},{"$f":"IF($Z$2=\"pok\",\"\",IF(A121=\"\",\"\",COUNTIFS(SYNTHESE!$D:$D,A121,SYNTHESE!$E:$E,$F$1,SYNTHESE!$F:$F,\">=1\")))","v":""},{"$f":"IF($Z$2=\"pok\",\"\",IF(A121=\"\",\"\",COUNTIFS(SYNTHESE!$D:$D,A121,SYNTHESE!$E:$E,$G$1,SYNTHESE!$F:$F,\">=1\")))","v":""},{"$f":"IF($Z$2=\"pok\",\"\",IF(A121=\"\",\"\",COUNTIFS(SYNTHESE!$D:$D,A121,SYNTHESE!$E:$E,$H$1,SYNTHESE!$F:$F,\">=1\")))","v":""},{"$f":"IF($Z$2=\"pok\",\"\",IF(A121=\"\",\"\",COUNTIFS(SYNTHESE!$D:$D,A121,SYNTHESE!$E:$E,$I$1,SYNTHESE!$F:$F,\">=1\")))","v":""},{"$f":"IF($Z$2=\"pok\",\"\",IF(A121=\"\",\"\",COUNTIFS(SYNTHESE!$D:$D,A121,SYNTHESE!$E:$E,$J$1,SYNTHESE!$F:$F,\">=1\")))","v":""},{"$f":"IF($Z$2=\"pok\",\"\",IF(A121=\"\",\"\",COUNTIFS(SYNTHESE!$D:$D,A121,SYNTHESE!$E:$E,$K$1,SYNTHESE!$F:$F,\">=1\")))","v":""},{"$f":"IF($Z$2=\"pok\",\"\",IF(A121=\"\",\"\",COUNTIFS(SYNTHESE!$D:$D,A121,SYNTHESE!$E:$E,$L$1,SYNTHESE!$F:$F,\">=1\")))","v":""},{"$f":"IF($Z$2=\"pok\",\"\",IF(A121=\"\",\"\",COUNTIFS(SYNTHESE!$D:$D,A121,SYNTHESE!$E:$E,$M$1,SYNTHESE!$F:$F,\">=1\")))","v":""},{"$f":"IF($Z$2=\"pok\",\"\",IF(A121=\"\",\"\",COUNTIFS(SYNTHESE!$D:$D,A121,SYNTHESE!$E:$E,$N$1,SYNTHESE!$F:$F,\">=1\")))","v":""},{"$f":"IF($Z$2=\"pok\",\"\",IF(A121=\"\",\"\",COUNTIFS(SYNTHESE!$D:$D,A121,SYNTHESE!$E:$E,$O$1,SYNTHESE!$F:$F,\">=1\")))","v":""},{"$f":"IF($Z$2=\"pok\",\"\",IF(A121=\"\",\"\",COUNTIFS(SYNTHESE!$D:$D,A121,SYNTHESE!$E:$E,$P$1,SYNTHESE!$F:$F,\">=1\")))","v":""},{"$f":"IF($Z$2=\"pok\",\"\",IF(A121=\"\",\"\",COUNTIFS(SYNTHESE!$D:$D,A121,SYNTHESE!$E:$E,$Q$1,SYNTHESE!$F:$F,\">=1\")))","v":""},{"$f":"IF($Z$2=\"pok\",\"\",IF(A121=\"\",\"\",COUNTIFS(SYNTHESE!$D:$D,A121,SYNTHESE!$E:$E,$R$1,SYNTHESE!$F:$F,\">=1\")))","v":""},{"$f":"IF($Z$2=\"pok\",\"\",IF(A121=\"\",\"\",COUNTIFS(SYNTHESE!$D:$D,A121,SYNTHESE!$E:$E,$S$1,SYNTHESE!$F:$F,\">=1\")))","v":""},{"$f":"IF($Z$2=\"pok\",\"\",IF(A121=\"\",\"\",COUNTIFS(SYNTHESE!$D:$D,A121,SYNTHESE!$E:$E,$T$1,SYNTHESE!$F:$F,\">=1\")))","v":""},{"$f":"IF($Z$2=\"pok\",\"\",IF(A121=\"\",\"\",COUNTIFS(SYNTHESE!$D:$D,A121,SYNTHESE!$E:$E,$U$1,SYNTHESE!$F:$F,\">=1\")))","v":""},{"$f":"IF($Z$2=\"pok\",\"\",IF(A121=\"\",\"\",COUNTIFS(SYNTHESE!$D:$D,A121,SYNTHESE!$E:$E,$V$1,SYNTHESE!$F:$F,\">=1\")))","v":""},{"$f":"IF($Z$2=\"pok\",\"\",IF(A121=\"\",\"\",COUNTIFS(SYNTHESE!$D:$D,A121,SYNTHESE!$E:$E,$W$1,SYNTHESE!$F:$F,\">=1\")))","v":""},{"$f":"IF($Z$2=\"pok\",\"\",IF(A121=\"\",\"\",COUNTIFS(SYNTHESE!$D:$D,A121,SYNTHESE!$E:$E,$X$1,SYNTHESE!$F:$F,\">=1\")))","v":""},{"$f":"IF($Z$2=\"pok\",\"\",IF(A121=\"\",\"\",COUNTIFS(SYNTHESE!$D:$D,A121,SYNTHESE!$E:$E,$Y$1,SYNTHESE!$F:$F,\">=1\")))","v":""},0]
[{"$f":"IF(ETUDIANTS!A122=\"\",\"\",ETUDIANTS!A122)","v":""},{"$f":"IF($Z$2=\"pok\",\"\",IF(A122=\"\",\"\",COUNTIFS(SYNTHESE!$D:$D,A122,SYNTHESE!$E:$E,$B$1,SYNTHESE!$F:$F,\">=1\")))","v":""},{"$f":"IF($Z$2=\"pok\",\"\",IF(A122=\"\",\"\",COUNTIFS(SYNTHESE!$D:$D,A122,SYNTHESE!$E:$E,$C$1,SYNTHESE!$F:$F,\">=1\")))","v":""},{"$f":"IF($Z$2=\"pok\",\"\",IF(A122=\"\",\"\",COUNTIFS(SYNTHESE!$D:$D,A122,SYNTHESE!$E:$E,$D$1,SYNTHESE!$F:$F,\">=1\")))","v":""},{"$f":"IF($Z$2=\"pok\",\"\",IF(A122=\"\",\"\",COUNTIFS(SYNTHESE!$D:$D,A122,SYNTHESE!$E:$E,$E$1,SYNTHESE!$F:$F,\">=1\")))","v":""},{"$f":"IF($Z$2=\"pok\",\"\",IF(A122=\"\",\"\",COUNTIFS(SYNTHESE!$D:$D,A122,SYNTHESE!$E:$E,$F$1,SYNTHESE!$F:$F,\">=1\")))","v":""},{"$f":"IF($Z$2=\"pok\",\"\",IF(A122=\"\",\"\",COUNTIFS(SYNTHESE!$D:$D,A122,SYNTHESE!$E:$E,$G$1,SYNTHESE!$F:$F,\">=1\")))","v":""},{"$f":"IF($Z$2=\"pok\",\"\",IF(A122=\"\",\"\",COUNTIFS(SYNTHESE!$D:$D,A122,SYNTHESE!$E:$E,$H$1,SYNTHESE!$F:$F,\">=1\")))","v":""},{"$f":"IF($Z$2=\"pok\",\"\",IF(A122=\"\",\"\",COUNTIFS(SYNTHESE!$D:$D,A122,SYNTHESE!$E:$E,$I$1,SYNTHESE!$F:$F,\">=1\")))","v":""},{"$f":"IF($Z$2=\"pok\",\"\",IF(A122=\"\",\"\",COUNTIFS(SYNTHESE!$D:$D,A122,SYNTHESE!$E:$E,$J$1,SYNTHESE!$F:$F,\">=1\")))","v":""},{"$f":"IF($Z$2=\"pok\",\"\",IF(A122=\"\",\"\",COUNTIFS(SYNTHESE!$D:$D,A122,SYNTHESE!$E:$E,$K$1,SYNTHESE!$F:$F,\">=1\")))","v":""},{"$f":"IF($Z$2=\"pok\",\"\",IF(A122=\"\",\"\",COUNTIFS(SYNTHESE!$D:$D,A122,SYNTHESE!$E:$E,$L$1,SYNTHESE!$F:$F,\">=1\")))","v":""},{"$f":"IF($Z$2=\"pok\",\"\",IF(A122=\"\",\"\",COUNTIFS(SYNTHESE!$D:$D,A122,SYNTHESE!$E:$E,$M$1,SYNTHESE!$F:$F,\">=1\")))","v":""},{"$f":"IF($Z$2=\"pok\",\"\",IF(A122=\"\",\"\",COUNTIFS(SYNTHESE!$D:$D,A122,SYNTHESE!$E:$E,$N$1,SYNTHESE!$F:$F,\">=1\")))","v":""},{"$f":"IF($Z$2=\"pok\",\"\",IF(A122=\"\",\"\",COUNTIFS(SYNTHESE!$D:$D,A122,SYNTHESE!$E:$E,$O$1,SYNTHESE!$F:$F,\">=1\")))","v":""},{"$f":"IF($Z$2=\"pok\",\"\",IF(A122=\"\",\"\",COUNTIFS(SYNTHESE!$D:$D,A122,SYNTHESE!$E:$E,$P$1,SYNTHESE!$F:$F,\">=1\")))","v":""},{"$f":"IF($Z$2=\"pok\",\"\",IF(A122=\"\",\"\",COUNTIFS(SYNTHESE!$D:$D,A122,SYNTHESE!$E:$E,$Q$1,SYNTHESE!$F:$F,\">=1\")))","v":""},{"$f":"IF($Z$2=\"pok\",\"\",IF(A122=\"\",\"\",COUNTIFS(SYNTHESE!$D:$D,A122,SYNTHESE!$E:$E,$R$1,SYNTHESE!$F:$F,\">=1\")))","v":""},{"$f":"IF($Z$2=\"pok\",\"\",IF(A122=\"\",\"\",COUNTIFS(SYNTHESE!$D:$D,A122,SYNTHESE!$E:$E,$S$1,SYNTHESE!$F:$F,\">=1\")))","v":""},{"$f":"IF($Z$2=\"pok\",\"\",IF(A122=\"\",\"\",COUNTIFS(SYNTHESE!$D:$D,A122,SYNTHESE!$E:$E,$T$1,SYNTHESE!$F:$F,\">=1\")))","v":""},{"$f":"IF($Z$2=\"pok\",\"\",IF(A122=\"\",\"\",COUNTIFS(SYNTHESE!$D:$D,A122,SYNTHESE!$E:$E,$U$1,SYNTHESE!$F:$F,\">=1\")))","v":""},{"$f":"IF($Z$2=\"pok\",\"\",IF(A122=\"\",\"\",COUNTIFS(SYNTHESE!$D:$D,A122,SYNTHESE!$E:$E,$V$1,SYNTHESE!$F:$F,\">=1\")))","v":""},{"$f":"IF($Z$2=\"pok\",\"\",IF(A122=\"\",\"\",COUNTIFS(SYNTHESE!$D:$D,A122,SYNTHESE!$E:$E,$W$1,SYNTHESE!$F:$F,\">=1\")))","v":""},{"$f":"IF($Z$2=\"pok\",\"\",IF(A122=\"\",\"\",COUNTIFS(SYNTHESE!$D:$D,A122,SYNTHESE!$E:$E,$X$1,SYNTHESE!$F:$F,\">=1\")))","v":""},{"$f":"IF($Z$2=\"pok\",\"\",IF(A122=\"\",\"\",COUNTIFS(SYNTHESE!$D:$D,A122,SYNTHESE!$E:$E,$Y$1,SYNTHESE!$F:$F,\">=1\")))","v":""},0]
[{"$f":"IF(ETUDIANTS!A123=\"\",\"\",ETUDIANTS!A123)","v":""},{"$f":"IF($Z$2=\"pok\",\"\",IF(A123=\"\",\"\",COUNTIFS(SYNTHESE!$D:$D,A123,SYNTHESE!$E:$E,$B$1,SYNTHESE!$F:$F,\">=1\")))","v":""},{"$f":"IF($Z$2=\"pok\",\"\",IF(A123=\"\",\"\",COUNTIFS(SYNTHESE!$D:$D,A123,SYNTHESE!$E:$E,$C$1,SYNTHESE!$F:$F,\">=1\")))","v":""},{"$f":"IF($Z$2=\"pok\",\"\",IF(A123=\"\",\"\",COUNTIFS(SYNTHESE!$D:$D,A123,SYNTHESE!$E:$E,$D$1,SYNTHESE!$F:$F,\">=1\")))","v":""},{"$f":"IF($Z$2=\"pok\",\"\",IF(A123=\"\",\"\",COUNTIFS(SYNTHESE!$D:$D,A123,SYNTHESE!$E:$E,$E$1,SYNTHESE!$F:$F,\">=1\")))","v":""},{"$f":"IF($Z$2=\"pok\",\"\",IF(A123=\"\",\"\",COUNTIFS(SYNTHESE!$D:$D,A123,SYNTHESE!$E:$E,$F$1,SYNTHESE!$F:$F,\">=1\")))","v":""},{"$f":"IF($Z$2=\"pok\",\"\",IF(A123=\"\",\"\",COUNTIFS(SYNTHESE!$D:$D,A123,SYNTHESE!$E:$E,$G$1,SYNTHESE!$F:$F,\">=1\")))","v":""},{"$f":"IF($Z$2=\"pok\",\"\",IF(A123=\"\",\"\",COUNTIFS(SYNTHESE!$D:$D,A123,SYNTHESE!$E:$E,$H$1,SYNTHESE!$F:$F,\">=1\")))","v":""},{"$f":"IF($Z$2=\"pok\",\"\",IF(A123=\"\",\"\",COUNTIFS(SYNTHESE!$D:$D,A123,SYNTHESE!$E:$E,$I$1,SYNTHESE!$F:$F,\">=1\")))","v":""},{"$f":"IF($Z$2=\"pok\",\"\",IF(A123=\"\",\"\",COUNTIFS(SYNTHESE!$D:$D,A123,SYNTHESE!$E:$E,$J$1,SYNTHESE!$F:$F,\">=1\")))","v":""},{"$f":"IF($Z$2=\"pok\",\"\",IF(A123=\"\",\"\",COUNTIFS(SYNTHESE!$D:$D,A123,SYNTHESE!$E:$E,$K$1,SYNTHESE!$F:$F,\">=1\")))","v":""},{"$f":"IF($Z$2=\"pok\",\"\",IF(A123=\"\",\"\",COUNTIFS(SYNTHESE!$D:$D,A123,SYNTHESE!$E:$E,$L$1,SYNTHESE!$F:$F,\">=1\")))","v":""},{"$f":"IF($Z$2=\"pok\",\"\",IF(A123=\"\",\"\",COUNTIFS(SYNTHESE!$D:$D,A123,SYNTHESE!$E:$E,$M$1,SYNTHESE!$F:$F,\">=1\")))","v":""},{"$f":"IF($Z$2=\"pok\",\"\",IF(A123=\"\",\"\",COUNTIFS(SYNTHESE!$D:$D,A123,SYNTHESE!$E:$E,$N$1,SYNTHESE!$F:$F,\">=1\")))","v":""},{"$f":"IF($Z$2=\"pok\",\"\",IF(A123=\"\",\"\",COUNTIFS(SYNTHESE!$D:$D,A123,SYNTHESE!$E:$E,$O$1,SYNTHESE!$F:$F,\">=1\")))","v":""},{"$f":"IF($Z$2=\"pok\",\"\",IF(A123=\"\",\"\",COUNTIFS(SYNTHESE!$D:$D,A123,SYNTHESE!$E:$E,$P$1,SYNTHESE!$F:$F,\">=1\")))","v":""},{"$f":"IF($Z$2=\"pok\",\"\",IF(A123=\"\",\"\",COUNTIFS(SYNTHESE!$D:$D,A123,SYNTHESE!$E:$E,$Q$1,SYNTHESE!$F:$F,\">=1\")))","v":""},{"$f":"IF($Z$2=\"pok\",\"\",IF(A123=\"\",\"\",COUNTIFS(SYNTHESE!$D:$D,A123,SYNTHESE!$E:$E,$R$1,SYNTHESE!$F:$F,\">=1\")))","v":""},{"$f":"IF($Z$2=\"pok\",\"\",IF(A123=\"\",\"\",COUNTIFS(SYNTHESE!$D:$D,A123,SYNTHESE!$E:$E,$S$1,SYNTHESE!$F:$F,\">=1\")))","v":""},{"$f":"IF($Z$2=\"pok\",\"\",IF(A123=\"\",\"\",COUNTIFS(SYNTHESE!$D:$D,A123,SYNTHESE!$E:$E,$T$1,SYNTHESE!$F:$F,\">=1\")))","v":""},{"$f":"IF($Z$2=\"pok\",\"\",IF(A123=\"\",\"\",COUNTIFS(SYNTHESE!$D:$D,A123,SYNTHESE!$E:$E,$U$1,SYNTHESE!$F:$F,\">=1\")))","v":""},{"$f":"IF($Z$2=\"pok\",\"\",IF(A123=\"\",\"\",COUNTIFS(SYNTHESE!$D:$D,A123,SYNTHESE!$E:$E,$V$1,SYNTHESE!$F:$F,\">=1\")))","v":""},{"$f":"IF($Z$2=\"pok\",\"\",IF(A123=\"\",\"\",COUNTIFS(SYNTHESE!$D:$D,A123,SYNTHESE!$E:$E,$W$1,SYNTHESE!$F:$F,\">=1\")))","v":""},{"$f":"IF($Z$2=\"pok\",\"\",IF(A123=\"\",\"\",COUNTIFS(SYNTHESE!$D:$D,A123,SYNTHESE!$E:$E,$X$1,SYNTHESE!$F:$F,\">=1\")))","v":""},{"$f":"IF($Z$2=\"pok\",\"\",IF(A123=\"\",\"\",COUNTIFS(SYNTHESE!$D:$D,A123,SYNTHESE!$E:$E,$Y$1,SYNTHESE!$F:$F,\">=1\")))","v":""},0]
[{"$f":"IF(ETUDIANTS!A124=\"\",\"\",ETUDIANTS!A124)","v":""},{"$f":"IF($Z$2=\"pok\",\"\",IF(A124=\"\",\"\",COUNTIFS(SYNTHESE!$D:$D,A124,SYNTHESE!$E:$E,$B$1,SYNTHESE!$F:$F,\">=1\")))","v":""},{"$f":"IF($Z$2=\"pok\",\"\",IF(A124=\"\",\"\",COUNTIFS(SYNTHESE!$D:$D,A124,SYNTHESE!$E:$E,$C$1,SYNTHESE!$F:$F,\">=1\")))","v":""},{"$f":"IF($Z$2=\"pok\",\"\",IF(A124=\"\",\"\",COUNTIFS(SYNTHESE!$D:$D,A124,SYNTHESE!$E:$E,$D$1,SYNTHESE!$F:$F,\">=1\")))","v":""},{"$f":"IF($Z$2=\"pok\",\"\",IF(A124=\"\",\"\",COUNTIFS(SYNTHESE!$D:$D,A124,SYNTHESE!$E:$E,$E$1,SYNTHESE!$F:$F,\">=1\")))","v":""},{"$f":"IF($Z$2=\"pok\",\"\",IF(A124=\"\",\"\",COUNTIFS(SYNTHESE!$D:$D,A124,SYNTHESE!$E:$E,$F$1,SYNTHESE!$F:$F,\">=1\")))","v":""},{"$f":"IF($Z$2=\"pok\",\"\",IF(A124=\"\",\"\",COUNTIFS(SYNTHESE!$D:$D,A124,SYNTHESE!$E:$E,$G$1,SYNTHESE!$F:$F,\">=1\")))","v":""},{"$f":"IF($Z$2=\"pok\",\"\",IF(A124=\"\",\"\",COUNTIFS(SYNTHESE!$D:$D,A124,SYNTHESE!$E:$E,$H$1,SYNTHESE!$F:$F,\">=1\")))","v":""},{"$f":"IF($Z$2=\"pok\",\"\",IF(A124=\"\",\"\",COUNTIFS(SYNTHESE!$D:$D,A124,SYNTHESE!$E:$E,$I$1,SYNTHESE!$F:$F,\">=1\")))","v":""},{"$f":"IF($Z$2=\"pok\",\"\",IF(A124=\"\",\"\",COUNTIFS(SYNTHESE!$D:$D,A124,SYNTHESE!$E:$E,$J$1,SYNTHESE!$F:$F,\">=1\")))","v":""},{"$f":"IF($Z$2=\"pok\",\"\",IF(A124=\"\",\"\",COUNTIFS(SYNTHESE!$D:$D,A124,SYNTHESE!$E:$E,$K$1,SYNTHESE!$F:$F,\">=1\")))","v":""},{"$f":"IF($Z$2=\"pok\",\"\",IF(A124=\"\",\"\",COUNTIFS(SYNTHESE!$D:$D,A124,SYNTHESE!$E:$E,$L$1,SYNTHESE!$F:$F,\">=1\")))","v":""},{"$f":"IF($Z$2=\"pok\",\"\",IF(A124=\"\",\"\",COUNTIFS(SYNTHESE!$D:$D,A124,SYNTHESE!$E:$E,$M$1,SYNTHESE!$F:$F,\">=1\")))","v":""},{"$f":"IF($Z$2=\"pok\",\"\",IF(A124=\"\",\"\",COUNTIFS(SYNTHESE!$D:$D,A124,SYNTHESE!$E:$E,$N$1,SYNTHESE!$F:$F,\">=1\")))","v":""},{"$f":"IF($Z$2=\"pok\",\"\",IF(A124=\"\",\"\",COUNTIFS(SYNTHESE!$D:$D,A124,SYNTHESE!$E:$E,$O$1,SYNTHESE!$F:$F,\">=1\")))","v":""},{"$f":"IF($Z$2=\"pok\",\"\",IF(A124=\"\",\"\",COUNTIFS(SYNTHESE!$D:$D,A124,SYNTHESE!$E:$E,$P$1,SYNTHESE!$F:$F,\">=1\")))","v":""},{"$f":"IF($Z$2=\"pok\",\"\",IF(A124=\"\",\"\",COUNTIFS(SYNTHESE!$D:$D,A124,SYNTHESE!$E:$E,$Q$1,SYNTHESE!$F:$F,\">=1\")))","v":""},{"$f":"IF($Z$2=\"pok\",\"\",IF(A124=\"\",\"\",COUNTIFS(SYNTHESE!$D:$D,A124,SYNTHESE!$E:$E,$R$1,SYNTHESE!$F:$F,\">=1\")))","v":""},{"$f":"IF($Z$2=\"pok\",\"\",IF(A124=\"\",\"\",COUNTIFS(SYNTHESE!$D:$D,A124,SYNTHESE!$E:$E,$S$1,SYNTHESE!$F:$F,\">=1\")))","v":""},{"$f":"IF($Z$2=\"pok\",\"\",IF(A124=\"\",\"\",COUNTIFS(SYNTHESE!$D:$D,A124,SYNTHESE!$E:$E,$T$1,SYNTHESE!$F:$F,\">=1\")))","v":""},{"$f":"IF($Z$2=\"pok\",\"\",IF(A124=\"\",\"\",COUNTIFS(SYNTHESE!$D:$D,A124,SYNTHESE!$E:$E,$U$1,SYNTHESE!$F:$F,\">=1\")))","v":""},{"$f":"IF($Z$2=\"pok\",\"\",IF(A124=\"\",\"\",COUNTIFS(SYNTHESE!$D:$D,A124,SYNTHESE!$E:$E,$V$1,SYNTHESE!$F:$F,\">=1\")))","v":""},{"$f":"IF($Z$2=\"pok\",\"\",IF(A124=\"\",\"\",COUNTIFS(SYNTHESE!$D:$D,A124,SYNTHESE!$E:$E,$W$1,SYNTHESE!$F:$F,\">=1\")))","v":""},{"$f":"IF($Z$2=\"pok\",\"\",IF(A124=\"\",\"\",COUNTIFS(SYNTHESE!$D:$D,A124,SYNTHESE!$E:$E,$X$1,SYNTHESE!$F:$F,\">=1\")))","v":""},{"$f":"IF($Z$2=\"pok\",\"\",IF(A124=\"\",\"\",COUNTIFS(SYNTHESE!$D:$D,A124,SYNTHESE!$E:$E,$Y$1,SYNTHESE!$F:$F,\">=1\")))","v":""},0]
[{"$f":"IF(ETUDIANTS!A125=\"\",\"\",ETUDIANTS!A125)","v":""},{"$f":"IF($Z$2=\"pok\",\"\",IF(A125=\"\",\"\",COUNTIFS(SYNTHESE!$D:$D,A125,SYNTHESE!$E:$E,$B$1,SYNTHESE!$F:$F,\">=1\")))","v":""},{"$f":"IF($Z$2=\"pok\",\"\",IF(A125=\"\",\"\",COUNTIFS(SYNTHESE!$D:$D,A125,SYNTHESE!$E:$E,$C$1,SYNTHESE!$F:$F,\">=1\")))","v":""},{"$f":"IF($Z$2=\"pok\",\"\",IF(A125=\"\",\"\",COUNTIFS(SYNTHESE!$D:$D,A125,SYNTHESE!$E:$E,$D$1,SYNTHESE!$F:$F,\">=1\")))","v":""},{"$f":"IF($Z$2=\"pok\",\"\",IF(A125=\"\",\"\",COUNTIFS(SYNTHESE!$D:$D,A125,SYNTHESE!$E:$E,$E$1,SYNTHESE!$F:$F,\">=1\")))","v":""},{"$f":"IF($Z$2=\"pok\",\"\",IF(A125=\"\",\"\",COUNTIFS(SYNTHESE!$D:$D,A125,SYNTHESE!$E:$E,$F$1,SYNTHESE!$F:$F,\">=1\")))","v":""},{"$f":"IF($Z$2=\"pok\",\"\",IF(A125=\"\",\"\",COUNTIFS(SYNTHESE!$D:$D,A125,SYNTHESE!$E:$E,$G$1,SYNTHESE!$F:$F,\">=1\")))","v":""},{"$f":"IF($Z$2=\"pok\",\"\",IF(A125=\"\",\"\",COUNTIFS(SYNTHESE!$D:$D,A125,SYNTHESE!$E:$E,$H$1,SYNTHESE!$F:$F,\">=1\")))","v":""},{"$f":"IF($Z$2=\"pok\",\"\",IF(A125=\"\",\"\",COUNTIFS(SYNTHESE!$D:$D,A125,SYNTHESE!$E:$E,$I$1,SYNTHESE!$F:$F,\">=1\")))","v":""},{"$f":"IF($Z$2=\"pok\",\"\",IF(A125=\"\",\"\",COUNTIFS(SYNTHESE!$D:$D,A125,SYNTHESE!$E:$E,$J$1,SYNTHESE!$F:$F,\">=1\")))","v":""},{"$f":"IF($Z$2=\"pok\",\"\",IF(A125=\"\",\"\",COUNTIFS(SYNTHESE!$D:$D,A125,SYNTHESE!$E:$E,$K$1,SYNTHESE!$F:$F,\">=1\")))","v":""},{"$f":"IF($Z$2=\"pok\",\"\",IF(A125=\"\",\"\",COUNTIFS(SYNTHESE!$D:$D,A125,SYNTHESE!$E:$E,$L$1,SYNTHESE!$F:$F,\">=1\")))","v":""},{"$f":"IF($Z$2=\"pok\",\"\",IF(A125=\"\",\"\",COUNTIFS(SYNTHESE!$D:$D,A125,SYNTHESE!$E:$E,$M$1,SYNTHESE!$F:$F,\">=1\")))","v":""},{"$f":"IF($Z$2=\"pok\",\"\",IF(A125=\"\",\"\",COUNTIFS(SYNTHESE!$D:$D,A125,SYNTHESE!$E:$E,$N$1,SYNTHESE!$F:$F,\">=1\")))","v":""},{"$f":"IF($Z$2=\"pok\",\"\",IF(A125=\"\",\"\",COUNTIFS(SYNTHESE!$D:$D,A125,SYNTHESE!$E:$E,$O$1,SYNTHESE!$F:$F,\">=1\")))","v":""},{"$f":"IF($Z$2=\"pok\",\"\",IF(A125=\"\",\"\",COUNTIFS(SYNTHESE!$D:$D,A125,SYNTHESE!$E:$E,$P$1,SYNTHESE!$F:$F,\">=1\")))","v":""},{"$f":"IF($Z$2=\"pok\",\"\",IF(A125=\"\",\"\",COUNTIFS(SYNTHESE!$D:$D,A125,SYNTHESE!$E:$E,$Q$1,SYNTHESE!$F:$F,\">=1\")))","v":""},{"$f":"IF($Z$2=\"pok\",\"\",IF(A125=\"\",\"\",COUNTIFS(SYNTHESE!$D:$D,A125,SYNTHESE!$E:$E,$R$1,SYNTHESE!$F:$F,\">=1\")))","v":""},{"$f":"IF($Z$2=\"pok\",\"\",IF(A125=\"\",\"\",COUNTIFS(SYNTHESE!$D:$D,A125,SYNTHESE!$E:$E,$S$1,SYNTHESE!$F:$F,\">=1\")))","v":""},{"$f":"IF($Z$2=\"pok\",\"\",IF(A125=\"\",\"\",COUNTIFS(SYNTHESE!$D:$D,A125,SYNTHESE!$E:$E,$T$1,SYNTHESE!$F:$F,\">=1\")))","v":""},{"$f":"IF($Z$2=\"pok\",\"\",IF(A125=\"\",\"\",COUNTIFS(SYNTHESE!$D:$D,A125,SYNTHESE!$E:$E,$U$1,SYNTHESE!$F:$F,\">=1\")))","v":""},{"$f":"IF($Z$2=\"pok\",\"\",IF(A125=\"\",\"\",COUNTIFS(SYNTHESE!$D:$D,A125,SYNTHESE!$E:$E,$V$1,SYNTHESE!$F:$F,\">=1\")))","v":""},{"$f":"IF($Z$2=\"pok\",\"\",IF(A125=\"\",\"\",COUNTIFS(SYNTHESE!$D:$D,A125,SYNTHESE!$E:$E,$W$1,SYNTHESE!$F:$F,\">=1\")))","v":""},{"$f":"IF($Z$2=\"pok\",\"\",IF(A125=\"\",\"\",COUNTIFS(SYNTHESE!$D:$D,A125,SYNTHESE!$E:$E,$X$1,SYNTHESE!$F:$F,\">=1\")))","v":""},{"$f":"IF($Z$2=\"pok\",\"\",IF(A125=\"\",\"\",COUNTIFS(SYNTHESE!$D:$D,A125,SYNTHESE!$E:$E,$Y$1,SYNTHESE!$F:$F,\">=1\")))","v":""},0]
[{"$f":"IF(ETUDIANTS!A126=\"\",\"\",ETUDIANTS!A126)","v":""},{"$f":"IF($Z$2=\"pok\",\"\",IF(A126=\"\",\"\",COUNTIFS(SYNTHESE!$D:$D,A126,SYNTHESE!$E:$E,$B$1,SYNTHESE!$F:$F,\">=1\")))","v":""},{"$f":"IF($Z$2=\"pok\",\"\",IF(A126=\"\",\"\",COUNTIFS(SYNTHESE!$D:$D,A126,SYNTHESE!$E:$E,$C$1,SYNTHESE!$F:$F,\">=1\")))","v":""},{"$f":"IF($Z$2=\"pok\",\"\",IF(A126=\"\",\"\",COUNTIFS(SYNTHESE!$D:$D,A126,SYNTHESE!$E:$E,$D$1,SYNTHESE!$F:$F,\">=1\")))","v":""},{"$f":"IF($Z$2=\"pok\",\"\",IF(A126=\"\",\"\",COUNTIFS(SYNTHESE!$D:$D,A126,SYNTHESE!$E:$E,$E$1,SYNTHESE!$F:$F,\">=1\")))","v":""},{"$f":"IF($Z$2=\"pok\",\"\",IF(A126=\"\",\"\",COUNTIFS(SYNTHESE!$D:$D,A126,SYNTHESE!$E:$E,$F$1,SYNTHESE!$F:$F,\">=1\")))","v":""},{"$f":"IF($Z$2=\"pok\",\"\",IF(A126=\"\",\"\",COUNTIFS(SYNTHESE!$D:$D,A126,SYNTHESE!$E:$E,$G$1,SYNTHESE!$F:$F,\">=1\")))","v":""},{"$f":"IF($Z$2=\"pok\",\"\",IF(A126=\"\",\"\",COUNTIFS(SYNTHESE!$D:$D,A126,SYNTHESE!$E:$E,$H$1,SYNTHESE!$F:$F,\">=1\")))","v":""},{"$f":"IF($Z$2=\"pok\",\"\",IF(A126=\"\",\"\",COUNTIFS(SYNTHESE!$D:$D,A126,SYNTHESE!$E:$E,$I$1,SYNTHESE!$F:$F,\">=1\")))","v":""},{"$f":"IF($Z$2=\"pok\",\"\",IF(A126=\"\",\"\",COUNTIFS(SYNTHESE!$D:$D,A126,SYNTHESE!$E:$E,$J$1,SYNTHESE!$F:$F,\">=1\")))","v":""},{"$f":"IF($Z$2=\"pok\",\"\",IF(A126=\"\",\"\",COUNTIFS(SYNTHESE!$D:$D,A126,SYNTHESE!$E:$E,$K$1,SYNTHESE!$F:$F,\">=1\")))","v":""},{"$f":"IF($Z$2=\"pok\",\"\",IF(A126=\"\",\"\",COUNTIFS(SYNTHESE!$D:$D,A126,SYNTHESE!$E:$E,$L$1,SYNTHESE!$F:$F,\">=1\")))","v":""},{"$f":"IF($Z$2=\"pok\",\"\",IF(A126=\"\",\"\",COUNTIFS(SYNTHESE!$D:$D,A126,SYNTHESE!$E:$E,$M$1,SYNTHESE!$F:$F,\">=1\")))","v":""},{"$f":"IF($Z$2=\"pok\",\"\",IF(A126=\"\",\"\",COUNTIFS(SYNTHESE!$D:$D,A126,SYNTHESE!$E:$E,$N$1,SYNTHESE!$F:$F,\">=1\")))","v":""},{"$f":"IF($Z$2=\"pok\",\"\",IF(A126=\"\",\"\",COUNTIFS(SYNTHESE!$D:$D,A126,SYNTHESE!$E:$E,$O$1,SYNTHESE!$F:$F,\">=1\")))","v":""},{"$f":"IF($Z$2=\"pok\",\"\",IF(A126=\"\",\"\",COUNTIFS(SYNTHESE!$D:$D,A126,SYNTHESE!$E:$E,$P$1,SYNTHESE!$F:$F,\">=1\")))","v":""},{"$f":"IF($Z$2=\"pok\",\"\",IF(A126=\"\",\"\",COUNTIFS(SYNTHESE!$D:$D,A126,SYNTHESE!$E:$E,$Q$1,SYNTHESE!$F:$F,\">=1\")))","v":""},{"$f":"IF($Z$2=\"pok\",\"\",IF(A126=\"\",\"\",COUNTIFS(SYNTHESE!$D:$D,A126,SYNTHESE!$E:$E,$R$1,SYNTHESE!$F:$F,\">=1\")))","v":""},{"$f":"IF($Z$2=\"pok\",\"\",IF(A126=\"\",\"\",COUNTIFS(SYNTHESE!$D:$D,A126,SYNTHESE!$E:$E,$S$1,SYNTHESE!$F:$F,\">=1\")))","v":""},{"$f":"IF($Z$2=\"pok\",\"\",IF(A126=\"\",\"\",COUNTIFS(SYNTHESE!$D:$D,A126,SYNTHESE!$E:$E,$T$1,SYNTHESE!$F:$F,\">=1\")))","v":""},{"$f":"IF($Z$2=\"pok\",\"\",IF(A126=\"\",\"\",COUNTIFS(SYNTHESE!$D:$D,A126,SYNTHESE!$E:$E,$U$1,SYNTHESE!$F:$F,\">=1\")))","v":""},{"$f":"IF($Z$2=\"pok\",\"\",IF(A126=\"\",\"\",COUNTIFS(SYNTHESE!$D:$D,A126,SYNTHESE!$E:$E,$V$1,SYNTHESE!$F:$F,\">=1\")))","v":""},{"$f":"IF($Z$2=\"pok\",\"\",IF(A126=\"\",\"\",COUNTIFS(SYNTHESE!$D:$D,A126,SYNTHESE!$E:$E,$W$1,SYNTHESE!$F:$F,\">=1\")))","v":""},{"$f":"IF($Z$2=\"pok\",\"\",IF(A126=\"\",\"\",COUNTIFS(SYNTHESE!$D:$D,A126,SYNTHESE!$E:$E,$X$1,SYNTHESE!$F:$F,\">=1\")))","v":""},{"$f":"IF($Z$2=\"pok\",\"\",IF(A126=\"\",\"\",COUNTIFS(SYNTHESE!$D:$D,A126,SYNTHESE!$E:$E,$Y$1,SYNTHESE!$F:$F,\">=1\")))","v":""},0]
[{"$f":"IF(ETUDIANTS!A127=\"\",\"\",ETUDIANTS!A127)","v":""},{"$f":"IF($Z$2=\"pok\",\"\",IF(A127=\"\",\"\",COUNTIFS(SYNTHESE!$D:$D,A127,SYNTHESE!$E:$E,$B$1,SYNTHESE!$F:$F,\">=1\")))","v":""},{"$f":"IF($Z$2=\"pok\",\"\",IF(A127=\"\",\"\",COUNTIFS(SYNTHESE!$D:$D,A127,SYNTHESE!$E:$E,$C$1,SYNTHESE!$F:$F,\">=1\")))","v":""},{"$f":"IF($Z$2=\"pok\",\"\",IF(A127=\"\",\"\",COUNTIFS(SYNTHESE!$D:$D,A127,SYNTHESE!$E:$E,$D$1,SYNTHESE!$F:$F,\">=1\")))","v":""},{"$f":"IF($Z$2=\"pok\",\"\",IF(A127=\"\",\"\",COUNTIFS(SYNTHESE!$D:$D,A127,SYNTHESE!$E:$E,$E$1,SYNTHESE!$F:$F,\">=1\")))","v":""},{"$f":"IF($Z$2=\"pok\",\"\",IF(A127=\"\",\"\",COUNTIFS(SYNTHESE!$D:$D,A127,SYNTHESE!$E:$E,$F$1,SYNTHESE!$F:$F,\">=1\")))","v":""},{"$f":"IF($Z$2=\"pok\",\"\",IF(A127=\"\",\"\",COUNTIFS(SYNTHESE!$D:$D,A127,SYNTHESE!$E:$E,$G$1,SYNTHESE!$F:$F,\">=1\")))","v":""},{"$f":"IF($Z$2=\"pok\",\"\",IF(A127=\"\",\"\",COUNTIFS(SYNTHESE!$D:$D,A127,SYNTHESE!$E:$E,$H$1,SYNTHESE!$F:$F,\">=1\")))","v":""},{"$f":"IF($Z$2=\"pok\",\"\",IF(A127=\"\",\"\",COUNTIFS(SYNTHESE!$D:$D,A127,SYNTHESE!$E:$E,$I$1,SYNTHESE!$F:$F,\">=1\")))","v":""},{"$f":"IF($Z$2=\"pok\",\"\",IF(A127=\"\",\"\",COUNTIFS(SYNTHESE!$D:$D,A127,SYNTHESE!$E:$E,$J$1,SYNTHESE!$F:$F,\">=1\")))","v":""},{"$f":"IF($Z$2=\"pok\",\"\",IF(A127=\"\",\"\",COUNTIFS(SYNTHESE!$D:$D,A127,SYNTHESE!$E:$E,$K$1,SYNTHESE!$F:$F,\">=1\")))","v":""},{"$f":"IF($Z$2=\"pok\",\"\",IF(A127=\"\",\"\",COUNTIFS(SYNTHESE!$D:$D,A127,SYNTHESE!$E:$E,$L$1,SYNTHESE!$F:$F,\">=1\")))","v":""},{"$f":"IF($Z$2=\"pok\",\"\",IF(A127=\"\",\"\",COUNTIFS(SYNTHESE!$D:$D,A127,SYNTHESE!$E:$E,$M$1,SYNTHESE!$F:$F,\">=1\")))","v":""},{"$f":"IF($Z$2=\"pok\",\"\",IF(A127=\"\",\"\",COUNTIFS(SYNTHESE!$D:$D,A127,SYNTHESE!$E:$E,$N$1,SYNTHESE!$F:$F,\">=1\")))","v":""},{"$f":"IF($Z$2=\"pok\",\"\",IF(A127=\"\",\"\",COUNTIFS(SYNTHESE!$D:$D,A127,SYNTHESE!$E:$E,$O$1,SYNTHESE!$F:$F,\">=1\")))","v":""},{"$f":"IF($Z$2=\"pok\",\"\",IF(A127=\"\",\"\",COUNTIFS(SYNTHESE!$D:$D,A127,SYNTHESE!$E:$E,$P$1,SYNTHESE!$F:$F,\">=1\")))","v":""},{"$f":"IF($Z$2=\"pok\",\"\",IF(A127=\"\",\"\",COUNTIFS(SYNTHESE!$D:$D,A127,SYNTHESE!$E:$E,$Q$1,SYNTHESE!$F:$F,\">=1\")))","v":""},{"$f":"IF($Z$2=\"pok\",\"\",IF(A127=\"\",\"\",COUNTIFS(SYNTHESE!$D:$D,A127,SYNTHESE!$E:$E,$R$1,SYNTHESE!$F:$F,\">=1\")))","v":""},{"$f":"IF($Z$2=\"pok\",\"\",IF(A127=\"\",\"\",COUNTIFS(SYNTHESE!$D:$D,A127,SYNTHESE!$E:$E,$S$1,SYNTHESE!$F:$F,\">=1\")))","v":""},{"$f":"IF($Z$2=\"pok\",\"\",IF(A127=\"\",\"\",COUNTIFS(SYNTHESE!$D:$D,A127,SYNTHESE!$E:$E,$T$1,SYNTHESE!$F:$F,\">=1\")))","v":""},{"$f":"IF($Z$2=\"pok\",\"\",IF(A127=\"\",\"\",COUNTIFS(SYNTHESE!$D:$D,A127,SYNTHESE!$E:$E,$U$1,SYNTHESE!$F:$F,\">=1\")))","v":""},{"$f":"IF($Z$2=\"pok\",\"\",IF(A127=\"\",\"\",COUNTIFS(SYNTHESE!$D:$D,A127,SYNTHESE!$E:$E,$V$1,SYNTHESE!$F:$F,\">=1\")))","v":""},{"$f":"IF($Z$2=\"pok\",\"\",IF(A127=\"\",\"\",COUNTIFS(SYNTHESE!$D:$D,A127,SYNTHESE!$E:$E,$W$1,SYNTHESE!$F:$F,\">=1\")))","v":""},{"$f":"IF($Z$2=\"pok\",\"\",IF(A127=\"\",\"\",COUNTIFS(SYNTHESE!$D:$D,A127,SYNTHESE!$E:$E,$X$1,SYNTHESE!$F:$F,\">=1\")))","v":""},{"$f":"IF($Z$2=\"pok\",\"\",IF(A127=\"\",\"\",COUNTIFS(SYNTHESE!$D:$D,A127,SYNTHESE!$E:$E,$Y$1,SYNTHESE!$F:$F,\">=1\")))","v":""},0]
[{"$f":"IF(ETUDIANTS!A128=\"\",\"\",ETUDIANTS!A128)","v":""},{"$f":"IF($Z$2=\"pok\",\"\",IF(A128=\"\",\"\",COUNTIFS(SYNTHESE!$D:$D,A128,SYNTHESE!$E:$E,$B$1,SYNTHESE!$F:$F,\">=1\")))","v":""},{"$f":"IF($Z$2=\"pok\",\"\",IF(A128=\"\",\"\",COUNTIFS(SYNTHESE!$D:$D,A128,SYNTHESE!$E:$E,$C$1,SYNTHESE!$F:$F,\">=1\")))","v":""},{"$f":"IF($Z$2=\"pok\",\"\",IF(A128=\"\",\"\",COUNTIFS(SYNTHESE!$D:$D,A128,SYNTHESE!$E:$E,$D$1,SYNTHESE!$F:$F,\">=1\")))","v":""},{"$f":"IF($Z$2=\"pok\",\"\",IF(A128=\"\",\"\",COUNTIFS(SYNTHESE!$D:$D,A128,SYNTHESE!$E:$E,$E$1,SYNTHESE!$F:$F,\">=1\")))","v":""},{"$f":"IF($Z$2=\"pok\",\"\",IF(A128=\"\",\"\",COUNTIFS(SYNTHESE!$D:$D,A128,SYNTHESE!$E:$E,$F$1,SYNTHESE!$F:$F,\">=1\")))","v":""},{"$f":"IF($Z$2=\"pok\",\"\",IF(A128=\"\",\"\",COUNTIFS(SYNTHESE!$D:$D,A128,SYNTHESE!$E:$E,$G$1,SYNTHESE!$F:$F,\">=1\")))","v":""},{"$f":"IF($Z$2=\"pok\",\"\",IF(A128=\"\",\"\",COUNTIFS(SYNTHESE!$D:$D,A128,SYNTHESE!$E:$E,$H$1,SYNTHESE!$F:$F,\">=1\")))","v":""},{"$f":"IF($Z$2=\"pok\",\"\",IF(A128=\"\",\"\",COUNTIFS(SYNTHESE!$D:$D,A128,SYNTHESE!$E:$E,$I$1,SYNTHESE!$F:$F,\">=1\")))","v":""},{"$f":"IF($Z$2=\"pok\",\"\",IF(A128=\"\",\"\",COUNTIFS(SYNTHESE!$D:$D,A128,SYNTHESE!$E:$E,$J$1,SYNTHESE!$F:$F,\">=1\")))","v":""},{"$f":"IF($Z$2=\"pok\",\"\",IF(A128=\"\",\"\",COUNTIFS(SYNTHESE!$D:$D,A128,SYNTHESE!$E:$E,$K$1,SYNTHESE!$F:$F,\">=1\")))","v":""},{"$f":"IF($Z$2=\"pok\",\"\",IF(A128=\"\",\"\",COUNTIFS(SYNTHESE!$D:$D,A128,SYNTHESE!$E:$E,$L$1,SYNTHESE!$F:$F,\">=1\")))","v":""},{"$f":"IF($Z$2=\"pok\",\"\",IF(A128=\"\",\"\",COUNTIFS(SYNTHESE!$D:$D,A128,SYNTHESE!$E:$E,$M$1,SYNTHESE!$F:$F,\">=1\")))","v":""},{"$f":"IF($Z$2=\"pok\",\"\",IF(A128=\"\",\"\",COUNTIFS(SYNTHESE!$D:$D,A128,SYNTHESE!$E:$E,$N$1,SYNTHESE!$F:$F,\">=1\")))","v":""},{"$f":"IF($Z$2=\"pok\",\"\",IF(A128=\"\",\"\",COUNTIFS(SYNTHESE!$D:$D,A128,SYNTHESE!$E:$E,$O$1,SYNTHESE!$F:$F,\">=1\")))","v":""},{"$f":"IF($Z$2=\"pok\",\"\",IF(A128=\"\",\"\",COUNTIFS(SYNTHESE!$D:$D,A128,SYNTHESE!$E:$E,$P$1,SYNTHESE!$F:$F,\">=1\")))","v":""},{"$f":"IF($Z$2=\"pok\",\"\",IF(A128=\"\",\"\",COUNTIFS(SYNTHESE!$D:$D,A128,SYNTHESE!$E:$E,$Q$1,SYNTHESE!$F:$F,\">=1\")))","v":""},{"$f":"IF($Z$2=\"pok\",\"\",IF(A128=\"\",\"\",COUNTIFS(SYNTHESE!$D:$D,A128,SYNTHESE!$E:$E,$R$1,SYNTHESE!$F:$F,\">=1\")))","v":""},{"$f":"IF($Z$2=\"pok\",\"\",IF(A128=\"\",\"\",COUNTIFS(SYNTHESE!$D:$D,A128,SYNTHESE!$E:$E,$S$1,SYNTHESE!$F:$F,\">=1\")))","v":""},{"$f":"IF($Z$2=\"pok\",\"\",IF(A128=\"\",\"\",COUNTIFS(SYNTHESE!$D:$D,A128,SYNTHESE!$E:$E,$T$1,SYNTHESE!$F:$F,\">=1\")))","v":""},{"$f":"IF($Z$2=\"pok\",\"\",IF(A128=\"\",\"\",COUNTIFS(SYNTHESE!$D:$D,A128,SYNTHESE!$E:$E,$U$1,SYNTHESE!$F:$F,\">=1\")))","v":""},{"$f":"IF($Z$2=\"pok\",\"\",IF(A128=\"\",\"\",COUNTIFS(SYNTHESE!$D:$D,A128,SYNTHESE!$E:$E,$V$1,SYNTHESE!$F:$F,\">=1\")))","v":""},{"$f":"IF($Z$2=\"pok\",\"\",IF(A128=\"\",\"\",COUNTIFS(SYNTHESE!$D:$D,A128,SYNTHESE!$E:$E,$W$1,SYNTHESE!$F:$F,\">=1\")))","v":""},{"$f":"IF($Z$2=\"pok\",\"\",IF(A128=\"\",\"\",COUNTIFS(SYNTHESE!$D:$D,A128,SYNTHESE!$E:$E,$X$1,SYNTHESE!$F:$F,\">=1\")))","v":""},{"$f":"IF($Z$2=\"pok\",\"\",IF(A128=\"\",\"\",COUNTIFS(SYNTHESE!$D:$D,A128,SYNTHESE!$E:$E,$Y$1,SYNTHESE!$F:$F,\">=1\")))","v":""},0]
[{"$f":"IF(ETUDIANTS!A129=\"\",\"\",ETUDIANTS!A129)","v":""},{"$f":"IF($Z$2=\"pok\",\"\",IF(A129=\"\",\"\",COUNTIFS(SYNTHESE!$D:$D,A129,SYNTHESE!$E:$E,$B$1,SYNTHESE!$F:$F,\">=1\")))","v":""},{"$f":"IF($Z$2=\"pok\",\"\",IF(A129=\"\",\"\",COUNTIFS(SYNTHESE!$D:$D,A129,SYNTHESE!$E:$E,$C$1,SYNTHESE!$F:$F,\">=1\")))","v":""},{"$f":"IF($Z$2=\"pok\",\"\",IF(A129=\"\",\"\",COUNTIFS(SYNTHESE!$D:$D,A129,SYNTHESE!$E:$E,$D$1,SYNTHESE!$F:$F,\">=1\")))","v":""},{"$f":"IF($Z$2=\"pok\",\"\",IF(A129=\"\",\"\",COUNTIFS(SYNTHESE!$D:$D,A129,SYNTHESE!$E:$E,$E$1,SYNTHESE!$F:$F,\">=1\")))","v":""},{"$f":"IF($Z$2=\"pok\",\"\",IF(A129=\"\",\"\",COUNTIFS(SYNTHESE!$D:$D,A129,SYNTHESE!$E:$E,$F$1,SYNTHESE!$F:$F,\">=1\")))","v":""},{"$f":"IF($Z$2=\"pok\",\"\",IF(A129=\"\",\"\",COUNTIFS(SYNTHESE!$D:$D,A129,SYNTHESE!$E:$E,$G$1,SYNTHESE!$F:$F,\">=1\")))","v":""},{"$f":"IF($Z$2=\"pok\",\"\",IF(A129=\"\",\"\",COUNTIFS(SYNTHESE!$D:$D,A129,SYNTHESE!$E:$E,$H$1,SYNTHESE!$F:$F,\">=1\")))","v":""},{"$f":"IF($Z$2=\"pok\",\"\",IF(A129=\"\",\"\",COUNTIFS(SYNTHESE!$D:$D,A129,SYNTHESE!$E:$E,$I$1,SYNTHESE!$F:$F,\">=1\")))","v":""},{"$f":"IF($Z$2=\"pok\",\"\",IF(A129=\"\",\"\",COUNTIFS(SYNTHESE!$D:$D,A129,SYNTHESE!$E:$E,$J$1,SYNTHESE!$F:$F,\">=1\")))","v":""},{"$f":"IF($Z$2=\"pok\",\"\",IF(A129=\"\",\"\",COUNTIFS(SYNTHESE!$D:$D,A129,SYNTHESE!$E:$E,$K$1,SYNTHESE!$F:$F,\">=1\")))","v":""},{"$f":"IF($Z$2=\"pok\",\"\",IF(A129=\"\",\"\",COUNTIFS(SYNTHESE!$D:$D,A129,SYNTHESE!$E:$E,$L$1,SYNTHESE!$F:$F,\">=1\")))","v":""},{"$f":"IF($Z$2=\"pok\",\"\",IF(A129=\"\",\"\",COUNTIFS(SYNTHESE!$D:$D,A129,SYNTHESE!$E:$E,$M$1,SYNTHESE!$F:$F,\">=1\")))","v":""},{"$f":"IF($Z$2=\"pok\",\"\",IF(A129=\"\",\"\",COUNTIFS(SYNTHESE!$D:$D,A129,SYNTHESE!$E:$E,$N$1,SYNTHESE!$F:$F,\">=1\")))","v":""},{"$f":"IF($Z$2=\"pok\",\"\",IF(A129=\"\",\"\",COUNTIFS(SYNTHESE!$D:$D,A129,SYNTHESE!$E:$E,$O$1,SYNTHESE!$F:$F,\">=1\")))","v":""},{"$f":"IF($Z$2=\"pok\",\"\",IF(A129=\"\",\"\",COUNTIFS(SYNTHESE!$D:$D,A129,SYNTHESE!$E:$E,$P$1,SYNTHESE!$F:$F,\">=1\")))","v":""},{"$f":"IF($Z$2=\"pok\",\"\",IF(A129=\"\",\"\",COUNTIFS(SYNTHESE!$D:$D,A129,SYNTHESE!$E:$E,$Q$1,SYNTHESE!$F:$F,\">=1\")))","v":""},{"$f":"IF($Z$2=\"pok\",\"\",IF(A129=\"\",\"\",COUNTIFS(SYNTHESE!$D:$D,A129,SYNTHESE!$E:$E,$R$1,SYNTHESE!$F:$F,\">=1\")))","v":""},{"$f":"IF($Z$2=\"pok\",\"\",IF(A129=\"\",\"\",COUNTIFS(SYNTHESE!$D:$D,A129,SYNTHESE!$E:$E,$S$1,SYNTHESE!$F:$F,\">=1\")))","v":""},{"$f":"IF($Z$2=\"pok\",\"\",IF(A129=\"\",\"\",COUNTIFS(SYNTHESE!$D:$D,A129,SYNTHESE!$E:$E,$T$1,SYNTHESE!$F:$F,\">=1\")))","v":""},{"$f":"IF($Z$2=\"pok\",\"\",IF(A129=\"\",\"\",COUNTIFS(SYNTHESE!$D:$D,A129,SYNTHESE!$E:$E,$U$1,SYNTHESE!$F:$F,\">=1\")))","v":""},{"$f":"IF($Z$2=\"pok\",\"\",IF(A129=\"\",\"\",COUNTIFS(SYNTHESE!$D:$D,A129,SYNTHESE!$E:$E,$V$1,SYNTHESE!$F:$F,\">=1\")))","v":""},{"$f":"IF($Z$2=\"pok\",\"\",IF(A129=\"\",\"\",COUNTIFS(SYNTHESE!$D:$D,A129,SYNTHESE!$E:$E,$W$1,SYNTHESE!$F:$F,\">=1\")))","v":""},{"$f":"IF($Z$2=\"pok\",\"\",IF(A129=\"\",\"\",COUNTIFS(SYNTHESE!$D:$D,A129,SYNTHESE!$E:$E,$X$1,SYNTHESE!$F:$F,\">=1\")))","v":""},{"$f":"IF($Z$2=\"pok\",\"\",IF(A129=\"\",\"\",COUNTIFS(SYNTHESE!$D:$D,A129,SYNTHESE!$E:$E,$Y$1,SYNTHESE!$F:$F,\">=1\")))","v":""},0]
[{"$f":"IF(ETUDIANTS!A130=\"\",\"\",ETUDIANTS!A130)","v":""},{"$f":"IF($Z$2=\"pok\",\"\",IF(A130=\"\",\"\",COUNTIFS(SYNTHESE!$D:$D,A130,SYNTHESE!$E:$E,$B$1,SYNTHESE!$F:$F,\">=1\")))","v":""},{"$f":"IF($Z$2=\"pok\",\"\",IF(A130=\"\",\"\",COUNTIFS(SYNTHESE!$D:$D,A130,SYNTHESE!$E:$E,$C$1,SYNTHESE!$F:$F,\">=1\")))","v":""},{"$f":"IF($Z$2=\"pok\",\"\",IF(A130=\"\",\"\",COUNTIFS(SYNTHESE!$D:$D,A130,SYNTHESE!$E:$E,$D$1,SYNTHESE!$F:$F,\">=1\")))","v":""},{"$f":"IF($Z$2=\"pok\",\"\",IF(A130=\"\",\"\",COUNTIFS(SYNTHESE!$D:$D,A130,SYNTHESE!$E:$E,$E$1,SYNTHESE!$F:$F,\">=1\")))","v":""},{"$f":"IF($Z$2=\"pok\",\"\",IF(A130=\"\",\"\",COUNTIFS(SYNTHESE!$D:$D,A130,SYNTHESE!$E:$E,$F$1,SYNTHESE!$F:$F,\">=1\")))","v":""},{"$f":"IF($Z$2=\"pok\",\"\",IF(A130=\"\",\"\",COUNTIFS(SYNTHESE!$D:$D,A130,SYNTHESE!$E:$E,$G$1,SYNTHESE!$F:$F,\">=1\")))","v":""},{"$f":"IF($Z$2=\"pok\",\"\",IF(A130=\"\",\"\",COUNTIFS(SYNTHESE!$D:$D,A130,SYNTHESE!$E:$E,$H$1,SYNTHESE!$F:$F,\">=1\")))","v":""},{"$f":"IF($Z$2=\"pok\",\"\",IF(A130=\"\",\"\",COUNTIFS(SYNTHESE!$D:$D,A130,SYNTHESE!$E:$E,$I$1,SYNTHESE!$F:$F,\">=1\")))","v":""},{"$f":"IF($Z$2=\"pok\",\"\",IF(A130=\"\",\"\",COUNTIFS(SYNTHESE!$D:$D,A130,SYNTHESE!$E:$E,$J$1,SYNTHESE!$F:$F,\">=1\")))","v":""},{"$f":"IF($Z$2=\"pok\",\"\",IF(A130=\"\",\"\",COUNTIFS(SYNTHESE!$D:$D,A130,SYNTHESE!$E:$E,$K$1,SYNTHESE!$F:$F,\">=1\")))","v":""},{"$f":"IF($Z$2=\"pok\",\"\",IF(A130=\"\",\"\",COUNTIFS(SYNTHESE!$D:$D,A130,SYNTHESE!$E:$E,$L$1,SYNTHESE!$F:$F,\">=1\")))","v":""},{"$f":"IF($Z$2=\"pok\",\"\",IF(A130=\"\",\"\",COUNTIFS(SYNTHESE!$D:$D,A130,SYNTHESE!$E:$E,$M$1,SYNTHESE!$F:$F,\">=1\")))","v":""},{"$f":"IF($Z$2=\"pok\",\"\",IF(A130=\"\",\"\",COUNTIFS(SYNTHESE!$D:$D,A130,SYNTHESE!$E:$E,$N$1,SYNTHESE!$F:$F,\">=1\")))","v":""},{"$f":"IF($Z$2=\"pok\",\"\",IF(A130=\"\",\"\",COUNTIFS(SYNTHESE!$D:$D,A130,SYNTHESE!$E:$E,$O$1,SYNTHESE!$F:$F,\">=1\")))","v":""},{"$f":"IF($Z$2=\"pok\",\"\",IF(A130=\"\",\"\",COUNTIFS(SYNTHESE!$D:$D,A130,SYNTHESE!$E:$E,$P$1,SYNTHESE!$F:$F,\">=1\")))","v":""},{"$f":"IF($Z$2=\"pok\",\"\",IF(A130=\"\",\"\",COUNTIFS(SYNTHESE!$D:$D,A130,SYNTHESE!$E:$E,$Q$1,SYNTHESE!$F:$F,\">=1\")))","v":""},{"$f":"IF($Z$2=\"pok\",\"\",IF(A130=\"\",\"\",COUNTIFS(SYNTHESE!$D:$D,A130,SYNTHESE!$E:$E,$R$1,SYNTHESE!$F:$F,\">=1\")))","v":""},{"$f":"IF($Z$2=\"pok\",\"\",IF(A130=\"\",\"\",COUNTIFS(SYNTHESE!$D:$D,A130,SYNTHESE!$E:$E,$S$1,SYNTHESE!$F:$F,\">=1\")))","v":""},{"$f":"IF($Z$2=\"pok\",\"\",IF(A130=\"\",\"\",COUNTIFS(SYNTHESE!$D:$D,A130,SYNTHESE!$E:$E,$T$1,SYNTHESE!$F:$F,\">=1\")))","v":""},{"$f":"IF($Z$2=\"pok\",\"\",IF(A130=\"\",\"\",COUNTIFS(SYNTHESE!$D:$D,A130,SYNTHESE!$E:$E,$U$1,SYNTHESE!$F:$F,\">=1\")))","v":""},{"$f":"IF($Z$2=\"pok\",\"\",IF(A130=\"\",\"\",COUNTIFS(SYNTHESE!$D:$D,A130,SYNTHESE!$E:$E,$V$1,SYNTHESE!$F:$F,\">=1\")))","v":""},{"$f":"IF($Z$2=\"pok\",\"\",IF(A130=\"\",\"\",COUNTIFS(SYNTHESE!$D:$D,A130,SYNTHESE!$E:$E,$W$1,SYNTHESE!$F:$F,\">=1\")))","v":""},{"$f":"IF($Z$2=\"pok\",\"\",IF(A130=\"\",\"\",COUNTIFS(SYNTHESE!$D:$D,A130,SYNTHESE!$E:$E,$X$1,SYNTHESE!$F:$F,\">=1\")))","v":""},{"$f":"IF($Z$2=\"pok\",\"\",IF(A130=\"\",\"\",COUNTIFS(SYNTHESE!$D:$D,A130,SYNTHESE!$E:$E,$Y$1,SYNTHESE!$F:$F,\">=1\")))","v":""},0]
[{"$f":"IF(ETUDIANTS!A131=\"\",\"\",ETUDIANTS!A131)","v":""},{"$f":"IF($Z$2=\"pok\",\"\",IF(A131=\"\",\"\",COUNTIFS(SYNTHESE!$D:$D,A131,SYNTHESE!$E:$E,$B$1,SYNTHESE!$F:$F,\">=1\")))","v":""},{"$f":"IF($Z$2=\"pok\",\"\",IF(A131=\"\",\"\",COUNTIFS(SYNTHESE!$D:$D,A131,SYNTHESE!$E:$E,$C$1,SYNTHESE!$F:$F,\">=1\")))","v":""},{"$f":"IF($Z$2=\"pok\",\"\",IF(A131=\"\",\"\",COUNTIFS(SYNTHESE!$D:$D,A131,SYNTHESE!$E:$E,$D$1,SYNTHESE!$F:$F,\">=1\")))","v":""},{"$f":"IF($Z$2=\"pok\",\"\",IF(A131=\"\",\"\",COUNTIFS(SYNTHESE!$D:$D,A131,SYNTHESE!$E:$E,$E$1,SYNTHESE!$F:$F,\">=1\")))","v":""},{"$f":"IF($Z$2=\"pok\",\"\",IF(A131=\"\",\"\",COUNTIFS(SYNTHESE!$D:$D,A131,SYNTHESE!$E:$E,$F$1,SYNTHESE!$F:$F,\">=1\")))","v":""},{"$f":"IF($Z$2=\"pok\",\"\",IF(A131=\"\",\"\",COUNTIFS(SYNTHESE!$D:$D,A131,SYNTHESE!$E:$E,$G$1,SYNTHESE!$F:$F,\">=1\")))","v":""},{"$f":"IF($Z$2=\"pok\",\"\",IF(A131=\"\",\"\",COUNTIFS(SYNTHESE!$D:$D,A131,SYNTHESE!$E:$E,$H$1,SYNTHESE!$F:$F,\">=1\")))","v":""},{"$f":"IF($Z$2=\"pok\",\"\",IF(A131=\"\",\"\",COUNTIFS(SYNTHESE!$D:$D,A131,SYNTHESE!$E:$E,$I$1,SYNTHESE!$F:$F,\">=1\")))","v":""},{"$f":"IF($Z$2=\"pok\",\"\",IF(A131=\"\",\"\",COUNTIFS(SYNTHESE!$D:$D,A131,SYNTHESE!$E:$E,$J$1,SYNTHESE!$F:$F,\">=1\")))","v":""},{"$f":"IF($Z$2=\"pok\",\"\",IF(A131=\"\",\"\",COUNTIFS(SYNTHESE!$D:$D,A131,SYNTHESE!$E:$E,$K$1,SYNTHESE!$F:$F,\">=1\")))","v":""},{"$f":"IF($Z$2=\"pok\",\"\",IF(A131=\"\",\"\",COUNTIFS(SYNTHESE!$D:$D,A131,SYNTHESE!$E:$E,$L$1,SYNTHESE!$F:$F,\">=1\")))","v":""},{"$f":"IF($Z$2=\"pok\",\"\",IF(A131=\"\",\"\",COUNTIFS(SYNTHESE!$D:$D,A131,SYNTHESE!$E:$E,$M$1,SYNTHESE!$F:$F,\">=1\")))","v":""},{"$f":"IF($Z$2=\"pok\",\"\",IF(A131=\"\",\"\",COUNTIFS(SYNTHESE!$D:$D,A131,SYNTHESE!$E:$E,$N$1,SYNTHESE!$F:$F,\">=1\")))","v":""},{"$f":"IF($Z$2=\"pok\",\"\",IF(A131=\"\",\"\",COUNTIFS(SYNTHESE!$D:$D,A131,SYNTHESE!$E:$E,$O$1,SYNTHESE!$F:$F,\">=1\")))","v":""},{"$f":"IF($Z$2=\"pok\",\"\",IF(A131=\"\",\"\",COUNTIFS(SYNTHESE!$D:$D,A131,SYNTHESE!$E:$E,$P$1,SYNTHESE!$F:$F,\">=1\")))","v":""},{"$f":"IF($Z$2=\"pok\",\"\",IF(A131=\"\",\"\",COUNTIFS(SYNTHESE!$D:$D,A131,SYNTHESE!$E:$E,$Q$1,SYNTHESE!$F:$F,\">=1\")))","v":""},{"$f":"IF($Z$2=\"pok\",\"\",IF(A131=\"\",\"\",COUNTIFS(SYNTHESE!$D:$D,A131,SYNTHESE!$E:$E,$R$1,SYNTHESE!$F:$F,\">=1\")))","v":""},{"$f":"IF($Z$2=\"pok\",\"\",IF(A131=\"\",\"\",COUNTIFS(SYNTHESE!$D:$D,A131,SYNTHESE!$E:$E,$S$1,SYNTHESE!$F:$F,\">=1\")))","v":""},{"$f":"IF($Z$2=\"pok\",\"\",IF(A131=\"\",\"\",COUNTIFS(SYNTHESE!$D:$D,A131,SYNTHESE!$E:$E,$T$1,SYNTHESE!$F:$F,\">=1\")))","v":""},{"$f":"IF($Z$2=\"pok\",\"\",IF(A131=\"\",\"\",COUNTIFS(SYNTHESE!$D:$D,A131,SYNTHESE!$E:$E,$U$1,SYNTHESE!$F:$F,\">=1\")))","v":""},{"$f":"IF($Z$2=\"pok\",\"\",IF(A131=\"\",\"\",COUNTIFS(SYNTHESE!$D:$D,A131,SYNTHESE!$E:$E,$V$1,SYNTHESE!$F:$F,\">=1\")))","v":""},{"$f":"IF($Z$2=\"pok\",\"\",IF(A131=\"\",\"\",COUNTIFS(SYNTHESE!$D:$D,A131,SYNTHESE!$E:$E,$W$1,SYNTHESE!$F:$F,\">=1\")))","v":""},{"$f":"IF($Z$2=\"pok\",\"\",IF(A131=\"\",\"\",COUNTIFS(SYNTHESE!$D:$D,A131,SYNTHESE!$E:$E,$X$1,SYNTHESE!$F:$F,\">=1\")))","v":""},{"$f":"IF($Z$2=\"pok\",\"\",IF(A131=\"\",\"\",COUNTIFS(SYNTHESE!$D:$D,A131,SYNTHESE!$E:$E,$Y$1,SYNTHESE!$F:$F,\">=1\")))","v":""},0]
[{"$f":"IF(ETUDIANTS!A132=\"\",\"\",ETUDIANTS!A132)","v":""},{"$f":"IF($Z$2=\"pok\",\"\",IF(A132=\"\",\"\",COUNTIFS(SYNTHESE!$D:$D,A132,SYNTHESE!$E:$E,$B$1,SYNTHESE!$F:$F,\">=1\")))","v":""},{"$f":"IF($Z$2=\"pok\",\"\",IF(A132=\"\",\"\",COUNTIFS(SYNTHESE!$D:$D,A132,SYNTHESE!$E:$E,$C$1,SYNTHESE!$F:$F,\">=1\")))","v":""},{"$f":"IF($Z$2=\"pok\",\"\",IF(A132=\"\",\"\",COUNTIFS(SYNTHESE!$D:$D,A132,SYNTHESE!$E:$E,$D$1,SYNTHESE!$F:$F,\">=1\")))","v":""},{"$f":"IF($Z$2=\"pok\",\"\",IF(A132=\"\",\"\",COUNTIFS(SYNTHESE!$D:$D,A132,SYNTHESE!$E:$E,$E$1,SYNTHESE!$F:$F,\">=1\")))","v":""},{"$f":"IF($Z$2=\"pok\",\"\",IF(A132=\"\",\"\",COUNTIFS(SYNTHESE!$D:$D,A132,SYNTHESE!$E:$E,$F$1,SYNTHESE!$F:$F,\">=1\")))","v":""},{"$f":"IF($Z$2=\"pok\",\"\",IF(A132=\"\",\"\",COUNTIFS(SYNTHESE!$D:$D,A132,SYNTHESE!$E:$E,$G$1,SYNTHESE!$F:$F,\">=1\")))","v":""},{"$f":"IF($Z$2=\"pok\",\"\",IF(A132=\"\",\"\",COUNTIFS(SYNTHESE!$D:$D,A132,SYNTHESE!$E:$E,$H$1,SYNTHESE!$F:$F,\">=1\")))","v":""},{"$f":"IF($Z$2=\"pok\",\"\",IF(A132=\"\",\"\",COUNTIFS(SYNTHESE!$D:$D,A132,SYNTHESE!$E:$E,$I$1,SYNTHESE!$F:$F,\">=1\")))","v":""},{"$f":"IF($Z$2=\"pok\",\"\",IF(A132=\"\",\"\",COUNTIFS(SYNTHESE!$D:$D,A132,SYNTHESE!$E:$E,$J$1,SYNTHESE!$F:$F,\">=1\")))","v":""},{"$f":"IF($Z$2=\"pok\",\"\",IF(A132=\"\",\"\",COUNTIFS(SYNTHESE!$D:$D,A132,SYNTHESE!$E:$E,$K$1,SYNTHESE!$F:$F,\">=1\")))","v":""},{"$f":"IF($Z$2=\"pok\",\"\",IF(A132=\"\",\"\",COUNTIFS(SYNTHESE!$D:$D,A132,SYNTHESE!$E:$E,$L$1,SYNTHESE!$F:$F,\">=1\")))","v":""},{"$f":"IF($Z$2=\"pok\",\"\",IF(A132=\"\",\"\",COUNTIFS(SYNTHESE!$D:$D,A132,SYNTHESE!$E:$E,$M$1,SYNTHESE!$F:$F,\">=1\")))","v":""},{"$f":"IF($Z$2=\"pok\",\"\",IF(A132=\"\",\"\",COUNTIFS(SYNTHESE!$D:$D,A132,SYNTHESE!$E:$E,$N$1,SYNTHESE!$F:$F,\">=1\")))","v":""},{"$f":"IF($Z$2=\"pok\",\"\",IF(A132=\"\",\"\",COUNTIFS(SYNTHESE!$D:$D,A132,SYNTHESE!$E:$E,$O$1,SYNTHESE!$F:$F,\">=1\")))","v":""},{"$f":"IF($Z$2=\"pok\",\"\",IF(A132=\"\",\"\",COUNTIFS(SYNTHESE!$D:$D,A132,SYNTHESE!$E:$E,$P$1,SYNTHESE!$F:$F,\">=1\")))","v":""},{"$f":"IF($Z$2=\"pok\",\"\",IF(A132=\"\",\"\",COUNTIFS(SYNTHESE!$D:$D,A132,SYNTHESE!$E:$E,$Q$1,SYNTHESE!$F:$F,\">=1\")))","v":""},{"$f":"IF($Z$2=\"pok\",\"\",IF(A132=\"\",\"\",COUNTIFS(SYNTHESE!$D:$D,A132,SYNTHESE!$E:$E,$R$1,SYNTHESE!$F:$F,\">=1\")))","v":""},{"$f":"IF($Z$2=\"pok\",\"\",IF(A132=\"\",\"\",COUNTIFS(SYNTHESE!$D:$D,A132,SYNTHESE!$E:$E,$S$1,SYNTHESE!$F:$F,\">=1\")))","v":""},{"$f":"IF($Z$2=\"pok\",\"\",IF(A132=\"\",\"\",COUNTIFS(SYNTHESE!$D:$D,A132,SYNTHESE!$E:$E,$T$1,SYNTHESE!$F:$F,\">=1\")))","v":""},{"$f":"IF($Z$2=\"pok\",\"\",IF(A132=\"\",\"\",COUNTIFS(SYNTHESE!$D:$D,A132,SYNTHESE!$E:$E,$U$1,SYNTHESE!$F:$F,\">=1\")))","v":""},{"$f":"IF($Z$2=\"pok\",\"\",IF(A132=\"\",\"\",COUNTIFS(SYNTHESE!$D:$D,A132,SYNTHESE!$E:$E,$V$1,SYNTHESE!$F:$F,\">=1\")))","v":""},{"$f":"IF($Z$2=\"pok\",\"\",IF(A132=\"\",\"\",COUNTIFS(SYNTHESE!$D:$D,A132,SYNTHESE!$E:$E,$W$1,SYNTHESE!$F:$F,\">=1\")))","v":""},{"$f":"IF($Z$2=\"pok\",\"\",IF(A132=\"\",\"\",COUNTIFS(SYNTHESE!$D:$D,A132,SYNTHESE!$E:$E,$X$1,SYNTHESE!$F:$F,\">=1\")))","v":""},{"$f":"IF($Z$2=\"pok\",\"\",IF(A132=\"\",\"\",COUNTIFS(SYNTHESE!$D:$D,A132,SYNTHESE!$E:$E,$Y$1,SYNTHESE!$F:$F,\">=1\")))","v":""},{"$f":"SUM(B132:Y132)","v":0}]
[{"$f":"IF(ETUDIANTS!A133=\"\",\"\",ETUDIANTS!A133)","v":""},{"$f":"IF($Z$2=\"pok\",\"\",IF(A133=\"\",\"\",COUNTIFS(SYNTHESE!$D:$D,A133,SYNTHESE!$E:$E,$B$1,SYNTHESE!$F:$F,\">=1\")))","v":""},{"$f":"IF($Z$2=\"pok\",\"\",IF(A133=\"\",\"\",COUNTIFS(SYNTHESE!$D:$D,A133,SYNTHESE!$E:$E,$C$1,SYNTHESE!$F:$F,\">=1\")))","v":""},{"$f":"IF($Z$2=\"pok\",\"\",IF(A133=\"\",\"\",COUNTIFS(SYNTHESE!$D:$D,A133,SYNTHESE!$E:$E,$D$1,SYNTHESE!$F:$F,\">=1\")))","v":""},{"$f":"IF($Z$2=\"pok\",\"\",IF(A133=\"\",\"\",COUNTIFS(SYNTHESE!$D:$D,A133,SYNTHESE!$E:$E,$E$1,SYNTHESE!$F:$F,\">=1\")))","v":""},{"$f":"IF($Z$2=\"pok\",\"\",IF(A133=\"\",\"\",COUNTIFS(SYNTHESE!$D:$D,A133,SYNTHESE!$E:$E,$F$1,SYNTHESE!$F:$F,\">=1\")))","v":""},{"$f":"IF($Z$2=\"pok\",\"\",IF(A133=\"\",\"\",COUNTIFS(SYNTHESE!$D:$D,A133,SYNTHESE!$E:$E,$G$1,SYNTHESE!$F:$F,\">=1\")))","v":""},{"$f":"IF($Z$2=\"pok\",\"\",IF(A133=\"\",\"\",COUNTIFS(SYNTHESE!$D:$D,A133,SYNTHESE!$E:$E,$H$1,SYNTHESE!$F:$F,\">=1\")))","v":""},{"$f":"IF($Z$2=\"pok\",\"\",IF(A133=\"\",\"\",COUNTIFS(SYNTHESE!$D:$D,A133,SYNTHESE!$E:$E,$I$1,SYNTHESE!$F:$F,\">=1\")))","v":""},{"$f":"IF($Z$2=\"pok\",\"\",IF(A133=\"\",\"\",COUNTIFS(SYNTHESE!$D:$D,A133,SYNTHESE!$E:$E,$J$1,SYNTHESE!$F:$F,\">=1\")))","v":""},{"$f":"IF($Z$2=\"pok\",\"\",IF(A133=\"\",\"\",COUNTIFS(SYNTHESE!$D:$D,A133,SYNTHESE!$E:$E,$K$1,SYNTHESE!$F:$F,\">=1\")))","v":""},{"$f":"IF($Z$2=\"pok\",\"\",IF(A133=\"\",\"\",COUNTIFS(SYNTHESE!$D:$D,A133,SYNTHESE!$E:$E,$L$1,SYNTHESE!$F:$F,\">=1\")))","v":""},{"$f":"IF($Z$2=\"pok\",\"\",IF(A133=\"\",\"\",COUNTIFS(SYNTHESE!$D:$D,A133,SYNTHESE!$E:$E,$M$1,SYNTHESE!$F:$F,\">=1\")))","v":""},{"$f":"IF($Z$2=\"pok\",\"\",IF(A133=\"\",\"\",COUNTIFS(SYNTHESE!$D:$D,A133,SYNTHESE!$E:$E,$N$1,SYNTHESE!$F:$F,\">=1\")))","v":""},{"$f":"IF($Z$2=\"pok\",\"\",IF(A133=\"\",\"\",COUNTIFS(SYNTHESE!$D:$D,A133,SYNTHESE!$E:$E,$O$1,SYNTHESE!$F:$F,\">=1\")))","v":""},{"$f":"IF($Z$2=\"pok\",\"\",IF(A133=\"\",\"\",COUNTIFS(SYNTHESE!$D:$D,A133,SYNTHESE!$E:$E,$P$1,SYNTHESE!$F:$F,\">=1\")))","v":""},{"$f":"IF($Z$2=\"pok\",\"\",IF(A133=\"\",\"\",COUNTIFS(SYNTHESE!$D:$D,A133,SYNTHESE!$E:$E,$Q$1,SYNTHESE!$F:$F,\">=1\")))","v":""},{"$f":"IF($Z$2=\"pok\",\"\",IF(A133=\"\",\"\",COUNTIFS(SYNTHESE!$D:$D,A133,SYNTHESE!$E:$E,$R$1,SYNTHESE!$F:$F,\">=1\")))","v":""},{"$f":"IF($Z$2=\"pok\",\"\",IF(A133=\"\",\"\",COUNTIFS(SYNTHESE!$D:$D,A133,SYNTHESE!$E:$E,$S$1,SYNTHESE!$F:$F,\">=1\")))","v":""},{"$f":"IF($Z$2=\"pok\",\"\",IF(A133=\"\",\"\",COUNTIFS(SYNTHESE!$D:$D,A133,SYNTHESE!$E:$E,$T$1,SYNTHESE!$F:$F,\">=1\")))","v":""},{"$f":"IF($Z$2=\"pok\",\"\",IF(A133=\"\",\"\",COUNTIFS(SYNTHESE!$D:$D,A133,SYNTHESE!$E:$E,$U$1,SYNTHESE!$F:$F,\">=1\")))","v":""},{"$f":"IF($Z$2=\"pok\",\"\",IF(A133=\"\",\"\",COUNTIFS(SYNTHESE!$D:$D,A133,SYNTHESE!$E:$E,$V$1,SYNTHESE!$F:$F,\">=1\")))","v":""},{"$f":"IF($Z$2=\"pok\",\"\",IF(A133=\"\",\"\",COUNTIFS(SYNTHESE!$D:$D,A133,SYNTHESE!$E:$E,$W$1,SYNTHESE!$F:$F,\">=1\")))","v":""},{"$f":"IF($Z$2=\"pok\",\"\",IF(A133=\"\",\"\",COUNTIFS(SYNTHESE!$D:$D,A133,SYNTHESE!$E:$E,$X$1,SYNTHESE!$F:$F,\">=1\")))","v":""},{"$f":"IF($Z$2=\"pok\",\"\",IF(A133=\"\",\"\",COUNTIFS(SYNTHESE!$D:$D,A133,SYNTHESE!$E:$E,$Y$1,SYNTHESE!$F:$F,\">=1\")))","v":""},0]
[{"$f":"IF(ETUDIANTS!A134=\"\",\"\",ETUDIANTS!A134)","v":""},{"$f":"IF($Z$2=\"pok\",\"\",IF(A134=\"\",\"\",COUNTIFS(SYNTHESE!$D:$D,A134,SYNTHESE!$E:$E,$B$1,SYNTHESE!$F:$F,\">=1\")))","v":""},{"$f":"IF($Z$2=\"pok\",\"\",IF(A134=\"\",\"\",COUNTIFS(SYNTHESE!$D:$D,A134,SYNTHESE!$E:$E,$C$1,SYNTHESE!$F:$F,\">=1\")))","v":""},{"$f":"IF($Z$2=\"pok\",\"\",IF(A134=\"\",\"\",COUNTIFS(SYNTHESE!$D:$D,A134,SYNTHESE!$E:$E,$D$1,SYNTHESE!$F:$F,\">=1\")))","v":""},{"$f":"IF($Z$2=\"pok\",\"\",IF(A134=\"\",\"\",COUNTIFS(SYNTHESE!$D:$D,A134,SYNTHESE!$E:$E,$E$1,SYNTHESE!$F:$F,\">=1\")))","v":""},{"$f":"IF($Z$2=\"pok\",\"\",IF(A134=\"\",\"\",COUNTIFS(SYNTHESE!$D:$D,A134,SYNTHESE!$E:$E,$F$1,SYNTHESE!$F:$F,\">=1\")))","v":""},{"$f":"IF($Z$2=\"pok\",\"\",IF(A134=\"\",\"\",COUNTIFS(SYNTHESE!$D:$D,A134,SYNTHESE!$E:$E,$G$1,SYNTHESE!$F:$F,\">=1\")))","v":""},{"$f":"IF($Z$2=\"pok\",\"\",IF(A134=\"\",\"\",COUNTIFS(SYNTHESE!$D:$D,A134,SYNTHESE!$E:$E,$H$1,SYNTHESE!$F:$F,\">=1\")))","v":""},{"$f":"IF($Z$2=\"pok\",\"\",IF(A134=\"\",\"\",COUNTIFS(SYNTHESE!$D:$D,A134,SYNTHESE!$E:$E,$I$1,SYNTHESE!$F:$F,\">=1\")))","v":""},{"$f":"IF($Z$2=\"pok\",\"\",IF(A134=\"\",\"\",COUNTIFS(SYNTHESE!$D:$D,A134,SYNTHESE!$E:$E,$J$1,SYNTHESE!$F:$F,\">=1\")))","v":""},{"$f":"IF($Z$2=\"pok\",\"\",IF(A134=\"\",\"\",COUNTIFS(SYNTHESE!$D:$D,A134,SYNTHESE!$E:$E,$K$1,SYNTHESE!$F:$F,\">=1\")))","v":""},{"$f":"IF($Z$2=\"pok\",\"\",IF(A134=\"\",\"\",COUNTIFS(SYNTHESE!$D:$D,A134,SYNTHESE!$E:$E,$L$1,SYNTHESE!$F:$F,\">=1\")))","v":""},{"$f":"IF($Z$2=\"pok\",\"\",IF(A134=\"\",\"\",COUNTIFS(SYNTHESE!$D:$D,A134,SYNTHESE!$E:$E,$M$1,SYNTHESE!$F:$F,\">=1\")))","v":""},{"$f":"IF($Z$2=\"pok\",\"\",IF(A134=\"\",\"\",COUNTIFS(SYNTHESE!$D:$D,A134,SYNTHESE!$E:$E,$N$1,SYNTHESE!$F:$F,\">=1\")))","v":""},{"$f":"IF($Z$2=\"pok\",\"\",IF(A134=\"\",\"\",COUNTIFS(SYNTHESE!$D:$D,A134,SYNTHESE!$E:$E,$O$1,SYNTHESE!$F:$F,\">=1\")))","v":""},{"$f":"IF($Z$2=\"pok\",\"\",IF(A134=\"\",\"\",COUNTIFS(SYNTHESE!$D:$D,A134,SYNTHESE!$E:$E,$P$1,SYNTHESE!$F:$F,\">=1\")))","v":""},{"$f":"IF($Z$2=\"pok\",\"\",IF(A134=\"\",\"\",COUNTIFS(SYNTHESE!$D:$D,A134,SYNTHESE!$E:$E,$Q$1,SYNTHESE!$F:$F,\">=1\")))","v":""},{"$f":"IF($Z$2=\"pok\",\"\",IF(A134=\"\",\"\",COUNTIFS(SYNTHESE!$D:$D,A134,SYNTHESE!$E:$E,$R$1,SYNTHESE!$F:$F,\">=1\")))","v":""},{"$f":"IF($Z$2=\"pok\",\"\",IF(A134=\"\",\"\",COUNTIFS(SYNTHESE!$D:$D,A134,SYNTHESE!$E:$E,$S$1,SYNTHESE!$F:$F,\">=1\")))","v":""},{"$f":"IF($Z$2=\"pok\",\"\",IF(A134=\"\",\"\",COUNTIFS(SYNTHESE!$D:$D,A134,SYNTHESE!$E:$E,$T$1,SYNTHESE!$F:$F,\">=1\")))","v":""},{"$f":"IF($Z$2=\"pok\",\"\",IF(A134=\"\",\"\",COUNTIFS(SYNTHESE!$D:$D,A134,SYNTHESE!$E:$E,$U$1,SYNTHESE!$F:$F,\">=1\")))","v":""},{"$f":"IF($Z$2=\"pok\",\"\",IF(A134=\"\",\"\",COUNTIFS(SYNTHESE!$D:$D,A134,SYNTHESE!$E:$E,$V$1,SYNTHESE!$F:$F,\">=1\")))","v":""},{"$f":"IF($Z$2=\"pok\",\"\",IF(A134=\"\",\"\",COUNTIFS(SYNTHESE!$D:$D,A134,SYNTHESE!$E:$E,$W$1,SYNTHESE!$F:$F,\">=1\")))","v":""},{"$f":"IF($Z$2=\"pok\",\"\",IF(A134=\"\",\"\",COUNTIFS(SYNTHESE!$D:$D,A134,SYNTHESE!$E:$E,$X$1,SYNTHESE!$F:$F,\">=1\")))","v":""},{"$f":"IF($Z$2=\"pok\",\"\",IF(A134=\"\",\"\",COUNTIFS(SYNTHESE!$D:$D,A134,SYNTHESE!$E:$E,$Y$1,SYNTHESE!$F:$F,\">=1\")))","v":""},0]
[{"$f":"IF(ETUDIANTS!A135=\"\",\"\",ETUDIANTS!A135)","v":""},{"$f":"IF($Z$2=\"pok\",\"\",IF(A135=\"\",\"\",COUNTIFS(SYNTHESE!$D:$D,A135,SYNTHESE!$E:$E,$B$1,SYNTHESE!$F:$F,\">=1\")))","v":""},{"$f":"IF($Z$2=\"pok\",\"\",IF(A135=\"\",\"\",COUNTIFS(SYNTHESE!$D:$D,A135,SYNTHESE!$E:$E,$C$1,SYNTHESE!$F:$F,\">=1\")))","v":""},{"$f":"IF($Z$2=\"pok\",\"\",IF(A135=\"\",\"\",COUNTIFS(SYNTHESE!$D:$D,A135,SYNTHESE!$E:$E,$D$1,SYNTHESE!$F:$F,\">=1\")))","v":""},{"$f":"IF($Z$2=\"pok\",\"\",IF(A135=\"\",\"\",COUNTIFS(SYNTHESE!$D:$D,A135,SYNTHESE!$E:$E,$E$1,SYNTHESE!$F:$F,\">=1\")))","v":""},{"$f":"IF($Z$2=\"pok\",\"\",IF(A135=\"\",\"\",COUNTIFS(SYNTHESE!$D:$D,A135,SYNTHESE!$E:$E,$F$1,SYNTHESE!$F:$F,\">=1\")))","v":""},{"$f":"IF($Z$2=\"pok\",\"\",IF(A135=\"\",\"\",COUNTIFS(SYNTHESE!$D:$D,A135,SYNTHESE!$E:$E,$G$1,SYNTHESE!$F:$F,\">=1\")))","v":""},{"$f":"IF($Z$2=\"pok\",\"\",IF(A135=\"\",\"\",COUNTIFS(SYNTHESE!$D:$D,A135,SYNTHESE!$E:$E,$H$1,SYNTHESE!$F:$F,\">=1\")))","v":""},{"$f":"IF($Z$2=\"pok\",\"\",IF(A135=\"\",\"\",COUNTIFS(SYNTHESE!$D:$D,A135,SYNTHESE!$E:$E,$I$1,SYNTHESE!$F:$F,\">=1\")))","v":""},{"$f":"IF($Z$2=\"pok\",\"\",IF(A135=\"\",\"\",COUNTIFS(SYNTHESE!$D:$D,A135,SYNTHESE!$E:$E,$J$1,SYNTHESE!$F:$F,\">=1\")))","v":""},{"$f":"IF($Z$2=\"pok\",\"\",IF(A135=\"\",\"\",COUNTIFS(SYNTHESE!$D:$D,A135,SYNTHESE!$E:$E,$K$1,SYNTHESE!$F:$F,\">=1\")))","v":""},{"$f":"IF($Z$2=\"pok\",\"\",IF(A135=\"\",\"\",COUNTIFS(SYNTHESE!$D:$D,A135,SYNTHESE!$E:$E,$L$1,SYNTHESE!$F:$F,\">=1\")))","v":""},{"$f":"IF($Z$2=\"pok\",\"\",IF(A135=\"\",\"\",COUNTIFS(SYNTHESE!$D:$D,A135,SYNTHESE!$E:$E,$M$1,SYNTHESE!$F:$F,\">=1\")))","v":""},{"$f":"IF($Z$2=\"pok\",\"\",IF(A135=\"\",\"\",COUNTIFS(SYNTHESE!$D:$D,A135,SYNTHESE!$E:$E,$N$1,SYNTHESE!$F:$F,\">=1\")))","v":""},{"$f":"IF($Z$2=\"pok\",\"\",IF(A135=\"\",\"\",COUNTIFS(SYNTHESE!$D:$D,A135,SYNTHESE!$E:$E,$O$1,SYNTHESE!$F:$F,\">=1\")))","v":""},{"$f":"IF($Z$2=\"pok\",\"\",IF(A135=\"\",\"\",COUNTIFS(SYNTHESE!$D:$D,A135,SYNTHESE!$E:$E,$P$1,SYNTHESE!$F:$F,\">=1\")))","v":""},{"$f":"IF($Z$2=\"pok\",\"\",IF(A135=\"\",\"\",COUNTIFS(SYNTHESE!$D:$D,A135,SYNTHESE!$E:$E,$Q$1,SYNTHESE!$F:$F,\">=1\")))","v":""},{"$f":"IF($Z$2=\"pok\",\"\",IF(A135=\"\",\"\",COUNTIFS(SYNTHESE!$D:$D,A135,SYNTHESE!$E:$E,$R$1,SYNTHESE!$F:$F,\">=1\")))","v":""},{"$f":"IF($Z$2=\"pok\",\"\",IF(A135=\"\",\"\",COUNTIFS(SYNTHESE!$D:$D,A135,SYNTHESE!$E:$E,$S$1,SYNTHESE!$F:$F,\">=1\")))","v":""},{"$f":"IF($Z$2=\"pok\",\"\",IF(A135=\"\",\"\",COUNTIFS(SYNTHESE!$D:$D,A135,SYNTHESE!$E:$E,$T$1,SYNTHESE!$F:$F,\">=1\")))","v":""},{"$f":"IF($Z$2=\"pok\",\"\",IF(A135=\"\",\"\",COUNTIFS(SYNTHESE!$D:$D,A135,SYNTHESE!$E:$E,$U$1,SYNTHESE!$F:$F,\">=1\")))","v":""},{"$f":"IF($Z$2=\"pok\",\"\",IF(A135=\"\",\"\",COUNTIFS(SYNTHESE!$D:$D,A135,SYNTHESE!$E:$E,$V$1,SYNTHESE!$F:$F,\">=1\")))","v":""},{"$f":"IF($Z$2=\"pok\",\"\",IF(A135=\"\",\"\",COUNTIFS(SYNTHESE!$D:$D,A135,SYNTHESE!$E:$E,$W$1,SYNTHESE!$F:$F,\">=1\")))","v":""},{"$f":"IF($Z$2=\"pok\",\"\",IF(A135=\"\",\"\",COUNTIFS(SYNTHESE!$D:$D,A135,SYNTHESE!$E:$E,$X$1,SYNTHESE!$F:$F,\">=1\")))","v":""},{"$f":"IF($Z$2=\"pok\",\"\",IF(A135=\"\",\"\",COUNTIFS(SYNTHESE!$D:$D,A135,SYNTHESE!$E:$E,$Y$1,SYNTHESE!$F:$F,\">=1\")))","v":""},0]
[{"$f":"IF(ETUDIANTS!A136=\"\",\"\",ETUDIANTS!A136)","v":""},{"$f":"IF($Z$2=\"pok\",\"\",IF(A136=\"\",\"\",COUNTIFS(SYNTHESE!$D:$D,A136,SYNTHESE!$E:$E,$B$1,SYNTHESE!$F:$F,\">=1\")))","v":""},{"$f":"IF($Z$2=\"pok\",\"\",IF(A136=\"\",\"\",COUNTIFS(SYNTHESE!$D:$D,A136,SYNTHESE!$E:$E,$C$1,SYNTHESE!$F:$F,\">=1\")))","v":""},{"$f":"IF($Z$2=\"pok\",\"\",IF(A136=\"\",\"\",COUNTIFS(SYNTHESE!$D:$D,A136,SYNTHESE!$E:$E,$D$1,SYNTHESE!$F:$F,\">=1\")))","v":""},{"$f":"IF($Z$2=\"pok\",\"\",IF(A136=\"\",\"\",COUNTIFS(SYNTHESE!$D:$D,A136,SYNTHESE!$E:$E,$E$1,SYNTHESE!$F:$F,\">=1\")))","v":""},{"$f":"IF($Z$2=\"pok\",\"\",IF(A136=\"\",\"\",COUNTIFS(SYNTHESE!$D:$D,A136,SYNTHESE!$E:$E,$F$1,SYNTHESE!$F:$F,\">=1\")))","v":""},{"$f":"IF($Z$2=\"pok\",\"\",IF(A136=\"\",\"\",COUNTIFS(SYNTHESE!$D:$D,A136,SYNTHESE!$E:$E,$G$1,SYNTHESE!$F:$F,\">=1\")))","v":""},{"$f":"IF($Z$2=\"pok\",\"\",IF(A136=\"\",\"\",COUNTIFS(SYNTHESE!$D:$D,A136,SYNTHESE!$E:$E,$H$1,SYNTHESE!$F:$F,\">=1\")))","v":""},{"$f":"IF($Z$2=\"pok\",\"\",IF(A136=\"\",\"\",COUNTIFS(SYNTHESE!$D:$D,A136,SYNTHESE!$E:$E,$I$1,SYNTHESE!$F:$F,\">=1\")))","v":""},{"$f":"IF($Z$2=\"pok\",\"\",IF(A136=\"\",\"\",COUNTIFS(SYNTHESE!$D:$D,A136,SYNTHESE!$E:$E,$J$1,SYNTHESE!$F:$F,\">=1\")))","v":""},{"$f":"IF($Z$2=\"pok\",\"\",IF(A136=\"\",\"\",COUNTIFS(SYNTHESE!$D:$D,A136,SYNTHESE!$E:$E,$K$1,SYNTHESE!$F:$F,\">=1\")))","v":""},{"$f":"IF($Z$2=\"pok\",\"\",IF(A136=\"\",\"\",COUNTIFS(SYNTHESE!$D:$D,A136,SYNTHESE!$E:$E,$L$1,SYNTHESE!$F:$F,\">=1\")))","v":""},{"$f":"IF($Z$2=\"pok\",\"\",IF(A136=\"\",\"\",COUNTIFS(SYNTHESE!$D:$D,A136,SYNTHESE!$E:$E,$M$1,SYNTHESE!$F:$F,\">=1\")))","v":""},{"$f":"IF($Z$2=\"pok\",\"\",IF(A136=\"\",\"\",COUNTIFS(SYNTHESE!$D:$D,A136,SYNTHESE!$E:$E,$N$1,SYNTHESE!$F:$F,\">=1\")))","v":""},{"$f":"IF($Z$2=\"pok\",\"\",IF(A136=\"\",\"\",COUNTIFS(SYNTHESE!$D:$D,A136,SYNTHESE!$E:$E,$O$1,SYNTHESE!$F:$F,\">=1\")))","v":""},{"$f":"IF($Z$2=\"pok\",\"\",IF(A136=\"\",\"\",COUNTIFS(SYNTHESE!$D:$D,A136,SYNTHESE!$E:$E,$P$1,SYNTHESE!$F:$F,\">=1\")))","v":""},{"$f":"IF($Z$2=\"pok\",\"\",IF(A136=\"\",\"\",COUNTIFS(SYNTHESE!$D:$D,A136,SYNTHESE!$E:$E,$Q$1,SYNTHESE!$F:$F,\">=1\")))","v":""},{"$f":"IF($Z$2=\"pok\",\"\",IF(A136=\"\",\"\",COUNTIFS(SYNTHESE!$D:$D,A136,SYNTHESE!$E:$E,$R$1,SYNTHESE!$F:$F,\">=1\")))","v":""},{"$f":"IF($Z$2=\"pok\",\"\",IF(A136=\"\",\"\",COUNTIFS(SYNTHESE!$D:$D,A136,SYNTHESE!$E:$E,$S$1,SYNTHESE!$F:$F,\">=1\")))","v":""},{"$f":"IF($Z$2=\"pok\",\"\",IF(A136=\"\",\"\",COUNTIFS(SYNTHESE!$D:$D,A136,SYNTHESE!$E:$E,$T$1,SYNTHESE!$F:$F,\">=1\")))","v":""},{"$f":"IF($Z$2=\"pok\",\"\",IF(A136=\"\",\"\",COUNTIFS(SYNTHESE!$D:$D,A136,SYNTHESE!$E:$E,$U$1,SYNTHESE!$F:$F,\">=1\")))","v":""},{"$f":"IF($Z$2=\"pok\",\"\",IF(A136=\"\",\"\",COUNTIFS(SYNTHESE!$D:$D,A136,SYNTHESE!$E:$E,$V$1,SYNTHESE!$F:$F,\">=1\")))","v":""},{"$f":"IF($Z$2=\"pok\",\"\",IF(A136=\"\",\"\",COUNTIFS(SYNTHESE!$D:$D,A136,SYNTHESE!$E:$E,$W$1,SYNTHESE!$F:$F,\">=1\")))","v":""},{"$f":"IF($Z$2=\"pok\",\"\",IF(A136=\"\",\"\",COUNTIFS(SYNTHESE!$D:$D,A136,SYNTHESE!$E:$E,$X$1,SYNTHESE!$F:$F,\">=1\")))","v":""},{"$f":"IF($Z$2=\"pok\",\"\",IF(A136=\"\",\"\",COUNTIFS(SYNTHESE!$D:$D,A136,SYNTHESE!$E:$E,$Y$1,SYNTHESE!$F:$F,\">=1\")))","v":""},0]
[{"$f":"IF(ETUDIANTS!A137=\"\",\"\",ETUDIANTS!A137)","v":""},{"$f":"IF($Z$2=\"pok\",\"\",IF(A137=\"\",\"\",COUNTIFS(SYNTHESE!$D:$D,A137,SYNTHESE!$E:$E,$B$1,SYNTHESE!$F:$F,\">=1\")))","v":""},{"$f":"IF($Z$2=\"pok\",\"\",IF(A137=\"\",\"\",COUNTIFS(SYNTHESE!$D:$D,A137,SYNTHESE!$E:$E,$C$1,SYNTHESE!$F:$F,\">=1\")))","v":""},{"$f":"IF($Z$2=\"pok\",\"\",IF(A137=\"\",\"\",COUNTIFS(SYNTHESE!$D:$D,A137,SYNTHESE!$E:$E,$D$1,SYNTHESE!$F:$F,\">=1\")))","v":""},{"$f":"IF($Z$2=\"pok\",\"\",IF(A137=\"\",\"\",COUNTIFS(SYNTHESE!$D:$D,A137,SYNTHESE!$E:$E,$E$1,SYNTHESE!$F:$F,\">=1\")))","v":""},{"$f":"IF($Z$2=\"pok\",\"\",IF(A137=\"\",\"\",COUNTIFS(SYNTHESE!$D:$D,A137,SYNTHESE!$E:$E,$F$1,SYNTHESE!$F:$F,\">=1\")))","v":""},{"$f":"IF($Z$2=\"pok\",\"\",IF(A137=\"\",\"\",COUNTIFS(SYNTHESE!$D:$D,A137,SYNTHESE!$E:$E,$G$1,SYNTHESE!$F:$F,\">=1\")))","v":""},{"$f":"IF($Z$2=\"pok\",\"\",IF(A137=\"\",\"\",COUNTIFS(SYNTHESE!$D:$D,A137,SYNTHESE!$E:$E,$H$1,SYNTHESE!$F:$F,\">=1\")))","v":""},{"$f":"IF($Z$2=\"pok\",\"\",IF(A137=\"\",\"\",COUNTIFS(SYNTHESE!$D:$D,A137,SYNTHESE!$E:$E,$I$1,SYNTHESE!$F:$F,\">=1\")))","v":""},{"$f":"IF($Z$2=\"pok\",\"\",IF(A137=\"\",\"\",COUNTIFS(SYNTHESE!$D:$D,A137,SYNTHESE!$E:$E,$J$1,SYNTHESE!$F:$F,\">=1\")))","v":""},{"$f":"IF($Z$2=\"pok\",\"\",IF(A137=\"\",\"\",COUNTIFS(SYNTHESE!$D:$D,A137,SYNTHESE!$E:$E,$K$1,SYNTHESE!$F:$F,\">=1\")))","v":""},{"$f":"IF($Z$2=\"pok\",\"\",IF(A137=\"\",\"\",COUNTIFS(SYNTHESE!$D:$D,A137,SYNTHESE!$E:$E,$L$1,SYNTHESE!$F:$F,\">=1\")))","v":""},{"$f":"IF($Z$2=\"pok\",\"\",IF(A137=\"\",\"\",COUNTIFS(SYNTHESE!$D:$D,A137,SYNTHESE!$E:$E,$M$1,SYNTHESE!$F:$F,\">=1\")))","v":""},{"$f":"IF($Z$2=\"pok\",\"\",IF(A137=\"\",\"\",COUNTIFS(SYNTHESE!$D:$D,A137,SYNTHESE!$E:$E,$N$1,SYNTHESE!$F:$F,\">=1\")))","v":""},{"$f":"IF($Z$2=\"pok\",\"\",IF(A137=\"\",\"\",COUNTIFS(SYNTHESE!$D:$D,A137,SYNTHESE!$E:$E,$O$1,SYNTHESE!$F:$F,\">=1\")))","v":""},{"$f":"IF($Z$2=\"pok\",\"\",IF(A137=\"\",\"\",COUNTIFS(SYNTHESE!$D:$D,A137,SYNTHESE!$E:$E,$P$1,SYNTHESE!$F:$F,\">=1\")))","v":""},{"$f":"IF($Z$2=\"pok\",\"\",IF(A137=\"\",\"\",COUNTIFS(SYNTHESE!$D:$D,A137,SYNTHESE!$E:$E,$Q$1,SYNTHESE!$F:$F,\">=1\")))","v":""},{"$f":"IF($Z$2=\"pok\",\"\",IF(A137=\"\",\"\",COUNTIFS(SYNTHESE!$D:$D,A137,SYNTHESE!$E:$E,$R$1,SYNTHESE!$F:$F,\">=1\")))","v":""},{"$f":"IF($Z$2=\"pok\",\"\",IF(A137=\"\",\"\",COUNTIFS(SYNTHESE!$D:$D,A137,SYNTHESE!$E:$E,$S$1,SYNTHESE!$F:$F,\">=1\")))","v":""},{"$f":"IF($Z$2=\"pok\",\"\",IF(A137=\"\",\"\",COUNTIFS(SYNTHESE!$D:$D,A137,SYNTHESE!$E:$E,$T$1,SYNTHESE!$F:$F,\">=1\")))","v":""},{"$f":"IF($Z$2=\"pok\",\"\",IF(A137=\"\",\"\",COUNTIFS(SYNTHESE!$D:$D,A137,SYNTHESE!$E:$E,$U$1,SYNTHESE!$F:$F,\">=1\")))","v":""},{"$f":"IF($Z$2=\"pok\",\"\",IF(A137=\"\",\"\",COUNTIFS(SYNTHESE!$D:$D,A137,SYNTHESE!$E:$E,$V$1,SYNTHESE!$F:$F,\">=1\")))","v":""},{"$f":"IF($Z$2=\"pok\",\"\",IF(A137=\"\",\"\",COUNTIFS(SYNTHESE!$D:$D,A137,SYNTHESE!$E:$E,$W$1,SYNTHESE!$F:$F,\">=1\")))","v":""},{"$f":"IF($Z$2=\"pok\",\"\",IF(A137=\"\",\"\",COUNTIFS(SYNTHESE!$D:$D,A137,SYNTHESE!$E:$E,$X$1,SYNTHESE!$F:$F,\">=1\")))","v":""},{"$f":"IF($Z$2=\"pok\",\"\",IF(A137=\"\",\"\",COUNTIFS(SYNTHESE!$D:$D,A137,SYNTHESE!$E:$E,$Y$1,SYNTHESE!$F:$F,\">=1\")))","v":""},0]
[{"$f":"IF(ETUDIANTS!A138=\"\",\"\",ETUDIANTS!A138)","v":""},{"$f":"IF($Z$2=\"pok\",\"\",IF(A138=\"\",\"\",COUNTIFS(SYNTHESE!$D:$D,A138,SYNTHESE!$E:$E,$B$1,SYNTHESE!$F:$F,\">=1\")))","v":""},{"$f":"IF($Z$2=\"pok\",\"\",IF(A138=\"\",\"\",COUNTIFS(SYNTHESE!$D:$D,A138,SYNTHESE!$E:$E,$C$1,SYNTHESE!$F:$F,\">=1\")))","v":""},{"$f":"IF($Z$2=\"pok\",\"\",IF(A138=\"\",\"\",COUNTIFS(SYNTHESE!$D:$D,A138,SYNTHESE!$E:$E,$D$1,SYNTHESE!$F:$F,\">=1\")))","v":""},{"$f":"IF($Z$2=\"pok\",\"\",IF(A138=\"\",\"\",COUNTIFS(SYNTHESE!$D:$D,A138,SYNTHESE!$E:$E,$E$1,SYNTHESE!$F:$F,\">=1\")))","v":""},{"$f":"IF($Z$2=\"pok\",\"\",IF(A138=\"\",\"\",COUNTIFS(SYNTHESE!$D:$D,A138,SYNTHESE!$E:$E,$F$1,SYNTHESE!$F:$F,\">=1\")))","v":""},{"$f":"IF($Z$2=\"pok\",\"\",IF(A138=\"\",\"\",COUNTIFS(SYNTHESE!$D:$D,A138,SYNTHESE!$E:$E,$G$1,SYNTHESE!$F:$F,\">=1\")))","v":""},{"$f":"IF($Z$2=\"pok\",\"\",IF(A138=\"\",\"\",COUNTIFS(SYNTHESE!$D:$D,A138,SYNTHESE!$E:$E,$H$1,SYNTHESE!$F:$F,\">=1\")))","v":""},{"$f":"IF($Z$2=\"pok\",\"\",IF(A138=\"\",\"\",COUNTIFS(SYNTHESE!$D:$D,A138,SYNTHESE!$E:$E,$I$1,SYNTHESE!$F:$F,\">=1\")))","v":""},{"$f":"IF($Z$2=\"pok\",\"\",IF(A138=\"\",\"\",COUNTIFS(SYNTHESE!$D:$D,A138,SYNTHESE!$E:$E,$J$1,SYNTHESE!$F:$F,\">=1\")))","v":""},{"$f":"IF($Z$2=\"pok\",\"\",IF(A138=\"\",\"\",COUNTIFS(SYNTHESE!$D:$D,A138,SYNTHESE!$E:$E,$K$1,SYNTHESE!$F:$F,\">=1\")))","v":""},{"$f":"IF($Z$2=\"pok\",\"\",IF(A138=\"\",\"\",COUNTIFS(SYNTHESE!$D:$D,A138,SYNTHESE!$E:$E,$L$1,SYNTHESE!$F:$F,\">=1\")))","v":""},{"$f":"IF($Z$2=\"pok\",\"\",IF(A138=\"\",\"\",COUNTIFS(SYNTHESE!$D:$D,A138,SYNTHESE!$E:$E,$M$1,SYNTHESE!$F:$F,\">=1\")))","v":""},{"$f":"IF($Z$2=\"pok\",\"\",IF(A138=\"\",\"\",COUNTIFS(SYNTHESE!$D:$D,A138,SYNTHESE!$E:$E,$N$1,SYNTHESE!$F:$F,\">=1\")))","v":""},{"$f":"IF($Z$2=\"pok\",\"\",IF(A138=\"\",\"\",COUNTIFS(SYNTHESE!$D:$D,A138,SYNTHESE!$E:$E,$O$1,SYNTHESE!$F:$F,\">=1\")))","v":""},{"$f":"IF($Z$2=\"pok\",\"\",IF(A138=\"\",\"\",COUNTIFS(SYNTHESE!$D:$D,A138,SYNTHESE!$E:$E,$P$1,SYNTHESE!$F:$F,\">=1\")))","v":""},{"$f":"IF($Z$2=\"pok\",\"\",IF(A138=\"\",\"\",COUNTIFS(SYNTHESE!$D:$D,A138,SYNTHESE!$E:$E,$Q$1,SYNTHESE!$F:$F,\">=1\")))","v":""},{"$f":"IF($Z$2=\"pok\",\"\",IF(A138=\"\",\"\",COUNTIFS(SYNTHESE!$D:$D,A138,SYNTHESE!$E:$E,$R$1,SYNTHESE!$F:$F,\">=1\")))","v":""},{"$f":"IF($Z$2=\"pok\",\"\",IF(A138=\"\",\"\",COUNTIFS(SYNTHESE!$D:$D,A138,SYNTHESE!$E:$E,$S$1,SYNTHESE!$F:$F,\">=1\")))","v":""},{"$f":"IF($Z$2=\"pok\",\"\",IF(A138=\"\",\"\",COUNTIFS(SYNTHESE!$D:$D,A138,SYNTHESE!$E:$E,$T$1,SYNTHESE!$F:$F,\">=1\")))","v":""},{"$f":"IF($Z$2=\"pok\",\"\",IF(A138=\"\",\"\",COUNTIFS(SYNTHESE!$D:$D,A138,SYNTHESE!$E:$E,$U$1,SYNTHESE!$F:$F,\">=1\")))","v":""},{"$f":"IF($Z$2=\"pok\",\"\",IF(A138=\"\",\"\",COUNTIFS(SYNTHESE!$D:$D,A138,SYNTHESE!$E:$E,$V$1,SYNTHESE!$F:$F,\">=1\")))","v":""},{"$f":"IF($Z$2=\"pok\",\"\",IF(A138=\"\",\"\",COUNTIFS(SYNTHESE!$D:$D,A138,SYNTHESE!$E:$E,$W$1,SYNTHESE!$F:$F,\">=1\")))","v":""},{"$f":"IF($Z$2=\"pok\",\"\",IF(A138=\"\",\"\",COUNTIFS(SYNTHESE!$D:$D,A138,SYNTHESE!$E:$E,$X$1,SYNTHESE!$F:$F,\">=1\")))","v":""},{"$f":"IF($Z$2=\"pok\",\"\",IF(A138=\"\",\"\",COUNTIFS(SYNTHESE!$D:$D,A138,SYNTHESE!$E:$E,$Y$1,SYNTHESE!$F:$F,\">=1\")))","v":""},0]
[{"$f":"IF(ETUDIANTS!A139=\"\",\"\",ETUDIANTS!A139)","v":""},{"$f":"IF($Z$2=\"pok\",\"\",IF(A139=\"\",\"\",COUNTIFS(SYNTHESE!$D:$D,A139,SYNTHESE!$E:$E,$B$1,SYNTHESE!$F:$F,\">=1\")))","v":""},{"$f":"IF($Z$2=\"pok\",\"\",IF(A139=\"\",\"\",COUNTIFS(SYNTHESE!$D:$D,A139,SYNTHESE!$E:$E,$C$1,SYNTHESE!$F:$F,\">=1\")))","v":""},{"$f":"IF($Z$2=\"pok\",\"\",IF(A139=\"\",\"\",COUNTIFS(SYNTHESE!$D:$D,A139,SYNTHESE!$E:$E,$D$1,SYNTHESE!$F:$F,\">=1\")))","v":""},{"$f":"IF($Z$2=\"pok\",\"\",IF(A139=\"\",\"\",COUNTIFS(SYNTHESE!$D:$D,A139,SYNTHESE!$E:$E,$E$1,SYNTHESE!$F:$F,\">=1\")))","v":""},{"$f":"IF($Z$2=\"pok\",\"\",IF(A139=\"\",\"\",COUNTIFS(SYNTHESE!$D:$D,A139,SYNTHESE!$E:$E,$F$1,SYNTHESE!$F:$F,\">=1\")))","v":""},{"$f":"IF($Z$2=\"pok\",\"\",IF(A139=\"\",\"\",COUNTIFS(SYNTHESE!$D:$D,A139,SYNTHESE!$E:$E,$G$1,SYNTHESE!$F:$F,\">=1\")))","v":""},{"$f":"IF($Z$2=\"pok\",\"\",IF(A139=\"\",\"\",COUNTIFS(SYNTHESE!$D:$D,A139,SYNTHESE!$E:$E,$H$1,SYNTHESE!$F:$F,\">=1\")))","v":""},{"$f":"IF($Z$2=\"pok\",\"\",IF(A139=\"\",\"\",COUNTIFS(SYNTHESE!$D:$D,A139,SYNTHESE!$E:$E,$I$1,SYNTHESE!$F:$F,\">=1\")))","v":""},{"$f":"IF($Z$2=\"pok\",\"\",IF(A139=\"\",\"\",COUNTIFS(SYNTHESE!$D:$D,A139,SYNTHESE!$E:$E,$J$1,SYNTHESE!$F:$F,\">=1\")))","v":""},{"$f":"IF($Z$2=\"pok\",\"\",IF(A139=\"\",\"\",COUNTIFS(SYNTHESE!$D:$D,A139,SYNTHESE!$E:$E,$K$1,SYNTHESE!$F:$F,\">=1\")))","v":""},{"$f":"IF($Z$2=\"pok\",\"\",IF(A139=\"\",\"\",COUNTIFS(SYNTHESE!$D:$D,A139,SYNTHESE!$E:$E,$L$1,SYNTHESE!$F:$F,\">=1\")))","v":""},{"$f":"IF($Z$2=\"pok\",\"\",IF(A139=\"\",\"\",COUNTIFS(SYNTHESE!$D:$D,A139,SYNTHESE!$E:$E,$M$1,SYNTHESE!$F:$F,\">=1\")))","v":""},{"$f":"IF($Z$2=\"pok\",\"\",IF(A139=\"\",\"\",COUNTIFS(SYNTHESE!$D:$D,A139,SYNTHESE!$E:$E,$N$1,SYNTHESE!$F:$F,\">=1\")))","v":""},{"$f":"IF($Z$2=\"pok\",\"\",IF(A139=\"\",\"\",COUNTIFS(SYNTHESE!$D:$D,A139,SYNTHESE!$E:$E,$O$1,SYNTHESE!$F:$F,\">=1\")))","v":""},{"$f":"IF($Z$2=\"pok\",\"\",IF(A139=\"\",\"\",COUNTIFS(SYNTHESE!$D:$D,A139,SYNTHESE!$E:$E,$P$1,SYNTHESE!$F:$F,\">=1\")))","v":""},{"$f":"IF($Z$2=\"pok\",\"\",IF(A139=\"\",\"\",COUNTIFS(SYNTHESE!$D:$D,A139,SYNTHESE!$E:$E,$Q$1,SYNTHESE!$F:$F,\">=1\")))","v":""},{"$f":"IF($Z$2=\"pok\",\"\",IF(A139=\"\",\"\",COUNTIFS(SYNTHESE!$D:$D,A139,SYNTHESE!$E:$E,$R$1,SYNTHESE!$F:$F,\">=1\")))","v":""},{"$f":"IF($Z$2=\"pok\",\"\",IF(A139=\"\",\"\",COUNTIFS(SYNTHESE!$D:$D,A139,SYNTHESE!$E:$E,$S$1,SYNTHESE!$F:$F,\">=1\")))","v":""},{"$f":"IF($Z$2=\"pok\",\"\",IF(A139=\"\",\"\",COUNTIFS(SYNTHESE!$D:$D,A139,SYNTHESE!$E:$E,$T$1,SYNTHESE!$F:$F,\">=1\")))","v":""},{"$f":"IF($Z$2=\"pok\",\"\",IF(A139=\"\",\"\",COUNTIFS(SYNTHESE!$D:$D,A139,SYNTHESE!$E:$E,$U$1,SYNTHESE!$F:$F,\">=1\")))","v":""},{"$f":"IF($Z$2=\"pok\",\"\",IF(A139=\"\",\"\",COUNTIFS(SYNTHESE!$D:$D,A139,SYNTHESE!$E:$E,$V$1,SYNTHESE!$F:$F,\">=1\")))","v":""},{"$f":"IF($Z$2=\"pok\",\"\",IF(A139=\"\",\"\",COUNTIFS(SYNTHESE!$D:$D,A139,SYNTHESE!$E:$E,$W$1,SYNTHESE!$F:$F,\">=1\")))","v":""},{"$f":"IF($Z$2=\"pok\",\"\",IF(A139=\"\",\"\",COUNTIFS(SYNTHESE!$D:$D,A139,SYNTHESE!$E:$E,$X$1,SYNTHESE!$F:$F,\">=1\")))","v":""},{"$f":"IF($Z$2=\"pok\",\"\",IF(A139=\"\",\"\",COUNTIFS(SYNTHESE!$D:$D,A139,SYNTHESE!$E:$E,$Y$1,SYNTHESE!$F:$F,\">=1\")))","v":""},0]
[{"$f":"IF(ETUDIANTS!A140=\"\",\"\",ETUDIANTS!A140)","v":""},{"$f":"IF($Z$2=\"pok\",\"\",IF(A140=\"\",\"\",COUNTIFS(SYNTHESE!$D:$D,A140,SYNTHESE!$E:$E,$B$1,SYNTHESE!$F:$F,\">=1\")))","v":""},{"$f":"IF($Z$2=\"pok\",\"\",IF(A140=\"\",\"\",COUNTIFS(SYNTHESE!$D:$D,A140,SYNTHESE!$E:$E,$C$1,SYNTHESE!$F:$F,\">=1\")))","v":""},{"$f":"IF($Z$2=\"pok\",\"\",IF(A140=\"\",\"\",COUNTIFS(SYNTHESE!$D:$D,A140,SYNTHESE!$E:$E,$D$1,SYNTHESE!$F:$F,\">=1\")))","v":""},{"$f":"IF($Z$2=\"pok\",\"\",IF(A140=\"\",\"\",COUNTIFS(SYNTHESE!$D:$D,A140,SYNTHESE!$E:$E,$E$1,SYNTHESE!$F:$F,\">=1\")))","v":""},{"$f":"IF($Z$2=\"pok\",\"\",IF(A140=\"\",\"\",COUNTIFS(SYNTHESE!$D:$D,A140,SYNTHESE!$E:$E,$F$1,SYNTHESE!$F:$F,\">=1\")))","v":""},{"$f":"IF($Z$2=\"pok\",\"\",IF(A140=\"\",\"\",COUNTIFS(SYNTHESE!$D:$D,A140,SYNTHESE!$E:$E,$G$1,SYNTHESE!$F:$F,\">=1\")))","v":""},{"$f":"IF($Z$2=\"pok\",\"\",IF(A140=\"\",\"\",COUNTIFS(SYNTHESE!$D:$D,A140,SYNTHESE!$E:$E,$H$1,SYNTHESE!$F:$F,\">=1\")))","v":""},{"$f":"IF($Z$2=\"pok\",\"\",IF(A140=\"\",\"\",COUNTIFS(SYNTHESE!$D:$D,A140,SYNTHESE!$E:$E,$I$1,SYNTHESE!$F:$F,\">=1\")))","v":""},{"$f":"IF($Z$2=\"pok\",\"\",IF(A140=\"\",\"\",COUNTIFS(SYNTHESE!$D:$D,A140,SYNTHESE!$E:$E,$J$1,SYNTHESE!$F:$F,\">=1\")))","v":""},{"$f":"IF($Z$2=\"pok\",\"\",IF(A140=\"\",\"\",COUNTIFS(SYNTHESE!$D:$D,A140,SYNTHESE!$E:$E,$K$1,SYNTHESE!$F:$F,\">=1\")))","v":""},{"$f":"IF($Z$2=\"pok\",\"\",IF(A140=\"\",\"\",COUNTIFS(SYNTHESE!$D:$D,A140,SYNTHESE!$E:$E,$L$1,SYNTHESE!$F:$F,\">=1\")))","v":""},{"$f":"IF($Z$2=\"pok\",\"\",IF(A140=\"\",\"\",COUNTIFS(SYNTHESE!$D:$D,A140,SYNTHESE!$E:$E,$M$1,SYNTHESE!$F:$F,\">=1\")))","v":""},{"$f":"IF($Z$2=\"pok\",\"\",IF(A140=\"\",\"\",COUNTIFS(SYNTHESE!$D:$D,A140,SYNTHESE!$E:$E,$N$1,SYNTHESE!$F:$F,\">=1\")))","v":""},{"$f":"IF($Z$2=\"pok\",\"\",IF(A140=\"\",\"\",COUNTIFS(SYNTHESE!$D:$D,A140,SYNTHESE!$E:$E,$O$1,SYNTHESE!$F:$F,\">=1\")))","v":""},{"$f":"IF($Z$2=\"pok\",\"\",IF(A140=\"\",\"\",COUNTIFS(SYNTHESE!$D:$D,A140,SYNTHESE!$E:$E,$P$1,SYNTHESE!$F:$F,\">=1\")))","v":""},{"$f":"IF($Z$2=\"pok\",\"\",IF(A140=\"\",\"\",COUNTIFS(SYNTHESE!$D:$D,A140,SYNTHESE!$E:$E,$Q$1,SYNTHESE!$F:$F,\">=1\")))","v":""},{"$f":"IF($Z$2=\"pok\",\"\",IF(A140=\"\",\"\",COUNTIFS(SYNTHESE!$D:$D,A140,SYNTHESE!$E:$E,$R$1,SYNTHESE!$F:$F,\">=1\")))","v":""},{"$f":"IF($Z$2=\"pok\",\"\",IF(A140=\"\",\"\",COUNTIFS(SYNTHESE!$D:$D,A140,SYNTHESE!$E:$E,$S$1,SYNTHESE!$F:$F,\">=1\")))","v":""},{"$f":"IF($Z$2=\"pok\",\"\",IF(A140=\"\",\"\",COUNTIFS(SYNTHESE!$D:$D,A140,SYNTHESE!$E:$E,$T$1,SYNTHESE!$F:$F,\">=1\")))","v":""},{"$f":"IF($Z$2=\"pok\",\"\",IF(A140=\"\",\"\",COUNTIFS(SYNTHESE!$D:$D,A140,SYNTHESE!$E:$E,$U$1,SYNTHESE!$F:$F,\">=1\")))","v":""},{"$f":"IF($Z$2=\"pok\",\"\",IF(A140=\"\",\"\",COUNTIFS(SYNTHESE!$D:$D,A140,SYNTHESE!$E:$E,$V$1,SYNTHESE!$F:$F,\">=1\")))","v":""},{"$f":"IF($Z$2=\"pok\",\"\",IF(A140=\"\",\"\",COUNTIFS(SYNTHESE!$D:$D,A140,SYNTHESE!$E:$E,$W$1,SYNTHESE!$F:$F,\">=1\")))","v":""},{"$f":"IF($Z$2=\"pok\",\"\",IF(A140=\"\",\"\",COUNTIFS(SYNTHESE!$D:$D,A140,SYNTHESE!$E:$E,$X$1,SYNTHESE!$F:$F,\">=1\")))","v":""},{"$f":"IF($Z$2=\"pok\",\"\",IF(A140=\"\",\"\",COUNTIFS(SYNTHESE!$D:$D,A140,SYNTHESE!$E:$E,$Y$1,SYNTHESE!$F:$F,\">=1\")))","v":""},0]
[{"$f":"IF(ETUDIANTS!A141=\"\",\"\",ETUDIANTS!A141)","v":""},{"$f":"IF($Z$2=\"pok\",\"\",IF(A141=\"\",\"\",COUNTIFS(SYNTHESE!$D:$D,A141,SYNTHESE!$E:$E,$B$1,SYNTHESE!$F:$F,\">=1\")))","v":""},{"$f":"IF($Z$2=\"pok\",\"\",IF(A141=\"\",\"\",COUNTIFS(SYNTHESE!$D:$D,A141,SYNTHESE!$E:$E,$C$1,SYNTHESE!$F:$F,\">=1\")))","v":""},{"$f":"IF($Z$2=\"pok\",\"\",IF(A141=\"\",\"\",COUNTIFS(SYNTHESE!$D:$D,A141,SYNTHESE!$E:$E,$D$1,SYNTHESE!$F:$F,\">=1\")))","v":""},{"$f":"IF($Z$2=\"pok\",\"\",IF(A141=\"\",\"\",COUNTIFS(SYNTHESE!$D:$D,A141,SYNTHESE!$E:$E,$E$1,SYNTHESE!$F:$F,\">=1\")))","v":""},{"$f":"IF($Z$2=\"pok\",\"\",IF(A141=\"\",\"\",COUNTIFS(SYNTHESE!$D:$D,A141,SYNTHESE!$E:$E,$F$1,SYNTHESE!$F:$F,\">=1\")))","v":""},{"$f":"IF($Z$2=\"pok\",\"\",IF(A141=\"\",\"\",COUNTIFS(SYNTHESE!$D:$D,A141,SYNTHESE!$E:$E,$G$1,SYNTHESE!$F:$F,\">=1\")))","v":""},{"$f":"IF($Z$2=\"pok\",\"\",IF(A141=\"\",\"\",COUNTIFS(SYNTHESE!$D:$D,A141,SYNTHESE!$E:$E,$H$1,SYNTHESE!$F:$F,\">=1\")))","v":""},{"$f":"IF($Z$2=\"pok\",\"\",IF(A141=\"\",\"\",COUNTIFS(SYNTHESE!$D:$D,A141,SYNTHESE!$E:$E,$I$1,SYNTHESE!$F:$F,\">=1\")))","v":""},{"$f":"IF($Z$2=\"pok\",\"\",IF(A141=\"\",\"\",COUNTIFS(SYNTHESE!$D:$D,A141,SYNTHESE!$E:$E,$J$1,SYNTHESE!$F:$F,\">=1\")))","v":""},{"$f":"IF($Z$2=\"pok\",\"\",IF(A141=\"\",\"\",COUNTIFS(SYNTHESE!$D:$D,A141,SYNTHESE!$E:$E,$K$1,SYNTHESE!$F:$F,\">=1\")))","v":""},{"$f":"IF($Z$2=\"pok\",\"\",IF(A141=\"\",\"\",COUNTIFS(SYNTHESE!$D:$D,A141,SYNTHESE!$E:$E,$L$1,SYNTHESE!$F:$F,\">=1\")))","v":""},{"$f":"IF($Z$2=\"pok\",\"\",IF(A141=\"\",\"\",COUNTIFS(SYNTHESE!$D:$D,A141,SYNTHESE!$E:$E,$M$1,SYNTHESE!$F:$F,\">=1\")))","v":""},{"$f":"IF($Z$2=\"pok\",\"\",IF(A141=\"\",\"\",COUNTIFS(SYNTHESE!$D:$D,A141,SYNTHESE!$E:$E,$N$1,SYNTHESE!$F:$F,\">=1\")))","v":""},{"$f":"IF($Z$2=\"pok\",\"\",IF(A141=\"\",\"\",COUNTIFS(SYNTHESE!$D:$D,A141,SYNTHESE!$E:$E,$O$1,SYNTHESE!$F:$F,\">=1\")))","v":""},{"$f":"IF($Z$2=\"pok\",\"\",IF(A141=\"\",\"\",COUNTIFS(SYNTHESE!$D:$D,A141,SYNTHESE!$E:$E,$P$1,SYNTHESE!$F:$F,\">=1\")))","v":""},{"$f":"IF($Z$2=\"pok\",\"\",IF(A141=\"\",\"\",COUNTIFS(SYNTHESE!$D:$D,A141,SYNTHESE!$E:$E,$Q$1,SYNTHESE!$F:$F,\">=1\")))","v":""},{"$f":"IF($Z$2=\"pok\",\"\",IF(A141=\"\",\"\",COUNTIFS(SYNTHESE!$D:$D,A141,SYNTHESE!$E:$E,$R$1,SYNTHESE!$F:$F,\">=1\")))","v":""},{"$f":"IF($Z$2=\"pok\",\"\",IF(A141=\"\",\"\",COUNTIFS(SYNTHESE!$D:$D,A141,SYNTHESE!$E:$E,$S$1,SYNTHESE!$F:$F,\">=1\")))","v":""},{"$f":"IF($Z$2=\"pok\",\"\",IF(A141=\"\",\"\",COUNTIFS(SYNTHESE!$D:$D,A141,SYNTHESE!$E:$E,$T$1,SYNTHESE!$F:$F,\">=1\")))","v":""},{"$f":"IF($Z$2=\"pok\",\"\",IF(A141=\"\",\"\",COUNTIFS(SYNTHESE!$D:$D,A141,SYNTHESE!$E:$E,$U$1,SYNTHESE!$F:$F,\">=1\")))","v":""},{"$f":"IF($Z$2=\"pok\",\"\",IF(A141=\"\",\"\",COUNTIFS(SYNTHESE!$D:$D,A141,SYNTHESE!$E:$E,$V$1,SYNTHESE!$F:$F,\">=1\")))","v":""},{"$f":"IF($Z$2=\"pok\",\"\",IF(A141=\"\",\"\",COUNTIFS(SYNTHESE!$D:$D,A141,SYNTHESE!$E:$E,$W$1,SYNTHESE!$F:$F,\">=1\")))","v":""},{"$f":"IF($Z$2=\"pok\",\"\",IF(A141=\"\",\"\",COUNTIFS(SYNTHESE!$D:$D,A141,SYNTHESE!$E:$E,$X$1,SYNTHESE!$F:$F,\">=1\")))","v":""},{"$f":"IF($Z$2=\"pok\",\"\",IF(A141=\"\",\"\",COUNTIFS(SYNTHESE!$D:$D,A141,SYNTHESE!$E:$E,$Y$1,SYNTHESE!$F:$F,\">=1\")))","v":""},0]
[{"$f":"IF(ETUDIANTS!A142=\"\",\"\",ETUDIANTS!A142)","v":""},{"$f":"IF($Z$2=\"pok\",\"\",IF(A142=\"\",\"\",COUNTIFS(SYNTHESE!$D:$D,A142,SYNTHESE!$E:$E,$B$1,SYNTHESE!$F:$F,\">=1\")))","v":""},{"$f":"IF($Z$2=\"pok\",\"\",IF(A142=\"\",\"\",COUNTIFS(SYNTHESE!$D:$D,A142,SYNTHESE!$E:$E,$C$1,SYNTHESE!$F:$F,\">=1\")))","v":""},{"$f":"IF($Z$2=\"pok\",\"\",IF(A142=\"\",\"\",COUNTIFS(SYNTHESE!$D:$D,A142,SYNTHESE!$E:$E,$D$1,SYNTHESE!$F:$F,\">=1\")))","v":""},{"$f":"IF($Z$2=\"pok\",\"\",IF(A142=\"\",\"\",COUNTIFS(SYNTHESE!$D:$D,A142,SYNTHESE!$E:$E,$E$1,SYNTHESE!$F:$F,\">=1\")))","v":""},{"$f":"IF($Z$2=\"pok\",\"\",IF(A142=\"\",\"\",COUNTIFS(SYNTHESE!$D:$D,A142,SYNTHESE!$E:$E,$F$1,SYNTHESE!$F:$F,\">=1\")))","v":""},{"$f":"IF($Z$2=\"pok\",\"\",IF(A142=\"\",\"\",COUNTIFS(SYNTHESE!$D:$D,A142,SYNTHESE!$E:$E,$G$1,SYNTHESE!$F:$F,\">=1\")))","v":""},{"$f":"IF($Z$2=\"pok\",\"\",IF(A142=\"\",\"\",COUNTIFS(SYNTHESE!$D:$D,A142,SYNTHESE!$E:$E,$H$1,SYNTHESE!$F:$F,\">=1\")))","v":""},{"$f":"IF($Z$2=\"pok\",\"\",IF(A142=\"\",\"\",COUNTIFS(SYNTHESE!$D:$D,A142,SYNTHESE!$E:$E,$I$1,SYNTHESE!$F:$F,\">=1\")))","v":""},{"$f":"IF($Z$2=\"pok\",\"\",IF(A142=\"\",\"\",COUNTIFS(SYNTHESE!$D:$D,A142,SYNTHESE!$E:$E,$J$1,SYNTHESE!$F:$F,\">=1\")))","v":""},{"$f":"IF($Z$2=\"pok\",\"\",IF(A142=\"\",\"\",COUNTIFS(SYNTHESE!$D:$D,A142,SYNTHESE!$E:$E,$K$1,SYNTHESE!$F:$F,\">=1\")))","v":""},{"$f":"IF($Z$2=\"pok\",\"\",IF(A142=\"\",\"\",COUNTIFS(SYNTHESE!$D:$D,A142,SYNTHESE!$E:$E,$L$1,SYNTHESE!$F:$F,\">=1\")))","v":""},{"$f":"IF($Z$2=\"pok\",\"\",IF(A142=\"\",\"\",COUNTIFS(SYNTHESE!$D:$D,A142,SYNTHESE!$E:$E,$M$1,SYNTHESE!$F:$F,\">=1\")))","v":""},{"$f":"IF($Z$2=\"pok\",\"\",IF(A142=\"\",\"\",COUNTIFS(SYNTHESE!$D:$D,A142,SYNTHESE!$E:$E,$N$1,SYNTHESE!$F:$F,\">=1\")))","v":""},{"$f":"IF($Z$2=\"pok\",\"\",IF(A142=\"\",\"\",COUNTIFS(SYNTHESE!$D:$D,A142,SYNTHESE!$E:$E,$O$1,SYNTHESE!$F:$F,\">=1\")))","v":""},{"$f":"IF($Z$2=\"pok\",\"\",IF(A142=\"\",\"\",COUNTIFS(SYNTHESE!$D:$D,A142,SYNTHESE!$E:$E,$P$1,SYNTHESE!$F:$F,\">=1\")))","v":""},{"$f":"IF($Z$2=\"pok\",\"\",IF(A142=\"\",\"\",COUNTIFS(SYNTHESE!$D:$D,A142,SYNTHESE!$E:$E,$Q$1,SYNTHESE!$F:$F,\">=1\")))","v":""},{"$f":"IF($Z$2=\"pok\",\"\",IF(A142=\"\",\"\",COUNTIFS(SYNTHESE!$D:$D,A142,SYNTHESE!$E:$E,$R$1,SYNTHESE!$F:$F,\">=1\")))","v":""},{"$f":"IF($Z$2=\"pok\",\"\",IF(A142=\"\",\"\",COUNTIFS(SYNTHESE!$D:$D,A142,SYNTHESE!$E:$E,$S$1,SYNTHESE!$F:$F,\">=1\")))","v":""},{"$f":"IF($Z$2=\"pok\",\"\",IF(A142=\"\",\"\",COUNTIFS(SYNTHESE!$D:$D,A142,SYNTHESE!$E:$E,$T$1,SYNTHESE!$F:$F,\">=1\")))","v":""},{"$f":"IF($Z$2=\"pok\",\"\",IF(A142=\"\",\"\",COUNTIFS(SYNTHESE!$D:$D,A142,SYNTHESE!$E:$E,$U$1,SYNTHESE!$F:$F,\">=1\")))","v":""},{"$f":"IF($Z$2=\"pok\",\"\",IF(A142=\"\",\"\",COUNTIFS(SYNTHESE!$D:$D,A142,SYNTHESE!$E:$E,$V$1,SYNTHESE!$F:$F,\">=1\")))","v":""},{"$f":"IF($Z$2=\"pok\",\"\",IF(A142=\"\",\"\",COUNTIFS(SYNTHESE!$D:$D,A142,SYNTHESE!$E:$E,$W$1,SYNTHESE!$F:$F,\">=1\")))","v":""},{"$f":"IF($Z$2=\"pok\",\"\",IF(A142=\"\",\"\",COUNTIFS(SYNTHESE!$D:$D,A142,SYNTHESE!$E:$E,$X$1,SYNTHESE!$F:$F,\">=1\")))","v":""},{"$f":"IF($Z$2=\"pok\",\"\",IF(A142=\"\",\"\",COUNTIFS(SYNTHESE!$D:$D,A142,SYNTHESE!$E:$E,$Y$1,SYNTHESE!$F:$F,\">=1\")))","v":""},0]
[{"$f":"IF(ETUDIANTS!A143=\"\",\"\",ETUDIANTS!A143)","v":""},{"$f":"IF($Z$2=\"pok\",\"\",IF(A143=\"\",\"\",COUNTIFS(SYNTHESE!$D:$D,A143,SYNTHESE!$E:$E,$B$1,SYNTHESE!$F:$F,\">=1\")))","v":""},{"$f":"IF($Z$2=\"pok\",\"\",IF(A143=\"\",\"\",COUNTIFS(SYNTHESE!$D:$D,A143,SYNTHESE!$E:$E,$C$1,SYNTHESE!$F:$F,\">=1\")))","v":""},{"$f":"IF($Z$2=\"pok\",\"\",IF(A143=\"\",\"\",COUNTIFS(SYNTHESE!$D:$D,A143,SYNTHESE!$E:$E,$D$1,SYNTHESE!$F:$F,\">=1\")))","v":""},{"$f":"IF($Z$2=\"pok\",\"\",IF(A143=\"\",\"\",COUNTIFS(SYNTHESE!$D:$D,A143,SYNTHESE!$E:$E,$E$1,SYNTHESE!$F:$F,\">=1\")))","v":""},{"$f":"IF($Z$2=\"pok\",\"\",IF(A143=\"\",\"\",COUNTIFS(SYNTHESE!$D:$D,A143,SYNTHESE!$E:$E,$F$1,SYNTHESE!$F:$F,\">=1\")))","v":""},{"$f":"IF($Z$2=\"pok\",\"\",IF(A143=\"\",\"\",COUNTIFS(SYNTHESE!$D:$D,A143,SYNTHESE!$E:$E,$G$1,SYNTHESE!$F:$F,\">=1\")))","v":""},{"$f":"IF($Z$2=\"pok\",\"\",IF(A143=\"\",\"\",COUNTIFS(SYNTHESE!$D:$D,A143,SYNTHESE!$E:$E,$H$1,SYNTHESE!$F:$F,\">=1\")))","v":""},{"$f":"IF($Z$2=\"pok\",\"\",IF(A143=\"\",\"\",COUNTIFS(SYNTHESE!$D:$D,A143,SYNTHESE!$E:$E,$I$1,SYNTHESE!$F:$F,\">=1\")))","v":""},{"$f":"IF($Z$2=\"pok\",\"\",IF(A143=\"\",\"\",COUNTIFS(SYNTHESE!$D:$D,A143,SYNTHESE!$E:$E,$J$1,SYNTHESE!$F:$F,\">=1\")))","v":""},{"$f":"IF($Z$2=\"pok\",\"\",IF(A143=\"\",\"\",COUNTIFS(SYNTHESE!$D:$D,A143,SYNTHESE!$E:$E,$K$1,SYNTHESE!$F:$F,\">=1\")))","v":""},{"$f":"IF($Z$2=\"pok\",\"\",IF(A143=\"\",\"\",COUNTIFS(SYNTHESE!$D:$D,A143,SYNTHESE!$E:$E,$L$1,SYNTHESE!$F:$F,\">=1\")))","v":""},{"$f":"IF($Z$2=\"pok\",\"\",IF(A143=\"\",\"\",COUNTIFS(SYNTHESE!$D:$D,A143,SYNTHESE!$E:$E,$M$1,SYNTHESE!$F:$F,\">=1\")))","v":""},{"$f":"IF($Z$2=\"pok\",\"\",IF(A143=\"\",\"\",COUNTIFS(SYNTHESE!$D:$D,A143,SYNTHESE!$E:$E,$N$1,SYNTHESE!$F:$F,\">=1\")))","v":""},{"$f":"IF($Z$2=\"pok\",\"\",IF(A143=\"\",\"\",COUNTIFS(SYNTHESE!$D:$D,A143,SYNTHESE!$E:$E,$O$1,SYNTHESE!$F:$F,\">=1\")))","v":""},{"$f":"IF($Z$2=\"pok\",\"\",IF(A143=\"\",\"\",COUNTIFS(SYNTHESE!$D:$D,A143,SYNTHESE!$E:$E,$P$1,SYNTHESE!$F:$F,\">=1\")))","v":""},{"$f":"IF($Z$2=\"pok\",\"\",IF(A143=\"\",\"\",COUNTIFS(SYNTHESE!$D:$D,A143,SYNTHESE!$E:$E,$Q$1,SYNTHESE!$F:$F,\">=1\")))","v":""},{"$f":"IF($Z$2=\"pok\",\"\",IF(A143=\"\",\"\",COUNTIFS(SYNTHESE!$D:$D,A143,SYNTHESE!$E:$E,$R$1,SYNTHESE!$F:$F,\">=1\")))","v":""},{"$f":"IF($Z$2=\"pok\",\"\",IF(A143=\"\",\"\",COUNTIFS(SYNTHESE!$D:$D,A143,SYNTHESE!$E:$E,$S$1,SYNTHESE!$F:$F,\">=1\")))","v":""},{"$f":"IF($Z$2=\"pok\",\"\",IF(A143=\"\",\"\",COUNTIFS(SYNTHESE!$D:$D,A143,SYNTHESE!$E:$E,$T$1,SYNTHESE!$F:$F,\">=1\")))","v":""},{"$f":"IF($Z$2=\"pok\",\"\",IF(A143=\"\",\"\",COUNTIFS(SYNTHESE!$D:$D,A143,SYNTHESE!$E:$E,$U$1,SYNTHESE!$F:$F,\">=1\")))","v":""},{"$f":"IF($Z$2=\"pok\",\"\",IF(A143=\"\",\"\",COUNTIFS(SYNTHESE!$D:$D,A143,SYNTHESE!$E:$E,$V$1,SYNTHESE!$F:$F,\">=1\")))","v":""},{"$f":"IF($Z$2=\"pok\",\"\",IF(A143=\"\",\"\",COUNTIFS(SYNTHESE!$D:$D,A143,SYNTHESE!$E:$E,$W$1,SYNTHESE!$F:$F,\">=1\")))","v":""},{"$f":"IF($Z$2=\"pok\",\"\",IF(A143=\"\",\"\",COUNTIFS(SYNTHESE!$D:$D,A143,SYNTHESE!$E:$E,$X$1,SYNTHESE!$F:$F,\">=1\")))","v":""},{"$f":"IF($Z$2=\"pok\",\"\",IF(A143=\"\",\"\",COUNTIFS(SYNTHESE!$D:$D,A143,SYNTHESE!$E:$E,$Y$1,SYNTHESE!$F:$F,\">=1\")))","v":""},0]
[{"$f":"IF(ETUDIANTS!A144=\"\",\"\",ETUDIANTS!A144)","v":""},{"$f":"IF($Z$2=\"pok\",\"\",IF(A144=\"\",\"\",COUNTIFS(SYNTHESE!$D:$D,A144,SYNTHESE!$E:$E,$B$1,SYNTHESE!$F:$F,\">=1\")))","v":""},{"$f":"IF($Z$2=\"pok\",\"\",IF(A144=\"\",\"\",COUNTIFS(SYNTHESE!$D:$D,A144,SYNTHESE!$E:$E,$C$1,SYNTHESE!$F:$F,\">=1\")))","v":""},{"$f":"IF($Z$2=\"pok\",\"\",IF(A144=\"\",\"\",COUNTIFS(SYNTHESE!$D:$D,A144,SYNTHESE!$E:$E,$D$1,SYNTHESE!$F:$F,\">=1\")))","v":""},{"$f":"IF($Z$2=\"pok\",\"\",IF(A144=\"\",\"\",COUNTIFS(SYNTHESE!$D:$D,A144,SYNTHESE!$E:$E,$E$1,SYNTHESE!$F:$F,\">=1\")))","v":""},{"$f":"IF($Z$2=\"pok\",\"\",IF(A144=\"\",\"\",COUNTIFS(SYNTHESE!$D:$D,A144,SYNTHESE!$E:$E,$F$1,SYNTHESE!$F:$F,\">=1\")))","v":""},{"$f":"IF($Z$2=\"pok\",\"\",IF(A144=\"\",\"\",COUNTIFS(SYNTHESE!$D:$D,A144,SYNTHESE!$E:$E,$G$1,SYNTHESE!$F:$F,\">=1\")))","v":""},{"$f":"IF($Z$2=\"pok\",\"\",IF(A144=\"\",\"\",COUNTIFS(SYNTHESE!$D:$D,A144,SYNTHESE!$E:$E,$H$1,SYNTHESE!$F:$F,\">=1\")))","v":""},{"$f":"IF($Z$2=\"pok\",\"\",IF(A144=\"\",\"\",COUNTIFS(SYNTHESE!$D:$D,A144,SYNTHESE!$E:$E,$I$1,SYNTHESE!$F:$F,\">=1\")))","v":""},{"$f":"IF($Z$2=\"pok\",\"\",IF(A144=\"\",\"\",COUNTIFS(SYNTHESE!$D:$D,A144,SYNTHESE!$E:$E,$J$1,SYNTHESE!$F:$F,\">=1\")))","v":""},{"$f":"IF($Z$2=\"pok\",\"\",IF(A144=\"\",\"\",COUNTIFS(SYNTHESE!$D:$D,A144,SYNTHESE!$E:$E,$K$1,SYNTHESE!$F:$F,\">=1\")))","v":""},{"$f":"IF($Z$2=\"pok\",\"\",IF(A144=\"\",\"\",COUNTIFS(SYNTHESE!$D:$D,A144,SYNTHESE!$E:$E,$L$1,SYNTHESE!$F:$F,\">=1\")))","v":""},{"$f":"IF($Z$2=\"pok\",\"\",IF(A144=\"\",\"\",COUNTIFS(SYNTHESE!$D:$D,A144,SYNTHESE!$E:$E,$M$1,SYNTHESE!$F:$F,\">=1\")))","v":""},{"$f":"IF($Z$2=\"pok\",\"\",IF(A144=\"\",\"\",COUNTIFS(SYNTHESE!$D:$D,A144,SYNTHESE!$E:$E,$N$1,SYNTHESE!$F:$F,\">=1\")))","v":""},{"$f":"IF($Z$2=\"pok\",\"\",IF(A144=\"\",\"\",COUNTIFS(SYNTHESE!$D:$D,A144,SYNTHESE!$E:$E,$O$1,SYNTHESE!$F:$F,\">=1\")))","v":""},{"$f":"IF($Z$2=\"pok\",\"\",IF(A144=\"\",\"\",COUNTIFS(SYNTHESE!$D:$D,A144,SYNTHESE!$E:$E,$P$1,SYNTHESE!$F:$F,\">=1\")))","v":""},{"$f":"IF($Z$2=\"pok\",\"\",IF(A144=\"\",\"\",COUNTIFS(SYNTHESE!$D:$D,A144,SYNTHESE!$E:$E,$Q$1,SYNTHESE!$F:$F,\">=1\")))","v":""},{"$f":"IF($Z$2=\"pok\",\"\",IF(A144=\"\",\"\",COUNTIFS(SYNTHESE!$D:$D,A144,SYNTHESE!$E:$E,$R$1,SYNTHESE!$F:$F,\">=1\")))","v":""},{"$f":"IF($Z$2=\"pok\",\"\",IF(A144=\"\",\"\",COUNTIFS(SYNTHESE!$D:$D,A144,SYNTHESE!$E:$E,$S$1,SYNTHESE!$F:$F,\">=1\")))","v":""},{"$f":"IF($Z$2=\"pok\",\"\",IF(A144=\"\",\"\",COUNTIFS(SYNTHESE!$D:$D,A144,SYNTHESE!$E:$E,$T$1,SYNTHESE!$F:$F,\">=1\")))","v":""},{"$f":"IF($Z$2=\"pok\",\"\",IF(A144=\"\",\"\",COUNTIFS(SYNTHESE!$D:$D,A144,SYNTHESE!$E:$E,$U$1,SYNTHESE!$F:$F,\">=1\")))","v":""},{"$f":"IF($Z$2=\"pok\",\"\",IF(A144=\"\",\"\",COUNTIFS(SYNTHESE!$D:$D,A144,SYNTHESE!$E:$E,$V$1,SYNTHESE!$F:$F,\">=1\")))","v":""},{"$f":"IF($Z$2=\"pok\",\"\",IF(A144=\"\",\"\",COUNTIFS(SYNTHESE!$D:$D,A144,SYNTHESE!$E:$E,$W$1,SYNTHESE!$F:$F,\">=1\")))","v":""},{"$f":"IF($Z$2=\"pok\",\"\",IF(A144=\"\",\"\",COUNTIFS(SYNTHESE!$D:$D,A144,SYNTHESE!$E:$E,$X$1,SYNTHESE!$F:$F,\">=1\")))","v":""},{"$f":"IF($Z$2=\"pok\",\"\",IF(A144=\"\",\"\",COUNTIFS(SYNTHESE!$D:$D,A144,SYNTHESE!$E:$E,$Y$1,SYNTHESE!$F:$F,\">=1\")))","v":""},0]
[{"$f":"IF(ETUDIANTS!A145=\"\",\"\",ETUDIANTS!A145)","v":""},{"$f":"IF($Z$2=\"pok\",\"\",IF(A145=\"\",\"\",COUNTIFS(SYNTHESE!$D:$D,A145,SYNTHESE!$E:$E,$B$1,SYNTHESE!$F:$F,\">=1\")))","v":""},{"$f":"IF($Z$2=\"pok\",\"\",IF(A145=\"\",\"\",COUNTIFS(SYNTHESE!$D:$D,A145,SYNTHESE!$E:$E,$C$1,SYNTHESE!$F:$F,\">=1\")))","v":""},{"$f":"IF($Z$2=\"pok\",\"\",IF(A145=\"\",\"\",COUNTIFS(SYNTHESE!$D:$D,A145,SYNTHESE!$E:$E,$D$1,SYNTHESE!$F:$F,\">=1\")))","v":""},{"$f":"IF($Z$2=\"pok\",\"\",IF(A145=\"\",\"\",COUNTIFS(SYNTHESE!$D:$D,A145,SYNTHESE!$E:$E,$E$1,SYNTHESE!$F:$F,\">=1\")))","v":""},{"$f":"IF($Z$2=\"pok\",\"\",IF(A145=\"\",\"\",COUNTIFS(SYNTHESE!$D:$D,A145,SYNTHESE!$E:$E,$F$1,SYNTHESE!$F:$F,\">=1\")))","v":""},{"$f":"IF($Z$2=\"pok\",\"\",IF(A145=\"\",\"\",COUNTIFS(SYNTHESE!$D:$D,A145,SYNTHESE!$E:$E,$G$1,SYNTHESE!$F:$F,\">=1\")))","v":""},{"$f":"IF($Z$2=\"pok\",\"\",IF(A145=\"\",\"\",COUNTIFS(SYNTHESE!$D:$D,A145,SYNTHESE!$E:$E,$H$1,SYNTHESE!$F:$F,\">=1\")))","v":""},{"$f":"IF($Z$2=\"pok\",\"\",IF(A145=\"\",\"\",COUNTIFS(SYNTHESE!$D:$D,A145,SYNTHESE!$E:$E,$I$1,SYNTHESE!$F:$F,\">=1\")))","v":""},{"$f":"IF($Z$2=\"pok\",\"\",IF(A145=\"\",\"\",COUNTIFS(SYNTHESE!$D:$D,A145,SYNTHESE!$E:$E,$J$1,SYNTHESE!$F:$F,\">=1\")))","v":""},{"$f":"IF($Z$2=\"pok\",\"\",IF(A145=\"\",\"\",COUNTIFS(SYNTHESE!$D:$D,A145,SYNTHESE!$E:$E,$K$1,SYNTHESE!$F:$F,\">=1\")))","v":""},{"$f":"IF($Z$2=\"pok\",\"\",IF(A145=\"\",\"\",COUNTIFS(SYNTHESE!$D:$D,A145,SYNTHESE!$E:$E,$L$1,SYNTHESE!$F:$F,\">=1\")))","v":""},{"$f":"IF($Z$2=\"pok\",\"\",IF(A145=\"\",\"\",COUNTIFS(SYNTHESE!$D:$D,A145,SYNTHESE!$E:$E,$M$1,SYNTHESE!$F:$F,\">=1\")))","v":""},{"$f":"IF($Z$2=\"pok\",\"\",IF(A145=\"\",\"\",COUNTIFS(SYNTHESE!$D:$D,A145,SYNTHESE!$E:$E,$N$1,SYNTHESE!$F:$F,\">=1\")))","v":""},{"$f":"IF($Z$2=\"pok\",\"\",IF(A145=\"\",\"\",COUNTIFS(SYNTHESE!$D:$D,A145,SYNTHESE!$E:$E,$O$1,SYNTHESE!$F:$F,\">=1\")))","v":""},{"$f":"IF($Z$2=\"pok\",\"\",IF(A145=\"\",\"\",COUNTIFS(SYNTHESE!$D:$D,A145,SYNTHESE!$E:$E,$P$1,SYNTHESE!$F:$F,\">=1\")))","v":""},{"$f":"IF($Z$2=\"pok\",\"\",IF(A145=\"\",\"\",COUNTIFS(SYNTHESE!$D:$D,A145,SYNTHESE!$E:$E,$Q$1,SYNTHESE!$F:$F,\">=1\")))","v":""},{"$f":"IF($Z$2=\"pok\",\"\",IF(A145=\"\",\"\",COUNTIFS(SYNTHESE!$D:$D,A145,SYNTHESE!$E:$E,$R$1,SYNTHESE!$F:$F,\">=1\")))","v":""},{"$f":"IF($Z$2=\"pok\",\"\",IF(A145=\"\",\"\",COUNTIFS(SYNTHESE!$D:$D,A145,SYNTHESE!$E:$E,$S$1,SYNTHESE!$F:$F,\">=1\")))","v":""},{"$f":"IF($Z$2=\"pok\",\"\",IF(A145=\"\",\"\",COUNTIFS(SYNTHESE!$D:$D,A145,SYNTHESE!$E:$E,$T$1,SYNTHESE!$F:$F,\">=1\")))","v":""},{"$f":"IF($Z$2=\"pok\",\"\",IF(A145=\"\",\"\",COUNTIFS(SYNTHESE!$D:$D,A145,SYNTHESE!$E:$E,$U$1,SYNTHESE!$F:$F,\">=1\")))","v":""},{"$f":"IF($Z$2=\"pok\",\"\",IF(A145=\"\",\"\",COUNTIFS(SYNTHESE!$D:$D,A145,SYNTHESE!$E:$E,$V$1,SYNTHESE!$F:$F,\">=1\")))","v":""},{"$f":"IF($Z$2=\"pok\",\"\",IF(A145=\"\",\"\",COUNTIFS(SYNTHESE!$D:$D,A145,SYNTHESE!$E:$E,$W$1,SYNTHESE!$F:$F,\">=1\")))","v":""},{"$f":"IF($Z$2=\"pok\",\"\",IF(A145=\"\",\"\",COUNTIFS(SYNTHESE!$D:$D,A145,SYNTHESE!$E:$E,$X$1,SYNTHESE!$F:$F,\">=1\")))","v":""},{"$f":"IF($Z$2=\"pok\",\"\",IF(A145=\"\",\"\",COUNTIFS(SYNTHESE!$D:$D,A145,SYNTHESE!$E:$E,$Y$1,SYNTHESE!$F:$F,\">=1\")))","v":""},0]
[{"$f":"IF(ETUDIANTS!A146=\"\",\"\",ETUDIANTS!A146)","v":""},{"$f":"IF($Z$2=\"pok\",\"\",IF(A146=\"\",\"\",COUNTIFS(SYNTHESE!$D:$D,A146,SYNTHESE!$E:$E,$B$1,SYNTHESE!$F:$F,\">=1\")))","v":""},{"$f":"IF($Z$2=\"pok\",\"\",IF(A146=\"\",\"\",COUNTIFS(SYNTHESE!$D:$D,A146,SYNTHESE!$E:$E,$C$1,SYNTHESE!$F:$F,\">=1\")))","v":""},{"$f":"IF($Z$2=\"pok\",\"\",IF(A146=\"\",\"\",COUNTIFS(SYNTHESE!$D:$D,A146,SYNTHESE!$E:$E,$D$1,SYNTHESE!$F:$F,\">=1\")))","v":""},{"$f":"IF($Z$2=\"pok\",\"\",IF(A146=\"\",\"\",COUNTIFS(SYNTHESE!$D:$D,A146,SYNTHESE!$E:$E,$E$1,SYNTHESE!$F:$F,\">=1\")))","v":""},{"$f":"IF($Z$2=\"pok\",\"\",IF(A146=\"\",\"\",COUNTIFS(SYNTHESE!$D:$D,A146,SYNTHESE!$E:$E,$F$1,SYNTHESE!$F:$F,\">=1\")))","v":""},{"$f":"IF($Z$2=\"pok\",\"\",IF(A146=\"\",\"\",COUNTIFS(SYNTHESE!$D:$D,A146,SYNTHESE!$E:$E,$G$1,SYNTHESE!$F:$F,\">=1\")))","v":""},{"$f":"IF($Z$2=\"pok\",\"\",IF(A146=\"\",\"\",COUNTIFS(SYNTHESE!$D:$D,A146,SYNTHESE!$E:$E,$H$1,SYNTHESE!$F:$F,\">=1\")))","v":""},{"$f":"IF($Z$2=\"pok\",\"\",IF(A146=\"\",\"\",COUNTIFS(SYNTHESE!$D:$D,A146,SYNTHESE!$E:$E,$I$1,SYNTHESE!$F:$F,\">=1\")))","v":""},{"$f":"IF($Z$2=\"pok\",\"\",IF(A146=\"\",\"\",COUNTIFS(SYNTHESE!$D:$D,A146,SYNTHESE!$E:$E,$J$1,SYNTHESE!$F:$F,\">=1\")))","v":""},{"$f":"IF($Z$2=\"pok\",\"\",IF(A146=\"\",\"\",COUNTIFS(SYNTHESE!$D:$D,A146,SYNTHESE!$E:$E,$K$1,SYNTHESE!$F:$F,\">=1\")))","v":""},{"$f":"IF($Z$2=\"pok\",\"\",IF(A146=\"\",\"\",COUNTIFS(SYNTHESE!$D:$D,A146,SYNTHESE!$E:$E,$L$1,SYNTHESE!$F:$F,\">=1\")))","v":""},{"$f":"IF($Z$2=\"pok\",\"\",IF(A146=\"\",\"\",COUNTIFS(SYNTHESE!$D:$D,A146,SYNTHESE!$E:$E,$M$1,SYNTHESE!$F:$F,\">=1\")))","v":""},{"$f":"IF($Z$2=\"pok\",\"\",IF(A146=\"\",\"\",COUNTIFS(SYNTHESE!$D:$D,A146,SYNTHESE!$E:$E,$N$1,SYNTHESE!$F:$F,\">=1\")))","v":""},{"$f":"IF($Z$2=\"pok\",\"\",IF(A146=\"\",\"\",COUNTIFS(SYNTHESE!$D:$D,A146,SYNTHESE!$E:$E,$O$1,SYNTHESE!$F:$F,\">=1\")))","v":""},{"$f":"IF($Z$2=\"pok\",\"\",IF(A146=\"\",\"\",COUNTIFS(SYNTHESE!$D:$D,A146,SYNTHESE!$E:$E,$P$1,SYNTHESE!$F:$F,\">=1\")))","v":""},{"$f":"IF($Z$2=\"pok\",\"\",IF(A146=\"\",\"\",COUNTIFS(SYNTHESE!$D:$D,A146,SYNTHESE!$E:$E,$Q$1,SYNTHESE!$F:$F,\">=1\")))","v":""},{"$f":"IF($Z$2=\"pok\",\"\",IF(A146=\"\",\"\",COUNTIFS(SYNTHESE!$D:$D,A146,SYNTHESE!$E:$E,$R$1,SYNTHESE!$F:$F,\">=1\")))","v":""},{"$f":"IF($Z$2=\"pok\",\"\",IF(A146=\"\",\"\",COUNTIFS(SYNTHESE!$D:$D,A146,SYNTHESE!$E:$E,$S$1,SYNTHESE!$F:$F,\">=1\")))","v":""},{"$f":"IF($Z$2=\"pok\",\"\",IF(A146=\"\",\"\",COUNTIFS(SYNTHESE!$D:$D,A146,SYNTHESE!$E:$E,$T$1,SYNTHESE!$F:$F,\">=1\")))","v":""},{"$f":"IF($Z$2=\"pok\",\"\",IF(A146=\"\",\"\",COUNTIFS(SYNTHESE!$D:$D,A146,SYNTHESE!$E:$E,$U$1,SYNTHESE!$F:$F,\">=1\")))","v":""},{"$f":"IF($Z$2=\"pok\",\"\",IF(A146=\"\",\"\",COUNTIFS(SYNTHESE!$D:$D,A146,SYNTHESE!$E:$E,$V$1,SYNTHESE!$F:$F,\">=1\")))","v":""},{"$f":"IF($Z$2=\"pok\",\"\",IF(A146=\"\",\"\",COUNTIFS(SYNTHESE!$D:$D,A146,SYNTHESE!$E:$E,$W$1,SYNTHESE!$F:$F,\">=1\")))","v":""},{"$f":"IF($Z$2=\"pok\",\"\",IF(A146=\"\",\"\",COUNTIFS(SYNTHESE!$D:$D,A146,SYNTHESE!$E:$E,$X$1,SYNTHESE!$F:$F,\">=1\")))","v":""},{"$f":"IF($Z$2=\"pok\",\"\",IF(A146=\"\",\"\",COUNTIFS(SYNTHESE!$D:$D,A146,SYNTHESE!$E:$E,$Y$1,SYNTHESE!$F:$F,\">=1\")))","v":""},0]
[{"$f":"IF(ETUDIANTS!A147=\"\",\"\",ETUDIANTS!A147)","v":""},{"$f":"IF($Z$2=\"pok\",\"\",IF(A147=\"\",\"\",COUNTIFS(SYNTHESE!$D:$D,A147,SYNTHESE!$E:$E,$B$1,SYNTHESE!$F:$F,\">=1\")))","v":""},{"$f":"IF($Z$2=\"pok\",\"\",IF(A147=\"\",\"\",COUNTIFS(SYNTHESE!$D:$D,A147,SYNTHESE!$E:$E,$C$1,SYNTHESE!$F:$F,\">=1\")))","v":""},{"$f":"IF($Z$2=\"pok\",\"\",IF(A147=\"\",\"\",COUNTIFS(SYNTHESE!$D:$D,A147,SYNTHESE!$E:$E,$D$1,SYNTHESE!$F:$F,\">=1\")))","v":""},{"$f":"IF($Z$2=\"pok\",\"\",IF(A147=\"\",\"\",COUNTIFS(SYNTHESE!$D:$D,A147,SYNTHESE!$E:$E,$E$1,SYNTHESE!$F:$F,\">=1\")))","v":""},{"$f":"IF($Z$2=\"pok\",\"\",IF(A147=\"\",\"\",COUNTIFS(SYNTHESE!$D:$D,A147,SYNTHESE!$E:$E,$F$1,SYNTHESE!$F:$F,\">=1\")))","v":""},{"$f":"IF($Z$2=\"pok\",\"\",IF(A147=\"\",\"\",COUNTIFS(SYNTHESE!$D:$D,A147,SYNTHESE!$E:$E,$G$1,SYNTHESE!$F:$F,\">=1\")))","v":""},{"$f":"IF($Z$2=\"pok\",\"\",IF(A147=\"\",\"\",COUNTIFS(SYNTHESE!$D:$D,A147,SYNTHESE!$E:$E,$H$1,SYNTHESE!$F:$F,\">=1\")))","v":""},{"$f":"IF($Z$2=\"pok\",\"\",IF(A147=\"\",\"\",COUNTIFS(SYNTHESE!$D:$D,A147,SYNTHESE!$E:$E,$I$1,SYNTHESE!$F:$F,\">=1\")))","v":""},{"$f":"IF($Z$2=\"pok\",\"\",IF(A147=\"\",\"\",COUNTIFS(SYNTHESE!$D:$D,A147,SYNTHESE!$E:$E,$J$1,SYNTHESE!$F:$F,\">=1\")))","v":""},{"$f":"IF($Z$2=\"pok\",\"\",IF(A147=\"\",\"\",COUNTIFS(SYNTHESE!$D:$D,A147,SYNTHESE!$E:$E,$K$1,SYNTHESE!$F:$F,\">=1\")))","v":""},{"$f":"IF($Z$2=\"pok\",\"\",IF(A147=\"\",\"\",COUNTIFS(SYNTHESE!$D:$D,A147,SYNTHESE!$E:$E,$L$1,SYNTHESE!$F:$F,\">=1\")))","v":""},{"$f":"IF($Z$2=\"pok\",\"\",IF(A147=\"\",\"\",COUNTIFS(SYNTHESE!$D:$D,A147,SYNTHESE!$E:$E,$M$1,SYNTHESE!$F:$F,\">=1\")))","v":""},{"$f":"IF($Z$2=\"pok\",\"\",IF(A147=\"\",\"\",COUNTIFS(SYNTHESE!$D:$D,A147,SYNTHESE!$E:$E,$N$1,SYNTHESE!$F:$F,\">=1\")))","v":""},{"$f":"IF($Z$2=\"pok\",\"\",IF(A147=\"\",\"\",COUNTIFS(SYNTHESE!$D:$D,A147,SYNTHESE!$E:$E,$O$1,SYNTHESE!$F:$F,\">=1\")))","v":""},{"$f":"IF($Z$2=\"pok\",\"\",IF(A147=\"\",\"\",COUNTIFS(SYNTHESE!$D:$D,A147,SYNTHESE!$E:$E,$P$1,SYNTHESE!$F:$F,\">=1\")))","v":""},{"$f":"IF($Z$2=\"pok\",\"\",IF(A147=\"\",\"\",COUNTIFS(SYNTHESE!$D:$D,A147,SYNTHESE!$E:$E,$Q$1,SYNTHESE!$F:$F,\">=1\")))","v":""},{"$f":"IF($Z$2=\"pok\",\"\",IF(A147=\"\",\"\",COUNTIFS(SYNTHESE!$D:$D,A147,SYNTHESE!$E:$E,$R$1,SYNTHESE!$F:$F,\">=1\")))","v":""},{"$f":"IF($Z$2=\"pok\",\"\",IF(A147=\"\",\"\",COUNTIFS(SYNTHESE!$D:$D,A147,SYNTHESE!$E:$E,$S$1,SYNTHESE!$F:$F,\">=1\")))","v":""},{"$f":"IF($Z$2=\"pok\",\"\",IF(A147=\"\",\"\",COUNTIFS(SYNTHESE!$D:$D,A147,SYNTHESE!$E:$E,$T$1,SYNTHESE!$F:$F,\">=1\")))","v":""},{"$f":"IF($Z$2=\"pok\",\"\",IF(A147=\"\",\"\",COUNTIFS(SYNTHESE!$D:$D,A147,SYNTHESE!$E:$E,$U$1,SYNTHESE!$F:$F,\">=1\")))","v":""},{"$f":"IF($Z$2=\"pok\",\"\",IF(A147=\"\",\"\",COUNTIFS(SYNTHESE!$D:$D,A147,SYNTHESE!$E:$E,$V$1,SYNTHESE!$F:$F,\">=1\")))","v":""},{"$f":"IF($Z$2=\"pok\",\"\",IF(A147=\"\",\"\",COUNTIFS(SYNTHESE!$D:$D,A147,SYNTHESE!$E:$E,$W$1,SYNTHESE!$F:$F,\">=1\")))","v":""},{"$f":"IF($Z$2=\"pok\",\"\",IF(A147=\"\",\"\",COUNTIFS(SYNTHESE!$D:$D,A147,SYNTHESE!$E:$E,$X$1,SYNTHESE!$F:$F,\">=1\")))","v":""},{"$f":"IF($Z$2=\"pok\",\"\",IF(A147=\"\",\"\",COUNTIFS(SYNTHESE!$D:$D,A147,SYNTHESE!$E:$E,$Y$1,SYNTHESE!$F:$F,\">=1\")))","v":""},0]
[{"$f":"IF(ETUDIANTS!A148=\"\",\"\",ETUDIANTS!A148)","v":""},{"$f":"IF($Z$2=\"pok\",\"\",IF(A148=\"\",\"\",COUNTIFS(SYNTHESE!$D:$D,A148,SYNTHESE!$E:$E,$B$1,SYNTHESE!$F:$F,\">=1\")))","v":""},{"$f":"IF($Z$2=\"pok\",\"\",IF(A148=\"\",\"\",COUNTIFS(SYNTHESE!$D:$D,A148,SYNTHESE!$E:$E,$C$1,SYNTHESE!$F:$F,\">=1\")))","v":""},{"$f":"IF($Z$2=\"pok\",\"\",IF(A148=\"\",\"\",COUNTIFS(SYNTHESE!$D:$D,A148,SYNTHESE!$E:$E,$D$1,SYNTHESE!$F:$F,\">=1\")))","v":""},{"$f":"IF($Z$2=\"pok\",\"\",IF(A148=\"\",\"\",COUNTIFS(SYNTHESE!$D:$D,A148,SYNTHESE!$E:$E,$E$1,SYNTHESE!$F:$F,\">=1\")))","v":""},{"$f":"IF($Z$2=\"pok\",\"\",IF(A148=\"\",\"\",COUNTIFS(SYNTHESE!$D:$D,A148,SYNTHESE!$E:$E,$F$1,SYNTHESE!$F:$F,\">=1\")))","v":""},{"$f":"IF($Z$2=\"pok\",\"\",IF(A148=\"\",\"\",COUNTIFS(SYNTHESE!$D:$D,A148,SYNTHESE!$E:$E,$G$1,SYNTHESE!$F:$F,\">=1\")))","v":""},{"$f":"IF($Z$2=\"pok\",\"\",IF(A148=\"\",\"\",COUNTIFS(SYNTHESE!$D:$D,A148,SYNTHESE!$E:$E,$H$1,SYNTHESE!$F:$F,\">=1\")))","v":""},{"$f":"IF($Z$2=\"pok\",\"\",IF(A148=\"\",\"\",COUNTIFS(SYNTHESE!$D:$D,A148,SYNTHESE!$E:$E,$I$1,SYNTHESE!$F:$F,\">=1\")))","v":""},{"$f":"IF($Z$2=\"pok\",\"\",IF(A148=\"\",\"\",COUNTIFS(SYNTHESE!$D:$D,A148,SYNTHESE!$E:$E,$J$1,SYNTHESE!$F:$F,\">=1\")))","v":""},{"$f":"IF($Z$2=\"pok\",\"\",IF(A148=\"\",\"\",COUNTIFS(SYNTHESE!$D:$D,A148,SYNTHESE!$E:$E,$K$1,SYNTHESE!$F:$F,\">=1\")))","v":""},{"$f":"IF($Z$2=\"pok\",\"\",IF(A148=\"\",\"\",COUNTIFS(SYNTHESE!$D:$D,A148,SYNTHESE!$E:$E,$L$1,SYNTHESE!$F:$F,\">=1\")))","v":""},{"$f":"IF($Z$2=\"pok\",\"\",IF(A148=\"\",\"\",COUNTIFS(SYNTHESE!$D:$D,A148,SYNTHESE!$E:$E,$M$1,SYNTHESE!$F:$F,\">=1\")))","v":""},{"$f":"IF($Z$2=\"pok\",\"\",IF(A148=\"\",\"\",COUNTIFS(SYNTHESE!$D:$D,A148,SYNTHESE!$E:$E,$N$1,SYNTHESE!$F:$F,\">=1\")))","v":""},{"$f":"IF($Z$2=\"pok\",\"\",IF(A148=\"\",\"\",COUNTIFS(SYNTHESE!$D:$D,A148,SYNTHESE!$E:$E,$O$1,SYNTHESE!$F:$F,\">=1\")))","v":""},{"$f":"IF($Z$2=\"pok\",\"\",IF(A148=\"\",\"\",COUNTIFS(SYNTHESE!$D:$D,A148,SYNTHESE!$E:$E,$P$1,SYNTHESE!$F:$F,\">=1\")))","v":""},{"$f":"IF($Z$2=\"pok\",\"\",IF(A148=\"\",\"\",COUNTIFS(SYNTHESE!$D:$D,A148,SYNTHESE!$E:$E,$Q$1,SYNTHESE!$F:$F,\">=1\")))","v":""},{"$f":"IF($Z$2=\"pok\",\"\",IF(A148=\"\",\"\",COUNTIFS(SYNTHESE!$D:$D,A148,SYNTHESE!$E:$E,$R$1,SYNTHESE!$F:$F,\">=1\")))","v":""},{"$f":"IF($Z$2=\"pok\",\"\",IF(A148=\"\",\"\",COUNTIFS(SYNTHESE!$D:$D,A148,SYNTHESE!$E:$E,$S$1,SYNTHESE!$F:$F,\">=1\")))","v":""},{"$f":"IF($Z$2=\"pok\",\"\",IF(A148=\"\",\"\",COUNTIFS(SYNTHESE!$D:$D,A148,SYNTHESE!$E:$E,$T$1,SYNTHESE!$F:$F,\">=1\")))","v":""},{"$f":"IF($Z$2=\"pok\",\"\",IF(A148=\"\",\"\",COUNTIFS(SYNTHESE!$D:$D,A148,SYNTHESE!$E:$E,$U$1,SYNTHESE!$F:$F,\">=1\")))","v":""},{"$f":"IF($Z$2=\"pok\",\"\",IF(A148=\"\",\"\",COUNTIFS(SYNTHESE!$D:$D,A148,SYNTHESE!$E:$E,$V$1,SYNTHESE!$F:$F,\">=1\")))","v":""},{"$f":"IF($Z$2=\"pok\",\"\",IF(A148=\"\",\"\",COUNTIFS(SYNTHESE!$D:$D,A148,SYNTHESE!$E:$E,$W$1,SYNTHESE!$F:$F,\">=1\")))","v":""},{"$f":"IF($Z$2=\"pok\",\"\",IF(A148=\"\",\"\",COUNTIFS(SYNTHESE!$D:$D,A148,SYNTHESE!$E:$E,$X$1,SYNTHESE!$F:$F,\">=1\")))","v":""},{"$f":"IF($Z$2=\"pok\",\"\",IF(A148=\"\",\"\",COUNTIFS(SYNTHESE!$D:$D,A148,SYNTHESE!$E:$E,$Y$1,SYNTHESE!$F:$F,\">=1\")))","v":""},0]
[{"$f":"IF(ETUDIANTS!A149=\"\",\"\",ETUDIANTS!A149)","v":""},{"$f":"IF($Z$2=\"pok\",\"\",IF(A149=\"\",\"\",COUNTIFS(SYNTHESE!$D:$D,A149,SYNTHESE!$E:$E,$B$1,SYNTHESE!$F:$F,\">=1\")))","v":""},{"$f":"IF($Z$2=\"pok\",\"\",IF(A149=\"\",\"\",COUNTIFS(SYNTHESE!$D:$D,A149,SYNTHESE!$E:$E,$C$1,SYNTHESE!$F:$F,\">=1\")))","v":""},{"$f":"IF($Z$2=\"pok\",\"\",IF(A149=\"\",\"\",COUNTIFS(SYNTHESE!$D:$D,A149,SYNTHESE!$E:$E,$D$1,SYNTHESE!$F:$F,\">=1\")))","v":""},{"$f":"IF($Z$2=\"pok\",\"\",IF(A149=\"\",\"\",COUNTIFS(SYNTHESE!$D:$D,A149,SYNTHESE!$E:$E,$E$1,SYNTHESE!$F:$F,\">=1\")))","v":""},{"$f":"IF($Z$2=\"pok\",\"\",IF(A149=\"\",\"\",COUNTIFS(SYNTHESE!$D:$D,A149,SYNTHESE!$E:$E,$F$1,SYNTHESE!$F:$F,\">=1\")))","v":""},{"$f":"IF($Z$2=\"pok\",\"\",IF(A149=\"\",\"\",COUNTIFS(SYNTHESE!$D:$D,A149,SYNTHESE!$E:$E,$G$1,SYNTHESE!$F:$F,\">=1\")))","v":""},{"$f":"IF($Z$2=\"pok\",\"\",IF(A149=\"\",\"\",COUNTIFS(SYNTHESE!$D:$D,A149,SYNTHESE!$E:$E,$H$1,SYNTHESE!$F:$F,\">=1\")))","v":""},{"$f":"IF($Z$2=\"pok\",\"\",IF(A149=\"\",\"\",COUNTIFS(SYNTHESE!$D:$D,A149,SYNTHESE!$E:$E,$I$1,SYNTHESE!$F:$F,\">=1\")))","v":""},{"$f":"IF($Z$2=\"pok\",\"\",IF(A149=\"\",\"\",COUNTIFS(SYNTHESE!$D:$D,A149,SYNTHESE!$E:$E,$J$1,SYNTHESE!$F:$F,\">=1\")))","v":""},{"$f":"IF($Z$2=\"pok\",\"\",IF(A149=\"\",\"\",COUNTIFS(SYNTHESE!$D:$D,A149,SYNTHESE!$E:$E,$K$1,SYNTHESE!$F:$F,\">=1\")))","v":""},{"$f":"IF($Z$2=\"pok\",\"\",IF(A149=\"\",\"\",COUNTIFS(SYNTHESE!$D:$D,A149,SYNTHESE!$E:$E,$L$1,SYNTHESE!$F:$F,\">=1\")))","v":""},{"$f":"IF($Z$2=\"pok\",\"\",IF(A149=\"\",\"\",COUNTIFS(SYNTHESE!$D:$D,A149,SYNTHESE!$E:$E,$M$1,SYNTHESE!$F:$F,\">=1\")))","v":""},{"$f":"IF($Z$2=\"pok\",\"\",IF(A149=\"\",\"\",COUNTIFS(SYNTHESE!$D:$D,A149,SYNTHESE!$E:$E,$N$1,SYNTHESE!$F:$F,\">=1\")))","v":""},{"$f":"IF($Z$2=\"pok\",\"\",IF(A149=\"\",\"\",COUNTIFS(SYNTHESE!$D:$D,A149,SYNTHESE!$E:$E,$O$1,SYNTHESE!$F:$F,\">=1\")))","v":""},{"$f":"IF($Z$2=\"pok\",\"\",IF(A149=\"\",\"\",COUNTIFS(SYNTHESE!$D:$D,A149,SYNTHESE!$E:$E,$P$1,SYNTHESE!$F:$F,\">=1\")))","v":""},{"$f":"IF($Z$2=\"pok\",\"\",IF(A149=\"\",\"\",COUNTIFS(SYNTHESE!$D:$D,A149,SYNTHESE!$E:$E,$Q$1,SYNTHESE!$F:$F,\">=1\")))","v":""},{"$f":"IF($Z$2=\"pok\",\"\",IF(A149=\"\",\"\",COUNTIFS(SYNTHESE!$D:$D,A149,SYNTHESE!$E:$E,$R$1,SYNTHESE!$F:$F,\">=1\")))","v":""},{"$f":"IF($Z$2=\"pok\",\"\",IF(A149=\"\",\"\",COUNTIFS(SYNTHESE!$D:$D,A149,SYNTHESE!$E:$E,$S$1,SYNTHESE!$F:$F,\">=1\")))","v":""},{"$f":"IF($Z$2=\"pok\",\"\",IF(A149=\"\",\"\",COUNTIFS(SYNTHESE!$D:$D,A149,SYNTHESE!$E:$E,$T$1,SYNTHESE!$F:$F,\">=1\")))","v":""},{"$f":"IF($Z$2=\"pok\",\"\",IF(A149=\"\",\"\",COUNTIFS(SYNTHESE!$D:$D,A149,SYNTHESE!$E:$E,$U$1,SYNTHESE!$F:$F,\">=1\")))","v":""},{"$f":"IF($Z$2=\"pok\",\"\",IF(A149=\"\",\"\",COUNTIFS(SYNTHESE!$D:$D,A149,SYNTHESE!$E:$E,$V$1,SYNTHESE!$F:$F,\">=1\")))","v":""},{"$f":"IF($Z$2=\"pok\",\"\",IF(A149=\"\",\"\",COUNTIFS(SYNTHESE!$D:$D,A149,SYNTHESE!$E:$E,$W$1,SYNTHESE!$F:$F,\">=1\")))","v":""},{"$f":"IF($Z$2=\"pok\",\"\",IF(A149=\"\",\"\",COUNTIFS(SYNTHESE!$D:$D,A149,SYNTHESE!$E:$E,$X$1,SYNTHESE!$F:$F,\">=1\")))","v":""},{"$f":"IF($Z$2=\"pok\",\"\",IF(A149=\"\",\"\",COUNTIFS(SYNTHESE!$D:$D,A149,SYNTHESE!$E:$E,$Y$1,SYNTHESE!$F:$F,\">=1\")))","v":""},0]
[{"$f":"IF(ETUDIANTS!A150=\"\",\"\",ETUDIANTS!A150)","v":""},{"$f":"IF($Z$2=\"pok\",\"\",IF(A150=\"\",\"\",COUNTIFS(SYNTHESE!$D:$D,A150,SYNTHESE!$E:$E,$B$1,SYNTHESE!$F:$F,\">=1\")))","v":""},{"$f":"IF($Z$2=\"pok\",\"\",IF(A150=\"\",\"\",COUNTIFS(SYNTHESE!$D:$D,A150,SYNTHESE!$E:$E,$C$1,SYNTHESE!$F:$F,\">=1\")))","v":""},{"$f":"IF($Z$2=\"pok\",\"\",IF(A150=\"\",\"\",COUNTIFS(SYNTHESE!$D:$D,A150,SYNTHESE!$E:$E,$D$1,SYNTHESE!$F:$F,\">=1\")))","v":""},{"$f":"IF($Z$2=\"pok\",\"\",IF(A150=\"\",\"\",COUNTIFS(SYNTHESE!$D:$D,A150,SYNTHESE!$E:$E,$E$1,SYNTHESE!$F:$F,\">=1\")))","v":""},{"$f":"IF($Z$2=\"pok\",\"\",IF(A150=\"\",\"\",COUNTIFS(SYNTHESE!$D:$D,A150,SYNTHESE!$E:$E,$F$1,SYNTHESE!$F:$F,\">=1\")))","v":""},{"$f":"IF($Z$2=\"pok\",\"\",IF(A150=\"\",\"\",COUNTIFS(SYNTHESE!$D:$D,A150,SYNTHESE!$E:$E,$G$1,SYNTHESE!$F:$F,\">=1\")))","v":""},{"$f":"IF($Z$2=\"pok\",\"\",IF(A150=\"\",\"\",COUNTIFS(SYNTHESE!$D:$D,A150,SYNTHESE!$E:$E,$H$1,SYNTHESE!$F:$F,\">=1\")))","v":""},{"$f":"IF($Z$2=\"pok\",\"\",IF(A150=\"\",\"\",COUNTIFS(SYNTHESE!$D:$D,A150,SYNTHESE!$E:$E,$I$1,SYNTHESE!$F:$F,\">=1\")))","v":""},{"$f":"IF($Z$2=\"pok\",\"\",IF(A150=\"\",\"\",COUNTIFS(SYNTHESE!$D:$D,A150,SYNTHESE!$E:$E,$J$1,SYNTHESE!$F:$F,\">=1\")))","v":""},{"$f":"IF($Z$2=\"pok\",\"\",IF(A150=\"\",\"\",COUNTIFS(SYNTHESE!$D:$D,A150,SYNTHESE!$E:$E,$K$1,SYNTHESE!$F:$F,\">=1\")))","v":""},{"$f":"IF($Z$2=\"pok\",\"\",IF(A150=\"\",\"\",COUNTIFS(SYNTHESE!$D:$D,A150,SYNTHESE!$E:$E,$L$1,SYNTHESE!$F:$F,\">=1\")))","v":""},{"$f":"IF($Z$2=\"pok\",\"\",IF(A150=\"\",\"\",COUNTIFS(SYNTHESE!$D:$D,A150,SYNTHESE!$E:$E,$M$1,SYNTHESE!$F:$F,\">=1\")))","v":""},{"$f":"IF($Z$2=\"pok\",\"\",IF(A150=\"\",\"\",COUNTIFS(SYNTHESE!$D:$D,A150,SYNTHESE!$E:$E,$N$1,SYNTHESE!$F:$F,\">=1\")))","v":""},{"$f":"IF($Z$2=\"pok\",\"\",IF(A150=\"\",\"\",COUNTIFS(SYNTHESE!$D:$D,A150,SYNTHESE!$E:$E,$O$1,SYNTHESE!$F:$F,\">=1\")))","v":""},{"$f":"IF($Z$2=\"pok\",\"\",IF(A150=\"\",\"\",COUNTIFS(SYNTHESE!$D:$D,A150,SYNTHESE!$E:$E,$P$1,SYNTHESE!$F:$F,\">=1\")))","v":""},{"$f":"IF($Z$2=\"pok\",\"\",IF(A150=\"\",\"\",COUNTIFS(SYNTHESE!$D:$D,A150,SYNTHESE!$E:$E,$Q$1,SYNTHESE!$F:$F,\">=1\")))","v":""},{"$f":"IF($Z$2=\"pok\",\"\",IF(A150=\"\",\"\",COUNTIFS(SYNTHESE!$D:$D,A150,SYNTHESE!$E:$E,$R$1,SYNTHESE!$F:$F,\">=1\")))","v":""},{"$f":"IF($Z$2=\"pok\",\"\",IF(A150=\"\",\"\",COUNTIFS(SYNTHESE!$D:$D,A150,SYNTHESE!$E:$E,$S$1,SYNTHESE!$F:$F,\">=1\")))","v":""},{"$f":"IF($Z$2=\"pok\",\"\",IF(A150=\"\",\"\",COUNTIFS(SYNTHESE!$D:$D,A150,SYNTHESE!$E:$E,$T$1,SYNTHESE!$F:$F,\">=1\")))","v":""},{"$f":"IF($Z$2=\"pok\",\"\",IF(A150=\"\",\"\",COUNTIFS(SYNTHESE!$D:$D,A150,SYNTHESE!$E:$E,$U$1,SYNTHESE!$F:$F,\">=1\")))","v":""},{"$f":"IF($Z$2=\"pok\",\"\",IF(A150=\"\",\"\",COUNTIFS(SYNTHESE!$D:$D,A150,SYNTHESE!$E:$E,$V$1,SYNTHESE!$F:$F,\">=1\")))","v":""},{"$f":"IF($Z$2=\"pok\",\"\",IF(A150=\"\",\"\",COUNTIFS(SYNTHESE!$D:$D,A150,SYNTHESE!$E:$E,$W$1,SYNTHESE!$F:$F,\">=1\")))","v":""},{"$f":"IF($Z$2=\"pok\",\"\",IF(A150=\"\",\"\",COUNTIFS(SYNTHESE!$D:$D,A150,SYNTHESE!$E:$E,$X$1,SYNTHESE!$F:$F,\">=1\")))","v":""},{"$f":"IF($Z$2=\"pok\",\"\",IF(A150=\"\",\"\",COUNTIFS(SYNTHESE!$D:$D,A150,SYNTHESE!$E:$E,$Y$1,SYNTHESE!$F:$F,\">=1\")))","v":""},0]
[{"$f":"IF(ETUDIANTS!A151=\"\",\"\",ETUDIANTS!A151)","v":""},{"$f":"IF($Z$2=\"pok\",\"\",IF(A151=\"\",\"\",COUNTIFS(SYNTHESE!$D:$D,A151,SYNTHESE!$E:$E,$B$1,SYNTHESE!$F:$F,\">=1\")))","v":""},{"$f":"IF($Z$2=\"pok\",\"\",IF(A151=\"\",\"\",COUNTIFS(SYNTHESE!$D:$D,A151,SYNTHESE!$E:$E,$C$1,SYNTHESE!$F:$F,\">=1\")))","v":""},{"$f":"IF($Z$2=\"pok\",\"\",IF(A151=\"\",\"\",COUNTIFS(SYNTHESE!$D:$D,A151,SYNTHESE!$E:$E,$D$1,SYNTHESE!$F:$F,\">=1\")))","v":""},{"$f":"IF($Z$2=\"pok\",\"\",IF(A151=\"\",\"\",COUNTIFS(SYNTHESE!$D:$D,A151,SYNTHESE!$E:$E,$E$1,SYNTHESE!$F:$F,\">=1\")))","v":""},{"$f":"IF($Z$2=\"pok\",\"\",IF(A151=\"\",\"\",COUNTIFS(SYNTHESE!$D:$D,A151,SYNTHESE!$E:$E,$F$1,SYNTHESE!$F:$F,\">=1\")))","v":""},{"$f":"IF($Z$2=\"pok\",\"\",IF(A151=\"\",\"\",COUNTIFS(SYNTHESE!$D:$D,A151,SYNTHESE!$E:$E,$G$1,SYNTHESE!$F:$F,\">=1\")))","v":""},{"$f":"IF($Z$2=\"pok\",\"\",IF(A151=\"\",\"\",COUNTIFS(SYNTHESE!$D:$D,A151,SYNTHESE!$E:$E,$H$1,SYNTHESE!$F:$F,\">=1\")))","v":""},{"$f":"IF($Z$2=\"pok\",\"\",IF(A151=\"\",\"\",COUNTIFS(SYNTHESE!$D:$D,A151,SYNTHESE!$E:$E,$I$1,SYNTHESE!$F:$F,\">=1\")))","v":""},{"$f":"IF($Z$2=\"pok\",\"\",IF(A151=\"\",\"\",COUNTIFS(SYNTHESE!$D:$D,A151,SYNTHESE!$E:$E,$J$1,SYNTHESE!$F:$F,\">=1\")))","v":""},{"$f":"IF($Z$2=\"pok\",\"\",IF(A151=\"\",\"\",COUNTIFS(SYNTHESE!$D:$D,A151,SYNTHESE!$E:$E,$K$1,SYNTHESE!$F:$F,\">=1\")))","v":""},{"$f":"IF($Z$2=\"pok\",\"\",IF(A151=\"\",\"\",COUNTIFS(SYNTHESE!$D:$D,A151,SYNTHESE!$E:$E,$L$1,SYNTHESE!$F:$F,\">=1\")))","v":""},{"$f":"IF($Z$2=\"pok\",\"\",IF(A151=\"\",\"\",COUNTIFS(SYNTHESE!$D:$D,A151,SYNTHESE!$E:$E,$M$1,SYNTHESE!$F:$F,\">=1\")))","v":""},{"$f":"IF($Z$2=\"pok\",\"\",IF(A151=\"\",\"\",COUNTIFS(SYNTHESE!$D:$D,A151,SYNTHESE!$E:$E,$N$1,SYNTHESE!$F:$F,\">=1\")))","v":""},{"$f":"IF($Z$2=\"pok\",\"\",IF(A151=\"\",\"\",COUNTIFS(SYNTHESE!$D:$D,A151,SYNTHESE!$E:$E,$O$1,SYNTHESE!$F:$F,\">=1\")))","v":""},{"$f":"IF($Z$2=\"pok\",\"\",IF(A151=\"\",\"\",COUNTIFS(SYNTHESE!$D:$D,A151,SYNTHESE!$E:$E,$P$1,SYNTHESE!$F:$F,\">=1\")))","v":""},{"$f":"IF($Z$2=\"pok\",\"\",IF(A151=\"\",\"\",COUNTIFS(SYNTHESE!$D:$D,A151,SYNTHESE!$E:$E,$Q$1,SYNTHESE!$F:$F,\">=1\")))","v":""},{"$f":"IF($Z$2=\"pok\",\"\",IF(A151=\"\",\"\",COUNTIFS(SYNTHESE!$D:$D,A151,SYNTHESE!$E:$E,$R$1,SYNTHESE!$F:$F,\">=1\")))","v":""},{"$f":"IF($Z$2=\"pok\",\"\",IF(A151=\"\",\"\",COUNTIFS(SYNTHESE!$D:$D,A151,SYNTHESE!$E:$E,$S$1,SYNTHESE!$F:$F,\">=1\")))","v":""},{"$f":"IF($Z$2=\"pok\",\"\",IF(A151=\"\",\"\",COUNTIFS(SYNTHESE!$D:$D,A151,SYNTHESE!$E:$E,$T$1,SYNTHESE!$F:$F,\">=1\")))","v":""},{"$f":"IF($Z$2=\"pok\",\"\",IF(A151=\"\",\"\",COUNTIFS(SYNTHESE!$D:$D,A151,SYNTHESE!$E:$E,$U$1,SYNTHESE!$F:$F,\">=1\")))","v":""},{"$f":"IF($Z$2=\"pok\",\"\",IF(A151=\"\",\"\",COUNTIFS(SYNTHESE!$D:$D,A151,SYNTHESE!$E:$E,$V$1,SYNTHESE!$F:$F,\">=1\")))","v":""},{"$f":"IF($Z$2=\"pok\",\"\",IF(A151=\"\",\"\",COUNTIFS(SYNTHESE!$D:$D,A151,SYNTHESE!$E:$E,$W$1,SYNTHESE!$F:$F,\">=1\")))","v":""},{"$f":"IF($Z$2=\"pok\",\"\",IF(A151=\"\",\"\",COUNTIFS(SYNTHESE!$D:$D,A151,SYNTHESE!$E:$E,$X$1,SYNTHESE!$F:$F,\">=1\")))","v":""},{"$f":"IF($Z$2=\"pok\",\"\",IF(A151=\"\",\"\",COUNTIFS(SYNTHESE!$D:$D,A151,SYNTHESE!$E:$E,$Y$1,SYNTHESE!$F:$F,\">=1\")))","v":""},0]
[{"$f":"IF(ETUDIANTS!A152=\"\",\"\",ETUDIANTS!A152)","v":""},{"$f":"IF($Z$2=\"pok\",\"\",IF(A152=\"\",\"\",COUNTIFS(SYNTHESE!$D:$D,A152,SYNTHESE!$E:$E,$B$1,SYNTHESE!$F:$F,\">=1\")))","v":""},{"$f":"IF($Z$2=\"pok\",\"\",IF(A152=\"\",\"\",COUNTIFS(SYNTHESE!$D:$D,A152,SYNTHESE!$E:$E,$C$1,SYNTHESE!$F:$F,\">=1\")))","v":""},{"$f":"IF($Z$2=\"pok\",\"\",IF(A152=\"\",\"\",COUNTIFS(SYNTHESE!$D:$D,A152,SYNTHESE!$E:$E,$D$1,SYNTHESE!$F:$F,\">=1\")))","v":""},{"$f":"IF($Z$2=\"pok\",\"\",IF(A152=\"\",\"\",COUNTIFS(SYNTHESE!$D:$D,A152,SYNTHESE!$E:$E,$E$1,SYNTHESE!$F:$F,\">=1\")))","v":""},{"$f":"IF($Z$2=\"pok\",\"\",IF(A152=\"\",\"\",COUNTIFS(SYNTHESE!$D:$D,A152,SYNTHESE!$E:$E,$F$1,SYNTHESE!$F:$F,\">=1\")))","v":""},{"$f":"IF($Z$2=\"pok\",\"\",IF(A152=\"\",\"\",COUNTIFS(SYNTHESE!$D:$D,A152,SYNTHESE!$E:$E,$G$1,SYNTHESE!$F:$F,\">=1\")))","v":""},{"$f":"IF($Z$2=\"pok\",\"\",IF(A152=\"\",\"\",COUNTIFS(SYNTHESE!$D:$D,A152,SYNTHESE!$E:$E,$H$1,SYNTHESE!$F:$F,\">=1\")))","v":""},{"$f":"IF($Z$2=\"pok\",\"\",IF(A152=\"\",\"\",COUNTIFS(SYNTHESE!$D:$D,A152,SYNTHESE!$E:$E,$I$1,SYNTHESE!$F:$F,\">=1\")))","v":""},{"$f":"IF($Z$2=\"pok\",\"\",IF(A152=\"\",\"\",COUNTIFS(SYNTHESE!$D:$D,A152,SYNTHESE!$E:$E,$J$1,SYNTHESE!$F:$F,\">=1\")))","v":""},{"$f":"IF($Z$2=\"pok\",\"\",IF(A152=\"\",\"\",COUNTIFS(SYNTHESE!$D:$D,A152,SYNTHESE!$E:$E,$K$1,SYNTHESE!$F:$F,\">=1\")))","v":""},{"$f":"IF($Z$2=\"pok\",\"\",IF(A152=\"\",\"\",COUNTIFS(SYNTHESE!$D:$D,A152,SYNTHESE!$E:$E,$L$1,SYNTHESE!$F:$F,\">=1\")))","v":""},{"$f":"IF($Z$2=\"pok\",\"\",IF(A152=\"\",\"\",COUNTIFS(SYNTHESE!$D:$D,A152,SYNTHESE!$E:$E,$M$1,SYNTHESE!$F:$F,\">=1\")))","v":""},{"$f":"IF($Z$2=\"pok\",\"\",IF(A152=\"\",\"\",COUNTIFS(SYNTHESE!$D:$D,A152,SYNTHESE!$E:$E,$N$1,SYNTHESE!$F:$F,\">=1\")))","v":""},{"$f":"IF($Z$2=\"pok\",\"\",IF(A152=\"\",\"\",COUNTIFS(SYNTHESE!$D:$D,A152,SYNTHESE!$E:$E,$O$1,SYNTHESE!$F:$F,\">=1\")))","v":""},{"$f":"IF($Z$2=\"pok\",\"\",IF(A152=\"\",\"\",COUNTIFS(SYNTHESE!$D:$D,A152,SYNTHESE!$E:$E,$P$1,SYNTHESE!$F:$F,\">=1\")))","v":""},{"$f":"IF($Z$2=\"pok\",\"\",IF(A152=\"\",\"\",COUNTIFS(SYNTHESE!$D:$D,A152,SYNTHESE!$E:$E,$Q$1,SYNTHESE!$F:$F,\">=1\")))","v":""},{"$f":"IF($Z$2=\"pok\",\"\",IF(A152=\"\",\"\",COUNTIFS(SYNTHESE!$D:$D,A152,SYNTHESE!$E:$E,$R$1,SYNTHESE!$F:$F,\">=1\")))","v":""},{"$f":"IF($Z$2=\"pok\",\"\",IF(A152=\"\",\"\",COUNTIFS(SYNTHESE!$D:$D,A152,SYNTHESE!$E:$E,$S$1,SYNTHESE!$F:$F,\">=1\")))","v":""},{"$f":"IF($Z$2=\"pok\",\"\",IF(A152=\"\",\"\",COUNTIFS(SYNTHESE!$D:$D,A152,SYNTHESE!$E:$E,$T$1,SYNTHESE!$F:$F,\">=1\")))","v":""},{"$f":"IF($Z$2=\"pok\",\"\",IF(A152=\"\",\"\",COUNTIFS(SYNTHESE!$D:$D,A152,SYNTHESE!$E:$E,$U$1,SYNTHESE!$F:$F,\">=1\")))","v":""},{"$f":"IF($Z$2=\"pok\",\"\",IF(A152=\"\",\"\",COUNTIFS(SYNTHESE!$D:$D,A152,SYNTHESE!$E:$E,$V$1,SYNTHESE!$F:$F,\">=1\")))","v":""},{"$f":"IF($Z$2=\"pok\",\"\",IF(A152=\"\",\"\",COUNTIFS(SYNTHESE!$D:$D,A152,SYNTHESE!$E:$E,$W$1,SYNTHESE!$F:$F,\">=1\")))","v":""},{"$f":"IF($Z$2=\"pok\",\"\",IF(A152=\"\",\"\",COUNTIFS(SYNTHESE!$D:$D,A152,SYNTHESE!$E:$E,$X$1,SYNTHESE!$F:$F,\">=1\")))","v":""},{"$f":"IF($Z$2=\"pok\",\"\",IF(A152=\"\",\"\",COUNTIFS(SYNTHESE!$D:$D,A152,SYNTHESE!$E:$E,$Y$1,SYNTHESE!$F:$F,\">=1\")))","v":""},0]
[{"$f":"IF(ETUDIANTS!A153=\"\",\"\",ETUDIANTS!A153)","v":""},{"$f":"IF($Z$2=\"pok\",\"\",IF(A153=\"\",\"\",COUNTIFS(SYNTHESE!$D:$D,A153,SYNTHESE!$E:$E,$B$1,SYNTHESE!$F:$F,\">=1\")))","v":""},{"$f":"IF($Z$2=\"pok\",\"\",IF(A153=\"\",\"\",COUNTIFS(SYNTHESE!$D:$D,A153,SYNTHESE!$E:$E,$C$1,SYNTHESE!$F:$F,\">=1\")))","v":""},{"$f":"IF($Z$2=\"pok\",\"\",IF(A153=\"\",\"\",COUNTIFS(SYNTHESE!$D:$D,A153,SYNTHESE!$E:$E,$D$1,SYNTHESE!$F:$F,\">=1\")))","v":""},{"$f":"IF($Z$2=\"pok\",\"\",IF(A153=\"\",\"\",COUNTIFS(SYNTHESE!$D:$D,A153,SYNTHESE!$E:$E,$E$1,SYNTHESE!$F:$F,\">=1\")))","v":""},{"$f":"IF($Z$2=\"pok\",\"\",IF(A153=\"\",\"\",COUNTIFS(SYNTHESE!$D:$D,A153,SYNTHESE!$E:$E,$F$1,SYNTHESE!$F:$F,\">=1\")))","v":""},{"$f":"IF($Z$2=\"pok\",\"\",IF(A153=\"\",\"\",COUNTIFS(SYNTHESE!$D:$D,A153,SYNTHESE!$E:$E,$G$1,SYNTHESE!$F:$F,\">=1\")))","v":""},{"$f":"IF($Z$2=\"pok\",\"\",IF(A153=\"\",\"\",COUNTIFS(SYNTHESE!$D:$D,A153,SYNTHESE!$E:$E,$H$1,SYNTHESE!$F:$F,\">=1\")))","v":""},{"$f":"IF($Z$2=\"pok\",\"\",IF(A153=\"\",\"\",COUNTIFS(SYNTHESE!$D:$D,A153,SYNTHESE!$E:$E,$I$1,SYNTHESE!$F:$F,\">=1\")))","v":""},{"$f":"IF($Z$2=\"pok\",\"\",IF(A153=\"\",\"\",COUNTIFS(SYNTHESE!$D:$D,A153,SYNTHESE!$E:$E,$J$1,SYNTHESE!$F:$F,\">=1\")))","v":""},{"$f":"IF($Z$2=\"pok\",\"\",IF(A153=\"\",\"\",COUNTIFS(SYNTHESE!$D:$D,A153,SYNTHESE!$E:$E,$K$1,SYNTHESE!$F:$F,\">=1\")))","v":""},{"$f":"IF($Z$2=\"pok\",\"\",IF(A153=\"\",\"\",COUNTIFS(SYNTHESE!$D:$D,A153,SYNTHESE!$E:$E,$L$1,SYNTHESE!$F:$F,\">=1\")))","v":""},{"$f":"IF($Z$2=\"pok\",\"\",IF(A153=\"\",\"\",COUNTIFS(SYNTHESE!$D:$D,A153,SYNTHESE!$E:$E,$M$1,SYNTHESE!$F:$F,\">=1\")))","v":""},{"$f":"IF($Z$2=\"pok\",\"\",IF(A153=\"\",\"\",COUNTIFS(SYNTHESE!$D:$D,A153,SYNTHESE!$E:$E,$N$1,SYNTHESE!$F:$F,\">=1\")))","v":""},{"$f":"IF($Z$2=\"pok\",\"\",IF(A153=\"\",\"\",COUNTIFS(SYNTHESE!$D:$D,A153,SYNTHESE!$E:$E,$O$1,SYNTHESE!$F:$F,\">=1\")))","v":""},{"$f":"IF($Z$2=\"pok\",\"\",IF(A153=\"\",\"\",COUNTIFS(SYNTHESE!$D:$D,A153,SYNTHESE!$E:$E,$P$1,SYNTHESE!$F:$F,\">=1\")))","v":""},{"$f":"IF($Z$2=\"pok\",\"\",IF(A153=\"\",\"\",COUNTIFS(SYNTHESE!$D:$D,A153,SYNTHESE!$E:$E,$Q$1,SYNTHESE!$F:$F,\">=1\")))","v":""},{"$f":"IF($Z$2=\"pok\",\"\",IF(A153=\"\",\"\",COUNTIFS(SYNTHESE!$D:$D,A153,SYNTHESE!$E:$E,$R$1,SYNTHESE!$F:$F,\">=1\")))","v":""},{"$f":"IF($Z$2=\"pok\",\"\",IF(A153=\"\",\"\",COUNTIFS(SYNTHESE!$D:$D,A153,SYNTHESE!$E:$E,$S$1,SYNTHESE!$F:$F,\">=1\")))","v":""},{"$f":"IF($Z$2=\"pok\",\"\",IF(A153=\"\",\"\",COUNTIFS(SYNTHESE!$D:$D,A153,SYNTHESE!$E:$E,$T$1,SYNTHESE!$F:$F,\">=1\")))","v":""},{"$f":"IF($Z$2=\"pok\",\"\",IF(A153=\"\",\"\",COUNTIFS(SYNTHESE!$D:$D,A153,SYNTHESE!$E:$E,$U$1,SYNTHESE!$F:$F,\">=1\")))","v":""},{"$f":"IF($Z$2=\"pok\",\"\",IF(A153=\"\",\"\",COUNTIFS(SYNTHESE!$D:$D,A153,SYNTHESE!$E:$E,$V$1,SYNTHESE!$F:$F,\">=1\")))","v":""},{"$f":"IF($Z$2=\"pok\",\"\",IF(A153=\"\",\"\",COUNTIFS(SYNTHESE!$D:$D,A153,SYNTHESE!$E:$E,$W$1,SYNTHESE!$F:$F,\">=1\")))","v":""},{"$f":"IF($Z$2=\"pok\",\"\",IF(A153=\"\",\"\",COUNTIFS(SYNTHESE!$D:$D,A153,SYNTHESE!$E:$E,$X$1,SYNTHESE!$F:$F,\">=1\")))","v":""},{"$f":"IF($Z$2=\"pok\",\"\",IF(A153=\"\",\"\",COUNTIFS(SYNTHESE!$D:$D,A153,SYNTHESE!$E:$E,$Y$1,SYNTHESE!$F:$F,\">=1\")))","v":""},0]
[{"$f":"IF(ETUDIANTS!A154=\"\",\"\",ETUDIANTS!A154)","v":""},{"$f":"IF($Z$2=\"pok\",\"\",IF(A154=\"\",\"\",COUNTIFS(SYNTHESE!$D:$D,A154,SYNTHESE!$E:$E,$B$1,SYNTHESE!$F:$F,\">=1\")))","v":""},{"$f":"IF($Z$2=\"pok\",\"\",IF(A154=\"\",\"\",COUNTIFS(SYNTHESE!$D:$D,A154,SYNTHESE!$E:$E,$C$1,SYNTHESE!$F:$F,\">=1\")))","v":""},{"$f":"IF($Z$2=\"pok\",\"\",IF(A154=\"\",\"\",COUNTIFS(SYNTHESE!$D:$D,A154,SYNTHESE!$E:$E,$D$1,SYNTHESE!$F:$F,\">=1\")))","v":""},{"$f":"IF($Z$2=\"pok\",\"\",IF(A154=\"\",\"\",COUNTIFS(SYNTHESE!$D:$D,A154,SYNTHESE!$E:$E,$E$1,SYNTHESE!$F:$F,\">=1\")))","v":""},{"$f":"IF($Z$2=\"pok\",\"\",IF(A154=\"\",\"\",COUNTIFS(SYNTHESE!$D:$D,A154,SYNTHESE!$E:$E,$F$1,SYNTHESE!$F:$F,\">=1\")))","v":""},{"$f":"IF($Z$2=\"pok\",\"\",IF(A154=\"\",\"\",COUNTIFS(SYNTHESE!$D:$D,A154,SYNTHESE!$E:$E,$G$1,SYNTHESE!$F:$F,\">=1\")))","v":""},{"$f":"IF($Z$2=\"pok\",\"\",IF(A154=\"\",\"\",COUNTIFS(SYNTHESE!$D:$D,A154,SYNTHESE!$E:$E,$H$1,SYNTHESE!$F:$F,\">=1\")))","v":""},{"$f":"IF($Z$2=\"pok\",\"\",IF(A154=\"\",\"\",COUNTIFS(SYNTHESE!$D:$D,A154,SYNTHESE!$E:$E,$I$1,SYNTHESE!$F:$F,\">=1\")))","v":""},{"$f":"IF($Z$2=\"pok\",\"\",IF(A154=\"\",\"\",COUNTIFS(SYNTHESE!$D:$D,A154,SYNTHESE!$E:$E,$J$1,SYNTHESE!$F:$F,\">=1\")))","v":""},{"$f":"IF($Z$2=\"pok\",\"\",IF(A154=\"\",\"\",COUNTIFS(SYNTHESE!$D:$D,A154,SYNTHESE!$E:$E,$K$1,SYNTHESE!$F:$F,\">=1\")))","v":""},{"$f":"IF($Z$2=\"pok\",\"\",IF(A154=\"\",\"\",COUNTIFS(SYNTHESE!$D:$D,A154,SYNTHESE!$E:$E,$L$1,SYNTHESE!$F:$F,\">=1\")))","v":""},{"$f":"IF($Z$2=\"pok\",\"\",IF(A154=\"\",\"\",COUNTIFS(SYNTHESE!$D:$D,A154,SYNTHESE!$E:$E,$M$1,SYNTHESE!$F:$F,\">=1\")))","v":""},{"$f":"IF($Z$2=\"pok\",\"\",IF(A154=\"\",\"\",COUNTIFS(SYNTHESE!$D:$D,A154,SYNTHESE!$E:$E,$N$1,SYNTHESE!$F:$F,\">=1\")))","v":""},{"$f":"IF($Z$2=\"pok\",\"\",IF(A154=\"\",\"\",COUNTIFS(SYNTHESE!$D:$D,A154,SYNTHESE!$E:$E,$O$1,SYNTHESE!$F:$F,\">=1\")))","v":""},{"$f":"IF($Z$2=\"pok\",\"\",IF(A154=\"\",\"\",COUNTIFS(SYNTHESE!$D:$D,A154,SYNTHESE!$E:$E,$P$1,SYNTHESE!$F:$F,\">=1\")))","v":""},{"$f":"IF($Z$2=\"pok\",\"\",IF(A154=\"\",\"\",COUNTIFS(SYNTHESE!$D:$D,A154,SYNTHESE!$E:$E,$Q$1,SYNTHESE!$F:$F,\">=1\")))","v":""},{"$f":"IF($Z$2=\"pok\",\"\",IF(A154=\"\",\"\",COUNTIFS(SYNTHESE!$D:$D,A154,SYNTHESE!$E:$E,$R$1,SYNTHESE!$F:$F,\">=1\")))","v":""},{"$f":"IF($Z$2=\"pok\",\"\",IF(A154=\"\",\"\",COUNTIFS(SYNTHESE!$D:$D,A154,SYNTHESE!$E:$E,$S$1,SYNTHESE!$F:$F,\">=1\")))","v":""},{"$f":"IF($Z$2=\"pok\",\"\",IF(A154=\"\",\"\",COUNTIFS(SYNTHESE!$D:$D,A154,SYNTHESE!$E:$E,$T$1,SYNTHESE!$F:$F,\">=1\")))","v":""},{"$f":"IF($Z$2=\"pok\",\"\",IF(A154=\"\",\"\",COUNTIFS(SYNTHESE!$D:$D,A154,SYNTHESE!$E:$E,$U$1,SYNTHESE!$F:$F,\">=1\")))","v":""},{"$f":"IF($Z$2=\"pok\",\"\",IF(A154=\"\",\"\",COUNTIFS(SYNTHESE!$D:$D,A154,SYNTHESE!$E:$E,$V$1,SYNTHESE!$F:$F,\">=1\")))","v":""},{"$f":"IF($Z$2=\"pok\",\"\",IF(A154=\"\",\"\",COUNTIFS(SYNTHESE!$D:$D,A154,SYNTHESE!$E:$E,$W$1,SYNTHESE!$F:$F,\">=1\")))","v":""},{"$f":"IF($Z$2=\"pok\",\"\",IF(A154=\"\",\"\",COUNTIFS(SYNTHESE!$D:$D,A154,SYNTHESE!$E:$E,$X$1,SYNTHESE!$F:$F,\">=1\")))","v":""},{"$f":"IF($Z$2=\"pok\",\"\",IF(A154=\"\",\"\",COUNTIFS(SYNTHESE!$D:$D,A154,SYNTHESE!$E:$E,$Y$1,SYNTHESE!$F:$F,\">=1\")))","v":""},0]
[{"$f":"IF(ETUDIANTS!A155=\"\",\"\",ETUDIANTS!A155)","v":""},{"$f":"IF($Z$2=\"pok\",\"\",IF(A155=\"\",\"\",COUNTIFS(SYNTHESE!$D:$D,A155,SYNTHESE!$E:$E,$B$1,SYNTHESE!$F:$F,\">=1\")))","v":""},{"$f":"IF($Z$2=\"pok\",\"\",IF(A155=\"\",\"\",COUNTIFS(SYNTHESE!$D:$D,A155,SYNTHESE!$E:$E,$C$1,SYNTHESE!$F:$F,\">=1\")))","v":""},{"$f":"IF($Z$2=\"pok\",\"\",IF(A155=\"\",\"\",COUNTIFS(SYNTHESE!$D:$D,A155,SYNTHESE!$E:$E,$D$1,SYNTHESE!$F:$F,\">=1\")))","v":""},{"$f":"IF($Z$2=\"pok\",\"\",IF(A155=\"\",\"\",COUNTIFS(SYNTHESE!$D:$D,A155,SYNTHESE!$E:$E,$E$1,SYNTHESE!$F:$F,\">=1\")))","v":""},{"$f":"IF($Z$2=\"pok\",\"\",IF(A155=\"\",\"\",COUNTIFS(SYNTHESE!$D:$D,A155,SYNTHESE!$E:$E,$F$1,SYNTHESE!$F:$F,\">=1\")))","v":""},{"$f":"IF($Z$2=\"pok\",\"\",IF(A155=\"\",\"\",COUNTIFS(SYNTHESE!$D:$D,A155,SYNTHESE!$E:$E,$G$1,SYNTHESE!$F:$F,\">=1\")))","v":""},{"$f":"IF($Z$2=\"pok\",\"\",IF(A155=\"\",\"\",COUNTIFS(SYNTHESE!$D:$D,A155,SYNTHESE!$E:$E,$H$1,SYNTHESE!$F:$F,\">=1\")))","v":""},{"$f":"IF($Z$2=\"pok\",\"\",IF(A155=\"\",\"\",COUNTIFS(SYNTHESE!$D:$D,A155,SYNTHESE!$E:$E,$I$1,SYNTHESE!$F:$F,\">=1\")))","v":""},{"$f":"IF($Z$2=\"pok\",\"\",IF(A155=\"\",\"\",COUNTIFS(SYNTHESE!$D:$D,A155,SYNTHESE!$E:$E,$J$1,SYNTHESE!$F:$F,\">=1\")))","v":""},{"$f":"IF($Z$2=\"pok\",\"\",IF(A155=\"\",\"\",COUNTIFS(SYNTHESE!$D:$D,A155,SYNTHESE!$E:$E,$K$1,SYNTHESE!$F:$F,\">=1\")))","v":""},{"$f":"IF($Z$2=\"pok\",\"\",IF(A155=\"\",\"\",COUNTIFS(SYNTHESE!$D:$D,A155,SYNTHESE!$E:$E,$L$1,SYNTHESE!$F:$F,\">=1\")))","v":""},{"$f":"IF($Z$2=\"pok\",\"\",IF(A155=\"\",\"\",COUNTIFS(SYNTHESE!$D:$D,A155,SYNTHESE!$E:$E,$M$1,SYNTHESE!$F:$F,\">=1\")))","v":""},{"$f":"IF($Z$2=\"pok\",\"\",IF(A155=\"\",\"\",COUNTIFS(SYNTHESE!$D:$D,A155,SYNTHESE!$E:$E,$N$1,SYNTHESE!$F:$F,\">=1\")))","v":""},{"$f":"IF($Z$2=\"pok\",\"\",IF(A155=\"\",\"\",COUNTIFS(SYNTHESE!$D:$D,A155,SYNTHESE!$E:$E,$O$1,SYNTHESE!$F:$F,\">=1\")))","v":""},{"$f":"IF($Z$2=\"pok\",\"\",IF(A155=\"\",\"\",COUNTIFS(SYNTHESE!$D:$D,A155,SYNTHESE!$E:$E,$P$1,SYNTHESE!$F:$F,\">=1\")))","v":""},{"$f":"IF($Z$2=\"pok\",\"\",IF(A155=\"\",\"\",COUNTIFS(SYNTHESE!$D:$D,A155,SYNTHESE!$E:$E,$Q$1,SYNTHESE!$F:$F,\">=1\")))","v":""},{"$f":"IF($Z$2=\"pok\",\"\",IF(A155=\"\",\"\",COUNTIFS(SYNTHESE!$D:$D,A155,SYNTHESE!$E:$E,$R$1,SYNTHESE!$F:$F,\">=1\")))","v":""},{"$f":"IF($Z$2=\"pok\",\"\",IF(A155=\"\",\"\",COUNTIFS(SYNTHESE!$D:$D,A155,SYNTHESE!$E:$E,$S$1,SYNTHESE!$F:$F,\">=1\")))","v":""},{"$f":"IF($Z$2=\"pok\",\"\",IF(A155=\"\",\"\",COUNTIFS(SYNTHESE!$D:$D,A155,SYNTHESE!$E:$E,$T$1,SYNTHESE!$F:$F,\">=1\")))","v":""},{"$f":"IF($Z$2=\"pok\",\"\",IF(A155=\"\",\"\",COUNTIFS(SYNTHESE!$D:$D,A155,SYNTHESE!$E:$E,$U$1,SYNTHESE!$F:$F,\">=1\")))","v":""},{"$f":"IF($Z$2=\"pok\",\"\",IF(A155=\"\",\"\",COUNTIFS(SYNTHESE!$D:$D,A155,SYNTHESE!$E:$E,$V$1,SYNTHESE!$F:$F,\">=1\")))","v":""},{"$f":"IF($Z$2=\"pok\",\"\",IF(A155=\"\",\"\",COUNTIFS(SYNTHESE!$D:$D,A155,SYNTHESE!$E:$E,$W$1,SYNTHESE!$F:$F,\">=1\")))","v":""},{"$f":"IF($Z$2=\"pok\",\"\",IF(A155=\"\",\"\",COUNTIFS(SYNTHESE!$D:$D,A155,SYNTHESE!$E:$E,$X$1,SYNTHESE!$F:$F,\">=1\")))","v":""},{"$f":"IF($Z$2=\"pok\",\"\",IF(A155=\"\",\"\",COUNTIFS(SYNTHESE!$D:$D,A155,SYNTHESE!$E:$E,$Y$1,SYNTHESE!$F:$F,\">=1\")))","v":""},0]
[{"$f":"IF(ETUDIANTS!A156=\"\",\"\",ETUDIANTS!A156)","v":""},{"$f":"IF($Z$2=\"pok\",\"\",IF(A156=\"\",\"\",COUNTIFS(SYNTHESE!$D:$D,A156,SYNTHESE!$E:$E,$B$1,SYNTHESE!$F:$F,\">=1\")))","v":""},{"$f":"IF($Z$2=\"pok\",\"\",IF(A156=\"\",\"\",COUNTIFS(SYNTHESE!$D:$D,A156,SYNTHESE!$E:$E,$C$1,SYNTHESE!$F:$F,\">=1\")))","v":""},{"$f":"IF($Z$2=\"pok\",\"\",IF(A156=\"\",\"\",COUNTIFS(SYNTHESE!$D:$D,A156,SYNTHESE!$E:$E,$D$1,SYNTHESE!$F:$F,\">=1\")))","v":""},{"$f":"IF($Z$2=\"pok\",\"\",IF(A156=\"\",\"\",COUNTIFS(SYNTHESE!$D:$D,A156,SYNTHESE!$E:$E,$E$1,SYNTHESE!$F:$F,\">=1\")))","v":""},{"$f":"IF($Z$2=\"pok\",\"\",IF(A156=\"\",\"\",COUNTIFS(SYNTHESE!$D:$D,A156,SYNTHESE!$E:$E,$F$1,SYNTHESE!$F:$F,\">=1\")))","v":""},{"$f":"IF($Z$2=\"pok\",\"\",IF(A156=\"\",\"\",COUNTIFS(SYNTHESE!$D:$D,A156,SYNTHESE!$E:$E,$G$1,SYNTHESE!$F:$F,\">=1\")))","v":""},{"$f":"IF($Z$2=\"pok\",\"\",IF(A156=\"\",\"\",COUNTIFS(SYNTHESE!$D:$D,A156,SYNTHESE!$E:$E,$H$1,SYNTHESE!$F:$F,\">=1\")))","v":""},{"$f":"IF($Z$2=\"pok\",\"\",IF(A156=\"\",\"\",COUNTIFS(SYNTHESE!$D:$D,A156,SYNTHESE!$E:$E,$I$1,SYNTHESE!$F:$F,\">=1\")))","v":""},{"$f":"IF($Z$2=\"pok\",\"\",IF(A156=\"\",\"\",COUNTIFS(SYNTHESE!$D:$D,A156,SYNTHESE!$E:$E,$J$1,SYNTHESE!$F:$F,\">=1\")))","v":""},{"$f":"IF($Z$2=\"pok\",\"\",IF(A156=\"\",\"\",COUNTIFS(SYNTHESE!$D:$D,A156,SYNTHESE!$E:$E,$K$1,SYNTHESE!$F:$F,\">=1\")))","v":""},{"$f":"IF($Z$2=\"pok\",\"\",IF(A156=\"\",\"\",COUNTIFS(SYNTHESE!$D:$D,A156,SYNTHESE!$E:$E,$L$1,SYNTHESE!$F:$F,\">=1\")))","v":""},{"$f":"IF($Z$2=\"pok\",\"\",IF(A156=\"\",\"\",COUNTIFS(SYNTHESE!$D:$D,A156,SYNTHESE!$E:$E,$M$1,SYNTHESE!$F:$F,\">=1\")))","v":""},{"$f":"IF($Z$2=\"pok\",\"\",IF(A156=\"\",\"\",COUNTIFS(SYNTHESE!$D:$D,A156,SYNTHESE!$E:$E,$N$1,SYNTHESE!$F:$F,\">=1\")))","v":""},{"$f":"IF($Z$2=\"pok\",\"\",IF(A156=\"\",\"\",COUNTIFS(SYNTHESE!$D:$D,A156,SYNTHESE!$E:$E,$O$1,SYNTHESE!$F:$F,\">=1\")))","v":""},{"$f":"IF($Z$2=\"pok\",\"\",IF(A156=\"\",\"\",COUNTIFS(SYNTHESE!$D:$D,A156,SYNTHESE!$E:$E,$P$1,SYNTHESE!$F:$F,\">=1\")))","v":""},{"$f":"IF($Z$2=\"pok\",\"\",IF(A156=\"\",\"\",COUNTIFS(SYNTHESE!$D:$D,A156,SYNTHESE!$E:$E,$Q$1,SYNTHESE!$F:$F,\">=1\")))","v":""},{"$f":"IF($Z$2=\"pok\",\"\",IF(A156=\"\",\"\",COUNTIFS(SYNTHESE!$D:$D,A156,SYNTHESE!$E:$E,$R$1,SYNTHESE!$F:$F,\">=1\")))","v":""},{"$f":"IF($Z$2=\"pok\",\"\",IF(A156=\"\",\"\",COUNTIFS(SYNTHESE!$D:$D,A156,SYNTHESE!$E:$E,$S$1,SYNTHESE!$F:$F,\">=1\")))","v":""},{"$f":"IF($Z$2=\"pok\",\"\",IF(A156=\"\",\"\",COUNTIFS(SYNTHESE!$D:$D,A156,SYNTHESE!$E:$E,$T$1,SYNTHESE!$F:$F,\">=1\")))","v":""},{"$f":"IF($Z$2=\"pok\",\"\",IF(A156=\"\",\"\",COUNTIFS(SYNTHESE!$D:$D,A156,SYNTHESE!$E:$E,$U$1,SYNTHESE!$F:$F,\">=1\")))","v":""},{"$f":"IF($Z$2=\"pok\",\"\",IF(A156=\"\",\"\",COUNTIFS(SYNTHESE!$D:$D,A156,SYNTHESE!$E:$E,$V$1,SYNTHESE!$F:$F,\">=1\")))","v":""},{"$f":"IF($Z$2=\"pok\",\"\",IF(A156=\"\",\"\",COUNTIFS(SYNTHESE!$D:$D,A156,SYNTHESE!$E:$E,$W$1,SYNTHESE!$F:$F,\">=1\")))","v":""},{"$f":"IF($Z$2=\"pok\",\"\",IF(A156=\"\",\"\",COUNTIFS(SYNTHESE!$D:$D,A156,SYNTHESE!$E:$E,$X$1,SYNTHESE!$F:$F,\">=1\")))","v":""},{"$f":"IF($Z$2=\"pok\",\"\",IF(A156=\"\",\"\",COUNTIFS(SYNTHESE!$D:$D,A156,SYNTHESE!$E:$E,$Y$1,SYNTHESE!$F:$F,\">=1\")))","v":""},0]
[{"$f":"IF(ETUDIANTS!A157=\"\",\"\",ETUDIANTS!A157)","v":""},{"$f":"IF($Z$2=\"pok\",\"\",IF(A157=\"\",\"\",COUNTIFS(SYNTHESE!$D:$D,A157,SYNTHESE!$E:$E,$B$1,SYNTHESE!$F:$F,\">=1\")))","v":""},{"$f":"IF($Z$2=\"pok\",\"\",IF(A157=\"\",\"\",COUNTIFS(SYNTHESE!$D:$D,A157,SYNTHESE!$E:$E,$C$1,SYNTHESE!$F:$F,\">=1\")))","v":""},{"$f":"IF($Z$2=\"pok\",\"\",IF(A157=\"\",\"\",COUNTIFS(SYNTHESE!$D:$D,A157,SYNTHESE!$E:$E,$D$1,SYNTHESE!$F:$F,\">=1\")))","v":""},{"$f":"IF($Z$2=\"pok\",\"\",IF(A157=\"\",\"\",COUNTIFS(SYNTHESE!$D:$D,A157,SYNTHESE!$E:$E,$E$1,SYNTHESE!$F:$F,\">=1\")))","v":""},{"$f":"IF($Z$2=\"pok\",\"\",IF(A157=\"\",\"\",COUNTIFS(SYNTHESE!$D:$D,A157,SYNTHESE!$E:$E,$F$1,SYNTHESE!$F:$F,\">=1\")))","v":""},{"$f":"IF($Z$2=\"pok\",\"\",IF(A157=\"\",\"\",COUNTIFS(SYNTHESE!$D:$D,A157,SYNTHESE!$E:$E,$G$1,SYNTHESE!$F:$F,\">=1\")))","v":""},{"$f":"IF($Z$2=\"pok\",\"\",IF(A157=\"\",\"\",COUNTIFS(SYNTHESE!$D:$D,A157,SYNTHESE!$E:$E,$H$1,SYNTHESE!$F:$F,\">=1\")))","v":""},{"$f":"IF($Z$2=\"pok\",\"\",IF(A157=\"\",\"\",COUNTIFS(SYNTHESE!$D:$D,A157,SYNTHESE!$E:$E,$I$1,SYNTHESE!$F:$F,\">=1\")))","v":""},{"$f":"IF($Z$2=\"pok\",\"\",IF(A157=\"\",\"\",COUNTIFS(SYNTHESE!$D:$D,A157,SYNTHESE!$E:$E,$J$1,SYNTHESE!$F:$F,\">=1\")))","v":""},{"$f":"IF($Z$2=\"pok\",\"\",IF(A157=\"\",\"\",COUNTIFS(SYNTHESE!$D:$D,A157,SYNTHESE!$E:$E,$K$1,SYNTHESE!$F:$F,\">=1\")))","v":""},{"$f":"IF($Z$2=\"pok\",\"\",IF(A157=\"\",\"\",COUNTIFS(SYNTHESE!$D:$D,A157,SYNTHESE!$E:$E,$L$1,SYNTHESE!$F:$F,\">=1\")))","v":""},{"$f":"IF($Z$2=\"pok\",\"\",IF(A157=\"\",\"\",COUNTIFS(SYNTHESE!$D:$D,A157,SYNTHESE!$E:$E,$M$1,SYNTHESE!$F:$F,\">=1\")))","v":""},{"$f":"IF($Z$2=\"pok\",\"\",IF(A157=\"\",\"\",COUNTIFS(SYNTHESE!$D:$D,A157,SYNTHESE!$E:$E,$N$1,SYNTHESE!$F:$F,\">=1\")))","v":""},{"$f":"IF($Z$2=\"pok\",\"\",IF(A157=\"\",\"\",COUNTIFS(SYNTHESE!$D:$D,A157,SYNTHESE!$E:$E,$O$1,SYNTHESE!$F:$F,\">=1\")))","v":""},{"$f":"IF($Z$2=\"pok\",\"\",IF(A157=\"\",\"\",COUNTIFS(SYNTHESE!$D:$D,A157,SYNTHESE!$E:$E,$P$1,SYNTHESE!$F:$F,\">=1\")))","v":""},{"$f":"IF($Z$2=\"pok\",\"\",IF(A157=\"\",\"\",COUNTIFS(SYNTHESE!$D:$D,A157,SYNTHESE!$E:$E,$Q$1,SYNTHESE!$F:$F,\">=1\")))","v":""},{"$f":"IF($Z$2=\"pok\",\"\",IF(A157=\"\",\"\",COUNTIFS(SYNTHESE!$D:$D,A157,SYNTHESE!$E:$E,$R$1,SYNTHESE!$F:$F,\">=1\")))","v":""},{"$f":"IF($Z$2=\"pok\",\"\",IF(A157=\"\",\"\",COUNTIFS(SYNTHESE!$D:$D,A157,SYNTHESE!$E:$E,$S$1,SYNTHESE!$F:$F,\">=1\")))","v":""},{"$f":"IF($Z$2=\"pok\",\"\",IF(A157=\"\",\"\",COUNTIFS(SYNTHESE!$D:$D,A157,SYNTHESE!$E:$E,$T$1,SYNTHESE!$F:$F,\">=1\")))","v":""},{"$f":"IF($Z$2=\"pok\",\"\",IF(A157=\"\",\"\",COUNTIFS(SYNTHESE!$D:$D,A157,SYNTHESE!$E:$E,$U$1,SYNTHESE!$F:$F,\">=1\")))","v":""},{"$f":"IF($Z$2=\"pok\",\"\",IF(A157=\"\",\"\",COUNTIFS(SYNTHESE!$D:$D,A157,SYNTHESE!$E:$E,$V$1,SYNTHESE!$F:$F,\">=1\")))","v":""},{"$f":"IF($Z$2=\"pok\",\"\",IF(A157=\"\",\"\",COUNTIFS(SYNTHESE!$D:$D,A157,SYNTHESE!$E:$E,$W$1,SYNTHESE!$F:$F,\">=1\")))","v":""},{"$f":"IF($Z$2=\"pok\",\"\",IF(A157=\"\",\"\",COUNTIFS(SYNTHESE!$D:$D,A157,SYNTHESE!$E:$E,$X$1,SYNTHESE!$F:$F,\">=1\")))","v":""},{"$f":"IF($Z$2=\"pok\",\"\",IF(A157=\"\",\"\",COUNTIFS(SYNTHESE!$D:$D,A157,SYNTHESE!$E:$E,$Y$1,SYNTHESE!$F:$F,\">=1\")))","v":""},0]
[{"$f":"IF(ETUDIANTS!A158=\"\",\"\",ETUDIANTS!A158)","v":""},{"$f":"IF($Z$2=\"pok\",\"\",IF(A158=\"\",\"\",COUNTIFS(SYNTHESE!$D:$D,A158,SYNTHESE!$E:$E,$B$1,SYNTHESE!$F:$F,\">=1\")))","v":""},{"$f":"IF($Z$2=\"pok\",\"\",IF(A158=\"\",\"\",COUNTIFS(SYNTHESE!$D:$D,A158,SYNTHESE!$E:$E,$C$1,SYNTHESE!$F:$F,\">=1\")))","v":""},{"$f":"IF($Z$2=\"pok\",\"\",IF(A158=\"\",\"\",COUNTIFS(SYNTHESE!$D:$D,A158,SYNTHESE!$E:$E,$D$1,SYNTHESE!$F:$F,\">=1\")))","v":""},{"$f":"IF($Z$2=\"pok\",\"\",IF(A158=\"\",\"\",COUNTIFS(SYNTHESE!$D:$D,A158,SYNTHESE!$E:$E,$E$1,SYNTHESE!$F:$F,\">=1\")))","v":""},{"$f":"IF($Z$2=\"pok\",\"\",IF(A158=\"\",\"\",COUNTIFS(SYNTHESE!$D:$D,A158,SYNTHESE!$E:$E,$F$1,SYNTHESE!$F:$F,\">=1\")))","v":""},{"$f":"IF($Z$2=\"pok\",\"\",IF(A158=\"\",\"\",COUNTIFS(SYNTHESE!$D:$D,A158,SYNTHESE!$E:$E,$G$1,SYNTHESE!$F:$F,\">=1\")))","v":""},{"$f":"IF($Z$2=\"pok\",\"\",IF(A158=\"\",\"\",COUNTIFS(SYNTHESE!$D:$D,A158,SYNTHESE!$E:$E,$H$1,SYNTHESE!$F:$F,\">=1\")))","v":""},{"$f":"IF($Z$2=\"pok\",\"\",IF(A158=\"\",\"\",COUNTIFS(SYNTHESE!$D:$D,A158,SYNTHESE!$E:$E,$I$1,SYNTHESE!$F:$F,\">=1\")))","v":""},{"$f":"IF($Z$2=\"pok\",\"\",IF(A158=\"\",\"\",COUNTIFS(SYNTHESE!$D:$D,A158,SYNTHESE!$E:$E,$J$1,SYNTHESE!$F:$F,\">=1\")))","v":""},{"$f":"IF($Z$2=\"pok\",\"\",IF(A158=\"\",\"\",COUNTIFS(SYNTHESE!$D:$D,A158,SYNTHESE!$E:$E,$K$1,SYNTHESE!$F:$F,\">=1\")))","v":""},{"$f":"IF($Z$2=\"pok\",\"\",IF(A158=\"\",\"\",COUNTIFS(SYNTHESE!$D:$D,A158,SYNTHESE!$E:$E,$L$1,SYNTHESE!$F:$F,\">=1\")))","v":""},{"$f":"IF($Z$2=\"pok\",\"\",IF(A158=\"\",\"\",COUNTIFS(SYNTHESE!$D:$D,A158,SYNTHESE!$E:$E,$M$1,SYNTHESE!$F:$F,\">=1\")))","v":""},{"$f":"IF($Z$2=\"pok\",\"\",IF(A158=\"\",\"\",COUNTIFS(SYNTHESE!$D:$D,A158,SYNTHESE!$E:$E,$N$1,SYNTHESE!$F:$F,\">=1\")))","v":""},{"$f":"IF($Z$2=\"pok\",\"\",IF(A158=\"\",\"\",COUNTIFS(SYNTHESE!$D:$D,A158,SYNTHESE!$E:$E,$O$1,SYNTHESE!$F:$F,\">=1\")))","v":""},{"$f":"IF($Z$2=\"pok\",\"\",IF(A158=\"\",\"\",COUNTIFS(SYNTHESE!$D:$D,A158,SYNTHESE!$E:$E,$P$1,SYNTHESE!$F:$F,\">=1\")))","v":""},{"$f":"IF($Z$2=\"pok\",\"\",IF(A158=\"\",\"\",COUNTIFS(SYNTHESE!$D:$D,A158,SYNTHESE!$E:$E,$Q$1,SYNTHESE!$F:$F,\">=1\")))","v":""},{"$f":"IF($Z$2=\"pok\",\"\",IF(A158=\"\",\"\",COUNTIFS(SYNTHESE!$D:$D,A158,SYNTHESE!$E:$E,$R$1,SYNTHESE!$F:$F,\">=1\")))","v":""},{"$f":"IF($Z$2=\"pok\",\"\",IF(A158=\"\",\"\",COUNTIFS(SYNTHESE!$D:$D,A158,SYNTHESE!$E:$E,$S$1,SYNTHESE!$F:$F,\">=1\")))","v":""},{"$f":"IF($Z$2=\"pok\",\"\",IF(A158=\"\",\"\",COUNTIFS(SYNTHESE!$D:$D,A158,SYNTHESE!$E:$E,$T$1,SYNTHESE!$F:$F,\">=1\")))","v":""},{"$f":"IF($Z$2=\"pok\",\"\",IF(A158=\"\",\"\",COUNTIFS(SYNTHESE!$D:$D,A158,SYNTHESE!$E:$E,$U$1,SYNTHESE!$F:$F,\">=1\")))","v":""},{"$f":"IF($Z$2=\"pok\",\"\",IF(A158=\"\",\"\",COUNTIFS(SYNTHESE!$D:$D,A158,SYNTHESE!$E:$E,$V$1,SYNTHESE!$F:$F,\">=1\")))","v":""},{"$f":"IF($Z$2=\"pok\",\"\",IF(A158=\"\",\"\",COUNTIFS(SYNTHESE!$D:$D,A158,SYNTHESE!$E:$E,$W$1,SYNTHESE!$F:$F,\">=1\")))","v":""},{"$f":"IF($Z$2=\"pok\",\"\",IF(A158=\"\",\"\",COUNTIFS(SYNTHESE!$D:$D,A158,SYNTHESE!$E:$E,$X$1,SYNTHESE!$F:$F,\">=1\")))","v":""},{"$f":"IF($Z$2=\"pok\",\"\",IF(A158=\"\",\"\",COUNTIFS(SYNTHESE!$D:$D,A158,SYNTHESE!$E:$E,$Y$1,SYNTHESE!$F:$F,\">=1\")))","v":""},0]
[{"$f":"IF(ETUDIANTS!A159=\"\",\"\",ETUDIANTS!A159)","v":""},{"$f":"IF($Z$2=\"pok\",\"\",IF(A159=\"\",\"\",COUNTIFS(SYNTHESE!$D:$D,A159,SYNTHESE!$E:$E,$B$1,SYNTHESE!$F:$F,\">=1\")))","v":""},{"$f":"IF($Z$2=\"pok\",\"\",IF(A159=\"\",\"\",COUNTIFS(SYNTHESE!$D:$D,A159,SYNTHESE!$E:$E,$C$1,SYNTHESE!$F:$F,\">=1\")))","v":""},{"$f":"IF($Z$2=\"pok\",\"\",IF(A159=\"\",\"\",COUNTIFS(SYNTHESE!$D:$D,A159,SYNTHESE!$E:$E,$D$1,SYNTHESE!$F:$F,\">=1\")))","v":""},{"$f":"IF($Z$2=\"pok\",\"\",IF(A159=\"\",\"\",COUNTIFS(SYNTHESE!$D:$D,A159,SYNTHESE!$E:$E,$E$1,SYNTHESE!$F:$F,\">=1\")))","v":""},{"$f":"IF($Z$2=\"pok\",\"\",IF(A159=\"\",\"\",COUNTIFS(SYNTHESE!$D:$D,A159,SYNTHESE!$E:$E,$F$1,SYNTHESE!$F:$F,\">=1\")))","v":""},{"$f":"IF($Z$2=\"pok\",\"\",IF(A159=\"\",\"\",COUNTIFS(SYNTHESE!$D:$D,A159,SYNTHESE!$E:$E,$G$1,SYNTHESE!$F:$F,\">=1\")))","v":""},{"$f":"IF($Z$2=\"pok\",\"\",IF(A159=\"\",\"\",COUNTIFS(SYNTHESE!$D:$D,A159,SYNTHESE!$E:$E,$H$1,SYNTHESE!$F:$F,\">=1\")))","v":""},{"$f":"IF($Z$2=\"pok\",\"\",IF(A159=\"\",\"\",COUNTIFS(SYNTHESE!$D:$D,A159,SYNTHESE!$E:$E,$I$1,SYNTHESE!$F:$F,\">=1\")))","v":""},{"$f":"IF($Z$2=\"pok\",\"\",IF(A159=\"\",\"\",COUNTIFS(SYNTHESE!$D:$D,A159,SYNTHESE!$E:$E,$J$1,SYNTHESE!$F:$F,\">=1\")))","v":""},{"$f":"IF($Z$2=\"pok\",\"\",IF(A159=\"\",\"\",COUNTIFS(SYNTHESE!$D:$D,A159,SYNTHESE!$E:$E,$K$1,SYNTHESE!$F:$F,\">=1\")))","v":""},{"$f":"IF($Z$2=\"pok\",\"\",IF(A159=\"\",\"\",COUNTIFS(SYNTHESE!$D:$D,A159,SYNTHESE!$E:$E,$L$1,SYNTHESE!$F:$F,\">=1\")))","v":""},{"$f":"IF($Z$2=\"pok\",\"\",IF(A159=\"\",\"\",COUNTIFS(SYNTHESE!$D:$D,A159,SYNTHESE!$E:$E,$M$1,SYNTHESE!$F:$F,\">=1\")))","v":""},{"$f":"IF($Z$2=\"pok\",\"\",IF(A159=\"\",\"\",COUNTIFS(SYNTHESE!$D:$D,A159,SYNTHESE!$E:$E,$N$1,SYNTHESE!$F:$F,\">=1\")))","v":""},{"$f":"IF($Z$2=\"pok\",\"\",IF(A159=\"\",\"\",COUNTIFS(SYNTHESE!$D:$D,A159,SYNTHESE!$E:$E,$O$1,SYNTHESE!$F:$F,\">=1\")))","v":""},{"$f":"IF($Z$2=\"pok\",\"\",IF(A159=\"\",\"\",COUNTIFS(SYNTHESE!$D:$D,A159,SYNTHESE!$E:$E,$P$1,SYNTHESE!$F:$F,\">=1\")))","v":""},{"$f":"IF($Z$2=\"pok\",\"\",IF(A159=\"\",\"\",COUNTIFS(SYNTHESE!$D:$D,A159,SYNTHESE!$E:$E,$Q$1,SYNTHESE!$F:$F,\">=1\")))","v":""},{"$f":"IF($Z$2=\"pok\",\"\",IF(A159=\"\",\"\",COUNTIFS(SYNTHESE!$D:$D,A159,SYNTHESE!$E:$E,$R$1,SYNTHESE!$F:$F,\">=1\")))","v":""},{"$f":"IF($Z$2=\"pok\",\"\",IF(A159=\"\",\"\",COUNTIFS(SYNTHESE!$D:$D,A159,SYNTHESE!$E:$E,$S$1,SYNTHESE!$F:$F,\">=1\")))","v":""},{"$f":"IF($Z$2=\"pok\",\"\",IF(A159=\"\",\"\",COUNTIFS(SYNTHESE!$D:$D,A159,SYNTHESE!$E:$E,$T$1,SYNTHESE!$F:$F,\">=1\")))","v":""},{"$f":"IF($Z$2=\"pok\",\"\",IF(A159=\"\",\"\",COUNTIFS(SYNTHESE!$D:$D,A159,SYNTHESE!$E:$E,$U$1,SYNTHESE!$F:$F,\">=1\")))","v":""},{"$f":"IF($Z$2=\"pok\",\"\",IF(A159=\"\",\"\",COUNTIFS(SYNTHESE!$D:$D,A159,SYNTHESE!$E:$E,$V$1,SYNTHESE!$F:$F,\">=1\")))","v":""},{"$f":"IF($Z$2=\"pok\",\"\",IF(A159=\"\",\"\",COUNTIFS(SYNTHESE!$D:$D,A159,SYNTHESE!$E:$E,$W$1,SYNTHESE!$F:$F,\">=1\")))","v":""},{"$f":"IF($Z$2=\"pok\",\"\",IF(A159=\"\",\"\",COUNTIFS(SYNTHESE!$D:$D,A159,SYNTHESE!$E:$E,$X$1,SYNTHESE!$F:$F,\">=1\")))","v":""},{"$f":"IF($Z$2=\"pok\",\"\",IF(A159=\"\",\"\",COUNTIFS(SYNTHESE!$D:$D,A159,SYNTHESE!$E:$E,$Y$1,SYNTHESE!$F:$F,\">=1\")))","v":""},0]
[{"$f":"IF(ETUDIANTS!A160=\"\",\"\",ETUDIANTS!A160)","v":""},{"$f":"IF($Z$2=\"pok\",\"\",IF(A160=\"\",\"\",COUNTIFS(SYNTHESE!$D:$D,A160,SYNTHESE!$E:$E,$B$1,SYNTHESE!$F:$F,\">=1\")))","v":""},{"$f":"IF($Z$2=\"pok\",\"\",IF(A160=\"\",\"\",COUNTIFS(SYNTHESE!$D:$D,A160,SYNTHESE!$E:$E,$C$1,SYNTHESE!$F:$F,\">=1\")))","v":""},{"$f":"IF($Z$2=\"pok\",\"\",IF(A160=\"\",\"\",COUNTIFS(SYNTHESE!$D:$D,A160,SYNTHESE!$E:$E,$D$1,SYNTHESE!$F:$F,\">=1\")))","v":""},{"$f":"IF($Z$2=\"pok\",\"\",IF(A160=\"\",\"\",COUNTIFS(SYNTHESE!$D:$D,A160,SYNTHESE!$E:$E,$E$1,SYNTHESE!$F:$F,\">=1\")))","v":""},{"$f":"IF($Z$2=\"pok\",\"\",IF(A160=\"\",\"\",COUNTIFS(SYNTHESE!$D:$D,A160,SYNTHESE!$E:$E,$F$1,SYNTHESE!$F:$F,\">=1\")))","v":""},{"$f":"IF($Z$2=\"pok\",\"\",IF(A160=\"\",\"\",COUNTIFS(SYNTHESE!$D:$D,A160,SYNTHESE!$E:$E,$G$1,SYNTHESE!$F:$F,\">=1\")))","v":""},{"$f":"IF($Z$2=\"pok\",\"\",IF(A160=\"\",\"\",COUNTIFS(SYNTHESE!$D:$D,A160,SYNTHESE!$E:$E,$H$1,SYNTHESE!$F:$F,\">=1\")))","v":""},{"$f":"IF($Z$2=\"pok\",\"\",IF(A160=\"\",\"\",COUNTIFS(SYNTHESE!$D:$D,A160,SYNTHESE!$E:$E,$I$1,SYNTHESE!$F:$F,\">=1\")))","v":""},{"$f":"IF($Z$2=\"pok\",\"\",IF(A160=\"\",\"\",COUNTIFS(SYNTHESE!$D:$D,A160,SYNTHESE!$E:$E,$J$1,SYNTHESE!$F:$F,\">=1\")))","v":""},{"$f":"IF($Z$2=\"pok\",\"\",IF(A160=\"\",\"\",COUNTIFS(SYNTHESE!$D:$D,A160,SYNTHESE!$E:$E,$K$1,SYNTHESE!$F:$F,\">=1\")))","v":""},{"$f":"IF($Z$2=\"pok\",\"\",IF(A160=\"\",\"\",COUNTIFS(SYNTHESE!$D:$D,A160,SYNTHESE!$E:$E,$L$1,SYNTHESE!$F:$F,\">=1\")))","v":""},{"$f":"IF($Z$2=\"pok\",\"\",IF(A160=\"\",\"\",COUNTIFS(SYNTHESE!$D:$D,A160,SYNTHESE!$E:$E,$M$1,SYNTHESE!$F:$F,\">=1\")))","v":""},{"$f":"IF($Z$2=\"pok\",\"\",IF(A160=\"\",\"\",COUNTIFS(SYNTHESE!$D:$D,A160,SYNTHESE!$E:$E,$N$1,SYNTHESE!$F:$F,\">=1\")))","v":""},{"$f":"IF($Z$2=\"pok\",\"\",IF(A160=\"\",\"\",COUNTIFS(SYNTHESE!$D:$D,A160,SYNTHESE!$E:$E,$O$1,SYNTHESE!$F:$F,\">=1\")))","v":""},{"$f":"IF($Z$2=\"pok\",\"\",IF(A160=\"\",\"\",COUNTIFS(SYNTHESE!$D:$D,A160,SYNTHESE!$E:$E,$P$1,SYNTHESE!$F:$F,\">=1\")))","v":""},{"$f":"IF($Z$2=\"pok\",\"\",IF(A160=\"\",\"\",COUNTIFS(SYNTHESE!$D:$D,A160,SYNTHESE!$E:$E,$Q$1,SYNTHESE!$F:$F,\">=1\")))","v":""},{"$f":"IF($Z$2=\"pok\",\"\",IF(A160=\"\",\"\",COUNTIFS(SYNTHESE!$D:$D,A160,SYNTHESE!$E:$E,$R$1,SYNTHESE!$F:$F,\">=1\")))","v":""},{"$f":"IF($Z$2=\"pok\",\"\",IF(A160=\"\",\"\",COUNTIFS(SYNTHESE!$D:$D,A160,SYNTHESE!$E:$E,$S$1,SYNTHESE!$F:$F,\">=1\")))","v":""},{"$f":"IF($Z$2=\"pok\",\"\",IF(A160=\"\",\"\",COUNTIFS(SYNTHESE!$D:$D,A160,SYNTHESE!$E:$E,$T$1,SYNTHESE!$F:$F,\">=1\")))","v":""},{"$f":"IF($Z$2=\"pok\",\"\",IF(A160=\"\",\"\",COUNTIFS(SYNTHESE!$D:$D,A160,SYNTHESE!$E:$E,$U$1,SYNTHESE!$F:$F,\">=1\")))","v":""},{"$f":"IF($Z$2=\"pok\",\"\",IF(A160=\"\",\"\",COUNTIFS(SYNTHESE!$D:$D,A160,SYNTHESE!$E:$E,$V$1,SYNTHESE!$F:$F,\">=1\")))","v":""},{"$f":"IF($Z$2=\"pok\",\"\",IF(A160=\"\",\"\",COUNTIFS(SYNTHESE!$D:$D,A160,SYNTHESE!$E:$E,$W$1,SYNTHESE!$F:$F,\">=1\")))","v":""},{"$f":"IF($Z$2=\"pok\",\"\",IF(A160=\"\",\"\",COUNTIFS(SYNTHESE!$D:$D,A160,SYNTHESE!$E:$E,$X$1,SYNTHESE!$F:$F,\">=1\")))","v":""},{"$f":"IF($Z$2=\"pok\",\"\",IF(A160=\"\",\"\",COUNTIFS(SYNTHESE!$D:$D,A160,SYNTHESE!$E:$E,$Y$1,SYNTHESE!$F:$F,\">=1\")))","v":""},0]
[{"$f":"IF(ETUDIANTS!A161=\"\",\"\",ETUDIANTS!A161)","v":""},{"$f":"IF($Z$2=\"pok\",\"\",IF(A161=\"\",\"\",COUNTIFS(SYNTHESE!$D:$D,A161,SYNTHESE!$E:$E,$B$1,SYNTHESE!$F:$F,\">=1\")))","v":""},{"$f":"IF($Z$2=\"pok\",\"\",IF(A161=\"\",\"\",COUNTIFS(SYNTHESE!$D:$D,A161,SYNTHESE!$E:$E,$C$1,SYNTHESE!$F:$F,\">=1\")))","v":""},{"$f":"IF($Z$2=\"pok\",\"\",IF(A161=\"\",\"\",COUNTIFS(SYNTHESE!$D:$D,A161,SYNTHESE!$E:$E,$D$1,SYNTHESE!$F:$F,\">=1\")))","v":""},{"$f":"IF($Z$2=\"pok\",\"\",IF(A161=\"\",\"\",COUNTIFS(SYNTHESE!$D:$D,A161,SYNTHESE!$E:$E,$E$1,SYNTHESE!$F:$F,\">=1\")))","v":""},{"$f":"IF($Z$2=\"pok\",\"\",IF(A161=\"\",\"\",COUNTIFS(SYNTHESE!$D:$D,A161,SYNTHESE!$E:$E,$F$1,SYNTHESE!$F:$F,\">=1\")))","v":""},{"$f":"IF($Z$2=\"pok\",\"\",IF(A161=\"\",\"\",COUNTIFS(SYNTHESE!$D:$D,A161,SYNTHESE!$E:$E,$G$1,SYNTHESE!$F:$F,\">=1\")))","v":""},{"$f":"IF($Z$2=\"pok\",\"\",IF(A161=\"\",\"\",COUNTIFS(SYNTHESE!$D:$D,A161,SYNTHESE!$E:$E,$H$1,SYNTHESE!$F:$F,\">=1\")))","v":""},{"$f":"IF($Z$2=\"pok\",\"\",IF(A161=\"\",\"\",COUNTIFS(SYNTHESE!$D:$D,A161,SYNTHESE!$E:$E,$I$1,SYNTHESE!$F:$F,\">=1\")))","v":""},{"$f":"IF($Z$2=\"pok\",\"\",IF(A161=\"\",\"\",COUNTIFS(SYNTHESE!$D:$D,A161,SYNTHESE!$E:$E,$J$1,SYNTHESE!$F:$F,\">=1\")))","v":""},{"$f":"IF($Z$2=\"pok\",\"\",IF(A161=\"\",\"\",COUNTIFS(SYNTHESE!$D:$D,A161,SYNTHESE!$E:$E,$K$1,SYNTHESE!$F:$F,\">=1\")))","v":""},{"$f":"IF($Z$2=\"pok\",\"\",IF(A161=\"\",\"\",COUNTIFS(SYNTHESE!$D:$D,A161,SYNTHESE!$E:$E,$L$1,SYNTHESE!$F:$F,\">=1\")))","v":""},{"$f":"IF($Z$2=\"pok\",\"\",IF(A161=\"\",\"\",COUNTIFS(SYNTHESE!$D:$D,A161,SYNTHESE!$E:$E,$M$1,SYNTHESE!$F:$F,\">=1\")))","v":""},{"$f":"IF($Z$2=\"pok\",\"\",IF(A161=\"\",\"\",COUNTIFS(SYNTHESE!$D:$D,A161,SYNTHESE!$E:$E,$N$1,SYNTHESE!$F:$F,\">=1\")))","v":""},{"$f":"IF($Z$2=\"pok\",\"\",IF(A161=\"\",\"\",COUNTIFS(SYNTHESE!$D:$D,A161,SYNTHESE!$E:$E,$O$1,SYNTHESE!$F:$F,\">=1\")))","v":""},{"$f":"IF($Z$2=\"pok\",\"\",IF(A161=\"\",\"\",COUNTIFS(SYNTHESE!$D:$D,A161,SYNTHESE!$E:$E,$P$1,SYNTHESE!$F:$F,\">=1\")))","v":""},{"$f":"IF($Z$2=\"pok\",\"\",IF(A161=\"\",\"\",COUNTIFS(SYNTHESE!$D:$D,A161,SYNTHESE!$E:$E,$Q$1,SYNTHESE!$F:$F,\">=1\")))","v":""},{"$f":"IF($Z$2=\"pok\",\"\",IF(A161=\"\",\"\",COUNTIFS(SYNTHESE!$D:$D,A161,SYNTHESE!$E:$E,$R$1,SYNTHESE!$F:$F,\">=1\")))","v":""},{"$f":"IF($Z$2=\"pok\",\"\",IF(A161=\"\",\"\",COUNTIFS(SYNTHESE!$D:$D,A161,SYNTHESE!$E:$E,$S$1,SYNTHESE!$F:$F,\">=1\")))","v":""},{"$f":"IF($Z$2=\"pok\",\"\",IF(A161=\"\",\"\",COUNTIFS(SYNTHESE!$D:$D,A161,SYNTHESE!$E:$E,$T$1,SYNTHESE!$F:$F,\">=1\")))","v":""},{"$f":"IF($Z$2=\"pok\",\"\",IF(A161=\"\",\"\",COUNTIFS(SYNTHESE!$D:$D,A161,SYNTHESE!$E:$E,$U$1,SYNTHESE!$F:$F,\">=1\")))","v":""},{"$f":"IF($Z$2=\"pok\",\"\",IF(A161=\"\",\"\",COUNTIFS(SYNTHESE!$D:$D,A161,SYNTHESE!$E:$E,$V$1,SYNTHESE!$F:$F,\">=1\")))","v":""},{"$f":"IF($Z$2=\"pok\",\"\",IF(A161=\"\",\"\",COUNTIFS(SYNTHESE!$D:$D,A161,SYNTHESE!$E:$E,$W$1,SYNTHESE!$F:$F,\">=1\")))","v":""},{"$f":"IF($Z$2=\"pok\",\"\",IF(A161=\"\",\"\",COUNTIFS(SYNTHESE!$D:$D,A161,SYNTHESE!$E:$E,$X$1,SYNTHESE!$F:$F,\">=1\")))","v":""},{"$f":"IF($Z$2=\"pok\",\"\",IF(A161=\"\",\"\",COUNTIFS(SYNTHESE!$D:$D,A161,SYNTHESE!$E:$E,$Y$1,SYNTHESE!$F:$F,\">=1\")))","v":""},0]
[{"$f":"IF(ETUDIANTS!A162=\"\",\"\",ETUDIANTS!A162)","v":""},{"$f":"IF($Z$2=\"pok\",\"\",IF(A162=\"\",\"\",COUNTIFS(SYNTHESE!$D:$D,A162,SYNTHESE!$E:$E,$B$1,SYNTHESE!$F:$F,\">=1\")))","v":""},{"$f":"IF($Z$2=\"pok\",\"\",IF(A162=\"\",\"\",COUNTIFS(SYNTHESE!$D:$D,A162,SYNTHESE!$E:$E,$C$1,SYNTHESE!$F:$F,\">=1\")))","v":""},{"$f":"IF($Z$2=\"pok\",\"\",IF(A162=\"\",\"\",COUNTIFS(SYNTHESE!$D:$D,A162,SYNTHESE!$E:$E,$D$1,SYNTHESE!$F:$F,\">=1\")))","v":""},{"$f":"IF($Z$2=\"pok\",\"\",IF(A162=\"\",\"\",COUNTIFS(SYNTHESE!$D:$D,A162,SYNTHESE!$E:$E,$E$1,SYNTHESE!$F:$F,\">=1\")))","v":""},{"$f":"IF($Z$2=\"pok\",\"\",IF(A162=\"\",\"\",COUNTIFS(SYNTHESE!$D:$D,A162,SYNTHESE!$E:$E,$F$1,SYNTHESE!$F:$F,\">=1\")))","v":""},{"$f":"IF($Z$2=\"pok\",\"\",IF(A162=\"\",\"\",COUNTIFS(SYNTHESE!$D:$D,A162,SYNTHESE!$E:$E,$G$1,SYNTHESE!$F:$F,\">=1\")))","v":""},{"$f":"IF($Z$2=\"pok\",\"\",IF(A162=\"\",\"\",COUNTIFS(SYNTHESE!$D:$D,A162,SYNTHESE!$E:$E,$H$1,SYNTHESE!$F:$F,\">=1\")))","v":""},{"$f":"IF($Z$2=\"pok\",\"\",IF(A162=\"\",\"\",COUNTIFS(SYNTHESE!$D:$D,A162,SYNTHESE!$E:$E,$I$1,SYNTHESE!$F:$F,\">=1\")))","v":""},{"$f":"IF($Z$2=\"pok\",\"\",IF(A162=\"\",\"\",COUNTIFS(SYNTHESE!$D:$D,A162,SYNTHESE!$E:$E,$J$1,SYNTHESE!$F:$F,\">=1\")))","v":""},{"$f":"IF($Z$2=\"pok\",\"\",IF(A162=\"\",\"\",COUNTIFS(SYNTHESE!$D:$D,A162,SYNTHESE!$E:$E,$K$1,SYNTHESE!$F:$F,\">=1\")))","v":""},{"$f":"IF($Z$2=\"pok\",\"\",IF(A162=\"\",\"\",COUNTIFS(SYNTHESE!$D:$D,A162,SYNTHESE!$E:$E,$L$1,SYNTHESE!$F:$F,\">=1\")))","v":""},{"$f":"IF($Z$2=\"pok\",\"\",IF(A162=\"\",\"\",COUNTIFS(SYNTHESE!$D:$D,A162,SYNTHESE!$E:$E,$M$1,SYNTHESE!$F:$F,\">=1\")))","v":""},{"$f":"IF($Z$2=\"pok\",\"\",IF(A162=\"\",\"\",COUNTIFS(SYNTHESE!$D:$D,A162,SYNTHESE!$E:$E,$N$1,SYNTHESE!$F:$F,\">=1\")))","v":""},{"$f":"IF($Z$2=\"pok\",\"\",IF(A162=\"\",\"\",COUNTIFS(SYNTHESE!$D:$D,A162,SYNTHESE!$E:$E,$O$1,SYNTHESE!$F:$F,\">=1\")))","v":""},{"$f":"IF($Z$2=\"pok\",\"\",IF(A162=\"\",\"\",COUNTIFS(SYNTHESE!$D:$D,A162,SYNTHESE!$E:$E,$P$1,SYNTHESE!$F:$F,\">=1\")))","v":""},{"$f":"IF($Z$2=\"pok\",\"\",IF(A162=\"\",\"\",COUNTIFS(SYNTHESE!$D:$D,A162,SYNTHESE!$E:$E,$Q$1,SYNTHESE!$F:$F,\">=1\")))","v":""},{"$f":"IF($Z$2=\"pok\",\"\",IF(A162=\"\",\"\",COUNTIFS(SYNTHESE!$D:$D,A162,SYNTHESE!$E:$E,$R$1,SYNTHESE!$F:$F,\">=1\")))","v":""},{"$f":"IF($Z$2=\"pok\",\"\",IF(A162=\"\",\"\",COUNTIFS(SYNTHESE!$D:$D,A162,SYNTHESE!$E:$E,$S$1,SYNTHESE!$F:$F,\">=1\")))","v":""},{"$f":"IF($Z$2=\"pok\",\"\",IF(A162=\"\",\"\",COUNTIFS(SYNTHESE!$D:$D,A162,SYNTHESE!$E:$E,$T$1,SYNTHESE!$F:$F,\">=1\")))","v":""},{"$f":"IF($Z$2=\"pok\",\"\",IF(A162=\"\",\"\",COUNTIFS(SYNTHESE!$D:$D,A162,SYNTHESE!$E:$E,$U$1,SYNTHESE!$F:$F,\">=1\")))","v":""},{"$f":"IF($Z$2=\"pok\",\"\",IF(A162=\"\",\"\",COUNTIFS(SYNTHESE!$D:$D,A162,SYNTHESE!$E:$E,$V$1,SYNTHESE!$F:$F,\">=1\")))","v":""},{"$f":"IF($Z$2=\"pok\",\"\",IF(A162=\"\",\"\",COUNTIFS(SYNTHESE!$D:$D,A162,SYNTHESE!$E:$E,$W$1,SYNTHESE!$F:$F,\">=1\")))","v":""},{"$f":"IF($Z$2=\"pok\",\"\",IF(A162=\"\",\"\",COUNTIFS(SYNTHESE!$D:$D,A162,SYNTHESE!$E:$E,$X$1,SYNTHESE!$F:$F,\">=1\")))","v":""},{"$f":"IF($Z$2=\"pok\",\"\",IF(A162=\"\",\"\",COUNTIFS(SYNTHESE!$D:$D,A162,SYNTHESE!$E:$E,$Y$1,SYNTHESE!$F:$F,\">=1\")))","v":""},0]
[{"$f":"IF(ETUDIANTS!A163=\"\",\"\",ETUDIANTS!A163)","v":""},{"$f":"IF($Z$2=\"pok\",\"\",IF(A163=\"\",\"\",COUNTIFS(SYNTHESE!$D:$D,A163,SYNTHESE!$E:$E,$B$1,SYNTHESE!$F:$F,\">=1\")))","v":""},{"$f":"IF($Z$2=\"pok\",\"\",IF(A163=\"\",\"\",COUNTIFS(SYNTHESE!$D:$D,A163,SYNTHESE!$E:$E,$C$1,SYNTHESE!$F:$F,\">=1\")))","v":""},{"$f":"IF($Z$2=\"pok\",\"\",IF(A163=\"\",\"\",COUNTIFS(SYNTHESE!$D:$D,A163,SYNTHESE!$E:$E,$D$1,SYNTHESE!$F:$F,\">=1\")))","v":""},{"$f":"IF($Z$2=\"pok\",\"\",IF(A163=\"\",\"\",COUNTIFS(SYNTHESE!$D:$D,A163,SYNTHESE!$E:$E,$E$1,SYNTHESE!$F:$F,\">=1\")))","v":""},{"$f":"IF($Z$2=\"pok\",\"\",IF(A163=\"\",\"\",COUNTIFS(SYNTHESE!$D:$D,A163,SYNTHESE!$E:$E,$F$1,SYNTHESE!$F:$F,\">=1\")))","v":""},{"$f":"IF($Z$2=\"pok\",\"\",IF(A163=\"\",\"\",COUNTIFS(SYNTHESE!$D:$D,A163,SYNTHESE!$E:$E,$G$1,SYNTHESE!$F:$F,\">=1\")))","v":""},{"$f":"IF($Z$2=\"pok\",\"\",IF(A163=\"\",\"\",COUNTIFS(SYNTHESE!$D:$D,A163,SYNTHESE!$E:$E,$H$1,SYNTHESE!$F:$F,\">=1\")))","v":""},{"$f":"IF($Z$2=\"pok\",\"\",IF(A163=\"\",\"\",COUNTIFS(SYNTHESE!$D:$D,A163,SYNTHESE!$E:$E,$I$1,SYNTHESE!$F:$F,\">=1\")))","v":""},{"$f":"IF($Z$2=\"pok\",\"\",IF(A163=\"\",\"\",COUNTIFS(SYNTHESE!$D:$D,A163,SYNTHESE!$E:$E,$J$1,SYNTHESE!$F:$F,\">=1\")))","v":""},{"$f":"IF($Z$2=\"pok\",\"\",IF(A163=\"\",\"\",COUNTIFS(SYNTHESE!$D:$D,A163,SYNTHESE!$E:$E,$K$1,SYNTHESE!$F:$F,\">=1\")))","v":""},{"$f":"IF($Z$2=\"pok\",\"\",IF(A163=\"\",\"\",COUNTIFS(SYNTHESE!$D:$D,A163,SYNTHESE!$E:$E,$L$1,SYNTHESE!$F:$F,\">=1\")))","v":""},{"$f":"IF($Z$2=\"pok\",\"\",IF(A163=\"\",\"\",COUNTIFS(SYNTHESE!$D:$D,A163,SYNTHESE!$E:$E,$M$1,SYNTHESE!$F:$F,\">=1\")))","v":""},{"$f":"IF($Z$2=\"pok\",\"\",IF(A163=\"\",\"\",COUNTIFS(SYNTHESE!$D:$D,A163,SYNTHESE!$E:$E,$N$1,SYNTHESE!$F:$F,\">=1\")))","v":""},{"$f":"IF($Z$2=\"pok\",\"\",IF(A163=\"\",\"\",COUNTIFS(SYNTHESE!$D:$D,A163,SYNTHESE!$E:$E,$O$1,SYNTHESE!$F:$F,\">=1\")))","v":""},{"$f":"IF($Z$2=\"pok\",\"\",IF(A163=\"\",\"\",COUNTIFS(SYNTHESE!$D:$D,A163,SYNTHESE!$E:$E,$P$1,SYNTHESE!$F:$F,\">=1\")))","v":""},{"$f":"IF($Z$2=\"pok\",\"\",IF(A163=\"\",\"\",COUNTIFS(SYNTHESE!$D:$D,A163,SYNTHESE!$E:$E,$Q$1,SYNTHESE!$F:$F,\">=1\")))","v":""},{"$f":"IF($Z$2=\"pok\",\"\",IF(A163=\"\",\"\",COUNTIFS(SYNTHESE!$D:$D,A163,SYNTHESE!$E:$E,$R$1,SYNTHESE!$F:$F,\">=1\")))","v":""},{"$f":"IF($Z$2=\"pok\",\"\",IF(A163=\"\",\"\",COUNTIFS(SYNTHESE!$D:$D,A163,SYNTHESE!$E:$E,$S$1,SYNTHESE!$F:$F,\">=1\")))","v":""},{"$f":"IF($Z$2=\"pok\",\"\",IF(A163=\"\",\"\",COUNTIFS(SYNTHESE!$D:$D,A163,SYNTHESE!$E:$E,$T$1,SYNTHESE!$F:$F,\">=1\")))","v":""},{"$f":"IF($Z$2=\"pok\",\"\",IF(A163=\"\",\"\",COUNTIFS(SYNTHESE!$D:$D,A163,SYNTHESE!$E:$E,$U$1,SYNTHESE!$F:$F,\">=1\")))","v":""},{"$f":"IF($Z$2=\"pok\",\"\",IF(A163=\"\",\"\",COUNTIFS(SYNTHESE!$D:$D,A163,SYNTHESE!$E:$E,$V$1,SYNTHESE!$F:$F,\">=1\")))","v":""},{"$f":"IF($Z$2=\"pok\",\"\",IF(A163=\"\",\"\",COUNTIFS(SYNTHESE!$D:$D,A163,SYNTHESE!$E:$E,$W$1,SYNTHESE!$F:$F,\">=1\")))","v":""},{"$f":"IF($Z$2=\"pok\",\"\",IF(A163=\"\",\"\",COUNTIFS(SYNTHESE!$D:$D,A163,SYNTHESE!$E:$E,$X$1,SYNTHESE!$F:$F,\">=1\")))","v":""},{"$f":"IF($Z$2=\"pok\",\"\",IF(A163=\"\",\"\",COUNTIFS(SYNTHESE!$D:$D,A163,SYNTHESE!$E:$E,$Y$1,SYNTHESE!$F:$F,\">=1\")))","v":""},0]
[{"$f":"IF(ETUDIANTS!A164=\"\",\"\",ETUDIANTS!A164)","v":""},{"$f":"IF($Z$2=\"pok\",\"\",IF(A164=\"\",\"\",COUNTIFS(SYNTHESE!$D:$D,A164,SYNTHESE!$E:$E,$B$1,SYNTHESE!$F:$F,\">=1\")))","v":""},{"$f":"IF($Z$2=\"pok\",\"\",IF(A164=\"\",\"\",COUNTIFS(SYNTHESE!$D:$D,A164,SYNTHESE!$E:$E,$C$1,SYNTHESE!$F:$F,\">=1\")))","v":""},{"$f":"IF($Z$2=\"pok\",\"\",IF(A164=\"\",\"\",COUNTIFS(SYNTHESE!$D:$D,A164,SYNTHESE!$E:$E,$D$1,SYNTHESE!$F:$F,\">=1\")))","v":""},{"$f":"IF($Z$2=\"pok\",\"\",IF(A164=\"\",\"\",COUNTIFS(SYNTHESE!$D:$D,A164,SYNTHESE!$E:$E,$E$1,SYNTHESE!$F:$F,\">=1\")))","v":""},{"$f":"IF($Z$2=\"pok\",\"\",IF(A164=\"\",\"\",COUNTIFS(SYNTHESE!$D:$D,A164,SYNTHESE!$E:$E,$F$1,SYNTHESE!$F:$F,\">=1\")))","v":""},{"$f":"IF($Z$2=\"pok\",\"\",IF(A164=\"\",\"\",COUNTIFS(SYNTHESE!$D:$D,A164,SYNTHESE!$E:$E,$G$1,SYNTHESE!$F:$F,\">=1\")))","v":""},{"$f":"IF($Z$2=\"pok\",\"\",IF(A164=\"\",\"\",COUNTIFS(SYNTHESE!$D:$D,A164,SYNTHESE!$E:$E,$H$1,SYNTHESE!$F:$F,\">=1\")))","v":""},{"$f":"IF($Z$2=\"pok\",\"\",IF(A164=\"\",\"\",COUNTIFS(SYNTHESE!$D:$D,A164,SYNTHESE!$E:$E,$I$1,SYNTHESE!$F:$F,\">=1\")))","v":""},{"$f":"IF($Z$2=\"pok\",\"\",IF(A164=\"\",\"\",COUNTIFS(SYNTHESE!$D:$D,A164,SYNTHESE!$E:$E,$J$1,SYNTHESE!$F:$F,\">=1\")))","v":""},{"$f":"IF($Z$2=\"pok\",\"\",IF(A164=\"\",\"\",COUNTIFS(SYNTHESE!$D:$D,A164,SYNTHESE!$E:$E,$K$1,SYNTHESE!$F:$F,\">=1\")))","v":""},{"$f":"IF($Z$2=\"pok\",\"\",IF(A164=\"\",\"\",COUNTIFS(SYNTHESE!$D:$D,A164,SYNTHESE!$E:$E,$L$1,SYNTHESE!$F:$F,\">=1\")))","v":""},{"$f":"IF($Z$2=\"pok\",\"\",IF(A164=\"\",\"\",COUNTIFS(SYNTHESE!$D:$D,A164,SYNTHESE!$E:$E,$M$1,SYNTHESE!$F:$F,\">=1\")))","v":""},{"$f":"IF($Z$2=\"pok\",\"\",IF(A164=\"\",\"\",COUNTIFS(SYNTHESE!$D:$D,A164,SYNTHESE!$E:$E,$N$1,SYNTHESE!$F:$F,\">=1\")))","v":""},{"$f":"IF($Z$2=\"pok\",\"\",IF(A164=\"\",\"\",COUNTIFS(SYNTHESE!$D:$D,A164,SYNTHESE!$E:$E,$O$1,SYNTHESE!$F:$F,\">=1\")))","v":""},{"$f":"IF($Z$2=\"pok\",\"\",IF(A164=\"\",\"\",COUNTIFS(SYNTHESE!$D:$D,A164,SYNTHESE!$E:$E,$P$1,SYNTHESE!$F:$F,\">=1\")))","v":""},{"$f":"IF($Z$2=\"pok\",\"\",IF(A164=\"\",\"\",COUNTIFS(SYNTHESE!$D:$D,A164,SYNTHESE!$E:$E,$Q$1,SYNTHESE!$F:$F,\">=1\")))","v":""},{"$f":"IF($Z$2=\"pok\",\"\",IF(A164=\"\",\"\",COUNTIFS(SYNTHESE!$D:$D,A164,SYNTHESE!$E:$E,$R$1,SYNTHESE!$F:$F,\">=1\")))","v":""},{"$f":"IF($Z$2=\"pok\",\"\",IF(A164=\"\",\"\",COUNTIFS(SYNTHESE!$D:$D,A164,SYNTHESE!$E:$E,$S$1,SYNTHESE!$F:$F,\">=1\")))","v":""},{"$f":"IF($Z$2=\"pok\",\"\",IF(A164=\"\",\"\",COUNTIFS(SYNTHESE!$D:$D,A164,SYNTHESE!$E:$E,$T$1,SYNTHESE!$F:$F,\">=1\")))","v":""},{"$f":"IF($Z$2=\"pok\",\"\",IF(A164=\"\",\"\",COUNTIFS(SYNTHESE!$D:$D,A164,SYNTHESE!$E:$E,$U$1,SYNTHESE!$F:$F,\">=1\")))","v":""},{"$f":"IF($Z$2=\"pok\",\"\",IF(A164=\"\",\"\",COUNTIFS(SYNTHESE!$D:$D,A164,SYNTHESE!$E:$E,$V$1,SYNTHESE!$F:$F,\">=1\")))","v":""},{"$f":"IF($Z$2=\"pok\",\"\",IF(A164=\"\",\"\",COUNTIFS(SYNTHESE!$D:$D,A164,SYNTHESE!$E:$E,$W$1,SYNTHESE!$F:$F,\">=1\")))","v":""},{"$f":"IF($Z$2=\"pok\",\"\",IF(A164=\"\",\"\",COUNTIFS(SYNTHESE!$D:$D,A164,SYNTHESE!$E:$E,$X$1,SYNTHESE!$F:$F,\">=1\")))","v":""},{"$f":"IF($Z$2=\"pok\",\"\",IF(A164=\"\",\"\",COUNTIFS(SYNTHESE!$D:$D,A164,SYNTHESE!$E:$E,$Y$1,SYNTHESE!$F:$F,\">=1\")))","v":""},0]
[{"$f":"IF(ETUDIANTS!A165=\"\",\"\",ETUDIANTS!A165)","v":""},{"$f":"IF($Z$2=\"pok\",\"\",IF(A165=\"\",\"\",COUNTIFS(SYNTHESE!$D:$D,A165,SYNTHESE!$E:$E,$B$1,SYNTHESE!$F:$F,\">=1\")))","v":""},{"$f":"IF($Z$2=\"pok\",\"\",IF(A165=\"\",\"\",COUNTIFS(SYNTHESE!$D:$D,A165,SYNTHESE!$E:$E,$C$1,SYNTHESE!$F:$F,\">=1\")))","v":""},{"$f":"IF($Z$2=\"pok\",\"\",IF(A165=\"\",\"\",COUNTIFS(SYNTHESE!$D:$D,A165,SYNTHESE!$E:$E,$D$1,SYNTHESE!$F:$F,\">=1\")))","v":""},{"$f":"IF($Z$2=\"pok\",\"\",IF(A165=\"\",\"\",COUNTIFS(SYNTHESE!$D:$D,A165,SYNTHESE!$E:$E,$E$1,SYNTHESE!$F:$F,\">=1\")))","v":""},{"$f":"IF($Z$2=\"pok\",\"\",IF(A165=\"\",\"\",COUNTIFS(SYNTHESE!$D:$D,A165,SYNTHESE!$E:$E,$F$1,SYNTHESE!$F:$F,\">=1\")))","v":""},{"$f":"IF($Z$2=\"pok\",\"\",IF(A165=\"\",\"\",COUNTIFS(SYNTHESE!$D:$D,A165,SYNTHESE!$E:$E,$G$1,SYNTHESE!$F:$F,\">=1\")))","v":""},{"$f":"IF($Z$2=\"pok\",\"\",IF(A165=\"\",\"\",COUNTIFS(SYNTHESE!$D:$D,A165,SYNTHESE!$E:$E,$H$1,SYNTHESE!$F:$F,\">=1\")))","v":""},{"$f":"IF($Z$2=\"pok\",\"\",IF(A165=\"\",\"\",COUNTIFS(SYNTHESE!$D:$D,A165,SYNTHESE!$E:$E,$I$1,SYNTHESE!$F:$F,\">=1\")))","v":""},{"$f":"IF($Z$2=\"pok\",\"\",IF(A165=\"\",\"\",COUNTIFS(SYNTHESE!$D:$D,A165,SYNTHESE!$E:$E,$J$1,SYNTHESE!$F:$F,\">=1\")))","v":""},{"$f":"IF($Z$2=\"pok\",\"\",IF(A165=\"\",\"\",COUNTIFS(SYNTHESE!$D:$D,A165,SYNTHESE!$E:$E,$K$1,SYNTHESE!$F:$F,\">=1\")))","v":""},{"$f":"IF($Z$2=\"pok\",\"\",IF(A165=\"\",\"\",COUNTIFS(SYNTHESE!$D:$D,A165,SYNTHESE!$E:$E,$L$1,SYNTHESE!$F:$F,\">=1\")))","v":""},{"$f":"IF($Z$2=\"pok\",\"\",IF(A165=\"\",\"\",COUNTIFS(SYNTHESE!$D:$D,A165,SYNTHESE!$E:$E,$M$1,SYNTHESE!$F:$F,\">=1\")))","v":""},{"$f":"IF($Z$2=\"pok\",\"\",IF(A165=\"\",\"\",COUNTIFS(SYNTHESE!$D:$D,A165,SYNTHESE!$E:$E,$N$1,SYNTHESE!$F:$F,\">=1\")))","v":""},{"$f":"IF($Z$2=\"pok\",\"\",IF(A165=\"\",\"\",COUNTIFS(SYNTHESE!$D:$D,A165,SYNTHESE!$E:$E,$O$1,SYNTHESE!$F:$F,\">=1\")))","v":""},{"$f":"IF($Z$2=\"pok\",\"\",IF(A165=\"\",\"\",COUNTIFS(SYNTHESE!$D:$D,A165,SYNTHESE!$E:$E,$P$1,SYNTHESE!$F:$F,\">=1\")))","v":""},{"$f":"IF($Z$2=\"pok\",\"\",IF(A165=\"\",\"\",COUNTIFS(SYNTHESE!$D:$D,A165,SYNTHESE!$E:$E,$Q$1,SYNTHESE!$F:$F,\">=1\")))","v":""},{"$f":"IF($Z$2=\"pok\",\"\",IF(A165=\"\",\"\",COUNTIFS(SYNTHESE!$D:$D,A165,SYNTHESE!$E:$E,$R$1,SYNTHESE!$F:$F,\">=1\")))","v":""},{"$f":"IF($Z$2=\"pok\",\"\",IF(A165=\"\",\"\",COUNTIFS(SYNTHESE!$D:$D,A165,SYNTHESE!$E:$E,$S$1,SYNTHESE!$F:$F,\">=1\")))","v":""},{"$f":"IF($Z$2=\"pok\",\"\",IF(A165=\"\",\"\",COUNTIFS(SYNTHESE!$D:$D,A165,SYNTHESE!$E:$E,$T$1,SYNTHESE!$F:$F,\">=1\")))","v":""},{"$f":"IF($Z$2=\"pok\",\"\",IF(A165=\"\",\"\",COUNTIFS(SYNTHESE!$D:$D,A165,SYNTHESE!$E:$E,$U$1,SYNTHESE!$F:$F,\">=1\")))","v":""},{"$f":"IF($Z$2=\"pok\",\"\",IF(A165=\"\",\"\",COUNTIFS(SYNTHESE!$D:$D,A165,SYNTHESE!$E:$E,$V$1,SYNTHESE!$F:$F,\">=1\")))","v":""},{"$f":"IF($Z$2=\"pok\",\"\",IF(A165=\"\",\"\",COUNTIFS(SYNTHESE!$D:$D,A165,SYNTHESE!$E:$E,$W$1,SYNTHESE!$F:$F,\">=1\")))","v":""},{"$f":"IF($Z$2=\"pok\",\"\",IF(A165=\"\",\"\",COUNTIFS(SYNTHESE!$D:$D,A165,SYNTHESE!$E:$E,$X$1,SYNTHESE!$F:$F,\">=1\")))","v":""},{"$f":"IF($Z$2=\"pok\",\"\",IF(A165=\"\",\"\",COUNTIFS(SYNTHESE!$D:$D,A165,SYNTHESE!$E:$E,$Y$1,SYNTHESE!$F:$F,\">=1\")))","v":""},0]
[{"$f":"IF(ETUDIANTS!A166=\"\",\"\",ETUDIANTS!A166)","v":""},{"$f":"IF($Z$2=\"pok\",\"\",IF(A166=\"\",\"\",COUNTIFS(SYNTHESE!$D:$D,A166,SYNTHESE!$E:$E,$B$1,SYNTHESE!$F:$F,\">=1\")))","v":""},{"$f":"IF($Z$2=\"pok\",\"\",IF(A166=\"\",\"\",COUNTIFS(SYNTHESE!$D:$D,A166,SYNTHESE!$E:$E,$C$1,SYNTHESE!$F:$F,\">=1\")))","v":""},{"$f":"IF($Z$2=\"pok\",\"\",IF(A166=\"\",\"\",COUNTIFS(SYNTHESE!$D:$D,A166,SYNTHESE!$E:$E,$D$1,SYNTHESE!$F:$F,\">=1\")))","v":""},{"$f":"IF($Z$2=\"pok\",\"\",IF(A166=\"\",\"\",COUNTIFS(SYNTHESE!$D:$D,A166,SYNTHESE!$E:$E,$E$1,SYNTHESE!$F:$F,\">=1\")))","v":""},{"$f":"IF($Z$2=\"pok\",\"\",IF(A166=\"\",\"\",COUNTIFS(SYNTHESE!$D:$D,A166,SYNTHESE!$E:$E,$F$1,SYNTHESE!$F:$F,\">=1\")))","v":""},{"$f":"IF($Z$2=\"pok\",\"\",IF(A166=\"\",\"\",COUNTIFS(SYNTHESE!$D:$D,A166,SYNTHESE!$E:$E,$G$1,SYNTHESE!$F:$F,\">=1\")))","v":""},{"$f":"IF($Z$2=\"pok\",\"\",IF(A166=\"\",\"\",COUNTIFS(SYNTHESE!$D:$D,A166,SYNTHESE!$E:$E,$H$1,SYNTHESE!$F:$F,\">=1\")))","v":""},{"$f":"IF($Z$2=\"pok\",\"\",IF(A166=\"\",\"\",COUNTIFS(SYNTHESE!$D:$D,A166,SYNTHESE!$E:$E,$I$1,SYNTHESE!$F:$F,\">=1\")))","v":""},{"$f":"IF($Z$2=\"pok\",\"\",IF(A166=\"\",\"\",COUNTIFS(SYNTHESE!$D:$D,A166,SYNTHESE!$E:$E,$J$1,SYNTHESE!$F:$F,\">=1\")))","v":""},{"$f":"IF($Z$2=\"pok\",\"\",IF(A166=\"\",\"\",COUNTIFS(SYNTHESE!$D:$D,A166,SYNTHESE!$E:$E,$K$1,SYNTHESE!$F:$F,\">=1\")))","v":""},{"$f":"IF($Z$2=\"pok\",\"\",IF(A166=\"\",\"\",COUNTIFS(SYNTHESE!$D:$D,A166,SYNTHESE!$E:$E,$L$1,SYNTHESE!$F:$F,\">=1\")))","v":""},{"$f":"IF($Z$2=\"pok\",\"\",IF(A166=\"\",\"\",COUNTIFS(SYNTHESE!$D:$D,A166,SYNTHESE!$E:$E,$M$1,SYNTHESE!$F:$F,\">=1\")))","v":""},{"$f":"IF($Z$2=\"pok\",\"\",IF(A166=\"\",\"\",COUNTIFS(SYNTHESE!$D:$D,A166,SYNTHESE!$E:$E,$N$1,SYNTHESE!$F:$F,\">=1\")))","v":""},{"$f":"IF($Z$2=\"pok\",\"\",IF(A166=\"\",\"\",COUNTIFS(SYNTHESE!$D:$D,A166,SYNTHESE!$E:$E,$O$1,SYNTHESE!$F:$F,\">=1\")))","v":""},{"$f":"IF($Z$2=\"pok\",\"\",IF(A166=\"\",\"\",COUNTIFS(SYNTHESE!$D:$D,A166,SYNTHESE!$E:$E,$P$1,SYNTHESE!$F:$F,\">=1\")))","v":""},{"$f":"IF($Z$2=\"pok\",\"\",IF(A166=\"\",\"\",COUNTIFS(SYNTHESE!$D:$D,A166,SYNTHESE!$E:$E,$Q$1,SYNTHESE!$F:$F,\">=1\")))","v":""},{"$f":"IF($Z$2=\"pok\",\"\",IF(A166=\"\",\"\",COUNTIFS(SYNTHESE!$D:$D,A166,SYNTHESE!$E:$E,$R$1,SYNTHESE!$F:$F,\">=1\")))","v":""},{"$f":"IF($Z$2=\"pok\",\"\",IF(A166=\"\",\"\",COUNTIFS(SYNTHESE!$D:$D,A166,SYNTHESE!$E:$E,$S$1,SYNTHESE!$F:$F,\">=1\")))","v":""},{"$f":"IF($Z$2=\"pok\",\"\",IF(A166=\"\",\"\",COUNTIFS(SYNTHESE!$D:$D,A166,SYNTHESE!$E:$E,$T$1,SYNTHESE!$F:$F,\">=1\")))","v":""},{"$f":"IF($Z$2=\"pok\",\"\",IF(A166=\"\",\"\",COUNTIFS(SYNTHESE!$D:$D,A166,SYNTHESE!$E:$E,$U$1,SYNTHESE!$F:$F,\">=1\")))","v":""},{"$f":"IF($Z$2=\"pok\",\"\",IF(A166=\"\",\"\",COUNTIFS(SYNTHESE!$D:$D,A166,SYNTHESE!$E:$E,$V$1,SYNTHESE!$F:$F,\">=1\")))","v":""},{"$f":"IF($Z$2=\"pok\",\"\",IF(A166=\"\",\"\",COUNTIFS(SYNTHESE!$D:$D,A166,SYNTHESE!$E:$E,$W$1,SYNTHESE!$F:$F,\">=1\")))","v":""},{"$f":"IF($Z$2=\"pok\",\"\",IF(A166=\"\",\"\",COUNTIFS(SYNTHESE!$D:$D,A166,SYNTHESE!$E:$E,$X$1,SYNTHESE!$F:$F,\">=1\")))","v":""},{"$f":"IF($Z$2=\"pok\",\"\",IF(A166=\"\",\"\",COUNTIFS(SYNTHESE!$D:$D,A166,SYNTHESE!$E:$E,$Y$1,SYNTHESE!$F:$F,\">=1\")))","v":""},0]
[{"$f":"IF(ETUDIANTS!A167=\"\",\"\",ETUDIANTS!A167)","v":""},{"$f":"IF($Z$2=\"pok\",\"\",IF(A167=\"\",\"\",COUNTIFS(SYNTHESE!$D:$D,A167,SYNTHESE!$E:$E,$B$1,SYNTHESE!$F:$F,\">=1\")))","v":""},{"$f":"IF($Z$2=\"pok\",\"\",IF(A167=\"\",\"\",COUNTIFS(SYNTHESE!$D:$D,A167,SYNTHESE!$E:$E,$C$1,SYNTHESE!$F:$F,\">=1\")))","v":""},{"$f":"IF($Z$2=\"pok\",\"\",IF(A167=\"\",\"\",COUNTIFS(SYNTHESE!$D:$D,A167,SYNTHESE!$E:$E,$D$1,SYNTHESE!$F:$F,\">=1\")))","v":""},{"$f":"IF($Z$2=\"pok\",\"\",IF(A167=\"\",\"\",COUNTIFS(SYNTHESE!$D:$D,A167,SYNTHESE!$E:$E,$E$1,SYNTHESE!$F:$F,\">=1\")))","v":""},{"$f":"IF($Z$2=\"pok\",\"\",IF(A167=\"\",\"\",COUNTIFS(SYNTHESE!$D:$D,A167,SYNTHESE!$E:$E,$F$1,SYNTHESE!$F:$F,\">=1\")))","v":""},{"$f":"IF($Z$2=\"pok\",\"\",IF(A167=\"\",\"\",COUNTIFS(SYNTHESE!$D:$D,A167,SYNTHESE!$E:$E,$G$1,SYNTHESE!$F:$F,\">=1\")))","v":""},{"$f":"IF($Z$2=\"pok\",\"\",IF(A167=\"\",\"\",COUNTIFS(SYNTHESE!$D:$D,A167,SYNTHESE!$E:$E,$H$1,SYNTHESE!$F:$F,\">=1\")))","v":""},{"$f":"IF($Z$2=\"pok\",\"\",IF(A167=\"\",\"\",COUNTIFS(SYNTHESE!$D:$D,A167,SYNTHESE!$E:$E,$I$1,SYNTHESE!$F:$F,\">=1\")))","v":""},{"$f":"IF($Z$2=\"pok\",\"\",IF(A167=\"\",\"\",COUNTIFS(SYNTHESE!$D:$D,A167,SYNTHESE!$E:$E,$J$1,SYNTHESE!$F:$F,\">=1\")))","v":""},{"$f":"IF($Z$2=\"pok\",\"\",IF(A167=\"\",\"\",COUNTIFS(SYNTHESE!$D:$D,A167,SYNTHESE!$E:$E,$K$1,SYNTHESE!$F:$F,\">=1\")))","v":""},{"$f":"IF($Z$2=\"pok\",\"\",IF(A167=\"\",\"\",COUNTIFS(SYNTHESE!$D:$D,A167,SYNTHESE!$E:$E,$L$1,SYNTHESE!$F:$F,\">=1\")))","v":""},{"$f":"IF($Z$2=\"pok\",\"\",IF(A167=\"\",\"\",COUNTIFS(SYNTHESE!$D:$D,A167,SYNTHESE!$E:$E,$M$1,SYNTHESE!$F:$F,\">=1\")))","v":""},{"$f":"IF($Z$2=\"pok\",\"\",IF(A167=\"\",\"\",COUNTIFS(SYNTHESE!$D:$D,A167,SYNTHESE!$E:$E,$N$1,SYNTHESE!$F:$F,\">=1\")))","v":""},{"$f":"IF($Z$2=\"pok\",\"\",IF(A167=\"\",\"\",COUNTIFS(SYNTHESE!$D:$D,A167,SYNTHESE!$E:$E,$O$1,SYNTHESE!$F:$F,\">=1\")))","v":""},{"$f":"IF($Z$2=\"pok\",\"\",IF(A167=\"\",\"\",COUNTIFS(SYNTHESE!$D:$D,A167,SYNTHESE!$E:$E,$P$1,SYNTHESE!$F:$F,\">=1\")))","v":""},{"$f":"IF($Z$2=\"pok\",\"\",IF(A167=\"\",\"\",COUNTIFS(SYNTHESE!$D:$D,A167,SYNTHESE!$E:$E,$Q$1,SYNTHESE!$F:$F,\">=1\")))","v":""},{"$f":"IF($Z$2=\"pok\",\"\",IF(A167=\"\",\"\",COUNTIFS(SYNTHESE!$D:$D,A167,SYNTHESE!$E:$E,$R$1,SYNTHESE!$F:$F,\">=1\")))","v":""},{"$f":"IF($Z$2=\"pok\",\"\",IF(A167=\"\",\"\",COUNTIFS(SYNTHESE!$D:$D,A167,SYNTHESE!$E:$E,$S$1,SYNTHESE!$F:$F,\">=1\")))","v":""},{"$f":"IF($Z$2=\"pok\",\"\",IF(A167=\"\",\"\",COUNTIFS(SYNTHESE!$D:$D,A167,SYNTHESE!$E:$E,$T$1,SYNTHESE!$F:$F,\">=1\")))","v":""},{"$f":"IF($Z$2=\"pok\",\"\",IF(A167=\"\",\"\",COUNTIFS(SYNTHESE!$D:$D,A167,SYNTHESE!$E:$E,$U$1,SYNTHESE!$F:$F,\">=1\")))","v":""},{"$f":"IF($Z$2=\"pok\",\"\",IF(A167=\"\",\"\",COUNTIFS(SYNTHESE!$D:$D,A167,SYNTHESE!$E:$E,$V$1,SYNTHESE!$F:$F,\">=1\")))","v":""},{"$f":"IF($Z$2=\"pok\",\"\",IF(A167=\"\",\"\",COUNTIFS(SYNTHESE!$D:$D,A167,SYNTHESE!$E:$E,$W$1,SYNTHESE!$F:$F,\">=1\")))","v":""},{"$f":"IF($Z$2=\"pok\",\"\",IF(A167=\"\",\"\",COUNTIFS(SYNTHESE!$D:$D,A167,SYNTHESE!$E:$E,$X$1,SYNTHESE!$F:$F,\">=1\")))","v":""},{"$f":"IF($Z$2=\"pok\",\"\",IF(A167=\"\",\"\",COUNTIFS(SYNTHESE!$D:$D,A167,SYNTHESE!$E:$E,$Y$1,SYNTHESE!$F:$F,\">=1\")))","v":""},0]
[{"$f":"IF(ETUDIANTS!A168=\"\",\"\",ETUDIANTS!A168)","v":""},{"$f":"IF($Z$2=\"pok\",\"\",IF(A168=\"\",\"\",COUNTIFS(SYNTHESE!$D:$D,A168,SYNTHESE!$E:$E,$B$1,SYNTHESE!$F:$F,\">=1\")))","v":""},{"$f":"IF($Z$2=\"pok\",\"\",IF(A168=\"\",\"\",COUNTIFS(SYNTHESE!$D:$D,A168,SYNTHESE!$E:$E,$C$1,SYNTHESE!$F:$F,\">=1\")))","v":""},{"$f":"IF($Z$2=\"pok\",\"\",IF(A168=\"\",\"\",COUNTIFS(SYNTHESE!$D:$D,A168,SYNTHESE!$E:$E,$D$1,SYNTHESE!$F:$F,\">=1\")))","v":""},{"$f":"IF($Z$2=\"pok\",\"\",IF(A168=\"\",\"\",COUNTIFS(SYNTHESE!$D:$D,A168,SYNTHESE!$E:$E,$E$1,SYNTHESE!$F:$F,\">=1\")))","v":""},{"$f":"IF($Z$2=\"pok\",\"\",IF(A168=\"\",\"\",COUNTIFS(SYNTHESE!$D:$D,A168,SYNTHESE!$E:$E,$F$1,SYNTHESE!$F:$F,\">=1\")))","v":""},{"$f":"IF($Z$2=\"pok\",\"\",IF(A168=\"\",\"\",COUNTIFS(SYNTHESE!$D:$D,A168,SYNTHESE!$E:$E,$G$1,SYNTHESE!$F:$F,\">=1\")))","v":""},{"$f":"IF($Z$2=\"pok\",\"\",IF(A168=\"\",\"\",COUNTIFS(SYNTHESE!$D:$D,A168,SYNTHESE!$E:$E,$H$1,SYNTHESE!$F:$F,\">=1\")))","v":""},{"$f":"IF($Z$2=\"pok\",\"\",IF(A168=\"\",\"\",COUNTIFS(SYNTHESE!$D:$D,A168,SYNTHESE!$E:$E,$I$1,SYNTHESE!$F:$F,\">=1\")))","v":""},{"$f":"IF($Z$2=\"pok\",\"\",IF(A168=\"\",\"\",COUNTIFS(SYNTHESE!$D:$D,A168,SYNTHESE!$E:$E,$J$1,SYNTHESE!$F:$F,\">=1\")))","v":""},{"$f":"IF($Z$2=\"pok\",\"\",IF(A168=\"\",\"\",COUNTIFS(SYNTHESE!$D:$D,A168,SYNTHESE!$E:$E,$K$1,SYNTHESE!$F:$F,\">=1\")))","v":""},{"$f":"IF($Z$2=\"pok\",\"\",IF(A168=\"\",\"\",COUNTIFS(SYNTHESE!$D:$D,A168,SYNTHESE!$E:$E,$L$1,SYNTHESE!$F:$F,\">=1\")))","v":""},{"$f":"IF($Z$2=\"pok\",\"\",IF(A168=\"\",\"\",COUNTIFS(SYNTHESE!$D:$D,A168,SYNTHESE!$E:$E,$M$1,SYNTHESE!$F:$F,\">=1\")))","v":""},{"$f":"IF($Z$2=\"pok\",\"\",IF(A168=\"\",\"\",COUNTIFS(SYNTHESE!$D:$D,A168,SYNTHESE!$E:$E,$N$1,SYNTHESE!$F:$F,\">=1\")))","v":""},{"$f":"IF($Z$2=\"pok\",\"\",IF(A168=\"\",\"\",COUNTIFS(SYNTHESE!$D:$D,A168,SYNTHESE!$E:$E,$O$1,SYNTHESE!$F:$F,\">=1\")))","v":""},{"$f":"IF($Z$2=\"pok\",\"\",IF(A168=\"\",\"\",COUNTIFS(SYNTHESE!$D:$D,A168,SYNTHESE!$E:$E,$P$1,SYNTHESE!$F:$F,\">=1\")))","v":""},{"$f":"IF($Z$2=\"pok\",\"\",IF(A168=\"\",\"\",COUNTIFS(SYNTHESE!$D:$D,A168,SYNTHESE!$E:$E,$Q$1,SYNTHESE!$F:$F,\">=1\")))","v":""},{"$f":"IF($Z$2=\"pok\",\"\",IF(A168=\"\",\"\",COUNTIFS(SYNTHESE!$D:$D,A168,SYNTHESE!$E:$E,$R$1,SYNTHESE!$F:$F,\">=1\")))","v":""},{"$f":"IF($Z$2=\"pok\",\"\",IF(A168=\"\",\"\",COUNTIFS(SYNTHESE!$D:$D,A168,SYNTHESE!$E:$E,$S$1,SYNTHESE!$F:$F,\">=1\")))","v":""},{"$f":"IF($Z$2=\"pok\",\"\",IF(A168=\"\",\"\",COUNTIFS(SYNTHESE!$D:$D,A168,SYNTHESE!$E:$E,$T$1,SYNTHESE!$F:$F,\">=1\")))","v":""},{"$f":"IF($Z$2=\"pok\",\"\",IF(A168=\"\",\"\",COUNTIFS(SYNTHESE!$D:$D,A168,SYNTHESE!$E:$E,$U$1,SYNTHESE!$F:$F,\">=1\")))","v":""},{"$f":"IF($Z$2=\"pok\",\"\",IF(A168=\"\",\"\",COUNTIFS(SYNTHESE!$D:$D,A168,SYNTHESE!$E:$E,$V$1,SYNTHESE!$F:$F,\">=1\")))","v":""},{"$f":"IF($Z$2=\"pok\",\"\",IF(A168=\"\",\"\",COUNTIFS(SYNTHESE!$D:$D,A168,SYNTHESE!$E:$E,$W$1,SYNTHESE!$F:$F,\">=1\")))","v":""},{"$f":"IF($Z$2=\"pok\",\"\",IF(A168=\"\",\"\",COUNTIFS(SYNTHESE!$D:$D,A168,SYNTHESE!$E:$E,$X$1,SYNTHESE!$F:$F,\">=1\")))","v":""},{"$f":"IF($Z$2=\"pok\",\"\",IF(A168=\"\",\"\",COUNTIFS(SYNTHESE!$D:$D,A168,SYNTHESE!$E:$E,$Y$1,SYNTHESE!$F:$F,\">=1\")))","v":""},0]
[{"$f":"IF(ETUDIANTS!A169=\"\",\"\",ETUDIANTS!A169)","v":""},{"$f":"IF($Z$2=\"pok\",\"\",IF(A169=\"\",\"\",COUNTIFS(SYNTHESE!$D:$D,A169,SYNTHESE!$E:$E,$B$1,SYNTHESE!$F:$F,\">=1\")))","v":""},{"$f":"IF($Z$2=\"pok\",\"\",IF(A169=\"\",\"\",COUNTIFS(SYNTHESE!$D:$D,A169,SYNTHESE!$E:$E,$C$1,SYNTHESE!$F:$F,\">=1\")))","v":""},{"$f":"IF($Z$2=\"pok\",\"\",IF(A169=\"\",\"\",COUNTIFS(SYNTHESE!$D:$D,A169,SYNTHESE!$E:$E,$D$1,SYNTHESE!$F:$F,\">=1\")))","v":""},{"$f":"IF($Z$2=\"pok\",\"\",IF(A169=\"\",\"\",COUNTIFS(SYNTHESE!$D:$D,A169,SYNTHESE!$E:$E,$E$1,SYNTHESE!$F:$F,\">=1\")))","v":""},{"$f":"IF($Z$2=\"pok\",\"\",IF(A169=\"\",\"\",COUNTIFS(SYNTHESE!$D:$D,A169,SYNTHESE!$E:$E,$F$1,SYNTHESE!$F:$F,\">=1\")))","v":""},{"$f":"IF($Z$2=\"pok\",\"\",IF(A169=\"\",\"\",COUNTIFS(SYNTHESE!$D:$D,A169,SYNTHESE!$E:$E,$G$1,SYNTHESE!$F:$F,\">=1\")))","v":""},{"$f":"IF($Z$2=\"pok\",\"\",IF(A169=\"\",\"\",COUNTIFS(SYNTHESE!$D:$D,A169,SYNTHESE!$E:$E,$H$1,SYNTHESE!$F:$F,\">=1\")))","v":""},{"$f":"IF($Z$2=\"pok\",\"\",IF(A169=\"\",\"\",COUNTIFS(SYNTHESE!$D:$D,A169,SYNTHESE!$E:$E,$I$1,SYNTHESE!$F:$F,\">=1\")))","v":""},{"$f":"IF($Z$2=\"pok\",\"\",IF(A169=\"\",\"\",COUNTIFS(SYNTHESE!$D:$D,A169,SYNTHESE!$E:$E,$J$1,SYNTHESE!$F:$F,\">=1\")))","v":""},{"$f":"IF($Z$2=\"pok\",\"\",IF(A169=\"\",\"\",COUNTIFS(SYNTHESE!$D:$D,A169,SYNTHESE!$E:$E,$K$1,SYNTHESE!$F:$F,\">=1\")))","v":""},{"$f":"IF($Z$2=\"pok\",\"\",IF(A169=\"\",\"\",COUNTIFS(SYNTHESE!$D:$D,A169,SYNTHESE!$E:$E,$L$1,SYNTHESE!$F:$F,\">=1\")))","v":""},{"$f":"IF($Z$2=\"pok\",\"\",IF(A169=\"\",\"\",COUNTIFS(SYNTHESE!$D:$D,A169,SYNTHESE!$E:$E,$M$1,SYNTHESE!$F:$F,\">=1\")))","v":""},{"$f":"IF($Z$2=\"pok\",\"\",IF(A169=\"\",\"\",COUNTIFS(SYNTHESE!$D:$D,A169,SYNTHESE!$E:$E,$N$1,SYNTHESE!$F:$F,\">=1\")))","v":""},{"$f":"IF($Z$2=\"pok\",\"\",IF(A169=\"\",\"\",COUNTIFS(SYNTHESE!$D:$D,A169,SYNTHESE!$E:$E,$O$1,SYNTHESE!$F:$F,\">=1\")))","v":""},{"$f":"IF($Z$2=\"pok\",\"\",IF(A169=\"\",\"\",COUNTIFS(SYNTHESE!$D:$D,A169,SYNTHESE!$E:$E,$P$1,SYNTHESE!$F:$F,\">=1\")))","v":""},{"$f":"IF($Z$2=\"pok\",\"\",IF(A169=\"\",\"\",COUNTIFS(SYNTHESE!$D:$D,A169,SYNTHESE!$E:$E,$Q$1,SYNTHESE!$F:$F,\">=1\")))","v":""},{"$f":"IF($Z$2=\"pok\",\"\",IF(A169=\"\",\"\",COUNTIFS(SYNTHESE!$D:$D,A169,SYNTHESE!$E:$E,$R$1,SYNTHESE!$F:$F,\">=1\")))","v":""},{"$f":"IF($Z$2=\"pok\",\"\",IF(A169=\"\",\"\",COUNTIFS(SYNTHESE!$D:$D,A169,SYNTHESE!$E:$E,$S$1,SYNTHESE!$F:$F,\">=1\")))","v":""},{"$f":"IF($Z$2=\"pok\",\"\",IF(A169=\"\",\"\",COUNTIFS(SYNTHESE!$D:$D,A169,SYNTHESE!$E:$E,$T$1,SYNTHESE!$F:$F,\">=1\")))","v":""},{"$f":"IF($Z$2=\"pok\",\"\",IF(A169=\"\",\"\",COUNTIFS(SYNTHESE!$D:$D,A169,SYNTHESE!$E:$E,$U$1,SYNTHESE!$F:$F,\">=1\")))","v":""},{"$f":"IF($Z$2=\"pok\",\"\",IF(A169=\"\",\"\",COUNTIFS(SYNTHESE!$D:$D,A169,SYNTHESE!$E:$E,$V$1,SYNTHESE!$F:$F,\">=1\")))","v":""},{"$f":"IF($Z$2=\"pok\",\"\",IF(A169=\"\",\"\",COUNTIFS(SYNTHESE!$D:$D,A169,SYNTHESE!$E:$E,$W$1,SYNTHESE!$F:$F,\">=1\")))","v":""},{"$f":"IF($Z$2=\"pok\",\"\",IF(A169=\"\",\"\",COUNTIFS(SYNTHESE!$D:$D,A169,SYNTHESE!$E:$E,$X$1,SYNTHESE!$F:$F,\">=1\")))","v":""},{"$f":"IF($Z$2=\"pok\",\"\",IF(A169=\"\",\"\",COUNTIFS(SYNTHESE!$D:$D,A169,SYNTHESE!$E:$E,$Y$1,SYNTHESE!$F:$F,\">=1\")))","v":""},0]
[{"$f":"IF(ETUDIANTS!A170=\"\",\"\",ETUDIANTS!A170)","v":""},{"$f":"IF($Z$2=\"pok\",\"\",IF(A170=\"\",\"\",COUNTIFS(SYNTHESE!$D:$D,A170,SYNTHESE!$E:$E,$B$1,SYNTHESE!$F:$F,\">=1\")))","v":""},{"$f":"IF($Z$2=\"pok\",\"\",IF(A170=\"\",\"\",COUNTIFS(SYNTHESE!$D:$D,A170,SYNTHESE!$E:$E,$C$1,SYNTHESE!$F:$F,\">=1\")))","v":""},{"$f":"IF($Z$2=\"pok\",\"\",IF(A170=\"\",\"\",COUNTIFS(SYNTHESE!$D:$D,A170,SYNTHESE!$E:$E,$D$1,SYNTHESE!$F:$F,\">=1\")))","v":""},{"$f":"IF($Z$2=\"pok\",\"\",IF(A170=\"\",\"\",COUNTIFS(SYNTHESE!$D:$D,A170,SYNTHESE!$E:$E,$E$1,SYNTHESE!$F:$F,\">=1\")))","v":""},{"$f":"IF($Z$2=\"pok\",\"\",IF(A170=\"\",\"\",COUNTIFS(SYNTHESE!$D:$D,A170,SYNTHESE!$E:$E,$F$1,SYNTHESE!$F:$F,\">=1\")))","v":""},{"$f":"IF($Z$2=\"pok\",\"\",IF(A170=\"\",\"\",COUNTIFS(SYNTHESE!$D:$D,A170,SYNTHESE!$E:$E,$G$1,SYNTHESE!$F:$F,\">=1\")))","v":""},{"$f":"IF($Z$2=\"pok\",\"\",IF(A170=\"\",\"\",COUNTIFS(SYNTHESE!$D:$D,A170,SYNTHESE!$E:$E,$H$1,SYNTHESE!$F:$F,\">=1\")))","v":""},{"$f":"IF($Z$2=\"pok\",\"\",IF(A170=\"\",\"\",COUNTIFS(SYNTHESE!$D:$D,A170,SYNTHESE!$E:$E,$I$1,SYNTHESE!$F:$F,\">=1\")))","v":""},{"$f":"IF($Z$2=\"pok\",\"\",IF(A170=\"\",\"\",COUNTIFS(SYNTHESE!$D:$D,A170,SYNTHESE!$E:$E,$J$1,SYNTHESE!$F:$F,\">=1\")))","v":""},{"$f":"IF($Z$2=\"pok\",\"\",IF(A170=\"\",\"\",COUNTIFS(SYNTHESE!$D:$D,A170,SYNTHESE!$E:$E,$K$1,SYNTHESE!$F:$F,\">=1\")))","v":""},{"$f":"IF($Z$2=\"pok\",\"\",IF(A170=\"\",\"\",COUNTIFS(SYNTHESE!$D:$D,A170,SYNTHESE!$E:$E,$L$1,SYNTHESE!$F:$F,\">=1\")))","v":""},{"$f":"IF($Z$2=\"pok\",\"\",IF(A170=\"\",\"\",COUNTIFS(SYNTHESE!$D:$D,A170,SYNTHESE!$E:$E,$M$1,SYNTHESE!$F:$F,\">=1\")))","v":""},{"$f":"IF($Z$2=\"pok\",\"\",IF(A170=\"\",\"\",COUNTIFS(SYNTHESE!$D:$D,A170,SYNTHESE!$E:$E,$N$1,SYNTHESE!$F:$F,\">=1\")))","v":""},{"$f":"IF($Z$2=\"pok\",\"\",IF(A170=\"\",\"\",COUNTIFS(SYNTHESE!$D:$D,A170,SYNTHESE!$E:$E,$O$1,SYNTHESE!$F:$F,\">=1\")))","v":""},{"$f":"IF($Z$2=\"pok\",\"\",IF(A170=\"\",\"\",COUNTIFS(SYNTHESE!$D:$D,A170,SYNTHESE!$E:$E,$P$1,SYNTHESE!$F:$F,\">=1\")))","v":""},{"$f":"IF($Z$2=\"pok\",\"\",IF(A170=\"\",\"\",COUNTIFS(SYNTHESE!$D:$D,A170,SYNTHESE!$E:$E,$Q$1,SYNTHESE!$F:$F,\">=1\")))","v":""},{"$f":"IF($Z$2=\"pok\",\"\",IF(A170=\"\",\"\",COUNTIFS(SYNTHESE!$D:$D,A170,SYNTHESE!$E:$E,$R$1,SYNTHESE!$F:$F,\">=1\")))","v":""},{"$f":"IF($Z$2=\"pok\",\"\",IF(A170=\"\",\"\",COUNTIFS(SYNTHESE!$D:$D,A170,SYNTHESE!$E:$E,$S$1,SYNTHESE!$F:$F,\">=1\")))","v":""},{"$f":"IF($Z$2=\"pok\",\"\",IF(A170=\"\",\"\",COUNTIFS(SYNTHESE!$D:$D,A170,SYNTHESE!$E:$E,$T$1,SYNTHESE!$F:$F,\">=1\")))","v":""},{"$f":"IF($Z$2=\"pok\",\"\",IF(A170=\"\",\"\",COUNTIFS(SYNTHESE!$D:$D,A170,SYNTHESE!$E:$E,$U$1,SYNTHESE!$F:$F,\">=1\")))","v":""},{"$f":"IF($Z$2=\"pok\",\"\",IF(A170=\"\",\"\",COUNTIFS(SYNTHESE!$D:$D,A170,SYNTHESE!$E:$E,$V$1,SYNTHESE!$F:$F,\">=1\")))","v":""},{"$f":"IF($Z$2=\"pok\",\"\",IF(A170=\"\",\"\",COUNTIFS(SYNTHESE!$D:$D,A170,SYNTHESE!$E:$E,$W$1,SYNTHESE!$F:$F,\">=1\")))","v":""},{"$f":"IF($Z$2=\"pok\",\"\",IF(A170=\"\",\"\",COUNTIFS(SYNTHESE!$D:$D,A170,SYNTHESE!$E:$E,$X$1,SYNTHESE!$F:$F,\">=1\")))","v":""},{"$f":"IF($Z$2=\"pok\",\"\",IF(A170=\"\",\"\",COUNTIFS(SYNTHESE!$D:$D,A170,SYNTHESE!$E:$E,$Y$1,SYNTHESE!$F:$F,\">=1\")))","v":""},0]
[{"$f":"IF(ETUDIANTS!A171=\"\",\"\",ETUDIANTS!A171)","v":""},{"$f":"IF($Z$2=\"pok\",\"\",IF(A171=\"\",\"\",COUNTIFS(SYNTHESE!$D:$D,A171,SYNTHESE!$E:$E,$B$1,SYNTHESE!$F:$F,\">=1\")))","v":""},{"$f":"IF($Z$2=\"pok\",\"\",IF(A171=\"\",\"\",COUNTIFS(SYNTHESE!$D:$D,A171,SYNTHESE!$E:$E,$C$1,SYNTHESE!$F:$F,\">=1\")))","v":""},{"$f":"IF($Z$2=\"pok\",\"\",IF(A171=\"\",\"\",COUNTIFS(SYNTHESE!$D:$D,A171,SYNTHESE!$E:$E,$D$1,SYNTHESE!$F:$F,\">=1\")))","v":""},{"$f":"IF($Z$2=\"pok\",\"\",IF(A171=\"\",\"\",COUNTIFS(SYNTHESE!$D:$D,A171,SYNTHESE!$E:$E,$E$1,SYNTHESE!$F:$F,\">=1\")))","v":""},{"$f":"IF($Z$2=\"pok\",\"\",IF(A171=\"\",\"\",COUNTIFS(SYNTHESE!$D:$D,A171,SYNTHESE!$E:$E,$F$1,SYNTHESE!$F:$F,\">=1\")))","v":""},{"$f":"IF($Z$2=\"pok\",\"\",IF(A171=\"\",\"\",COUNTIFS(SYNTHESE!$D:$D,A171,SYNTHESE!$E:$E,$G$1,SYNTHESE!$F:$F,\">=1\")))","v":""},{"$f":"IF($Z$2=\"pok\",\"\",IF(A171=\"\",\"\",COUNTIFS(SYNTHESE!$D:$D,A171,SYNTHESE!$E:$E,$H$1,SYNTHESE!$F:$F,\">=1\")))","v":""},{"$f":"IF($Z$2=\"pok\",\"\",IF(A171=\"\",\"\",COUNTIFS(SYNTHESE!$D:$D,A171,SYNTHESE!$E:$E,$I$1,SYNTHESE!$F:$F,\">=1\")))","v":""},{"$f":"IF($Z$2=\"pok\",\"\",IF(A171=\"\",\"\",COUNTIFS(SYNTHESE!$D:$D,A171,SYNTHESE!$E:$E,$J$1,SYNTHESE!$F:$F,\">=1\")))","v":""},{"$f":"IF($Z$2=\"pok\",\"\",IF(A171=\"\",\"\",COUNTIFS(SYNTHESE!$D:$D,A171,SYNTHESE!$E:$E,$K$1,SYNTHESE!$F:$F,\">=1\")))","v":""},{"$f":"IF($Z$2=\"pok\",\"\",IF(A171=\"\",\"\",COUNTIFS(SYNTHESE!$D:$D,A171,SYNTHESE!$E:$E,$L$1,SYNTHESE!$F:$F,\">=1\")))","v":""},{"$f":"IF($Z$2=\"pok\",\"\",IF(A171=\"\",\"\",COUNTIFS(SYNTHESE!$D:$D,A171,SYNTHESE!$E:$E,$M$1,SYNTHESE!$F:$F,\">=1\")))","v":""},{"$f":"IF($Z$2=\"pok\",\"\",IF(A171=\"\",\"\",COUNTIFS(SYNTHESE!$D:$D,A171,SYNTHESE!$E:$E,$N$1,SYNTHESE!$F:$F,\">=1\")))","v":""},{"$f":"IF($Z$2=\"pok\",\"\",IF(A171=\"\",\"\",COUNTIFS(SYNTHESE!$D:$D,A171,SYNTHESE!$E:$E,$O$1,SYNTHESE!$F:$F,\">=1\")))","v":""},{"$f":"IF($Z$2=\"pok\",\"\",IF(A171=\"\",\"\",COUNTIFS(SYNTHESE!$D:$D,A171,SYNTHESE!$E:$E,$P$1,SYNTHESE!$F:$F,\">=1\")))","v":""},{"$f":"IF($Z$2=\"pok\",\"\",IF(A171=\"\",\"\",COUNTIFS(SYNTHESE!$D:$D,A171,SYNTHESE!$E:$E,$Q$1,SYNTHESE!$F:$F,\">=1\")))","v":""},{"$f":"IF($Z$2=\"pok\",\"\",IF(A171=\"\",\"\",COUNTIFS(SYNTHESE!$D:$D,A171,SYNTHESE!$E:$E,$R$1,SYNTHESE!$F:$F,\">=1\")))","v":""},{"$f":"IF($Z$2=\"pok\",\"\",IF(A171=\"\",\"\",COUNTIFS(SYNTHESE!$D:$D,A171,SYNTHESE!$E:$E,$S$1,SYNTHESE!$F:$F,\">=1\")))","v":""},{"$f":"IF($Z$2=\"pok\",\"\",IF(A171=\"\",\"\",COUNTIFS(SYNTHESE!$D:$D,A171,SYNTHESE!$E:$E,$T$1,SYNTHESE!$F:$F,\">=1\")))","v":""},{"$f":"IF($Z$2=\"pok\",\"\",IF(A171=\"\",\"\",COUNTIFS(SYNTHESE!$D:$D,A171,SYNTHESE!$E:$E,$U$1,SYNTHESE!$F:$F,\">=1\")))","v":""},{"$f":"IF($Z$2=\"pok\",\"\",IF(A171=\"\",\"\",COUNTIFS(SYNTHESE!$D:$D,A171,SYNTHESE!$E:$E,$V$1,SYNTHESE!$F:$F,\">=1\")))","v":""},{"$f":"IF($Z$2=\"pok\",\"\",IF(A171=\"\",\"\",COUNTIFS(SYNTHESE!$D:$D,A171,SYNTHESE!$E:$E,$W$1,SYNTHESE!$F:$F,\">=1\")))","v":""},{"$f":"IF($Z$2=\"pok\",\"\",IF(A171=\"\",\"\",COUNTIFS(SYNTHESE!$D:$D,A171,SYNTHESE!$E:$E,$X$1,SYNTHESE!$F:$F,\">=1\")))","v":""},{"$f":"IF($Z$2=\"pok\",\"\",IF(A171=\"\",\"\",COUNTIFS(SYNTHESE!$D:$D,A171,SYNTHESE!$E:$E,$Y$1,SYNTHESE!$F:$F,\">=1\")))","v":""},0]
[{"$f":"IF(ETUDIANTS!A172=\"\",\"\",ETUDIANTS!A172)","v":""},{"$f":"IF($Z$2=\"pok\",\"\",IF(A172=\"\",\"\",COUNTIFS(SYNTHESE!$D:$D,A172,SYNTHESE!$E:$E,$B$1,SYNTHESE!$F:$F,\">=1\")))","v":""},{"$f":"IF($Z$2=\"pok\",\"\",IF(A172=\"\",\"\",COUNTIFS(SYNTHESE!$D:$D,A172,SYNTHESE!$E:$E,$C$1,SYNTHESE!$F:$F,\">=1\")))","v":""},{"$f":"IF($Z$2=\"pok\",\"\",IF(A172=\"\",\"\",COUNTIFS(SYNTHESE!$D:$D,A172,SYNTHESE!$E:$E,$D$1,SYNTHESE!$F:$F,\">=1\")))","v":""},{"$f":"IF($Z$2=\"pok\",\"\",IF(A172=\"\",\"\",COUNTIFS(SYNTHESE!$D:$D,A172,SYNTHESE!$E:$E,$E$1,SYNTHESE!$F:$F,\">=1\")))","v":""},{"$f":"IF($Z$2=\"pok\",\"\",IF(A172=\"\",\"\",COUNTIFS(SYNTHESE!$D:$D,A172,SYNTHESE!$E:$E,$F$1,SYNTHESE!$F:$F,\">=1\")))","v":""},{"$f":"IF($Z$2=\"pok\",\"\",IF(A172=\"\",\"\",COUNTIFS(SYNTHESE!$D:$D,A172,SYNTHESE!$E:$E,$G$1,SYNTHESE!$F:$F,\">=1\")))","v":""},{"$f":"IF($Z$2=\"pok\",\"\",IF(A172=\"\",\"\",COUNTIFS(SYNTHESE!$D:$D,A172,SYNTHESE!$E:$E,$H$1,SYNTHESE!$F:$F,\">=1\")))","v":""},{"$f":"IF($Z$2=\"pok\",\"\",IF(A172=\"\",\"\",COUNTIFS(SYNTHESE!$D:$D,A172,SYNTHESE!$E:$E,$I$1,SYNTHESE!$F:$F,\">=1\")))","v":""},{"$f":"IF($Z$2=\"pok\",\"\",IF(A172=\"\",\"\",COUNTIFS(SYNTHESE!$D:$D,A172,SYNTHESE!$E:$E,$J$1,SYNTHESE!$F:$F,\">=1\")))","v":""},{"$f":"IF($Z$2=\"pok\",\"\",IF(A172=\"\",\"\",COUNTIFS(SYNTHESE!$D:$D,A172,SYNTHESE!$E:$E,$K$1,SYNTHESE!$F:$F,\">=1\")))","v":""},{"$f":"IF($Z$2=\"pok\",\"\",IF(A172=\"\",\"\",COUNTIFS(SYNTHESE!$D:$D,A172,SYNTHESE!$E:$E,$L$1,SYNTHESE!$F:$F,\">=1\")))","v":""},{"$f":"IF($Z$2=\"pok\",\"\",IF(A172=\"\",\"\",COUNTIFS(SYNTHESE!$D:$D,A172,SYNTHESE!$E:$E,$M$1,SYNTHESE!$F:$F,\">=1\")))","v":""},{"$f":"IF($Z$2=\"pok\",\"\",IF(A172=\"\",\"\",COUNTIFS(SYNTHESE!$D:$D,A172,SYNTHESE!$E:$E,$N$1,SYNTHESE!$F:$F,\">=1\")))","v":""},{"$f":"IF($Z$2=\"pok\",\"\",IF(A172=\"\",\"\",COUNTIFS(SYNTHESE!$D:$D,A172,SYNTHESE!$E:$E,$O$1,SYNTHESE!$F:$F,\">=1\")))","v":""},{"$f":"IF($Z$2=\"pok\",\"\",IF(A172=\"\",\"\",COUNTIFS(SYNTHESE!$D:$D,A172,SYNTHESE!$E:$E,$P$1,SYNTHESE!$F:$F,\">=1\")))","v":""},{"$f":"IF($Z$2=\"pok\",\"\",IF(A172=\"\",\"\",COUNTIFS(SYNTHESE!$D:$D,A172,SYNTHESE!$E:$E,$Q$1,SYNTHESE!$F:$F,\">=1\")))","v":""},{"$f":"IF($Z$2=\"pok\",\"\",IF(A172=\"\",\"\",COUNTIFS(SYNTHESE!$D:$D,A172,SYNTHESE!$E:$E,$R$1,SYNTHESE!$F:$F,\">=1\")))","v":""},{"$f":"IF($Z$2=\"pok\",\"\",IF(A172=\"\",\"\",COUNTIFS(SYNTHESE!$D:$D,A172,SYNTHESE!$E:$E,$S$1,SYNTHESE!$F:$F,\">=1\")))","v":""},{"$f":"IF($Z$2=\"pok\",\"\",IF(A172=\"\",\"\",COUNTIFS(SYNTHESE!$D:$D,A172,SYNTHESE!$E:$E,$T$1,SYNTHESE!$F:$F,\">=1\")))","v":""},{"$f":"IF($Z$2=\"pok\",\"\",IF(A172=\"\",\"\",COUNTIFS(SYNTHESE!$D:$D,A172,SYNTHESE!$E:$E,$U$1,SYNTHESE!$F:$F,\">=1\")))","v":""},{"$f":"IF($Z$2=\"pok\",\"\",IF(A172=\"\",\"\",COUNTIFS(SYNTHESE!$D:$D,A172,SYNTHESE!$E:$E,$V$1,SYNTHESE!$F:$F,\">=1\")))","v":""},{"$f":"IF($Z$2=\"pok\",\"\",IF(A172=\"\",\"\",COUNTIFS(SYNTHESE!$D:$D,A172,SYNTHESE!$E:$E,$W$1,SYNTHESE!$F:$F,\">=1\")))","v":""},{"$f":"IF($Z$2=\"pok\",\"\",IF(A172=\"\",\"\",COUNTIFS(SYNTHESE!$D:$D,A172,SYNTHESE!$E:$E,$X$1,SYNTHESE!$F:$F,\">=1\")))","v":""},{"$f":"IF($Z$2=\"pok\",\"\",IF(A172=\"\",\"\",COUNTIFS(SYNTHESE!$D:$D,A172,SYNTHESE!$E:$E,$Y$1,SYNTHESE!$F:$F,\">=1\")))","v":""},0]
[{"$f":"IF(ETUDIANTS!A173=\"\",\"\",ETUDIANTS!A173)","v":""},{"$f":"IF($Z$2=\"pok\",\"\",IF(A173=\"\",\"\",COUNTIFS(SYNTHESE!$D:$D,A173,SYNTHESE!$E:$E,$B$1,SYNTHESE!$F:$F,\">=1\")))","v":""},{"$f":"IF($Z$2=\"pok\",\"\",IF(A173=\"\",\"\",COUNTIFS(SYNTHESE!$D:$D,A173,SYNTHESE!$E:$E,$C$1,SYNTHESE!$F:$F,\">=1\")))","v":""},{"$f":"IF($Z$2=\"pok\",\"\",IF(A173=\"\",\"\",COUNTIFS(SYNTHESE!$D:$D,A173,SYNTHESE!$E:$E,$D$1,SYNTHESE!$F:$F,\">=1\")))","v":""},{"$f":"IF($Z$2=\"pok\",\"\",IF(A173=\"\",\"\",COUNTIFS(SYNTHESE!$D:$D,A173,SYNTHESE!$E:$E,$E$1,SYNTHESE!$F:$F,\">=1\")))","v":""},{"$f":"IF($Z$2=\"pok\",\"\",IF(A173=\"\",\"\",COUNTIFS(SYNTHESE!$D:$D,A173,SYNTHESE!$E:$E,$F$1,SYNTHESE!$F:$F,\">=1\")))","v":""},{"$f":"IF($Z$2=\"pok\",\"\",IF(A173=\"\",\"\",COUNTIFS(SYNTHESE!$D:$D,A173,SYNTHESE!$E:$E,$G$1,SYNTHESE!$F:$F,\">=1\")))","v":""},{"$f":"IF($Z$2=\"pok\",\"\",IF(A173=\"\",\"\",COUNTIFS(SYNTHESE!$D:$D,A173,SYNTHESE!$E:$E,$H$1,SYNTHESE!$F:$F,\">=1\")))","v":""},{"$f":"IF($Z$2=\"pok\",\"\",IF(A173=\"\",\"\",COUNTIFS(SYNTHESE!$D:$D,A173,SYNTHESE!$E:$E,$I$1,SYNTHESE!$F:$F,\">=1\")))","v":""},{"$f":"IF($Z$2=\"pok\",\"\",IF(A173=\"\",\"\",COUNTIFS(SYNTHESE!$D:$D,A173,SYNTHESE!$E:$E,$J$1,SYNTHESE!$F:$F,\">=1\")))","v":""},{"$f":"IF($Z$2=\"pok\",\"\",IF(A173=\"\",\"\",COUNTIFS(SYNTHESE!$D:$D,A173,SYNTHESE!$E:$E,$K$1,SYNTHESE!$F:$F,\">=1\")))","v":""},{"$f":"IF($Z$2=\"pok\",\"\",IF(A173=\"\",\"\",COUNTIFS(SYNTHESE!$D:$D,A173,SYNTHESE!$E:$E,$L$1,SYNTHESE!$F:$F,\">=1\")))","v":""},{"$f":"IF($Z$2=\"pok\",\"\",IF(A173=\"\",\"\",COUNTIFS(SYNTHESE!$D:$D,A173,SYNTHESE!$E:$E,$M$1,SYNTHESE!$F:$F,\">=1\")))","v":""},{"$f":"IF($Z$2=\"pok\",\"\",IF(A173=\"\",\"\",COUNTIFS(SYNTHESE!$D:$D,A173,SYNTHESE!$E:$E,$N$1,SYNTHESE!$F:$F,\">=1\")))","v":""},{"$f":"IF($Z$2=\"pok\",\"\",IF(A173=\"\",\"\",COUNTIFS(SYNTHESE!$D:$D,A173,SYNTHESE!$E:$E,$O$1,SYNTHESE!$F:$F,\">=1\")))","v":""},{"$f":"IF($Z$2=\"pok\",\"\",IF(A173=\"\",\"\",COUNTIFS(SYNTHESE!$D:$D,A173,SYNTHESE!$E:$E,$P$1,SYNTHESE!$F:$F,\">=1\")))","v":""},{"$f":"IF($Z$2=\"pok\",\"\",IF(A173=\"\",\"\",COUNTIFS(SYNTHESE!$D:$D,A173,SYNTHESE!$E:$E,$Q$1,SYNTHESE!$F:$F,\">=1\")))","v":""},{"$f":"IF($Z$2=\"pok\",\"\",IF(A173=\"\",\"\",COUNTIFS(SYNTHESE!$D:$D,A173,SYNTHESE!$E:$E,$R$1,SYNTHESE!$F:$F,\">=1\")))","v":""},{"$f":"IF($Z$2=\"pok\",\"\",IF(A173=\"\",\"\",COUNTIFS(SYNTHESE!$D:$D,A173,SYNTHESE!$E:$E,$S$1,SYNTHESE!$F:$F,\">=1\")))","v":""},{"$f":"IF($Z$2=\"pok\",\"\",IF(A173=\"\",\"\",COUNTIFS(SYNTHESE!$D:$D,A173,SYNTHESE!$E:$E,$T$1,SYNTHESE!$F:$F,\">=1\")))","v":""},{"$f":"IF($Z$2=\"pok\",\"\",IF(A173=\"\",\"\",COUNTIFS(SYNTHESE!$D:$D,A173,SYNTHESE!$E:$E,$U$1,SYNTHESE!$F:$F,\">=1\")))","v":""},{"$f":"IF($Z$2=\"pok\",\"\",IF(A173=\"\",\"\",COUNTIFS(SYNTHESE!$D:$D,A173,SYNTHESE!$E:$E,$V$1,SYNTHESE!$F:$F,\">=1\")))","v":""},{"$f":"IF($Z$2=\"pok\",\"\",IF(A173=\"\",\"\",COUNTIFS(SYNTHESE!$D:$D,A173,SYNTHESE!$E:$E,$W$1,SYNTHESE!$F:$F,\">=1\")))","v":""},{"$f":"IF($Z$2=\"pok\",\"\",IF(A173=\"\",\"\",COUNTIFS(SYNTHESE!$D:$D,A173,SYNTHESE!$E:$E,$X$1,SYNTHESE!$F:$F,\">=1\")))","v":""},{"$f":"IF($Z$2=\"pok\",\"\",IF(A173=\"\",\"\",COUNTIFS(SYNTHESE!$D:$D,A173,SYNTHESE!$E:$E,$Y$1,SYNTHESE!$F:$F,\">=1\")))","v":""},0]
[{"$f":"IF(ETUDIANTS!A174=\"\",\"\",ETUDIANTS!A174)","v":""},{"$f":"IF($Z$2=\"pok\",\"\",IF(A174=\"\",\"\",COUNTIFS(SYNTHESE!$D:$D,A174,SYNTHESE!$E:$E,$B$1,SYNTHESE!$F:$F,\">=1\")))","v":""},{"$f":"IF($Z$2=\"pok\",\"\",IF(A174=\"\",\"\",COUNTIFS(SYNTHESE!$D:$D,A174,SYNTHESE!$E:$E,$C$1,SYNTHESE!$F:$F,\">=1\")))","v":""},{"$f":"IF($Z$2=\"pok\",\"\",IF(A174=\"\",\"\",COUNTIFS(SYNTHESE!$D:$D,A174,SYNTHESE!$E:$E,$D$1,SYNTHESE!$F:$F,\">=1\")))","v":""},{"$f":"IF($Z$2=\"pok\",\"\",IF(A174=\"\",\"\",COUNTIFS(SYNTHESE!$D:$D,A174,SYNTHESE!$E:$E,$E$1,SYNTHESE!$F:$F,\">=1\")))","v":""},{"$f":"IF($Z$2=\"pok\",\"\",IF(A174=\"\",\"\",COUNTIFS(SYNTHESE!$D:$D,A174,SYNTHESE!$E:$E,$F$1,SYNTHESE!$F:$F,\">=1\")))","v":""},{"$f":"IF($Z$2=\"pok\",\"\",IF(A174=\"\",\"\",COUNTIFS(SYNTHESE!$D:$D,A174,SYNTHESE!$E:$E,$G$1,SYNTHESE!$F:$F,\">=1\")))","v":""},{"$f":"IF($Z$2=\"pok\",\"\",IF(A174=\"\",\"\",COUNTIFS(SYNTHESE!$D:$D,A174,SYNTHESE!$E:$E,$H$1,SYNTHESE!$F:$F,\">=1\")))","v":""},{"$f":"IF($Z$2=\"pok\",\"\",IF(A174=\"\",\"\",COUNTIFS(SYNTHESE!$D:$D,A174,SYNTHESE!$E:$E,$I$1,SYNTHESE!$F:$F,\">=1\")))","v":""},{"$f":"IF($Z$2=\"pok\",\"\",IF(A174=\"\",\"\",COUNTIFS(SYNTHESE!$D:$D,A174,SYNTHESE!$E:$E,$J$1,SYNTHESE!$F:$F,\">=1\")))","v":""},{"$f":"IF($Z$2=\"pok\",\"\",IF(A174=\"\",\"\",COUNTIFS(SYNTHESE!$D:$D,A174,SYNTHESE!$E:$E,$K$1,SYNTHESE!$F:$F,\">=1\")))","v":""},{"$f":"IF($Z$2=\"pok\",\"\",IF(A174=\"\",\"\",COUNTIFS(SYNTHESE!$D:$D,A174,SYNTHESE!$E:$E,$L$1,SYNTHESE!$F:$F,\">=1\")))","v":""},{"$f":"IF($Z$2=\"pok\",\"\",IF(A174=\"\",\"\",COUNTIFS(SYNTHESE!$D:$D,A174,SYNTHESE!$E:$E,$M$1,SYNTHESE!$F:$F,\">=1\")))","v":""},{"$f":"IF($Z$2=\"pok\",\"\",IF(A174=\"\",\"\",COUNTIFS(SYNTHESE!$D:$D,A174,SYNTHESE!$E:$E,$N$1,SYNTHESE!$F:$F,\">=1\")))","v":""},{"$f":"IF($Z$2=\"pok\",\"\",IF(A174=\"\",\"\",COUNTIFS(SYNTHESE!$D:$D,A174,SYNTHESE!$E:$E,$O$1,SYNTHESE!$F:$F,\">=1\")))","v":""},{"$f":"IF($Z$2=\"pok\",\"\",IF(A174=\"\",\"\",COUNTIFS(SYNTHESE!$D:$D,A174,SYNTHESE!$E:$E,$P$1,SYNTHESE!$F:$F,\">=1\")))","v":""},{"$f":"IF($Z$2=\"pok\",\"\",IF(A174=\"\",\"\",COUNTIFS(SYNTHESE!$D:$D,A174,SYNTHESE!$E:$E,$Q$1,SYNTHESE!$F:$F,\">=1\")))","v":""},{"$f":"IF($Z$2=\"pok\",\"\",IF(A174=\"\",\"\",COUNTIFS(SYNTHESE!$D:$D,A174,SYNTHESE!$E:$E,$R$1,SYNTHESE!$F:$F,\">=1\")))","v":""},{"$f":"IF($Z$2=\"pok\",\"\",IF(A174=\"\",\"\",COUNTIFS(SYNTHESE!$D:$D,A174,SYNTHESE!$E:$E,$S$1,SYNTHESE!$F:$F,\">=1\")))","v":""},{"$f":"IF($Z$2=\"pok\",\"\",IF(A174=\"\",\"\",COUNTIFS(SYNTHESE!$D:$D,A174,SYNTHESE!$E:$E,$T$1,SYNTHESE!$F:$F,\">=1\")))","v":""},{"$f":"IF($Z$2=\"pok\",\"\",IF(A174=\"\",\"\",COUNTIFS(SYNTHESE!$D:$D,A174,SYNTHESE!$E:$E,$U$1,SYNTHESE!$F:$F,\">=1\")))","v":""},{"$f":"IF($Z$2=\"pok\",\"\",IF(A174=\"\",\"\",COUNTIFS(SYNTHESE!$D:$D,A174,SYNTHESE!$E:$E,$V$1,SYNTHESE!$F:$F,\">=1\")))","v":""},{"$f":"IF($Z$2=\"pok\",\"\",IF(A174=\"\",\"\",COUNTIFS(SYNTHESE!$D:$D,A174,SYNTHESE!$E:$E,$W$1,SYNTHESE!$F:$F,\">=1\")))","v":""},{"$f":"IF($Z$2=\"pok\",\"\",IF(A174=\"\",\"\",COUNTIFS(SYNTHESE!$D:$D,A174,SYNTHESE!$E:$E,$X$1,SYNTHESE!$F:$F,\">=1\")))","v":""},{"$f":"IF($Z$2=\"pok\",\"\",IF(A174=\"\",\"\",COUNTIFS(SYNTHESE!$D:$D,A174,SYNTHESE!$E:$E,$Y$1,SYNTHESE!$F:$F,\">=1\")))","v":""},0]
[{"$f":"IF(ETUDIANTS!A175=\"\",\"\",ETUDIANTS!A175)","v":""},{"$f":"IF($Z$2=\"pok\",\"\",IF(A175=\"\",\"\",COUNTIFS(SYNTHESE!$D:$D,A175,SYNTHESE!$E:$E,$B$1,SYNTHESE!$F:$F,\">=1\")))","v":""},{"$f":"IF($Z$2=\"pok\",\"\",IF(A175=\"\",\"\",COUNTIFS(SYNTHESE!$D:$D,A175,SYNTHESE!$E:$E,$C$1,SYNTHESE!$F:$F,\">=1\")))","v":""},{"$f":"IF($Z$2=\"pok\",\"\",IF(A175=\"\",\"\",COUNTIFS(SYNTHESE!$D:$D,A175,SYNTHESE!$E:$E,$D$1,SYNTHESE!$F:$F,\">=1\")))","v":""},{"$f":"IF($Z$2=\"pok\",\"\",IF(A175=\"\",\"\",COUNTIFS(SYNTHESE!$D:$D,A175,SYNTHESE!$E:$E,$E$1,SYNTHESE!$F:$F,\">=1\")))","v":""},{"$f":"IF($Z$2=\"pok\",\"\",IF(A175=\"\",\"\",COUNTIFS(SYNTHESE!$D:$D,A175,SYNTHESE!$E:$E,$F$1,SYNTHESE!$F:$F,\">=1\")))","v":""},{"$f":"IF($Z$2=\"pok\",\"\",IF(A175=\"\",\"\",COUNTIFS(SYNTHESE!$D:$D,A175,SYNTHESE!$E:$E,$G$1,SYNTHESE!$F:$F,\">=1\")))","v":""},{"$f":"IF($Z$2=\"pok\",\"\",IF(A175=\"\",\"\",COUNTIFS(SYNTHESE!$D:$D,A175,SYNTHESE!$E:$E,$H$1,SYNTHESE!$F:$F,\">=1\")))","v":""},{"$f":"IF($Z$2=\"pok\",\"\",IF(A175=\"\",\"\",COUNTIFS(SYNTHESE!$D:$D,A175,SYNTHESE!$E:$E,$I$1,SYNTHESE!$F:$F,\">=1\")))","v":""},{"$f":"IF($Z$2=\"pok\",\"\",IF(A175=\"\",\"\",COUNTIFS(SYNTHESE!$D:$D,A175,SYNTHESE!$E:$E,$J$1,SYNTHESE!$F:$F,\">=1\")))","v":""},{"$f":"IF($Z$2=\"pok\",\"\",IF(A175=\"\",\"\",COUNTIFS(SYNTHESE!$D:$D,A175,SYNTHESE!$E:$E,$K$1,SYNTHESE!$F:$F,\">=1\")))","v":""},{"$f":"IF($Z$2=\"pok\",\"\",IF(A175=\"\",\"\",COUNTIFS(SYNTHESE!$D:$D,A175,SYNTHESE!$E:$E,$L$1,SYNTHESE!$F:$F,\">=1\")))","v":""},{"$f":"IF($Z$2=\"pok\",\"\",IF(A175=\"\",\"\",COUNTIFS(SYNTHESE!$D:$D,A175,SYNTHESE!$E:$E,$M$1,SYNTHESE!$F:$F,\">=1\")))","v":""},{"$f":"IF($Z$2=\"pok\",\"\",IF(A175=\"\",\"\",COUNTIFS(SYNTHESE!$D:$D,A175,SYNTHESE!$E:$E,$N$1,SYNTHESE!$F:$F,\">=1\")))","v":""},{"$f":"IF($Z$2=\"pok\",\"\",IF(A175=\"\",\"\",COUNTIFS(SYNTHESE!$D:$D,A175,SYNTHESE!$E:$E,$O$1,SYNTHESE!$F:$F,\">=1\")))","v":""},{"$f":"IF($Z$2=\"pok\",\"\",IF(A175=\"\",\"\",COUNTIFS(SYNTHESE!$D:$D,A175,SYNTHESE!$E:$E,$P$1,SYNTHESE!$F:$F,\">=1\")))","v":""},{"$f":"IF($Z$2=\"pok\",\"\",IF(A175=\"\",\"\",COUNTIFS(SYNTHESE!$D:$D,A175,SYNTHESE!$E:$E,$Q$1,SYNTHESE!$F:$F,\">=1\")))","v":""},{"$f":"IF($Z$2=\"pok\",\"\",IF(A175=\"\",\"\",COUNTIFS(SYNTHESE!$D:$D,A175,SYNTHESE!$E:$E,$R$1,SYNTHESE!$F:$F,\">=1\")))","v":""},{"$f":"IF($Z$2=\"pok\",\"\",IF(A175=\"\",\"\",COUNTIFS(SYNTHESE!$D:$D,A175,SYNTHESE!$E:$E,$S$1,SYNTHESE!$F:$F,\">=1\")))","v":""},{"$f":"IF($Z$2=\"pok\",\"\",IF(A175=\"\",\"\",COUNTIFS(SYNTHESE!$D:$D,A175,SYNTHESE!$E:$E,$T$1,SYNTHESE!$F:$F,\">=1\")))","v":""},{"$f":"IF($Z$2=\"pok\",\"\",IF(A175=\"\",\"\",COUNTIFS(SYNTHESE!$D:$D,A175,SYNTHESE!$E:$E,$U$1,SYNTHESE!$F:$F,\">=1\")))","v":""},{"$f":"IF($Z$2=\"pok\",\"\",IF(A175=\"\",\"\",COUNTIFS(SYNTHESE!$D:$D,A175,SYNTHESE!$E:$E,$V$1,SYNTHESE!$F:$F,\">=1\")))","v":""},{"$f":"IF($Z$2=\"pok\",\"\",IF(A175=\"\",\"\",COUNTIFS(SYNTHESE!$D:$D,A175,SYNTHESE!$E:$E,$W$1,SYNTHESE!$F:$F,\">=1\")))","v":""},{"$f":"IF($Z$2=\"pok\",\"\",IF(A175=\"\",\"\",COUNTIFS(SYNTHESE!$D:$D,A175,SYNTHESE!$E:$E,$X$1,SYNTHESE!$F:$F,\">=1\")))","v":""},{"$f":"IF($Z$2=\"pok\",\"\",IF(A175=\"\",\"\",COUNTIFS(SYNTHESE!$D:$D,A175,SYNTHESE!$E:$E,$Y$1,SYNTHESE!$F:$F,\">=1\")))","v":""},0]
[{"$f":"IF(ETUDIANTS!A176=\"\",\"\",ETUDIANTS!A176)","v":""},{"$f":"IF($Z$2=\"pok\",\"\",IF(A176=\"\",\"\",COUNTIFS(SYNTHESE!$D:$D,A176,SYNTHESE!$E:$E,$B$1,SYNTHESE!$F:$F,\">=1\")))","v":""},{"$f":"IF($Z$2=\"pok\",\"\",IF(A176=\"\",\"\",COUNTIFS(SYNTHESE!$D:$D,A176,SYNTHESE!$E:$E,$C$1,SYNTHESE!$F:$F,\">=1\")))","v":""},{"$f":"IF($Z$2=\"pok\",\"\",IF(A176=\"\",\"\",COUNTIFS(SYNTHESE!$D:$D,A176,SYNTHESE!$E:$E,$D$1,SYNTHESE!$F:$F,\">=1\")))","v":""},{"$f":"IF($Z$2=\"pok\",\"\",IF(A176=\"\",\"\",COUNTIFS(SYNTHESE!$D:$D,A176,SYNTHESE!$E:$E,$E$1,SYNTHESE!$F:$F,\">=1\")))","v":""},{"$f":"IF($Z$2=\"pok\",\"\",IF(A176=\"\",\"\",COUNTIFS(SYNTHESE!$D:$D,A176,SYNTHESE!$E:$E,$F$1,SYNTHESE!$F:$F,\">=1\")))","v":""},{"$f":"IF($Z$2=\"pok\",\"\",IF(A176=\"\",\"\",COUNTIFS(SYNTHESE!$D:$D,A176,SYNTHESE!$E:$E,$G$1,SYNTHESE!$F:$F,\">=1\")))","v":""},{"$f":"IF($Z$2=\"pok\",\"\",IF(A176=\"\",\"\",COUNTIFS(SYNTHESE!$D:$D,A176,SYNTHESE!$E:$E,$H$1,SYNTHESE!$F:$F,\">=1\")))","v":""},{"$f":"IF($Z$2=\"pok\",\"\",IF(A176=\"\",\"\",COUNTIFS(SYNTHESE!$D:$D,A176,SYNTHESE!$E:$E,$I$1,SYNTHESE!$F:$F,\">=1\")))","v":""},{"$f":"IF($Z$2=\"pok\",\"\",IF(A176=\"\",\"\",COUNTIFS(SYNTHESE!$D:$D,A176,SYNTHESE!$E:$E,$J$1,SYNTHESE!$F:$F,\">=1\")))","v":""},{"$f":"IF($Z$2=\"pok\",\"\",IF(A176=\"\",\"\",COUNTIFS(SYNTHESE!$D:$D,A176,SYNTHESE!$E:$E,$K$1,SYNTHESE!$F:$F,\">=1\")))","v":""},{"$f":"IF($Z$2=\"pok\",\"\",IF(A176=\"\",\"\",COUNTIFS(SYNTHESE!$D:$D,A176,SYNTHESE!$E:$E,$L$1,SYNTHESE!$F:$F,\">=1\")))","v":""},{"$f":"IF($Z$2=\"pok\",\"\",IF(A176=\"\",\"\",COUNTIFS(SYNTHESE!$D:$D,A176,SYNTHESE!$E:$E,$M$1,SYNTHESE!$F:$F,\">=1\")))","v":""},{"$f":"IF($Z$2=\"pok\",\"\",IF(A176=\"\",\"\",COUNTIFS(SYNTHESE!$D:$D,A176,SYNTHESE!$E:$E,$N$1,SYNTHESE!$F:$F,\">=1\")))","v":""},{"$f":"IF($Z$2=\"pok\",\"\",IF(A176=\"\",\"\",COUNTIFS(SYNTHESE!$D:$D,A176,SYNTHESE!$E:$E,$O$1,SYNTHESE!$F:$F,\">=1\")))","v":""},{"$f":"IF($Z$2=\"pok\",\"\",IF(A176=\"\",\"\",COUNTIFS(SYNTHESE!$D:$D,A176,SYNTHESE!$E:$E,$P$1,SYNTHESE!$F:$F,\">=1\")))","v":""},{"$f":"IF($Z$2=\"pok\",\"\",IF(A176=\"\",\"\",COUNTIFS(SYNTHESE!$D:$D,A176,SYNTHESE!$E:$E,$Q$1,SYNTHESE!$F:$F,\">=1\")))","v":""},{"$f":"IF($Z$2=\"pok\",\"\",IF(A176=\"\",\"\",COUNTIFS(SYNTHESE!$D:$D,A176,SYNTHESE!$E:$E,$R$1,SYNTHESE!$F:$F,\">=1\")))","v":""},{"$f":"IF($Z$2=\"pok\",\"\",IF(A176=\"\",\"\",COUNTIFS(SYNTHESE!$D:$D,A176,SYNTHESE!$E:$E,$S$1,SYNTHESE!$F:$F,\">=1\")))","v":""},{"$f":"IF($Z$2=\"pok\",\"\",IF(A176=\"\",\"\",COUNTIFS(SYNTHESE!$D:$D,A176,SYNTHESE!$E:$E,$T$1,SYNTHESE!$F:$F,\">=1\")))","v":""},{"$f":"IF($Z$2=\"pok\",\"\",IF(A176=\"\",\"\",COUNTIFS(SYNTHESE!$D:$D,A176,SYNTHESE!$E:$E,$U$1,SYNTHESE!$F:$F,\">=1\")))","v":""},{"$f":"IF($Z$2=\"pok\",\"\",IF(A176=\"\",\"\",COUNTIFS(SYNTHESE!$D:$D,A176,SYNTHESE!$E:$E,$V$1,SYNTHESE!$F:$F,\">=1\")))","v":""},{"$f":"IF($Z$2=\"pok\",\"\",IF(A176=\"\",\"\",COUNTIFS(SYNTHESE!$D:$D,A176,SYNTHESE!$E:$E,$W$1,SYNTHESE!$F:$F,\">=1\")))","v":""},{"$f":"IF($Z$2=\"pok\",\"\",IF(A176=\"\",\"\",COUNTIFS(SYNTHESE!$D:$D,A176,SYNTHESE!$E:$E,$X$1,SYNTHESE!$F:$F,\">=1\")))","v":""},{"$f":"IF($Z$2=\"pok\",\"\",IF(A176=\"\",\"\",COUNTIFS(SYNTHESE!$D:$D,A176,SYNTHESE!$E:$E,$Y$1,SYNTHESE!$F:$F,\">=1\")))","v":""},0]
[{"$f":"IF(ETUDIANTS!A177=\"\",\"\",ETUDIANTS!A177)","v":""},{"$f":"IF($Z$2=\"pok\",\"\",IF(A177=\"\",\"\",COUNTIFS(SYNTHESE!$D:$D,A177,SYNTHESE!$E:$E,$B$1,SYNTHESE!$F:$F,\">=1\")))","v":""},{"$f":"IF($Z$2=\"pok\",\"\",IF(A177=\"\",\"\",COUNTIFS(SYNTHESE!$D:$D,A177,SYNTHESE!$E:$E,$C$1,SYNTHESE!$F:$F,\">=1\")))","v":""},{"$f":"IF($Z$2=\"pok\",\"\",IF(A177=\"\",\"\",COUNTIFS(SYNTHESE!$D:$D,A177,SYNTHESE!$E:$E,$D$1,SYNTHESE!$F:$F,\">=1\")))","v":""},{"$f":"IF($Z$2=\"pok\",\"\",IF(A177=\"\",\"\",COUNTIFS(SYNTHESE!$D:$D,A177,SYNTHESE!$E:$E,$E$1,SYNTHESE!$F:$F,\">=1\")))","v":""},{"$f":"IF($Z$2=\"pok\",\"\",IF(A177=\"\",\"\",COUNTIFS(SYNTHESE!$D:$D,A177,SYNTHESE!$E:$E,$F$1,SYNTHESE!$F:$F,\">=1\")))","v":""},{"$f":"IF($Z$2=\"pok\",\"\",IF(A177=\"\",\"\",COUNTIFS(SYNTHESE!$D:$D,A177,SYNTHESE!$E:$E,$G$1,SYNTHESE!$F:$F,\">=1\")))","v":""},{"$f":"IF($Z$2=\"pok\",\"\",IF(A177=\"\",\"\",COUNTIFS(SYNTHESE!$D:$D,A177,SYNTHESE!$E:$E,$H$1,SYNTHESE!$F:$F,\">=1\")))","v":""},{"$f":"IF($Z$2=\"pok\",\"\",IF(A177=\"\",\"\",COUNTIFS(SYNTHESE!$D:$D,A177,SYNTHESE!$E:$E,$I$1,SYNTHESE!$F:$F,\">=1\")))","v":""},{"$f":"IF($Z$2=\"pok\",\"\",IF(A177=\"\",\"\",COUNTIFS(SYNTHESE!$D:$D,A177,SYNTHESE!$E:$E,$J$1,SYNTHESE!$F:$F,\">=1\")))","v":""},{"$f":"IF($Z$2=\"pok\",\"\",IF(A177=\"\",\"\",COUNTIFS(SYNTHESE!$D:$D,A177,SYNTHESE!$E:$E,$K$1,SYNTHESE!$F:$F,\">=1\")))","v":""},{"$f":"IF($Z$2=\"pok\",\"\",IF(A177=\"\",\"\",COUNTIFS(SYNTHESE!$D:$D,A177,SYNTHESE!$E:$E,$L$1,SYNTHESE!$F:$F,\">=1\")))","v":""},{"$f":"IF($Z$2=\"pok\",\"\",IF(A177=\"\",\"\",COUNTIFS(SYNTHESE!$D:$D,A177,SYNTHESE!$E:$E,$M$1,SYNTHESE!$F:$F,\">=1\")))","v":""},{"$f":"IF($Z$2=\"pok\",\"\",IF(A177=\"\",\"\",COUNTIFS(SYNTHESE!$D:$D,A177,SYNTHESE!$E:$E,$N$1,SYNTHESE!$F:$F,\">=1\")))","v":""},{"$f":"IF($Z$2=\"pok\",\"\",IF(A177=\"\",\"\",COUNTIFS(SYNTHESE!$D:$D,A177,SYNTHESE!$E:$E,$O$1,SYNTHESE!$F:$F,\">=1\")))","v":""},{"$f":"IF($Z$2=\"pok\",\"\",IF(A177=\"\",\"\",COUNTIFS(SYNTHESE!$D:$D,A177,SYNTHESE!$E:$E,$P$1,SYNTHESE!$F:$F,\">=1\")))","v":""},{"$f":"IF($Z$2=\"pok\",\"\",IF(A177=\"\",\"\",COUNTIFS(SYNTHESE!$D:$D,A177,SYNTHESE!$E:$E,$Q$1,SYNTHESE!$F:$F,\">=1\")))","v":""},{"$f":"IF($Z$2=\"pok\",\"\",IF(A177=\"\",\"\",COUNTIFS(SYNTHESE!$D:$D,A177,SYNTHESE!$E:$E,$R$1,SYNTHESE!$F:$F,\">=1\")))","v":""},{"$f":"IF($Z$2=\"pok\",\"\",IF(A177=\"\",\"\",COUNTIFS(SYNTHESE!$D:$D,A177,SYNTHESE!$E:$E,$S$1,SYNTHESE!$F:$F,\">=1\")))","v":""},{"$f":"IF($Z$2=\"pok\",\"\",IF(A177=\"\",\"\",COUNTIFS(SYNTHESE!$D:$D,A177,SYNTHESE!$E:$E,$T$1,SYNTHESE!$F:$F,\">=1\")))","v":""},{"$f":"IF($Z$2=\"pok\",\"\",IF(A177=\"\",\"\",COUNTIFS(SYNTHESE!$D:$D,A177,SYNTHESE!$E:$E,$U$1,SYNTHESE!$F:$F,\">=1\")))","v":""},{"$f":"IF($Z$2=\"pok\",\"\",IF(A177=\"\",\"\",COUNTIFS(SYNTHESE!$D:$D,A177,SYNTHESE!$E:$E,$V$1,SYNTHESE!$F:$F,\">=1\")))","v":""},{"$f":"IF($Z$2=\"pok\",\"\",IF(A177=\"\",\"\",COUNTIFS(SYNTHESE!$D:$D,A177,SYNTHESE!$E:$E,$W$1,SYNTHESE!$F:$F,\">=1\")))","v":""},{"$f":"IF($Z$2=\"pok\",\"\",IF(A177=\"\",\"\",COUNTIFS(SYNTHESE!$D:$D,A177,SYNTHESE!$E:$E,$X$1,SYNTHESE!$F:$F,\">=1\")))","v":""},{"$f":"IF($Z$2=\"pok\",\"\",IF(A177=\"\",\"\",COUNTIFS(SYNTHESE!$D:$D,A177,SYNTHESE!$E:$E,$Y$1,SYNTHESE!$F:$F,\">=1\")))","v":""},0]
[{"$f":"IF(ETUDIANTS!A178=\"\",\"\",ETUDIANTS!A178)","v":""},{"$f":"IF($Z$2=\"pok\",\"\",IF(A178=\"\",\"\",COUNTIFS(SYNTHESE!$D:$D,A178,SYNTHESE!$E:$E,$B$1,SYNTHESE!$F:$F,\">=1\")))","v":""},{"$f":"IF($Z$2=\"pok\",\"\",IF(A178=\"\",\"\",COUNTIFS(SYNTHESE!$D:$D,A178,SYNTHESE!$E:$E,$C$1,SYNTHESE!$F:$F,\">=1\")))","v":""},{"$f":"IF($Z$2=\"pok\",\"\",IF(A178=\"\",\"\",COUNTIFS(SYNTHESE!$D:$D,A178,SYNTHESE!$E:$E,$D$1,SYNTHESE!$F:$F,\">=1\")))","v":""},{"$f":"IF($Z$2=\"pok\",\"\",IF(A178=\"\",\"\",COUNTIFS(SYNTHESE!$D:$D,A178,SYNTHESE!$E:$E,$E$1,SYNTHESE!$F:$F,\">=1\")))","v":""},{"$f":"IF($Z$2=\"pok\",\"\",IF(A178=\"\",\"\",COUNTIFS(SYNTHESE!$D:$D,A178,SYNTHESE!$E:$E,$F$1,SYNTHESE!$F:$F,\">=1\")))","v":""},{"$f":"IF($Z$2=\"pok\",\"\",IF(A178=\"\",\"\",COUNTIFS(SYNTHESE!$D:$D,A178,SYNTHESE!$E:$E,$G$1,SYNTHESE!$F:$F,\">=1\")))","v":""},{"$f":"IF($Z$2=\"pok\",\"\",IF(A178=\"\",\"\",COUNTIFS(SYNTHESE!$D:$D,A178,SYNTHESE!$E:$E,$H$1,SYNTHESE!$F:$F,\">=1\")))","v":""},{"$f":"IF($Z$2=\"pok\",\"\",IF(A178=\"\",\"\",COUNTIFS(SYNTHESE!$D:$D,A178,SYNTHESE!$E:$E,$I$1,SYNTHESE!$F:$F,\">=1\")))","v":""},{"$f":"IF($Z$2=\"pok\",\"\",IF(A178=\"\",\"\",COUNTIFS(SYNTHESE!$D:$D,A178,SYNTHESE!$E:$E,$J$1,SYNTHESE!$F:$F,\">=1\")))","v":""},{"$f":"IF($Z$2=\"pok\",\"\",IF(A178=\"\",\"\",COUNTIFS(SYNTHESE!$D:$D,A178,SYNTHESE!$E:$E,$K$1,SYNTHESE!$F:$F,\">=1\")))","v":""},{"$f":"IF($Z$2=\"pok\",\"\",IF(A178=\"\",\"\",COUNTIFS(SYNTHESE!$D:$D,A178,SYNTHESE!$E:$E,$L$1,SYNTHESE!$F:$F,\">=1\")))","v":""},{"$f":"IF($Z$2=\"pok\",\"\",IF(A178=\"\",\"\",COUNTIFS(SYNTHESE!$D:$D,A178,SYNTHESE!$E:$E,$M$1,SYNTHESE!$F:$F,\">=1\")))","v":""},{"$f":"IF($Z$2=\"pok\",\"\",IF(A178=\"\",\"\",COUNTIFS(SYNTHESE!$D:$D,A178,SYNTHESE!$E:$E,$N$1,SYNTHESE!$F:$F,\">=1\")))","v":""},{"$f":"IF($Z$2=\"pok\",\"\",IF(A178=\"\",\"\",COUNTIFS(SYNTHESE!$D:$D,A178,SYNTHESE!$E:$E,$O$1,SYNTHESE!$F:$F,\">=1\")))","v":""},{"$f":"IF($Z$2=\"pok\",\"\",IF(A178=\"\",\"\",COUNTIFS(SYNTHESE!$D:$D,A178,SYNTHESE!$E:$E,$P$1,SYNTHESE!$F:$F,\">=1\")))","v":""},{"$f":"IF($Z$2=\"pok\",\"\",IF(A178=\"\",\"\",COUNTIFS(SYNTHESE!$D:$D,A178,SYNTHESE!$E:$E,$Q$1,SYNTHESE!$F:$F,\">=1\")))","v":""},{"$f":"IF($Z$2=\"pok\",\"\",IF(A178=\"\",\"\",COUNTIFS(SYNTHESE!$D:$D,A178,SYNTHESE!$E:$E,$R$1,SYNTHESE!$F:$F,\">=1\")))","v":""},{"$f":"IF($Z$2=\"pok\",\"\",IF(A178=\"\",\"\",COUNTIFS(SYNTHESE!$D:$D,A178,SYNTHESE!$E:$E,$S$1,SYNTHESE!$F:$F,\">=1\")))","v":""},{"$f":"IF($Z$2=\"pok\",\"\",IF(A178=\"\",\"\",COUNTIFS(SYNTHESE!$D:$D,A178,SYNTHESE!$E:$E,$T$1,SYNTHESE!$F:$F,\">=1\")))","v":""},{"$f":"IF($Z$2=\"pok\",\"\",IF(A178=\"\",\"\",COUNTIFS(SYNTHESE!$D:$D,A178,SYNTHESE!$E:$E,$U$1,SYNTHESE!$F:$F,\">=1\")))","v":""},{"$f":"IF($Z$2=\"pok\",\"\",IF(A178=\"\",\"\",COUNTIFS(SYNTHESE!$D:$D,A178,SYNTHESE!$E:$E,$V$1,SYNTHESE!$F:$F,\">=1\")))","v":""},{"$f":"IF($Z$2=\"pok\",\"\",IF(A178=\"\",\"\",COUNTIFS(SYNTHESE!$D:$D,A178,SYNTHESE!$E:$E,$W$1,SYNTHESE!$F:$F,\">=1\")))","v":""},{"$f":"IF($Z$2=\"pok\",\"\",IF(A178=\"\",\"\",COUNTIFS(SYNTHESE!$D:$D,A178,SYNTHESE!$E:$E,$X$1,SYNTHESE!$F:$F,\">=1\")))","v":""},{"$f":"IF($Z$2=\"pok\",\"\",IF(A178=\"\",\"\",COUNTIFS(SYNTHESE!$D:$D,A178,SYNTHESE!$E:$E,$Y$1,SYNTHESE!$F:$F,\">=1\")))","v":""},0]
[{"$f":"IF(ETUDIANTS!A179=\"\",\"\",ETUDIANTS!A179)","v":""},{"$f":"IF($Z$2=\"pok\",\"\",IF(A179=\"\",\"\",COUNTIFS(SYNTHESE!$D:$D,A179,SYNTHESE!$E:$E,$B$1,SYNTHESE!$F:$F,\">=1\")))","v":""},{"$f":"IF($Z$2=\"pok\",\"\",IF(A179=\"\",\"\",COUNTIFS(SYNTHESE!$D:$D,A179,SYNTHESE!$E:$E,$C$1,SYNTHESE!$F:$F,\">=1\")))","v":""},{"$f":"IF($Z$2=\"pok\",\"\",IF(A179=\"\",\"\",COUNTIFS(SYNTHESE!$D:$D,A179,SYNTHESE!$E:$E,$D$1,SYNTHESE!$F:$F,\">=1\")))","v":""},{"$f":"IF($Z$2=\"pok\",\"\",IF(A179=\"\",\"\",COUNTIFS(SYNTHESE!$D:$D,A179,SYNTHESE!$E:$E,$E$1,SYNTHESE!$F:$F,\">=1\")))","v":""},{"$f":"IF($Z$2=\"pok\",\"\",IF(A179=\"\",\"\",COUNTIFS(SYNTHESE!$D:$D,A179,SYNTHESE!$E:$E,$F$1,SYNTHESE!$F:$F,\">=1\")))","v":""},{"$f":"IF($Z$2=\"pok\",\"\",IF(A179=\"\",\"\",COUNTIFS(SYNTHESE!$D:$D,A179,SYNTHESE!$E:$E,$G$1,SYNTHESE!$F:$F,\">=1\")))","v":""},{"$f":"IF($Z$2=\"pok\",\"\",IF(A179=\"\",\"\",COUNTIFS(SYNTHESE!$D:$D,A179,SYNTHESE!$E:$E,$H$1,SYNTHESE!$F:$F,\">=1\")))","v":""},{"$f":"IF($Z$2=\"pok\",\"\",IF(A179=\"\",\"\",COUNTIFS(SYNTHESE!$D:$D,A179,SYNTHESE!$E:$E,$I$1,SYNTHESE!$F:$F,\">=1\")))","v":""},{"$f":"IF($Z$2=\"pok\",\"\",IF(A179=\"\",\"\",COUNTIFS(SYNTHESE!$D:$D,A179,SYNTHESE!$E:$E,$J$1,SYNTHESE!$F:$F,\">=1\")))","v":""},{"$f":"IF($Z$2=\"pok\",\"\",IF(A179=\"\",\"\",COUNTIFS(SYNTHESE!$D:$D,A179,SYNTHESE!$E:$E,$K$1,SYNTHESE!$F:$F,\">=1\")))","v":""},{"$f":"IF($Z$2=\"pok\",\"\",IF(A179=\"\",\"\",COUNTIFS(SYNTHESE!$D:$D,A179,SYNTHESE!$E:$E,$L$1,SYNTHESE!$F:$F,\">=1\")))","v":""},{"$f":"IF($Z$2=\"pok\",\"\",IF(A179=\"\",\"\",COUNTIFS(SYNTHESE!$D:$D,A179,SYNTHESE!$E:$E,$M$1,SYNTHESE!$F:$F,\">=1\")))","v":""},{"$f":"IF($Z$2=\"pok\",\"\",IF(A179=\"\",\"\",COUNTIFS(SYNTHESE!$D:$D,A179,SYNTHESE!$E:$E,$N$1,SYNTHESE!$F:$F,\">=1\")))","v":""},{"$f":"IF($Z$2=\"pok\",\"\",IF(A179=\"\",\"\",COUNTIFS(SYNTHESE!$D:$D,A179,SYNTHESE!$E:$E,$O$1,SYNTHESE!$F:$F,\">=1\")))","v":""},{"$f":"IF($Z$2=\"pok\",\"\",IF(A179=\"\",\"\",COUNTIFS(SYNTHESE!$D:$D,A179,SYNTHESE!$E:$E,$P$1,SYNTHESE!$F:$F,\">=1\")))","v":""},{"$f":"IF($Z$2=\"pok\",\"\",IF(A179=\"\",\"\",COUNTIFS(SYNTHESE!$D:$D,A179,SYNTHESE!$E:$E,$Q$1,SYNTHESE!$F:$F,\">=1\")))","v":""},{"$f":"IF($Z$2=\"pok\",\"\",IF(A179=\"\",\"\",COUNTIFS(SYNTHESE!$D:$D,A179,SYNTHESE!$E:$E,$R$1,SYNTHESE!$F:$F,\">=1\")))","v":""},{"$f":"IF($Z$2=\"pok\",\"\",IF(A179=\"\",\"\",COUNTIFS(SYNTHESE!$D:$D,A179,SYNTHESE!$E:$E,$S$1,SYNTHESE!$F:$F,\">=1\")))","v":""},{"$f":"IF($Z$2=\"pok\",\"\",IF(A179=\"\",\"\",COUNTIFS(SYNTHESE!$D:$D,A179,SYNTHESE!$E:$E,$T$1,SYNTHESE!$F:$F,\">=1\")))","v":""},{"$f":"IF($Z$2=\"pok\",\"\",IF(A179=\"\",\"\",COUNTIFS(SYNTHESE!$D:$D,A179,SYNTHESE!$E:$E,$U$1,SYNTHESE!$F:$F,\">=1\")))","v":""},{"$f":"IF($Z$2=\"pok\",\"\",IF(A179=\"\",\"\",COUNTIFS(SYNTHESE!$D:$D,A179,SYNTHESE!$E:$E,$V$1,SYNTHESE!$F:$F,\">=1\")))","v":""},{"$f":"IF($Z$2=\"pok\",\"\",IF(A179=\"\",\"\",COUNTIFS(SYNTHESE!$D:$D,A179,SYNTHESE!$E:$E,$W$1,SYNTHESE!$F:$F,\">=1\")))","v":""},{"$f":"IF($Z$2=\"pok\",\"\",IF(A179=\"\",\"\",COUNTIFS(SYNTHESE!$D:$D,A179,SYNTHESE!$E:$E,$X$1,SYNTHESE!$F:$F,\">=1\")))","v":""},{"$f":"IF($Z$2=\"pok\",\"\",IF(A179=\"\",\"\",COUNTIFS(SYNTHESE!$D:$D,A179,SYNTHESE!$E:$E,$Y$1,SYNTHESE!$F:$F,\">=1\")))","v":""},0]
[{"$f":"IF(ETUDIANTS!A180=\"\",\"\",ETUDIANTS!A180)","v":""},{"$f":"IF($Z$2=\"pok\",\"\",IF(A180=\"\",\"\",COUNTIFS(SYNTHESE!$D:$D,A180,SYNTHESE!$E:$E,$B$1,SYNTHESE!$F:$F,\">=1\")))","v":""},{"$f":"IF($Z$2=\"pok\",\"\",IF(A180=\"\",\"\",COUNTIFS(SYNTHESE!$D:$D,A180,SYNTHESE!$E:$E,$C$1,SYNTHESE!$F:$F,\">=1\")))","v":""},{"$f":"IF($Z$2=\"pok\",\"\",IF(A180=\"\",\"\",COUNTIFS(SYNTHESE!$D:$D,A180,SYNTHESE!$E:$E,$D$1,SYNTHESE!$F:$F,\">=1\")))","v":""},{"$f":"IF($Z$2=\"pok\",\"\",IF(A180=\"\",\"\",COUNTIFS(SYNTHESE!$D:$D,A180,SYNTHESE!$E:$E,$E$1,SYNTHESE!$F:$F,\">=1\")))","v":""},{"$f":"IF($Z$2=\"pok\",\"\",IF(A180=\"\",\"\",COUNTIFS(SYNTHESE!$D:$D,A180,SYNTHESE!$E:$E,$F$1,SYNTHESE!$F:$F,\">=1\")))","v":""},{"$f":"IF($Z$2=\"pok\",\"\",IF(A180=\"\",\"\",COUNTIFS(SYNTHESE!$D:$D,A180,SYNTHESE!$E:$E,$G$1,SYNTHESE!$F:$F,\">=1\")))","v":""},{"$f":"IF($Z$2=\"pok\",\"\",IF(A180=\"\",\"\",COUNTIFS(SYNTHESE!$D:$D,A180,SYNTHESE!$E:$E,$H$1,SYNTHESE!$F:$F,\">=1\")))","v":""},{"$f":"IF($Z$2=\"pok\",\"\",IF(A180=\"\",\"\",COUNTIFS(SYNTHESE!$D:$D,A180,SYNTHESE!$E:$E,$I$1,SYNTHESE!$F:$F,\">=1\")))","v":""},{"$f":"IF($Z$2=\"pok\",\"\",IF(A180=\"\",\"\",COUNTIFS(SYNTHESE!$D:$D,A180,SYNTHESE!$E:$E,$J$1,SYNTHESE!$F:$F,\">=1\")))","v":""},{"$f":"IF($Z$2=\"pok\",\"\",IF(A180=\"\",\"\",COUNTIFS(SYNTHESE!$D:$D,A180,SYNTHESE!$E:$E,$K$1,SYNTHESE!$F:$F,\">=1\")))","v":""},{"$f":"IF($Z$2=\"pok\",\"\",IF(A180=\"\",\"\",COUNTIFS(SYNTHESE!$D:$D,A180,SYNTHESE!$E:$E,$L$1,SYNTHESE!$F:$F,\">=1\")))","v":""},{"$f":"IF($Z$2=\"pok\",\"\",IF(A180=\"\",\"\",COUNTIFS(SYNTHESE!$D:$D,A180,SYNTHESE!$E:$E,$M$1,SYNTHESE!$F:$F,\">=1\")))","v":""},{"$f":"IF($Z$2=\"pok\",\"\",IF(A180=\"\",\"\",COUNTIFS(SYNTHESE!$D:$D,A180,SYNTHESE!$E:$E,$N$1,SYNTHESE!$F:$F,\">=1\")))","v":""},{"$f":"IF($Z$2=\"pok\",\"\",IF(A180=\"\",\"\",COUNTIFS(SYNTHESE!$D:$D,A180,SYNTHESE!$E:$E,$O$1,SYNTHESE!$F:$F,\">=1\")))","v":""},{"$f":"IF($Z$2=\"pok\",\"\",IF(A180=\"\",\"\",COUNTIFS(SYNTHESE!$D:$D,A180,SYNTHESE!$E:$E,$P$1,SYNTHESE!$F:$F,\">=1\")))","v":""},{"$f":"IF($Z$2=\"pok\",\"\",IF(A180=\"\",\"\",COUNTIFS(SYNTHESE!$D:$D,A180,SYNTHESE!$E:$E,$Q$1,SYNTHESE!$F:$F,\">=1\")))","v":""},{"$f":"IF($Z$2=\"pok\",\"\",IF(A180=\"\",\"\",COUNTIFS(SYNTHESE!$D:$D,A180,SYNTHESE!$E:$E,$R$1,SYNTHESE!$F:$F,\">=1\")))","v":""},{"$f":"IF($Z$2=\"pok\",\"\",IF(A180=\"\",\"\",COUNTIFS(SYNTHESE!$D:$D,A180,SYNTHESE!$E:$E,$S$1,SYNTHESE!$F:$F,\">=1\")))","v":""},{"$f":"IF($Z$2=\"pok\",\"\",IF(A180=\"\",\"\",COUNTIFS(SYNTHESE!$D:$D,A180,SYNTHESE!$E:$E,$T$1,SYNTHESE!$F:$F,\">=1\")))","v":""},{"$f":"IF($Z$2=\"pok\",\"\",IF(A180=\"\",\"\",COUNTIFS(SYNTHESE!$D:$D,A180,SYNTHESE!$E:$E,$U$1,SYNTHESE!$F:$F,\">=1\")))","v":""},{"$f":"IF($Z$2=\"pok\",\"\",IF(A180=\"\",\"\",COUNTIFS(SYNTHESE!$D:$D,A180,SYNTHESE!$E:$E,$V$1,SYNTHESE!$F:$F,\">=1\")))","v":""},{"$f":"IF($Z$2=\"pok\",\"\",IF(A180=\"\",\"\",COUNTIFS(SYNTHESE!$D:$D,A180,SYNTHESE!$E:$E,$W$1,SYNTHESE!$F:$F,\">=1\")))","v":""},{"$f":"IF($Z$2=\"pok\",\"\",IF(A180=\"\",\"\",COUNTIFS(SYNTHESE!$D:$D,A180,SYNTHESE!$E:$E,$X$1,SYNTHESE!$F:$F,\">=1\")))","v":""},{"$f":"IF($Z$2=\"pok\",\"\",IF(A180=\"\",\"\",COUNTIFS(SYNTHESE!$D:$D,A180,SYNTHESE!$E:$E,$Y$1,SYNTHESE!$F:$F,\">=1\")))","v":""},0]
[{"$f":"IF(ETUDIANTS!A181=\"\",\"\",ETUDIANTS!A181)","v":""},{"$f":"IF($Z$2=\"pok\",\"\",IF(A181=\"\",\"\",COUNTIFS(SYNTHESE!$D:$D,A181,SYNTHESE!$E:$E,$B$1,SYNTHESE!$F:$F,\">=1\")))","v":""},{"$f":"IF($Z$2=\"pok\",\"\",IF(A181=\"\",\"\",COUNTIFS(SYNTHESE!$D:$D,A181,SYNTHESE!$E:$E,$C$1,SYNTHESE!$F:$F,\">=1\")))","v":""},{"$f":"IF($Z$2=\"pok\",\"\",IF(A181=\"\",\"\",COUNTIFS(SYNTHESE!$D:$D,A181,SYNTHESE!$E:$E,$D$1,SYNTHESE!$F:$F,\">=1\")))","v":""},{"$f":"IF($Z$2=\"pok\",\"\",IF(A181=\"\",\"\",COUNTIFS(SYNTHESE!$D:$D,A181,SYNTHESE!$E:$E,$E$1,SYNTHESE!$F:$F,\">=1\")))","v":""},{"$f":"IF($Z$2=\"pok\",\"\",IF(A181=\"\",\"\",COUNTIFS(SYNTHESE!$D:$D,A181,SYNTHESE!$E:$E,$F$1,SYNTHESE!$F:$F,\">=1\")))","v":""},{"$f":"IF($Z$2=\"pok\",\"\",IF(A181=\"\",\"\",COUNTIFS(SYNTHESE!$D:$D,A181,SYNTHESE!$E:$E,$G$1,SYNTHESE!$F:$F,\">=1\")))","v":""},{"$f":"IF($Z$2=\"pok\",\"\",IF(A181=\"\",\"\",COUNTIFS(SYNTHESE!$D:$D,A181,SYNTHESE!$E:$E,$H$1,SYNTHESE!$F:$F,\">=1\")))","v":""},{"$f":"IF($Z$2=\"pok\",\"\",IF(A181=\"\",\"\",COUNTIFS(SYNTHESE!$D:$D,A181,SYNTHESE!$E:$E,$I$1,SYNTHESE!$F:$F,\">=1\")))","v":""},{"$f":"IF($Z$2=\"pok\",\"\",IF(A181=\"\",\"\",COUNTIFS(SYNTHESE!$D:$D,A181,SYNTHESE!$E:$E,$J$1,SYNTHESE!$F:$F,\">=1\")))","v":""},{"$f":"IF($Z$2=\"pok\",\"\",IF(A181=\"\",\"\",COUNTIFS(SYNTHESE!$D:$D,A181,SYNTHESE!$E:$E,$K$1,SYNTHESE!$F:$F,\">=1\")))","v":""},{"$f":"IF($Z$2=\"pok\",\"\",IF(A181=\"\",\"\",COUNTIFS(SYNTHESE!$D:$D,A181,SYNTHESE!$E:$E,$L$1,SYNTHESE!$F:$F,\">=1\")))","v":""},{"$f":"IF($Z$2=\"pok\",\"\",IF(A181=\"\",\"\",COUNTIFS(SYNTHESE!$D:$D,A181,SYNTHESE!$E:$E,$M$1,SYNTHESE!$F:$F,\">=1\")))","v":""},{"$f":"IF($Z$2=\"pok\",\"\",IF(A181=\"\",\"\",COUNTIFS(SYNTHESE!$D:$D,A181,SYNTHESE!$E:$E,$N$1,SYNTHESE!$F:$F,\">=1\")))","v":""},{"$f":"IF($Z$2=\"pok\",\"\",IF(A181=\"\",\"\",COUNTIFS(SYNTHESE!$D:$D,A181,SYNTHESE!$E:$E,$O$1,SYNTHESE!$F:$F,\">=1\")))","v":""},{"$f":"IF($Z$2=\"pok\",\"\",IF(A181=\"\",\"\",COUNTIFS(SYNTHESE!$D:$D,A181,SYNTHESE!$E:$E,$P$1,SYNTHESE!$F:$F,\">=1\")))","v":""},{"$f":"IF($Z$2=\"pok\",\"\",IF(A181=\"\",\"\",COUNTIFS(SYNTHESE!$D:$D,A181,SYNTHESE!$E:$E,$Q$1,SYNTHESE!$F:$F,\">=1\")))","v":""},{"$f":"IF($Z$2=\"pok\",\"\",IF(A181=\"\",\"\",COUNTIFS(SYNTHESE!$D:$D,A181,SYNTHESE!$E:$E,$R$1,SYNTHESE!$F:$F,\">=1\")))","v":""},{"$f":"IF($Z$2=\"pok\",\"\",IF(A181=\"\",\"\",COUNTIFS(SYNTHESE!$D:$D,A181,SYNTHESE!$E:$E,$S$1,SYNTHESE!$F:$F,\">=1\")))","v":""},{"$f":"IF($Z$2=\"pok\",\"\",IF(A181=\"\",\"\",COUNTIFS(SYNTHESE!$D:$D,A181,SYNTHESE!$E:$E,$T$1,SYNTHESE!$F:$F,\">=1\")))","v":""},{"$f":"IF($Z$2=\"pok\",\"\",IF(A181=\"\",\"\",COUNTIFS(SYNTHESE!$D:$D,A181,SYNTHESE!$E:$E,$U$1,SYNTHESE!$F:$F,\">=1\")))","v":""},{"$f":"IF($Z$2=\"pok\",\"\",IF(A181=\"\",\"\",COUNTIFS(SYNTHESE!$D:$D,A181,SYNTHESE!$E:$E,$V$1,SYNTHESE!$F:$F,\">=1\")))","v":""},{"$f":"IF($Z$2=\"pok\",\"\",IF(A181=\"\",\"\",COUNTIFS(SYNTHESE!$D:$D,A181,SYNTHESE!$E:$E,$W$1,SYNTHESE!$F:$F,\">=1\")))","v":""},{"$f":"IF($Z$2=\"pok\",\"\",IF(A181=\"\",\"\",COUNTIFS(SYNTHESE!$D:$D,A181,SYNTHESE!$E:$E,$X$1,SYNTHESE!$F:$F,\">=1\")))","v":""},{"$f":"IF($Z$2=\"pok\",\"\",IF(A181=\"\",\"\",COUNTIFS(SYNTHESE!$D:$D,A181,SYNTHESE!$E:$E,$Y$1,SYNTHESE!$F:$F,\">=1\")))","v":""},0]
[{"$f":"IF(ETUDIANTS!A182=\"\",\"\",ETUDIANTS!A182)","v":""},{"$f":"IF($Z$2=\"pok\",\"\",IF(A182=\"\",\"\",COUNTIFS(SYNTHESE!$D:$D,A182,SYNTHESE!$E:$E,$B$1,SYNTHESE!$F:$F,\">=1\")))","v":""},{"$f":"IF($Z$2=\"pok\",\"\",IF(A182=\"\",\"\",COUNTIFS(SYNTHESE!$D:$D,A182,SYNTHESE!$E:$E,$C$1,SYNTHESE!$F:$F,\">=1\")))","v":""},{"$f":"IF($Z$2=\"pok\",\"\",IF(A182=\"\",\"\",COUNTIFS(SYNTHESE!$D:$D,A182,SYNTHESE!$E:$E,$D$1,SYNTHESE!$F:$F,\">=1\")))","v":""},{"$f":"IF($Z$2=\"pok\",\"\",IF(A182=\"\",\"\",COUNTIFS(SYNTHESE!$D:$D,A182,SYNTHESE!$E:$E,$E$1,SYNTHESE!$F:$F,\">=1\")))","v":""},{"$f":"IF($Z$2=\"pok\",\"\",IF(A182=\"\",\"\",COUNTIFS(SYNTHESE!$D:$D,A182,SYNTHESE!$E:$E,$F$1,SYNTHESE!$F:$F,\">=1\")))","v":""},{"$f":"IF($Z$2=\"pok\",\"\",IF(A182=\"\",\"\",COUNTIFS(SYNTHESE!$D:$D,A182,SYNTHESE!$E:$E,$G$1,SYNTHESE!$F:$F,\">=1\")))","v":""},{"$f":"IF($Z$2=\"pok\",\"\",IF(A182=\"\",\"\",COUNTIFS(SYNTHESE!$D:$D,A182,SYNTHESE!$E:$E,$H$1,SYNTHESE!$F:$F,\">=1\")))","v":""},{"$f":"IF($Z$2=\"pok\",\"\",IF(A182=\"\",\"\",COUNTIFS(SYNTHESE!$D:$D,A182,SYNTHESE!$E:$E,$I$1,SYNTHESE!$F:$F,\">=1\")))","v":""},{"$f":"IF($Z$2=\"pok\",\"\",IF(A182=\"\",\"\",COUNTIFS(SYNTHESE!$D:$D,A182,SYNTHESE!$E:$E,$J$1,SYNTHESE!$F:$F,\">=1\")))","v":""},{"$f":"IF($Z$2=\"pok\",\"\",IF(A182=\"\",\"\",COUNTIFS(SYNTHESE!$D:$D,A182,SYNTHESE!$E:$E,$K$1,SYNTHESE!$F:$F,\">=1\")))","v":""},{"$f":"IF($Z$2=\"pok\",\"\",IF(A182=\"\",\"\",COUNTIFS(SYNTHESE!$D:$D,A182,SYNTHESE!$E:$E,$L$1,SYNTHESE!$F:$F,\">=1\")))","v":""},{"$f":"IF($Z$2=\"pok\",\"\",IF(A182=\"\",\"\",COUNTIFS(SYNTHESE!$D:$D,A182,SYNTHESE!$E:$E,$M$1,SYNTHESE!$F:$F,\">=1\")))","v":""},{"$f":"IF($Z$2=\"pok\",\"\",IF(A182=\"\",\"\",COUNTIFS(SYNTHESE!$D:$D,A182,SYNTHESE!$E:$E,$N$1,SYNTHESE!$F:$F,\">=1\")))","v":""},{"$f":"IF($Z$2=\"pok\",\"\",IF(A182=\"\",\"\",COUNTIFS(SYNTHESE!$D:$D,A182,SYNTHESE!$E:$E,$O$1,SYNTHESE!$F:$F,\">=1\")))","v":""},{"$f":"IF($Z$2=\"pok\",\"\",IF(A182=\"\",\"\",COUNTIFS(SYNTHESE!$D:$D,A182,SYNTHESE!$E:$E,$P$1,SYNTHESE!$F:$F,\">=1\")))","v":""},{"$f":"IF($Z$2=\"pok\",\"\",IF(A182=\"\",\"\",COUNTIFS(SYNTHESE!$D:$D,A182,SYNTHESE!$E:$E,$Q$1,SYNTHESE!$F:$F,\">=1\")))","v":""},{"$f":"IF($Z$2=\"pok\",\"\",IF(A182=\"\",\"\",COUNTIFS(SYNTHESE!$D:$D,A182,SYNTHESE!$E:$E,$R$1,SYNTHESE!$F:$F,\">=1\")))","v":""},{"$f":"IF($Z$2=\"pok\",\"\",IF(A182=\"\",\"\",COUNTIFS(SYNTHESE!$D:$D,A182,SYNTHESE!$E:$E,$S$1,SYNTHESE!$F:$F,\">=1\")))","v":""},{"$f":"IF($Z$2=\"pok\",\"\",IF(A182=\"\",\"\",COUNTIFS(SYNTHESE!$D:$D,A182,SYNTHESE!$E:$E,$T$1,SYNTHESE!$F:$F,\">=1\")))","v":""},{"$f":"IF($Z$2=\"pok\",\"\",IF(A182=\"\",\"\",COUNTIFS(SYNTHESE!$D:$D,A182,SYNTHESE!$E:$E,$U$1,SYNTHESE!$F:$F,\">=1\")))","v":""},{"$f":"IF($Z$2=\"pok\",\"\",IF(A182=\"\",\"\",COUNTIFS(SYNTHESE!$D:$D,A182,SYNTHESE!$E:$E,$V$1,SYNTHESE!$F:$F,\">=1\")))","v":""},{"$f":"IF($Z$2=\"pok\",\"\",IF(A182=\"\",\"\",COUNTIFS(SYNTHESE!$D:$D,A182,SYNTHESE!$E:$E,$W$1,SYNTHESE!$F:$F,\">=1\")))","v":""},{"$f":"IF($Z$2=\"pok\",\"\",IF(A182=\"\",\"\",COUNTIFS(SYNTHESE!$D:$D,A182,SYNTHESE!$E:$E,$X$1,SYNTHESE!$F:$F,\">=1\")))","v":""},{"$f":"IF($Z$2=\"pok\",\"\",IF(A182=\"\",\"\",COUNTIFS(SYNTHESE!$D:$D,A182,SYNTHESE!$E:$E,$Y$1,SYNTHESE!$F:$F,\">=1\")))","v":""},0]
[{"$f":"IF(ETUDIANTS!A183=\"\",\"\",ETUDIANTS!A183)","v":""},{"$f":"IF($Z$2=\"pok\",\"\",IF(A183=\"\",\"\",COUNTIFS(SYNTHESE!$D:$D,A183,SYNTHESE!$E:$E,$B$1,SYNTHESE!$F:$F,\">=1\")))","v":""},{"$f":"IF($Z$2=\"pok\",\"\",IF(A183=\"\",\"\",COUNTIFS(SYNTHESE!$D:$D,A183,SYNTHESE!$E:$E,$C$1,SYNTHESE!$F:$F,\">=1\")))","v":""},{"$f":"IF($Z$2=\"pok\",\"\",IF(A183=\"\",\"\",COUNTIFS(SYNTHESE!$D:$D,A183,SYNTHESE!$E:$E,$D$1,SYNTHESE!$F:$F,\">=1\")))","v":""},{"$f":"IF($Z$2=\"pok\",\"\",IF(A183=\"\",\"\",COUNTIFS(SYNTHESE!$D:$D,A183,SYNTHESE!$E:$E,$E$1,SYNTHESE!$F:$F,\">=1\")))","v":""},{"$f":"IF($Z$2=\"pok\",\"\",IF(A183=\"\",\"\",COUNTIFS(SYNTHESE!$D:$D,A183,SYNTHESE!$E:$E,$F$1,SYNTHESE!$F:$F,\">=1\")))","v":""},{"$f":"IF($Z$2=\"pok\",\"\",IF(A183=\"\",\"\",COUNTIFS(SYNTHESE!$D:$D,A183,SYNTHESE!$E:$E,$G$1,SYNTHESE!$F:$F,\">=1\")))","v":""},{"$f":"IF($Z$2=\"pok\",\"\",IF(A183=\"\",\"\",COUNTIFS(SYNTHESE!$D:$D,A183,SYNTHESE!$E:$E,$H$1,SYNTHESE!$F:$F,\">=1\")))","v":""},{"$f":"IF($Z$2=\"pok\",\"\",IF(A183=\"\",\"\",COUNTIFS(SYNTHESE!$D:$D,A183,SYNTHESE!$E:$E,$I$1,SYNTHESE!$F:$F,\">=1\")))","v":""},{"$f":"IF($Z$2=\"pok\",\"\",IF(A183=\"\",\"\",COUNTIFS(SYNTHESE!$D:$D,A183,SYNTHESE!$E:$E,$J$1,SYNTHESE!$F:$F,\">=1\")))","v":""},{"$f":"IF($Z$2=\"pok\",\"\",IF(A183=\"\",\"\",COUNTIFS(SYNTHESE!$D:$D,A183,SYNTHESE!$E:$E,$K$1,SYNTHESE!$F:$F,\">=1\")))","v":""},{"$f":"IF($Z$2=\"pok\",\"\",IF(A183=\"\",\"\",COUNTIFS(SYNTHESE!$D:$D,A183,SYNTHESE!$E:$E,$L$1,SYNTHESE!$F:$F,\">=1\")))","v":""},{"$f":"IF($Z$2=\"pok\",\"\",IF(A183=\"\",\"\",COUNTIFS(SYNTHESE!$D:$D,A183,SYNTHESE!$E:$E,$M$1,SYNTHESE!$F:$F,\">=1\")))","v":""},{"$f":"IF($Z$2=\"pok\",\"\",IF(A183=\"\",\"\",COUNTIFS(SYNTHESE!$D:$D,A183,SYNTHESE!$E:$E,$N$1,SYNTHESE!$F:$F,\">=1\")))","v":""},{"$f":"IF($Z$2=\"pok\",\"\",IF(A183=\"\",\"\",COUNTIFS(SYNTHESE!$D:$D,A183,SYNTHESE!$E:$E,$O$1,SYNTHESE!$F:$F,\">=1\")))","v":""},{"$f":"IF($Z$2=\"pok\",\"\",IF(A183=\"\",\"\",COUNTIFS(SYNTHESE!$D:$D,A183,SYNTHESE!$E:$E,$P$1,SYNTHESE!$F:$F,\">=1\")))","v":""},{"$f":"IF($Z$2=\"pok\",\"\",IF(A183=\"\",\"\",COUNTIFS(SYNTHESE!$D:$D,A183,SYNTHESE!$E:$E,$Q$1,SYNTHESE!$F:$F,\">=1\")))","v":""},{"$f":"IF($Z$2=\"pok\",\"\",IF(A183=\"\",\"\",COUNTIFS(SYNTHESE!$D:$D,A183,SYNTHESE!$E:$E,$R$1,SYNTHESE!$F:$F,\">=1\")))","v":""},{"$f":"IF($Z$2=\"pok\",\"\",IF(A183=\"\",\"\",COUNTIFS(SYNTHESE!$D:$D,A183,SYNTHESE!$E:$E,$S$1,SYNTHESE!$F:$F,\">=1\")))","v":""},{"$f":"IF($Z$2=\"pok\",\"\",IF(A183=\"\",\"\",COUNTIFS(SYNTHESE!$D:$D,A183,SYNTHESE!$E:$E,$T$1,SYNTHESE!$F:$F,\">=1\")))","v":""},{"$f":"IF($Z$2=\"pok\",\"\",IF(A183=\"\",\"\",COUNTIFS(SYNTHESE!$D:$D,A183,SYNTHESE!$E:$E,$U$1,SYNTHESE!$F:$F,\">=1\")))","v":""},{"$f":"IF($Z$2=\"pok\",\"\",IF(A183=\"\",\"\",COUNTIFS(SYNTHESE!$D:$D,A183,SYNTHESE!$E:$E,$V$1,SYNTHESE!$F:$F,\">=1\")))","v":""},{"$f":"IF($Z$2=\"pok\",\"\",IF(A183=\"\",\"\",COUNTIFS(SYNTHESE!$D:$D,A183,SYNTHESE!$E:$E,$W$1,SYNTHESE!$F:$F,\">=1\")))","v":""},{"$f":"IF($Z$2=\"pok\",\"\",IF(A183=\"\",\"\",COUNTIFS(SYNTHESE!$D:$D,A183,SYNTHESE!$E:$E,$X$1,SYNTHESE!$F:$F,\">=1\")))","v":""},{"$f":"IF($Z$2=\"pok\",\"\",IF(A183=\"\",\"\",COUNTIFS(SYNTHESE!$D:$D,A183,SYNTHESE!$E:$E,$Y$1,SYNTHESE!$F:$F,\">=1\")))","v":""},0]
[{"$f":"IF(ETUDIANTS!A184=\"\",\"\",ETUDIANTS!A184)","v":""},{"$f":"IF($Z$2=\"pok\",\"\",IF(A184=\"\",\"\",COUNTIFS(SYNTHESE!$D:$D,A184,SYNTHESE!$E:$E,$B$1,SYNTHESE!$F:$F,\">=1\")))","v":""},{"$f":"IF($Z$2=\"pok\",\"\",IF(A184=\"\",\"\",COUNTIFS(SYNTHESE!$D:$D,A184,SYNTHESE!$E:$E,$C$1,SYNTHESE!$F:$F,\">=1\")))","v":""},{"$f":"IF($Z$2=\"pok\",\"\",IF(A184=\"\",\"\",COUNTIFS(SYNTHESE!$D:$D,A184,SYNTHESE!$E:$E,$D$1,SYNTHESE!$F:$F,\">=1\")))","v":""},{"$f":"IF($Z$2=\"pok\",\"\",IF(A184=\"\",\"\",COUNTIFS(SYNTHESE!$D:$D,A184,SYNTHESE!$E:$E,$E$1,SYNTHESE!$F:$F,\">=1\")))","v":""},{"$f":"IF($Z$2=\"pok\",\"\",IF(A184=\"\",\"\",COUNTIFS(SYNTHESE!$D:$D,A184,SYNTHESE!$E:$E,$F$1,SYNTHESE!$F:$F,\">=1\")))","v":""},{"$f":"IF($Z$2=\"pok\",\"\",IF(A184=\"\",\"\",COUNTIFS(SYNTHESE!$D:$D,A184,SYNTHESE!$E:$E,$G$1,SYNTHESE!$F:$F,\">=1\")))","v":""},{"$f":"IF($Z$2=\"pok\",\"\",IF(A184=\"\",\"\",COUNTIFS(SYNTHESE!$D:$D,A184,SYNTHESE!$E:$E,$H$1,SYNTHESE!$F:$F,\">=1\")))","v":""},{"$f":"IF($Z$2=\"pok\",\"\",IF(A184=\"\",\"\",COUNTIFS(SYNTHESE!$D:$D,A184,SYNTHESE!$E:$E,$I$1,SYNTHESE!$F:$F,\">=1\")))","v":""},{"$f":"IF($Z$2=\"pok\",\"\",IF(A184=\"\",\"\",COUNTIFS(SYNTHESE!$D:$D,A184,SYNTHESE!$E:$E,$J$1,SYNTHESE!$F:$F,\">=1\")))","v":""},{"$f":"IF($Z$2=\"pok\",\"\",IF(A184=\"\",\"\",COUNTIFS(SYNTHESE!$D:$D,A184,SYNTHESE!$E:$E,$K$1,SYNTHESE!$F:$F,\">=1\")))","v":""},{"$f":"IF($Z$2=\"pok\",\"\",IF(A184=\"\",\"\",COUNTIFS(SYNTHESE!$D:$D,A184,SYNTHESE!$E:$E,$L$1,SYNTHESE!$F:$F,\">=1\")))","v":""},{"$f":"IF($Z$2=\"pok\",\"\",IF(A184=\"\",\"\",COUNTIFS(SYNTHESE!$D:$D,A184,SYNTHESE!$E:$E,$M$1,SYNTHESE!$F:$F,\">=1\")))","v":""},{"$f":"IF($Z$2=\"pok\",\"\",IF(A184=\"\",\"\",COUNTIFS(SYNTHESE!$D:$D,A184,SYNTHESE!$E:$E,$N$1,SYNTHESE!$F:$F,\">=1\")))","v":""},{"$f":"IF($Z$2=\"pok\",\"\",IF(A184=\"\",\"\",COUNTIFS(SYNTHESE!$D:$D,A184,SYNTHESE!$E:$E,$O$1,SYNTHESE!$F:$F,\">=1\")))","v":""},{"$f":"IF($Z$2=\"pok\",\"\",IF(A184=\"\",\"\",COUNTIFS(SYNTHESE!$D:$D,A184,SYNTHESE!$E:$E,$P$1,SYNTHESE!$F:$F,\">=1\")))","v":""},{"$f":"IF($Z$2=\"pok\",\"\",IF(A184=\"\",\"\",COUNTIFS(SYNTHESE!$D:$D,A184,SYNTHESE!$E:$E,$Q$1,SYNTHESE!$F:$F,\">=1\")))","v":""},{"$f":"IF($Z$2=\"pok\",\"\",IF(A184=\"\",\"\",COUNTIFS(SYNTHESE!$D:$D,A184,SYNTHESE!$E:$E,$R$1,SYNTHESE!$F:$F,\">=1\")))","v":""},{"$f":"IF($Z$2=\"pok\",\"\",IF(A184=\"\",\"\",COUNTIFS(SYNTHESE!$D:$D,A184,SYNTHESE!$E:$E,$S$1,SYNTHESE!$F:$F,\">=1\")))","v":""},{"$f":"IF($Z$2=\"pok\",\"\",IF(A184=\"\",\"\",COUNTIFS(SYNTHESE!$D:$D,A184,SYNTHESE!$E:$E,$T$1,SYNTHESE!$F:$F,\">=1\")))","v":""},{"$f":"IF($Z$2=\"pok\",\"\",IF(A184=\"\",\"\",COUNTIFS(SYNTHESE!$D:$D,A184,SYNTHESE!$E:$E,$U$1,SYNTHESE!$F:$F,\">=1\")))","v":""},{"$f":"IF($Z$2=\"pok\",\"\",IF(A184=\"\",\"\",COUNTIFS(SYNTHESE!$D:$D,A184,SYNTHESE!$E:$E,$V$1,SYNTHESE!$F:$F,\">=1\")))","v":""},{"$f":"IF($Z$2=\"pok\",\"\",IF(A184=\"\",\"\",COUNTIFS(SYNTHESE!$D:$D,A184,SYNTHESE!$E:$E,$W$1,SYNTHESE!$F:$F,\">=1\")))","v":""},{"$f":"IF($Z$2=\"pok\",\"\",IF(A184=\"\",\"\",COUNTIFS(SYNTHESE!$D:$D,A184,SYNTHESE!$E:$E,$X$1,SYNTHESE!$F:$F,\">=1\")))","v":""},{"$f":"IF($Z$2=\"pok\",\"\",IF(A184=\"\",\"\",COUNTIFS(SYNTHESE!$D:$D,A184,SYNTHESE!$E:$E,$Y$1,SYNTHESE!$F:$F,\">=1\")))","v":""},0]
[{"$f":"IF(ETUDIANTS!A185=\"\",\"\",ETUDIANTS!A185)","v":""},{"$f":"IF($Z$2=\"pok\",\"\",IF(A185=\"\",\"\",COUNTIFS(SYNTHESE!$D:$D,A185,SYNTHESE!$E:$E,$B$1,SYNTHESE!$F:$F,\">=1\")))","v":""},{"$f":"IF($Z$2=\"pok\",\"\",IF(A185=\"\",\"\",COUNTIFS(SYNTHESE!$D:$D,A185,SYNTHESE!$E:$E,$C$1,SYNTHESE!$F:$F,\">=1\")))","v":""},{"$f":"IF($Z$2=\"pok\",\"\",IF(A185=\"\",\"\",COUNTIFS(SYNTHESE!$D:$D,A185,SYNTHESE!$E:$E,$D$1,SYNTHESE!$F:$F,\">=1\")))","v":""},{"$f":"IF($Z$2=\"pok\",\"\",IF(A185=\"\",\"\",COUNTIFS(SYNTHESE!$D:$D,A185,SYNTHESE!$E:$E,$E$1,SYNTHESE!$F:$F,\">=1\")))","v":""},{"$f":"IF($Z$2=\"pok\",\"\",IF(A185=\"\",\"\",COUNTIFS(SYNTHESE!$D:$D,A185,SYNTHESE!$E:$E,$F$1,SYNTHESE!$F:$F,\">=1\")))","v":""},{"$f":"IF($Z$2=\"pok\",\"\",IF(A185=\"\",\"\",COUNTIFS(SYNTHESE!$D:$D,A185,SYNTHESE!$E:$E,$G$1,SYNTHESE!$F:$F,\">=1\")))","v":""},{"$f":"IF($Z$2=\"pok\",\"\",IF(A185=\"\",\"\",COUNTIFS(SYNTHESE!$D:$D,A185,SYNTHESE!$E:$E,$H$1,SYNTHESE!$F:$F,\">=1\")))","v":""},{"$f":"IF($Z$2=\"pok\",\"\",IF(A185=\"\",\"\",COUNTIFS(SYNTHESE!$D:$D,A185,SYNTHESE!$E:$E,$I$1,SYNTHESE!$F:$F,\">=1\")))","v":""},{"$f":"IF($Z$2=\"pok\",\"\",IF(A185=\"\",\"\",COUNTIFS(SYNTHESE!$D:$D,A185,SYNTHESE!$E:$E,$J$1,SYNTHESE!$F:$F,\">=1\")))","v":""},{"$f":"IF($Z$2=\"pok\",\"\",IF(A185=\"\",\"\",COUNTIFS(SYNTHESE!$D:$D,A185,SYNTHESE!$E:$E,$K$1,SYNTHESE!$F:$F,\">=1\")))","v":""},{"$f":"IF($Z$2=\"pok\",\"\",IF(A185=\"\",\"\",COUNTIFS(SYNTHESE!$D:$D,A185,SYNTHESE!$E:$E,$L$1,SYNTHESE!$F:$F,\">=1\")))","v":""},{"$f":"IF($Z$2=\"pok\",\"\",IF(A185=\"\",\"\",COUNTIFS(SYNTHESE!$D:$D,A185,SYNTHESE!$E:$E,$M$1,SYNTHESE!$F:$F,\">=1\")))","v":""},{"$f":"IF($Z$2=\"pok\",\"\",IF(A185=\"\",\"\",COUNTIFS(SYNTHESE!$D:$D,A185,SYNTHESE!$E:$E,$N$1,SYNTHESE!$F:$F,\">=1\")))","v":""},{"$f":"IF($Z$2=\"pok\",\"\",IF(A185=\"\",\"\",COUNTIFS(SYNTHESE!$D:$D,A185,SYNTHESE!$E:$E,$O$1,SYNTHESE!$F:$F,\">=1\")))","v":""},{"$f":"IF($Z$2=\"pok\",\"\",IF(A185=\"\",\"\",COUNTIFS(SYNTHESE!$D:$D,A185,SYNTHESE!$E:$E,$P$1,SYNTHESE!$F:$F,\">=1\")))","v":""},{"$f":"IF($Z$2=\"pok\",\"\",IF(A185=\"\",\"\",COUNTIFS(SYNTHESE!$D:$D,A185,SYNTHESE!$E:$E,$Q$1,SYNTHESE!$F:$F,\">=1\")))","v":""},{"$f":"IF($Z$2=\"pok\",\"\",IF(A185=\"\",\"\",COUNTIFS(SYNTHESE!$D:$D,A185,SYNTHESE!$E:$E,$R$1,SYNTHESE!$F:$F,\">=1\")))","v":""},{"$f":"IF($Z$2=\"pok\",\"\",IF(A185=\"\",\"\",COUNTIFS(SYNTHESE!$D:$D,A185,SYNTHESE!$E:$E,$S$1,SYNTHESE!$F:$F,\">=1\")))","v":""},{"$f":"IF($Z$2=\"pok\",\"\",IF(A185=\"\",\"\",COUNTIFS(SYNTHESE!$D:$D,A185,SYNTHESE!$E:$E,$T$1,SYNTHESE!$F:$F,\">=1\")))","v":""},{"$f":"IF($Z$2=\"pok\",\"\",IF(A185=\"\",\"\",COUNTIFS(SYNTHESE!$D:$D,A185,SYNTHESE!$E:$E,$U$1,SYNTHESE!$F:$F,\">=1\")))","v":""},{"$f":"IF($Z$2=\"pok\",\"\",IF(A185=\"\",\"\",COUNTIFS(SYNTHESE!$D:$D,A185,SYNTHESE!$E:$E,$V$1,SYNTHESE!$F:$F,\">=1\")))","v":""},{"$f":"IF($Z$2=\"pok\",\"\",IF(A185=\"\",\"\",COUNTIFS(SYNTHESE!$D:$D,A185,SYNTHESE!$E:$E,$W$1,SYNTHESE!$F:$F,\">=1\")))","v":""},{"$f":"IF($Z$2=\"pok\",\"\",IF(A185=\"\",\"\",COUNTIFS(SYNTHESE!$D:$D,A185,SYNTHESE!$E:$E,$X$1,SYNTHESE!$F:$F,\">=1\")))","v":""},{"$f":"IF($Z$2=\"pok\",\"\",IF(A185=\"\",\"\",COUNTIFS(SYNTHESE!$D:$D,A185,SYNTHESE!$E:$E,$Y$1,SYNTHESE!$F:$F,\">=1\")))","v":""},0]
[{"$f":"IF(ETUDIANTS!A186=\"\",\"\",ETUDIANTS!A186)","v":""},{"$f":"IF($Z$2=\"pok\",\"\",IF(A186=\"\",\"\",COUNTIFS(SYNTHESE!$D:$D,A186,SYNTHESE!$E:$E,$B$1,SYNTHESE!$F:$F,\">=1\")))","v":""},{"$f":"IF($Z$2=\"pok\",\"\",IF(A186=\"\",\"\",COUNTIFS(SYNTHESE!$D:$D,A186,SYNTHESE!$E:$E,$C$1,SYNTHESE!$F:$F,\">=1\")))","v":""},{"$f":"IF($Z$2=\"pok\",\"\",IF(A186=\"\",\"\",COUNTIFS(SYNTHESE!$D:$D,A186,SYNTHESE!$E:$E,$D$1,SYNTHESE!$F:$F,\">=1\")))","v":""},{"$f":"IF($Z$2=\"pok\",\"\",IF(A186=\"\",\"\",COUNTIFS(SYNTHESE!$D:$D,A186,SYNTHESE!$E:$E,$E$1,SYNTHESE!$F:$F,\">=1\")))","v":""},{"$f":"IF($Z$2=\"pok\",\"\",IF(A186=\"\",\"\",COUNTIFS(SYNTHESE!$D:$D,A186,SYNTHESE!$E:$E,$F$1,SYNTHESE!$F:$F,\">=1\")))","v":""},{"$f":"IF($Z$2=\"pok\",\"\",IF(A186=\"\",\"\",COUNTIFS(SYNTHESE!$D:$D,A186,SYNTHESE!$E:$E,$G$1,SYNTHESE!$F:$F,\">=1\")))","v":""},{"$f":"IF($Z$2=\"pok\",\"\",IF(A186=\"\",\"\",COUNTIFS(SYNTHESE!$D:$D,A186,SYNTHESE!$E:$E,$H$1,SYNTHESE!$F:$F,\">=1\")))","v":""},{"$f":"IF($Z$2=\"pok\",\"\",IF(A186=\"\",\"\",COUNTIFS(SYNTHESE!$D:$D,A186,SYNTHESE!$E:$E,$I$1,SYNTHESE!$F:$F,\">=1\")))","v":""},{"$f":"IF($Z$2=\"pok\",\"\",IF(A186=\"\",\"\",COUNTIFS(SYNTHESE!$D:$D,A186,SYNTHESE!$E:$E,$J$1,SYNTHESE!$F:$F,\">=1\")))","v":""},{"$f":"IF($Z$2=\"pok\",\"\",IF(A186=\"\",\"\",COUNTIFS(SYNTHESE!$D:$D,A186,SYNTHESE!$E:$E,$K$1,SYNTHESE!$F:$F,\">=1\")))","v":""},{"$f":"IF($Z$2=\"pok\",\"\",IF(A186=\"\",\"\",COUNTIFS(SYNTHESE!$D:$D,A186,SYNTHESE!$E:$E,$L$1,SYNTHESE!$F:$F,\">=1\")))","v":""},{"$f":"IF($Z$2=\"pok\",\"\",IF(A186=\"\",\"\",COUNTIFS(SYNTHESE!$D:$D,A186,SYNTHESE!$E:$E,$M$1,SYNTHESE!$F:$F,\">=1\")))","v":""},{"$f":"IF($Z$2=\"pok\",\"\",IF(A186=\"\",\"\",COUNTIFS(SYNTHESE!$D:$D,A186,SYNTHESE!$E:$E,$N$1,SYNTHESE!$F:$F,\">=1\")))","v":""},{"$f":"IF($Z$2=\"pok\",\"\",IF(A186=\"\",\"\",COUNTIFS(SYNTHESE!$D:$D,A186,SYNTHESE!$E:$E,$O$1,SYNTHESE!$F:$F,\">=1\")))","v":""},{"$f":"IF($Z$2=\"pok\",\"\",IF(A186=\"\",\"\",COUNTIFS(SYNTHESE!$D:$D,A186,SYNTHESE!$E:$E,$P$1,SYNTHESE!$F:$F,\">=1\")))","v":""},{"$f":"IF($Z$2=\"pok\",\"\",IF(A186=\"\",\"\",COUNTIFS(SYNTHESE!$D:$D,A186,SYNTHESE!$E:$E,$Q$1,SYNTHESE!$F:$F,\">=1\")))","v":""},{"$f":"IF($Z$2=\"pok\",\"\",IF(A186=\"\",\"\",COUNTIFS(SYNTHESE!$D:$D,A186,SYNTHESE!$E:$E,$R$1,SYNTHESE!$F:$F,\">=1\")))","v":""},{"$f":"IF($Z$2=\"pok\",\"\",IF(A186=\"\",\"\",COUNTIFS(SYNTHESE!$D:$D,A186,SYNTHESE!$E:$E,$S$1,SYNTHESE!$F:$F,\">=1\")))","v":""},{"$f":"IF($Z$2=\"pok\",\"\",IF(A186=\"\",\"\",COUNTIFS(SYNTHESE!$D:$D,A186,SYNTHESE!$E:$E,$T$1,SYNTHESE!$F:$F,\">=1\")))","v":""},{"$f":"IF($Z$2=\"pok\",\"\",IF(A186=\"\",\"\",COUNTIFS(SYNTHESE!$D:$D,A186,SYNTHESE!$E:$E,$U$1,SYNTHESE!$F:$F,\">=1\")))","v":""},{"$f":"IF($Z$2=\"pok\",\"\",IF(A186=\"\",\"\",COUNTIFS(SYNTHESE!$D:$D,A186,SYNTHESE!$E:$E,$V$1,SYNTHESE!$F:$F,\">=1\")))","v":""},{"$f":"IF($Z$2=\"pok\",\"\",IF(A186=\"\",\"\",COUNTIFS(SYNTHESE!$D:$D,A186,SYNTHESE!$E:$E,$W$1,SYNTHESE!$F:$F,\">=1\")))","v":""},{"$f":"IF($Z$2=\"pok\",\"\",IF(A186=\"\",\"\",COUNTIFS(SYNTHESE!$D:$D,A186,SYNTHESE!$E:$E,$X$1,SYNTHESE!$F:$F,\">=1\")))","v":""},{"$f":"IF($Z$2=\"pok\",\"\",IF(A186=\"\",\"\",COUNTIFS(SYNTHESE!$D:$D,A186,SYNTHESE!$E:$E,$Y$1,SYNTHESE!$F:$F,\">=1\")))","v":""},0]
[{"$f":"IF(ETUDIANTS!A187=\"\",\"\",ETUDIANTS!A187)","v":""},{"$f":"IF($Z$2=\"pok\",\"\",IF(A187=\"\",\"\",COUNTIFS(SYNTHESE!$D:$D,A187,SYNTHESE!$E:$E,$B$1,SYNTHESE!$F:$F,\">=1\")))","v":""},{"$f":"IF($Z$2=\"pok\",\"\",IF(A187=\"\",\"\",COUNTIFS(SYNTHESE!$D:$D,A187,SYNTHESE!$E:$E,$C$1,SYNTHESE!$F:$F,\">=1\")))","v":""},{"$f":"IF($Z$2=\"pok\",\"\",IF(A187=\"\",\"\",COUNTIFS(SYNTHESE!$D:$D,A187,SYNTHESE!$E:$E,$D$1,SYNTHESE!$F:$F,\">=1\")))","v":""},{"$f":"IF($Z$2=\"pok\",\"\",IF(A187=\"\",\"\",COUNTIFS(SYNTHESE!$D:$D,A187,SYNTHESE!$E:$E,$E$1,SYNTHESE!$F:$F,\">=1\")))","v":""},{"$f":"IF($Z$2=\"pok\",\"\",IF(A187=\"\",\"\",COUNTIFS(SYNTHESE!$D:$D,A187,SYNTHESE!$E:$E,$F$1,SYNTHESE!$F:$F,\">=1\")))","v":""},{"$f":"IF($Z$2=\"pok\",\"\",IF(A187=\"\",\"\",COUNTIFS(SYNTHESE!$D:$D,A187,SYNTHESE!$E:$E,$G$1,SYNTHESE!$F:$F,\">=1\")))","v":""},{"$f":"IF($Z$2=\"pok\",\"\",IF(A187=\"\",\"\",COUNTIFS(SYNTHESE!$D:$D,A187,SYNTHESE!$E:$E,$H$1,SYNTHESE!$F:$F,\">=1\")))","v":""},{"$f":"IF($Z$2=\"pok\",\"\",IF(A187=\"\",\"\",COUNTIFS(SYNTHESE!$D:$D,A187,SYNTHESE!$E:$E,$I$1,SYNTHESE!$F:$F,\">=1\")))","v":""},{"$f":"IF($Z$2=\"pok\",\"\",IF(A187=\"\",\"\",COUNTIFS(SYNTHESE!$D:$D,A187,SYNTHESE!$E:$E,$J$1,SYNTHESE!$F:$F,\">=1\")))","v":""},{"$f":"IF($Z$2=\"pok\",\"\",IF(A187=\"\",\"\",COUNTIFS(SYNTHESE!$D:$D,A187,SYNTHESE!$E:$E,$K$1,SYNTHESE!$F:$F,\">=1\")))","v":""},{"$f":"IF($Z$2=\"pok\",\"\",IF(A187=\"\",\"\",COUNTIFS(SYNTHESE!$D:$D,A187,SYNTHESE!$E:$E,$L$1,SYNTHESE!$F:$F,\">=1\")))","v":""},{"$f":"IF($Z$2=\"pok\",\"\",IF(A187=\"\",\"\",COUNTIFS(SYNTHESE!$D:$D,A187,SYNTHESE!$E:$E,$M$1,SYNTHESE!$F:$F,\">=1\")))","v":""},{"$f":"IF($Z$2=\"pok\",\"\",IF(A187=\"\",\"\",COUNTIFS(SYNTHESE!$D:$D,A187,SYNTHESE!$E:$E,$N$1,SYNTHESE!$F:$F,\">=1\")))","v":""},{"$f":"IF($Z$2=\"pok\",\"\",IF(A187=\"\",\"\",COUNTIFS(SYNTHESE!$D:$D,A187,SYNTHESE!$E:$E,$O$1,SYNTHESE!$F:$F,\">=1\")))","v":""},{"$f":"IF($Z$2=\"pok\",\"\",IF(A187=\"\",\"\",COUNTIFS(SYNTHESE!$D:$D,A187,SYNTHESE!$E:$E,$P$1,SYNTHESE!$F:$F,\">=1\")))","v":""},{"$f":"IF($Z$2=\"pok\",\"\",IF(A187=\"\",\"\",COUNTIFS(SYNTHESE!$D:$D,A187,SYNTHESE!$E:$E,$Q$1,SYNTHESE!$F:$F,\">=1\")))","v":""},{"$f":"IF($Z$2=\"pok\",\"\",IF(A187=\"\",\"\",COUNTIFS(SYNTHESE!$D:$D,A187,SYNTHESE!$E:$E,$R$1,SYNTHESE!$F:$F,\">=1\")))","v":""},{"$f":"IF($Z$2=\"pok\",\"\",IF(A187=\"\",\"\",COUNTIFS(SYNTHESE!$D:$D,A187,SYNTHESE!$E:$E,$S$1,SYNTHESE!$F:$F,\">=1\")))","v":""},{"$f":"IF($Z$2=\"pok\",\"\",IF(A187=\"\",\"\",COUNTIFS(SYNTHESE!$D:$D,A187,SYNTHESE!$E:$E,$T$1,SYNTHESE!$F:$F,\">=1\")))","v":""},{"$f":"IF($Z$2=\"pok\",\"\",IF(A187=\"\",\"\",COUNTIFS(SYNTHESE!$D:$D,A187,SYNTHESE!$E:$E,$U$1,SYNTHESE!$F:$F,\">=1\")))","v":""},{"$f":"IF($Z$2=\"pok\",\"\",IF(A187=\"\",\"\",COUNTIFS(SYNTHESE!$D:$D,A187,SYNTHESE!$E:$E,$V$1,SYNTHESE!$F:$F,\">=1\")))","v":""},{"$f":"IF($Z$2=\"pok\",\"\",IF(A187=\"\",\"\",COUNTIFS(SYNTHESE!$D:$D,A187,SYNTHESE!$E:$E,$W$1,SYNTHESE!$F:$F,\">=1\")))","v":""},{"$f":"IF($Z$2=\"pok\",\"\",IF(A187=\"\",\"\",COUNTIFS(SYNTHESE!$D:$D,A187,SYNTHESE!$E:$E,$X$1,SYNTHESE!$F:$F,\">=1\")))","v":""},{"$f":"IF($Z$2=\"pok\",\"\",IF(A187=\"\",\"\",COUNTIFS(SYNTHESE!$D:$D,A187,SYNTHESE!$E:$E,$Y$1,SYNTHESE!$F:$F,\">=1\")))","v":""},0]
[{"$f":"IF(ETUDIANTS!A188=\"\",\"\",ETUDIANTS!A188)","v":""},{"$f":"IF($Z$2=\"pok\",\"\",IF(A188=\"\",\"\",COUNTIFS(SYNTHESE!$D:$D,A188,SYNTHESE!$E:$E,$B$1,SYNTHESE!$F:$F,\">=1\")))","v":""},{"$f":"IF($Z$2=\"pok\",\"\",IF(A188=\"\",\"\",COUNTIFS(SYNTHESE!$D:$D,A188,SYNTHESE!$E:$E,$C$1,SYNTHESE!$F:$F,\">=1\")))","v":""},{"$f":"IF($Z$2=\"pok\",\"\",IF(A188=\"\",\"\",COUNTIFS(SYNTHESE!$D:$D,A188,SYNTHESE!$E:$E,$D$1,SYNTHESE!$F:$F,\">=1\")))","v":""},{"$f":"IF($Z$2=\"pok\",\"\",IF(A188=\"\",\"\",COUNTIFS(SYNTHESE!$D:$D,A188,SYNTHESE!$E:$E,$E$1,SYNTHESE!$F:$F,\">=1\")))","v":""},{"$f":"IF($Z$2=\"pok\",\"\",IF(A188=\"\",\"\",COUNTIFS(SYNTHESE!$D:$D,A188,SYNTHESE!$E:$E,$F$1,SYNTHESE!$F:$F,\">=1\")))","v":""},{"$f":"IF($Z$2=\"pok\",\"\",IF(A188=\"\",\"\",COUNTIFS(SYNTHESE!$D:$D,A188,SYNTHESE!$E:$E,$G$1,SYNTHESE!$F:$F,\">=1\")))","v":""},{"$f":"IF($Z$2=\"pok\",\"\",IF(A188=\"\",\"\",COUNTIFS(SYNTHESE!$D:$D,A188,SYNTHESE!$E:$E,$H$1,SYNTHESE!$F:$F,\">=1\")))","v":""},{"$f":"IF($Z$2=\"pok\",\"\",IF(A188=\"\",\"\",COUNTIFS(SYNTHESE!$D:$D,A188,SYNTHESE!$E:$E,$I$1,SYNTHESE!$F:$F,\">=1\")))","v":""},{"$f":"IF($Z$2=\"pok\",\"\",IF(A188=\"\",\"\",COUNTIFS(SYNTHESE!$D:$D,A188,SYNTHESE!$E:$E,$J$1,SYNTHESE!$F:$F,\">=1\")))","v":""},{"$f":"IF($Z$2=\"pok\",\"\",IF(A188=\"\",\"\",COUNTIFS(SYNTHESE!$D:$D,A188,SYNTHESE!$E:$E,$K$1,SYNTHESE!$F:$F,\">=1\")))","v":""},{"$f":"IF($Z$2=\"pok\",\"\",IF(A188=\"\",\"\",COUNTIFS(SYNTHESE!$D:$D,A188,SYNTHESE!$E:$E,$L$1,SYNTHESE!$F:$F,\">=1\")))","v":""},{"$f":"IF($Z$2=\"pok\",\"\",IF(A188=\"\",\"\",COUNTIFS(SYNTHESE!$D:$D,A188,SYNTHESE!$E:$E,$M$1,SYNTHESE!$F:$F,\">=1\")))","v":""},{"$f":"IF($Z$2=\"pok\",\"\",IF(A188=\"\",\"\",COUNTIFS(SYNTHESE!$D:$D,A188,SYNTHESE!$E:$E,$N$1,SYNTHESE!$F:$F,\">=1\")))","v":""},{"$f":"IF($Z$2=\"pok\",\"\",IF(A188=\"\",\"\",COUNTIFS(SYNTHESE!$D:$D,A188,SYNTHESE!$E:$E,$O$1,SYNTHESE!$F:$F,\">=1\")))","v":""},{"$f":"IF($Z$2=\"pok\",\"\",IF(A188=\"\",\"\",COUNTIFS(SYNTHESE!$D:$D,A188,SYNTHESE!$E:$E,$P$1,SYNTHESE!$F:$F,\">=1\")))","v":""},{"$f":"IF($Z$2=\"pok\",\"\",IF(A188=\"\",\"\",COUNTIFS(SYNTHESE!$D:$D,A188,SYNTHESE!$E:$E,$Q$1,SYNTHESE!$F:$F,\">=1\")))","v":""},{"$f":"IF($Z$2=\"pok\",\"\",IF(A188=\"\",\"\",COUNTIFS(SYNTHESE!$D:$D,A188,SYNTHESE!$E:$E,$R$1,SYNTHESE!$F:$F,\">=1\")))","v":""},{"$f":"IF($Z$2=\"pok\",\"\",IF(A188=\"\",\"\",COUNTIFS(SYNTHESE!$D:$D,A188,SYNTHESE!$E:$E,$S$1,SYNTHESE!$F:$F,\">=1\")))","v":""},{"$f":"IF($Z$2=\"pok\",\"\",IF(A188=\"\",\"\",COUNTIFS(SYNTHESE!$D:$D,A188,SYNTHESE!$E:$E,$T$1,SYNTHESE!$F:$F,\">=1\")))","v":""},{"$f":"IF($Z$2=\"pok\",\"\",IF(A188=\"\",\"\",COUNTIFS(SYNTHESE!$D:$D,A188,SYNTHESE!$E:$E,$U$1,SYNTHESE!$F:$F,\">=1\")))","v":""},{"$f":"IF($Z$2=\"pok\",\"\",IF(A188=\"\",\"\",COUNTIFS(SYNTHESE!$D:$D,A188,SYNTHESE!$E:$E,$V$1,SYNTHESE!$F:$F,\">=1\")))","v":""},{"$f":"IF($Z$2=\"pok\",\"\",IF(A188=\"\",\"\",COUNTIFS(SYNTHESE!$D:$D,A188,SYNTHESE!$E:$E,$W$1,SYNTHESE!$F:$F,\">=1\")))","v":""},{"$f":"IF($Z$2=\"pok\",\"\",IF(A188=\"\",\"\",COUNTIFS(SYNTHESE!$D:$D,A188,SYNTHESE!$E:$E,$X$1,SYNTHESE!$F:$F,\">=1\")))","v":""},{"$f":"IF($Z$2=\"pok\",\"\",IF(A188=\"\",\"\",COUNTIFS(SYNTHESE!$D:$D,A188,SYNTHESE!$E:$E,$Y$1,SYNTHESE!$F:$F,\">=1\")))","v":""},0]
[{"$f":"IF(ETUDIANTS!A189=\"\",\"\",ETUDIANTS!A189)","v":""},{"$f":"IF($Z$2=\"pok\",\"\",IF(A189=\"\",\"\",COUNTIFS(SYNTHESE!$D:$D,A189,SYNTHESE!$E:$E,$B$1,SYNTHESE!$F:$F,\">=1\")))","v":""},{"$f":"IF($Z$2=\"pok\",\"\",IF(A189=\"\",\"\",COUNTIFS(SYNTHESE!$D:$D,A189,SYNTHESE!$E:$E,$C$1,SYNTHESE!$F:$F,\">=1\")))","v":""},{"$f":"IF($Z$2=\"pok\",\"\",IF(A189=\"\",\"\",COUNTIFS(SYNTHESE!$D:$D,A189,SYNTHESE!$E:$E,$D$1,SYNTHESE!$F:$F,\">=1\")))","v":""},{"$f":"IF($Z$2=\"pok\",\"\",IF(A189=\"\",\"\",COUNTIFS(SYNTHESE!$D:$D,A189,SYNTHESE!$E:$E,$E$1,SYNTHESE!$F:$F,\">=1\")))","v":""},{"$f":"IF($Z$2=\"pok\",\"\",IF(A189=\"\",\"\",COUNTIFS(SYNTHESE!$D:$D,A189,SYNTHESE!$E:$E,$F$1,SYNTHESE!$F:$F,\">=1\")))","v":""},{"$f":"IF($Z$2=\"pok\",\"\",IF(A189=\"\",\"\",COUNTIFS(SYNTHESE!$D:$D,A189,SYNTHESE!$E:$E,$G$1,SYNTHESE!$F:$F,\">=1\")))","v":""},{"$f":"IF($Z$2=\"pok\",\"\",IF(A189=\"\",\"\",COUNTIFS(SYNTHESE!$D:$D,A189,SYNTHESE!$E:$E,$H$1,SYNTHESE!$F:$F,\">=1\")))","v":""},{"$f":"IF($Z$2=\"pok\",\"\",IF(A189=\"\",\"\",COUNTIFS(SYNTHESE!$D:$D,A189,SYNTHESE!$E:$E,$I$1,SYNTHESE!$F:$F,\">=1\")))","v":""},{"$f":"IF($Z$2=\"pok\",\"\",IF(A189=\"\",\"\",COUNTIFS(SYNTHESE!$D:$D,A189,SYNTHESE!$E:$E,$J$1,SYNTHESE!$F:$F,\">=1\")))","v":""},{"$f":"IF($Z$2=\"pok\",\"\",IF(A189=\"\",\"\",COUNTIFS(SYNTHESE!$D:$D,A189,SYNTHESE!$E:$E,$K$1,SYNTHESE!$F:$F,\">=1\")))","v":""},{"$f":"IF($Z$2=\"pok\",\"\",IF(A189=\"\",\"\",COUNTIFS(SYNTHESE!$D:$D,A189,SYNTHESE!$E:$E,$L$1,SYNTHESE!$F:$F,\">=1\")))","v":""},{"$f":"IF($Z$2=\"pok\",\"\",IF(A189=\"\",\"\",COUNTIFS(SYNTHESE!$D:$D,A189,SYNTHESE!$E:$E,$M$1,SYNTHESE!$F:$F,\">=1\")))","v":""},{"$f":"IF($Z$2=\"pok\",\"\",IF(A189=\"\",\"\",COUNTIFS(SYNTHESE!$D:$D,A189,SYNTHESE!$E:$E,$N$1,SYNTHESE!$F:$F,\">=1\")))","v":""},{"$f":"IF($Z$2=\"pok\",\"\",IF(A189=\"\",\"\",COUNTIFS(SYNTHESE!$D:$D,A189,SYNTHESE!$E:$E,$O$1,SYNTHESE!$F:$F,\">=1\")))","v":""},{"$f":"IF($Z$2=\"pok\",\"\",IF(A189=\"\",\"\",COUNTIFS(SYNTHESE!$D:$D,A189,SYNTHESE!$E:$E,$P$1,SYNTHESE!$F:$F,\">=1\")))","v":""},{"$f":"IF($Z$2=\"pok\",\"\",IF(A189=\"\",\"\",COUNTIFS(SYNTHESE!$D:$D,A189,SYNTHESE!$E:$E,$Q$1,SYNTHESE!$F:$F,\">=1\")))","v":""},{"$f":"IF($Z$2=\"pok\",\"\",IF(A189=\"\",\"\",COUNTIFS(SYNTHESE!$D:$D,A189,SYNTHESE!$E:$E,$R$1,SYNTHESE!$F:$F,\">=1\")))","v":""},{"$f":"IF($Z$2=\"pok\",\"\",IF(A189=\"\",\"\",COUNTIFS(SYNTHESE!$D:$D,A189,SYNTHESE!$E:$E,$S$1,SYNTHESE!$F:$F,\">=1\")))","v":""},{"$f":"IF($Z$2=\"pok\",\"\",IF(A189=\"\",\"\",COUNTIFS(SYNTHESE!$D:$D,A189,SYNTHESE!$E:$E,$T$1,SYNTHESE!$F:$F,\">=1\")))","v":""},{"$f":"IF($Z$2=\"pok\",\"\",IF(A189=\"\",\"\",COUNTIFS(SYNTHESE!$D:$D,A189,SYNTHESE!$E:$E,$U$1,SYNTHESE!$F:$F,\">=1\")))","v":""},{"$f":"IF($Z$2=\"pok\",\"\",IF(A189=\"\",\"\",COUNTIFS(SYNTHESE!$D:$D,A189,SYNTHESE!$E:$E,$V$1,SYNTHESE!$F:$F,\">=1\")))","v":""},{"$f":"IF($Z$2=\"pok\",\"\",IF(A189=\"\",\"\",COUNTIFS(SYNTHESE!$D:$D,A189,SYNTHESE!$E:$E,$W$1,SYNTHESE!$F:$F,\">=1\")))","v":""},{"$f":"IF($Z$2=\"pok\",\"\",IF(A189=\"\",\"\",COUNTIFS(SYNTHESE!$D:$D,A189,SYNTHESE!$E:$E,$X$1,SYNTHESE!$F:$F,\">=1\")))","v":""},{"$f":"IF($Z$2=\"pok\",\"\",IF(A189=\"\",\"\",COUNTIFS(SYNTHESE!$D:$D,A189,SYNTHESE!$E:$E,$Y$1,SYNTHESE!$F:$F,\">=1\")))","v":""},0]
[{"$f":"IF(ETUDIANTS!A190=\"\",\"\",ETUDIANTS!A190)","v":""},{"$f":"IF($Z$2=\"pok\",\"\",IF(A190=\"\",\"\",COUNTIFS(SYNTHESE!$D:$D,A190,SYNTHESE!$E:$E,$B$1,SYNTHESE!$F:$F,\">=1\")))","v":""},{"$f":"IF($Z$2=\"pok\",\"\",IF(A190=\"\",\"\",COUNTIFS(SYNTHESE!$D:$D,A190,SYNTHESE!$E:$E,$C$1,SYNTHESE!$F:$F,\">=1\")))","v":""},{"$f":"IF($Z$2=\"pok\",\"\",IF(A190=\"\",\"\",COUNTIFS(SYNTHESE!$D:$D,A190,SYNTHESE!$E:$E,$D$1,SYNTHESE!$F:$F,\">=1\")))","v":""},{"$f":"IF($Z$2=\"pok\",\"\",IF(A190=\"\",\"\",COUNTIFS(SYNTHESE!$D:$D,A190,SYNTHESE!$E:$E,$E$1,SYNTHESE!$F:$F,\">=1\")))","v":""},{"$f":"IF($Z$2=\"pok\",\"\",IF(A190=\"\",\"\",COUNTIFS(SYNTHESE!$D:$D,A190,SYNTHESE!$E:$E,$F$1,SYNTHESE!$F:$F,\">=1\")))","v":""},{"$f":"IF($Z$2=\"pok\",\"\",IF(A190=\"\",\"\",COUNTIFS(SYNTHESE!$D:$D,A190,SYNTHESE!$E:$E,$G$1,SYNTHESE!$F:$F,\">=1\")))","v":""},{"$f":"IF($Z$2=\"pok\",\"\",IF(A190=\"\",\"\",COUNTIFS(SYNTHESE!$D:$D,A190,SYNTHESE!$E:$E,$H$1,SYNTHESE!$F:$F,\">=1\")))","v":""},{"$f":"IF($Z$2=\"pok\",\"\",IF(A190=\"\",\"\",COUNTIFS(SYNTHESE!$D:$D,A190,SYNTHESE!$E:$E,$I$1,SYNTHESE!$F:$F,\">=1\")))","v":""},{"$f":"IF($Z$2=\"pok\",\"\",IF(A190=\"\",\"\",COUNTIFS(SYNTHESE!$D:$D,A190,SYNTHESE!$E:$E,$J$1,SYNTHESE!$F:$F,\">=1\")))","v":""},{"$f":"IF($Z$2=\"pok\",\"\",IF(A190=\"\",\"\",COUNTIFS(SYNTHESE!$D:$D,A190,SYNTHESE!$E:$E,$K$1,SYNTHESE!$F:$F,\">=1\")))","v":""},{"$f":"IF($Z$2=\"pok\",\"\",IF(A190=\"\",\"\",COUNTIFS(SYNTHESE!$D:$D,A190,SYNTHESE!$E:$E,$L$1,SYNTHESE!$F:$F,\">=1\")))","v":""},{"$f":"IF($Z$2=\"pok\",\"\",IF(A190=\"\",\"\",COUNTIFS(SYNTHESE!$D:$D,A190,SYNTHESE!$E:$E,$M$1,SYNTHESE!$F:$F,\">=1\")))","v":""},{"$f":"IF($Z$2=\"pok\",\"\",IF(A190=\"\",\"\",COUNTIFS(SYNTHESE!$D:$D,A190,SYNTHESE!$E:$E,$N$1,SYNTHESE!$F:$F,\">=1\")))","v":""},{"$f":"IF($Z$2=\"pok\",\"\",IF(A190=\"\",\"\",COUNTIFS(SYNTHESE!$D:$D,A190,SYNTHESE!$E:$E,$O$1,SYNTHESE!$F:$F,\">=1\")))","v":""},{"$f":"IF($Z$2=\"pok\",\"\",IF(A190=\"\",\"\",COUNTIFS(SYNTHESE!$D:$D,A190,SYNTHESE!$E:$E,$P$1,SYNTHESE!$F:$F,\">=1\")))","v":""},{"$f":"IF($Z$2=\"pok\",\"\",IF(A190=\"\",\"\",COUNTIFS(SYNTHESE!$D:$D,A190,SYNTHESE!$E:$E,$Q$1,SYNTHESE!$F:$F,\">=1\")))","v":""},{"$f":"IF($Z$2=\"pok\",\"\",IF(A190=\"\",\"\",COUNTIFS(SYNTHESE!$D:$D,A190,SYNTHESE!$E:$E,$R$1,SYNTHESE!$F:$F,\">=1\")))","v":""},{"$f":"IF($Z$2=\"pok\",\"\",IF(A190=\"\",\"\",COUNTIFS(SYNTHESE!$D:$D,A190,SYNTHESE!$E:$E,$S$1,SYNTHESE!$F:$F,\">=1\")))","v":""},{"$f":"IF($Z$2=\"pok\",\"\",IF(A190=\"\",\"\",COUNTIFS(SYNTHESE!$D:$D,A190,SYNTHESE!$E:$E,$T$1,SYNTHESE!$F:$F,\">=1\")))","v":""},{"$f":"IF($Z$2=\"pok\",\"\",IF(A190=\"\",\"\",COUNTIFS(SYNTHESE!$D:$D,A190,SYNTHESE!$E:$E,$U$1,SYNTHESE!$F:$F,\">=1\")))","v":""},{"$f":"IF($Z$2=\"pok\",\"\",IF(A190=\"\",\"\",COUNTIFS(SYNTHESE!$D:$D,A190,SYNTHESE!$E:$E,$V$1,SYNTHESE!$F:$F,\">=1\")))","v":""},{"$f":"IF($Z$2=\"pok\",\"\",IF(A190=\"\",\"\",COUNTIFS(SYNTHESE!$D:$D,A190,SYNTHESE!$E:$E,$W$1,SYNTHESE!$F:$F,\">=1\")))","v":""},{"$f":"IF($Z$2=\"pok\",\"\",IF(A190=\"\",\"\",COUNTIFS(SYNTHESE!$D:$D,A190,SYNTHESE!$E:$E,$X$1,SYNTHESE!$F:$F,\">=1\")))","v":""},{"$f":"IF($Z$2=\"pok\",\"\",IF(A190=\"\",\"\",COUNTIFS(SYNTHESE!$D:$D,A190,SYNTHESE!$E:$E,$Y$1,SYNTHESE!$F:$F,\">=1\")))","v":""},0]
[{"$f":"IF(ETUDIANTS!A191=\"\",\"\",ETUDIANTS!A191)","v":""},{"$f":"IF($Z$2=\"pok\",\"\",IF(A191=\"\",\"\",COUNTIFS(SYNTHESE!$D:$D,A191,SYNTHESE!$E:$E,$B$1,SYNTHESE!$F:$F,\">=1\")))","v":""},{"$f":"IF($Z$2=\"pok\",\"\",IF(A191=\"\",\"\",COUNTIFS(SYNTHESE!$D:$D,A191,SYNTHESE!$E:$E,$C$1,SYNTHESE!$F:$F,\">=1\")))","v":""},{"$f":"IF($Z$2=\"pok\",\"\",IF(A191=\"\",\"\",COUNTIFS(SYNTHESE!$D:$D,A191,SYNTHESE!$E:$E,$D$1,SYNTHESE!$F:$F,\">=1\")))","v":""},{"$f":"IF($Z$2=\"pok\",\"\",IF(A191=\"\",\"\",COUNTIFS(SYNTHESE!$D:$D,A191,SYNTHESE!$E:$E,$E$1,SYNTHESE!$F:$F,\">=1\")))","v":""},{"$f":"IF($Z$2=\"pok\",\"\",IF(A191=\"\",\"\",COUNTIFS(SYNTHESE!$D:$D,A191,SYNTHESE!$E:$E,$F$1,SYNTHESE!$F:$F,\">=1\")))","v":""},{"$f":"IF($Z$2=\"pok\",\"\",IF(A191=\"\",\"\",COUNTIFS(SYNTHESE!$D:$D,A191,SYNTHESE!$E:$E,$G$1,SYNTHESE!$F:$F,\">=1\")))","v":""},{"$f":"IF($Z$2=\"pok\",\"\",IF(A191=\"\",\"\",COUNTIFS(SYNTHESE!$D:$D,A191,SYNTHESE!$E:$E,$H$1,SYNTHESE!$F:$F,\">=1\")))","v":""},{"$f":"IF($Z$2=\"pok\",\"\",IF(A191=\"\",\"\",COUNTIFS(SYNTHESE!$D:$D,A191,SYNTHESE!$E:$E,$I$1,SYNTHESE!$F:$F,\">=1\")))","v":""},{"$f":"IF($Z$2=\"pok\",\"\",IF(A191=\"\",\"\",COUNTIFS(SYNTHESE!$D:$D,A191,SYNTHESE!$E:$E,$J$1,SYNTHESE!$F:$F,\">=1\")))","v":""},{"$f":"IF($Z$2=\"pok\",\"\",IF(A191=\"\",\"\",COUNTIFS(SYNTHESE!$D:$D,A191,SYNTHESE!$E:$E,$K$1,SYNTHESE!$F:$F,\">=1\")))","v":""},{"$f":"IF($Z$2=\"pok\",\"\",IF(A191=\"\",\"\",COUNTIFS(SYNTHESE!$D:$D,A191,SYNTHESE!$E:$E,$L$1,SYNTHESE!$F:$F,\">=1\")))","v":""},{"$f":"IF($Z$2=\"pok\",\"\",IF(A191=\"\",\"\",COUNTIFS(SYNTHESE!$D:$D,A191,SYNTHESE!$E:$E,$M$1,SYNTHESE!$F:$F,\">=1\")))","v":""},{"$f":"IF($Z$2=\"pok\",\"\",IF(A191=\"\",\"\",COUNTIFS(SYNTHESE!$D:$D,A191,SYNTHESE!$E:$E,$N$1,SYNTHESE!$F:$F,\">=1\")))","v":""},{"$f":"IF($Z$2=\"pok\",\"\",IF(A191=\"\",\"\",COUNTIFS(SYNTHESE!$D:$D,A191,SYNTHESE!$E:$E,$O$1,SYNTHESE!$F:$F,\">=1\")))","v":""},{"$f":"IF($Z$2=\"pok\",\"\",IF(A191=\"\",\"\",COUNTIFS(SYNTHESE!$D:$D,A191,SYNTHESE!$E:$E,$P$1,SYNTHESE!$F:$F,\">=1\")))","v":""},{"$f":"IF($Z$2=\"pok\",\"\",IF(A191=\"\",\"\",COUNTIFS(SYNTHESE!$D:$D,A191,SYNTHESE!$E:$E,$Q$1,SYNTHESE!$F:$F,\">=1\")))","v":""},{"$f":"IF($Z$2=\"pok\",\"\",IF(A191=\"\",\"\",COUNTIFS(SYNTHESE!$D:$D,A191,SYNTHESE!$E:$E,$R$1,SYNTHESE!$F:$F,\">=1\")))","v":""},{"$f":"IF($Z$2=\"pok\",\"\",IF(A191=\"\",\"\",COUNTIFS(SYNTHESE!$D:$D,A191,SYNTHESE!$E:$E,$S$1,SYNTHESE!$F:$F,\">=1\")))","v":""},{"$f":"IF($Z$2=\"pok\",\"\",IF(A191=\"\",\"\",COUNTIFS(SYNTHESE!$D:$D,A191,SYNTHESE!$E:$E,$T$1,SYNTHESE!$F:$F,\">=1\")))","v":""},{"$f":"IF($Z$2=\"pok\",\"\",IF(A191=\"\",\"\",COUNTIFS(SYNTHESE!$D:$D,A191,SYNTHESE!$E:$E,$U$1,SYNTHESE!$F:$F,\">=1\")))","v":""},{"$f":"IF($Z$2=\"pok\",\"\",IF(A191=\"\",\"\",COUNTIFS(SYNTHESE!$D:$D,A191,SYNTHESE!$E:$E,$V$1,SYNTHESE!$F:$F,\">=1\")))","v":""},{"$f":"IF($Z$2=\"pok\",\"\",IF(A191=\"\",\"\",COUNTIFS(SYNTHESE!$D:$D,A191,SYNTHESE!$E:$E,$W$1,SYNTHESE!$F:$F,\">=1\")))","v":""},{"$f":"IF($Z$2=\"pok\",\"\",IF(A191=\"\",\"\",COUNTIFS(SYNTHESE!$D:$D,A191,SYNTHESE!$E:$E,$X$1,SYNTHESE!$F:$F,\">=1\")))","v":""},{"$f":"IF($Z$2=\"pok\",\"\",IF(A191=\"\",\"\",COUNTIFS(SYNTHESE!$D:$D,A191,SYNTHESE!$E:$E,$Y$1,SYNTHESE!$F:$F,\">=1\")))","v":""},0]
[{"$f":"IF(ETUDIANTS!A192=\"\",\"\",ETUDIANTS!A192)","v":""},{"$f":"IF($Z$2=\"pok\",\"\",IF(A192=\"\",\"\",COUNTIFS(SYNTHESE!$D:$D,A192,SYNTHESE!$E:$E,$B$1,SYNTHESE!$F:$F,\">=1\")))","v":""},{"$f":"IF($Z$2=\"pok\",\"\",IF(A192=\"\",\"\",COUNTIFS(SYNTHESE!$D:$D,A192,SYNTHESE!$E:$E,$C$1,SYNTHESE!$F:$F,\">=1\")))","v":""},{"$f":"IF($Z$2=\"pok\",\"\",IF(A192=\"\",\"\",COUNTIFS(SYNTHESE!$D:$D,A192,SYNTHESE!$E:$E,$D$1,SYNTHESE!$F:$F,\">=1\")))","v":""},{"$f":"IF($Z$2=\"pok\",\"\",IF(A192=\"\",\"\",COUNTIFS(SYNTHESE!$D:$D,A192,SYNTHESE!$E:$E,$E$1,SYNTHESE!$F:$F,\">=1\")))","v":""},{"$f":"IF($Z$2=\"pok\",\"\",IF(A192=\"\",\"\",COUNTIFS(SYNTHESE!$D:$D,A192,SYNTHESE!$E:$E,$F$1,SYNTHESE!$F:$F,\">=1\")))","v":""},{"$f":"IF($Z$2=\"pok\",\"\",IF(A192=\"\",\"\",COUNTIFS(SYNTHESE!$D:$D,A192,SYNTHESE!$E:$E,$G$1,SYNTHESE!$F:$F,\">=1\")))","v":""},{"$f":"IF($Z$2=\"pok\",\"\",IF(A192=\"\",\"\",COUNTIFS(SYNTHESE!$D:$D,A192,SYNTHESE!$E:$E,$H$1,SYNTHESE!$F:$F,\">=1\")))","v":""},{"$f":"IF($Z$2=\"pok\",\"\",IF(A192=\"\",\"\",COUNTIFS(SYNTHESE!$D:$D,A192,SYNTHESE!$E:$E,$I$1,SYNTHESE!$F:$F,\">=1\")))","v":""},{"$f":"IF($Z$2=\"pok\",\"\",IF(A192=\"\",\"\",COUNTIFS(SYNTHESE!$D:$D,A192,SYNTHESE!$E:$E,$J$1,SYNTHESE!$F:$F,\">=1\")))","v":""},{"$f":"IF($Z$2=\"pok\",\"\",IF(A192=\"\",\"\",COUNTIFS(SYNTHESE!$D:$D,A192,SYNTHESE!$E:$E,$K$1,SYNTHESE!$F:$F,\">=1\")))","v":""},{"$f":"IF($Z$2=\"pok\",\"\",IF(A192=\"\",\"\",COUNTIFS(SYNTHESE!$D:$D,A192,SYNTHESE!$E:$E,$L$1,SYNTHESE!$F:$F,\">=1\")))","v":""},{"$f":"IF($Z$2=\"pok\",\"\",IF(A192=\"\",\"\",COUNTIFS(SYNTHESE!$D:$D,A192,SYNTHESE!$E:$E,$M$1,SYNTHESE!$F:$F,\">=1\")))","v":""},{"$f":"IF($Z$2=\"pok\",\"\",IF(A192=\"\",\"\",COUNTIFS(SYNTHESE!$D:$D,A192,SYNTHESE!$E:$E,$N$1,SYNTHESE!$F:$F,\">=1\")))","v":""},{"$f":"IF($Z$2=\"pok\",\"\",IF(A192=\"\",\"\",COUNTIFS(SYNTHESE!$D:$D,A192,SYNTHESE!$E:$E,$O$1,SYNTHESE!$F:$F,\">=1\")))","v":""},{"$f":"IF($Z$2=\"pok\",\"\",IF(A192=\"\",\"\",COUNTIFS(SYNTHESE!$D:$D,A192,SYNTHESE!$E:$E,$P$1,SYNTHESE!$F:$F,\">=1\")))","v":""},{"$f":"IF($Z$2=\"pok\",\"\",IF(A192=\"\",\"\",COUNTIFS(SYNTHESE!$D:$D,A192,SYNTHESE!$E:$E,$Q$1,SYNTHESE!$F:$F,\">=1\")))","v":""},{"$f":"IF($Z$2=\"pok\",\"\",IF(A192=\"\",\"\",COUNTIFS(SYNTHESE!$D:$D,A192,SYNTHESE!$E:$E,$R$1,SYNTHESE!$F:$F,\">=1\")))","v":""},{"$f":"IF($Z$2=\"pok\",\"\",IF(A192=\"\",\"\",COUNTIFS(SYNTHESE!$D:$D,A192,SYNTHESE!$E:$E,$S$1,SYNTHESE!$F:$F,\">=1\")))","v":""},{"$f":"IF($Z$2=\"pok\",\"\",IF(A192=\"\",\"\",COUNTIFS(SYNTHESE!$D:$D,A192,SYNTHESE!$E:$E,$T$1,SYNTHESE!$F:$F,\">=1\")))","v":""},{"$f":"IF($Z$2=\"pok\",\"\",IF(A192=\"\",\"\",COUNTIFS(SYNTHESE!$D:$D,A192,SYNTHESE!$E:$E,$U$1,SYNTHESE!$F:$F,\">=1\")))","v":""},{"$f":"IF($Z$2=\"pok\",\"\",IF(A192=\"\",\"\",COUNTIFS(SYNTHESE!$D:$D,A192,SYNTHESE!$E:$E,$V$1,SYNTHESE!$F:$F,\">=1\")))","v":""},{"$f":"IF($Z$2=\"pok\",\"\",IF(A192=\"\",\"\",COUNTIFS(SYNTHESE!$D:$D,A192,SYNTHESE!$E:$E,$W$1,SYNTHESE!$F:$F,\">=1\")))","v":""},{"$f":"IF($Z$2=\"pok\",\"\",IF(A192=\"\",\"\",COUNTIFS(SYNTHESE!$D:$D,A192,SYNTHESE!$E:$E,$X$1,SYNTHESE!$F:$F,\">=1\")))","v":""},{"$f":"IF($Z$2=\"pok\",\"\",IF(A192=\"\",\"\",COUNTIFS(SYNTHESE!$D:$D,A192,SYNTHESE!$E:$E,$Y$1,SYNTHESE!$F:$F,\">=1\")))","v":""},0]
[{"$f":"IF(ETUDIANTS!A193=\"\",\"\",ETUDIANTS!A193)","v":""},{"$f":"IF($Z$2=\"pok\",\"\",IF(A193=\"\",\"\",COUNTIFS(SYNTHESE!$D:$D,A193,SYNTHESE!$E:$E,$B$1,SYNTHESE!$F:$F,\">=1\")))","v":""},{"$f":"IF($Z$2=\"pok\",\"\",IF(A193=\"\",\"\",COUNTIFS(SYNTHESE!$D:$D,A193,SYNTHESE!$E:$E,$C$1,SYNTHESE!$F:$F,\">=1\")))","v":""},{"$f":"IF($Z$2=\"pok\",\"\",IF(A193=\"\",\"\",COUNTIFS(SYNTHESE!$D:$D,A193,SYNTHESE!$E:$E,$D$1,SYNTHESE!$F:$F,\">=1\")))","v":""},{"$f":"IF($Z$2=\"pok\",\"\",IF(A193=\"\",\"\",COUNTIFS(SYNTHESE!$D:$D,A193,SYNTHESE!$E:$E,$E$1,SYNTHESE!$F:$F,\">=1\")))","v":""},{"$f":"IF($Z$2=\"pok\",\"\",IF(A193=\"\",\"\",COUNTIFS(SYNTHESE!$D:$D,A193,SYNTHESE!$E:$E,$F$1,SYNTHESE!$F:$F,\">=1\")))","v":""},{"$f":"IF($Z$2=\"pok\",\"\",IF(A193=\"\",\"\",COUNTIFS(SYNTHESE!$D:$D,A193,SYNTHESE!$E:$E,$G$1,SYNTHESE!$F:$F,\">=1\")))","v":""},{"$f":"IF($Z$2=\"pok\",\"\",IF(A193=\"\",\"\",COUNTIFS(SYNTHESE!$D:$D,A193,SYNTHESE!$E:$E,$H$1,SYNTHESE!$F:$F,\">=1\")))","v":""},{"$f":"IF($Z$2=\"pok\",\"\",IF(A193=\"\",\"\",COUNTIFS(SYNTHESE!$D:$D,A193,SYNTHESE!$E:$E,$I$1,SYNTHESE!$F:$F,\">=1\")))","v":""},{"$f":"IF($Z$2=\"pok\",\"\",IF(A193=\"\",\"\",COUNTIFS(SYNTHESE!$D:$D,A193,SYNTHESE!$E:$E,$J$1,SYNTHESE!$F:$F,\">=1\")))","v":""},{"$f":"IF($Z$2=\"pok\",\"\",IF(A193=\"\",\"\",COUNTIFS(SYNTHESE!$D:$D,A193,SYNTHESE!$E:$E,$K$1,SYNTHESE!$F:$F,\">=1\")))","v":""},{"$f":"IF($Z$2=\"pok\",\"\",IF(A193=\"\",\"\",COUNTIFS(SYNTHESE!$D:$D,A193,SYNTHESE!$E:$E,$L$1,SYNTHESE!$F:$F,\">=1\")))","v":""},{"$f":"IF($Z$2=\"pok\",\"\",IF(A193=\"\",\"\",COUNTIFS(SYNTHESE!$D:$D,A193,SYNTHESE!$E:$E,$M$1,SYNTHESE!$F:$F,\">=1\")))","v":""},{"$f":"IF($Z$2=\"pok\",\"\",IF(A193=\"\",\"\",COUNTIFS(SYNTHESE!$D:$D,A193,SYNTHESE!$E:$E,$N$1,SYNTHESE!$F:$F,\">=1\")))","v":""},{"$f":"IF($Z$2=\"pok\",\"\",IF(A193=\"\",\"\",COUNTIFS(SYNTHESE!$D:$D,A193,SYNTHESE!$E:$E,$O$1,SYNTHESE!$F:$F,\">=1\")))","v":""},{"$f":"IF($Z$2=\"pok\",\"\",IF(A193=\"\",\"\",COUNTIFS(SYNTHESE!$D:$D,A193,SYNTHESE!$E:$E,$P$1,SYNTHESE!$F:$F,\">=1\")))","v":""},{"$f":"IF($Z$2=\"pok\",\"\",IF(A193=\"\",\"\",COUNTIFS(SYNTHESE!$D:$D,A193,SYNTHESE!$E:$E,$Q$1,SYNTHESE!$F:$F,\">=1\")))","v":""},{"$f":"IF($Z$2=\"pok\",\"\",IF(A193=\"\",\"\",COUNTIFS(SYNTHESE!$D:$D,A193,SYNTHESE!$E:$E,$R$1,SYNTHESE!$F:$F,\">=1\")))","v":""},{"$f":"IF($Z$2=\"pok\",\"\",IF(A193=\"\",\"\",COUNTIFS(SYNTHESE!$D:$D,A193,SYNTHESE!$E:$E,$S$1,SYNTHESE!$F:$F,\">=1\")))","v":""},{"$f":"IF($Z$2=\"pok\",\"\",IF(A193=\"\",\"\",COUNTIFS(SYNTHESE!$D:$D,A193,SYNTHESE!$E:$E,$T$1,SYNTHESE!$F:$F,\">=1\")))","v":""},{"$f":"IF($Z$2=\"pok\",\"\",IF(A193=\"\",\"\",COUNTIFS(SYNTHESE!$D:$D,A193,SYNTHESE!$E:$E,$U$1,SYNTHESE!$F:$F,\">=1\")))","v":""},{"$f":"IF($Z$2=\"pok\",\"\",IF(A193=\"\",\"\",COUNTIFS(SYNTHESE!$D:$D,A193,SYNTHESE!$E:$E,$V$1,SYNTHESE!$F:$F,\">=1\")))","v":""},{"$f":"IF($Z$2=\"pok\",\"\",IF(A193=\"\",\"\",COUNTIFS(SYNTHESE!$D:$D,A193,SYNTHESE!$E:$E,$W$1,SYNTHESE!$F:$F,\">=1\")))","v":""},{"$f":"IF($Z$2=\"pok\",\"\",IF(A193=\"\",\"\",COUNTIFS(SYNTHESE!$D:$D,A193,SYNTHESE!$E:$E,$X$1,SYNTHESE!$F:$F,\">=1\")))","v":""},{"$f":"IF($Z$2=\"pok\",\"\",IF(A193=\"\",\"\",COUNTIFS(SYNTHESE!$D:$D,A193,SYNTHESE!$E:$E,$Y$1,SYNTHESE!$F:$F,\">=1\")))","v":""},0]
[{"$f":"IF(ETUDIANTS!A194=\"\",\"\",ETUDIANTS!A194)","v":""},{"$f":"IF($Z$2=\"pok\",\"\",IF(A194=\"\",\"\",COUNTIFS(SYNTHESE!$D:$D,A194,SYNTHESE!$E:$E,$B$1,SYNTHESE!$F:$F,\">=1\")))","v":""},{"$f":"IF($Z$2=\"pok\",\"\",IF(A194=\"\",\"\",COUNTIFS(SYNTHESE!$D:$D,A194,SYNTHESE!$E:$E,$C$1,SYNTHESE!$F:$F,\">=1\")))","v":""},{"$f":"IF($Z$2=\"pok\",\"\",IF(A194=\"\",\"\",COUNTIFS(SYNTHESE!$D:$D,A194,SYNTHESE!$E:$E,$D$1,SYNTHESE!$F:$F,\">=1\")))","v":""},{"$f":"IF($Z$2=\"pok\",\"\",IF(A194=\"\",\"\",COUNTIFS(SYNTHESE!$D:$D,A194,SYNTHESE!$E:$E,$E$1,SYNTHESE!$F:$F,\">=1\")))","v":""},{"$f":"IF($Z$2=\"pok\",\"\",IF(A194=\"\",\"\",COUNTIFS(SYNTHESE!$D:$D,A194,SYNTHESE!$E:$E,$F$1,SYNTHESE!$F:$F,\">=1\")))","v":""},{"$f":"IF($Z$2=\"pok\",\"\",IF(A194=\"\",\"\",COUNTIFS(SYNTHESE!$D:$D,A194,SYNTHESE!$E:$E,$G$1,SYNTHESE!$F:$F,\">=1\")))","v":""},{"$f":"IF($Z$2=\"pok\",\"\",IF(A194=\"\",\"\",COUNTIFS(SYNTHESE!$D:$D,A194,SYNTHESE!$E:$E,$H$1,SYNTHESE!$F:$F,\">=1\")))","v":""},{"$f":"IF($Z$2=\"pok\",\"\",IF(A194=\"\",\"\",COUNTIFS(SYNTHESE!$D:$D,A194,SYNTHESE!$E:$E,$I$1,SYNTHESE!$F:$F,\">=1\")))","v":""},{"$f":"IF($Z$2=\"pok\",\"\",IF(A194=\"\",\"\",COUNTIFS(SYNTHESE!$D:$D,A194,SYNTHESE!$E:$E,$J$1,SYNTHESE!$F:$F,\">=1\")))","v":""},{"$f":"IF($Z$2=\"pok\",\"\",IF(A194=\"\",\"\",COUNTIFS(SYNTHESE!$D:$D,A194,SYNTHESE!$E:$E,$K$1,SYNTHESE!$F:$F,\">=1\")))","v":""},{"$f":"IF($Z$2=\"pok\",\"\",IF(A194=\"\",\"\",COUNTIFS(SYNTHESE!$D:$D,A194,SYNTHESE!$E:$E,$L$1,SYNTHESE!$F:$F,\">=1\")))","v":""},{"$f":"IF($Z$2=\"pok\",\"\",IF(A194=\"\",\"\",COUNTIFS(SYNTHESE!$D:$D,A194,SYNTHESE!$E:$E,$M$1,SYNTHESE!$F:$F,\">=1\")))","v":""},{"$f":"IF($Z$2=\"pok\",\"\",IF(A194=\"\",\"\",COUNTIFS(SYNTHESE!$D:$D,A194,SYNTHESE!$E:$E,$N$1,SYNTHESE!$F:$F,\">=1\")))","v":""},{"$f":"IF($Z$2=\"pok\",\"\",IF(A194=\"\",\"\",COUNTIFS(SYNTHESE!$D:$D,A194,SYNTHESE!$E:$E,$O$1,SYNTHESE!$F:$F,\">=1\")))","v":""},{"$f":"IF($Z$2=\"pok\",\"\",IF(A194=\"\",\"\",COUNTIFS(SYNTHESE!$D:$D,A194,SYNTHESE!$E:$E,$P$1,SYNTHESE!$F:$F,\">=1\")))","v":""},{"$f":"IF($Z$2=\"pok\",\"\",IF(A194=\"\",\"\",COUNTIFS(SYNTHESE!$D:$D,A194,SYNTHESE!$E:$E,$Q$1,SYNTHESE!$F:$F,\">=1\")))","v":""},{"$f":"IF($Z$2=\"pok\",\"\",IF(A194=\"\",\"\",COUNTIFS(SYNTHESE!$D:$D,A194,SYNTHESE!$E:$E,$R$1,SYNTHESE!$F:$F,\">=1\")))","v":""},{"$f":"IF($Z$2=\"pok\",\"\",IF(A194=\"\",\"\",COUNTIFS(SYNTHESE!$D:$D,A194,SYNTHESE!$E:$E,$S$1,SYNTHESE!$F:$F,\">=1\")))","v":""},{"$f":"IF($Z$2=\"pok\",\"\",IF(A194=\"\",\"\",COUNTIFS(SYNTHESE!$D:$D,A194,SYNTHESE!$E:$E,$T$1,SYNTHESE!$F:$F,\">=1\")))","v":""},{"$f":"IF($Z$2=\"pok\",\"\",IF(A194=\"\",\"\",COUNTIFS(SYNTHESE!$D:$D,A194,SYNTHESE!$E:$E,$U$1,SYNTHESE!$F:$F,\">=1\")))","v":""},{"$f":"IF($Z$2=\"pok\",\"\",IF(A194=\"\",\"\",COUNTIFS(SYNTHESE!$D:$D,A194,SYNTHESE!$E:$E,$V$1,SYNTHESE!$F:$F,\">=1\")))","v":""},{"$f":"IF($Z$2=\"pok\",\"\",IF(A194=\"\",\"\",COUNTIFS(SYNTHESE!$D:$D,A194,SYNTHESE!$E:$E,$W$1,SYNTHESE!$F:$F,\">=1\")))","v":""},{"$f":"IF($Z$2=\"pok\",\"\",IF(A194=\"\",\"\",COUNTIFS(SYNTHESE!$D:$D,A194,SYNTHESE!$E:$E,$X$1,SYNTHESE!$F:$F,\">=1\")))","v":""},{"$f":"IF($Z$2=\"pok\",\"\",IF(A194=\"\",\"\",COUNTIFS(SYNTHESE!$D:$D,A194,SYNTHESE!$E:$E,$Y$1,SYNTHESE!$F:$F,\">=1\")))","v":""},0]
[{"$f":"IF(ETUDIANTS!A195=\"\",\"\",ETUDIANTS!A195)","v":""},{"$f":"IF($Z$2=\"pok\",\"\",IF(A195=\"\",\"\",COUNTIFS(SYNTHESE!$D:$D,A195,SYNTHESE!$E:$E,$B$1,SYNTHESE!$F:$F,\">=1\")))","v":""},{"$f":"IF($Z$2=\"pok\",\"\",IF(A195=\"\",\"\",COUNTIFS(SYNTHESE!$D:$D,A195,SYNTHESE!$E:$E,$C$1,SYNTHESE!$F:$F,\">=1\")))","v":""},{"$f":"IF($Z$2=\"pok\",\"\",IF(A195=\"\",\"\",COUNTIFS(SYNTHESE!$D:$D,A195,SYNTHESE!$E:$E,$D$1,SYNTHESE!$F:$F,\">=1\")))","v":""},{"$f":"IF($Z$2=\"pok\",\"\",IF(A195=\"\",\"\",COUNTIFS(SYNTHESE!$D:$D,A195,SYNTHESE!$E:$E,$E$1,SYNTHESE!$F:$F,\">=1\")))","v":""},{"$f":"IF($Z$2=\"pok\",\"\",IF(A195=\"\",\"\",COUNTIFS(SYNTHESE!$D:$D,A195,SYNTHESE!$E:$E,$F$1,SYNTHESE!$F:$F,\">=1\")))","v":""},{"$f":"IF($Z$2=\"pok\",\"\",IF(A195=\"\",\"\",COUNTIFS(SYNTHESE!$D:$D,A195,SYNTHESE!$E:$E,$G$1,SYNTHESE!$F:$F,\">=1\")))","v":""},{"$f":"IF($Z$2=\"pok\",\"\",IF(A195=\"\",\"\",COUNTIFS(SYNTHESE!$D:$D,A195,SYNTHESE!$E:$E,$H$1,SYNTHESE!$F:$F,\">=1\")))","v":""},{"$f":"IF($Z$2=\"pok\",\"\",IF(A195=\"\",\"\",COUNTIFS(SYNTHESE!$D:$D,A195,SYNTHESE!$E:$E,$I$1,SYNTHESE!$F:$F,\">=1\")))","v":""},{"$f":"IF($Z$2=\"pok\",\"\",IF(A195=\"\",\"\",COUNTIFS(SYNTHESE!$D:$D,A195,SYNTHESE!$E:$E,$J$1,SYNTHESE!$F:$F,\">=1\")))","v":""},{"$f":"IF($Z$2=\"pok\",\"\",IF(A195=\"\",\"\",COUNTIFS(SYNTHESE!$D:$D,A195,SYNTHESE!$E:$E,$K$1,SYNTHESE!$F:$F,\">=1\")))","v":""},{"$f":"IF($Z$2=\"pok\",\"\",IF(A195=\"\",\"\",COUNTIFS(SYNTHESE!$D:$D,A195,SYNTHESE!$E:$E,$L$1,SYNTHESE!$F:$F,\">=1\")))","v":""},{"$f":"IF($Z$2=\"pok\",\"\",IF(A195=\"\",\"\",COUNTIFS(SYNTHESE!$D:$D,A195,SYNTHESE!$E:$E,$M$1,SYNTHESE!$F:$F,\">=1\")))","v":""},{"$f":"IF($Z$2=\"pok\",\"\",IF(A195=\"\",\"\",COUNTIFS(SYNTHESE!$D:$D,A195,SYNTHESE!$E:$E,$N$1,SYNTHESE!$F:$F,\">=1\")))","v":""},{"$f":"IF($Z$2=\"pok\",\"\",IF(A195=\"\",\"\",COUNTIFS(SYNTHESE!$D:$D,A195,SYNTHESE!$E:$E,$O$1,SYNTHESE!$F:$F,\">=1\")))","v":""},{"$f":"IF($Z$2=\"pok\",\"\",IF(A195=\"\",\"\",COUNTIFS(SYNTHESE!$D:$D,A195,SYNTHESE!$E:$E,$P$1,SYNTHESE!$F:$F,\">=1\")))","v":""},{"$f":"IF($Z$2=\"pok\",\"\",IF(A195=\"\",\"\",COUNTIFS(SYNTHESE!$D:$D,A195,SYNTHESE!$E:$E,$Q$1,SYNTHESE!$F:$F,\">=1\")))","v":""},{"$f":"IF($Z$2=\"pok\",\"\",IF(A195=\"\",\"\",COUNTIFS(SYNTHESE!$D:$D,A195,SYNTHESE!$E:$E,$R$1,SYNTHESE!$F:$F,\">=1\")))","v":""},{"$f":"IF($Z$2=\"pok\",\"\",IF(A195=\"\",\"\",COUNTIFS(SYNTHESE!$D:$D,A195,SYNTHESE!$E:$E,$S$1,SYNTHESE!$F:$F,\">=1\")))","v":""},{"$f":"IF($Z$2=\"pok\",\"\",IF(A195=\"\",\"\",COUNTIFS(SYNTHESE!$D:$D,A195,SYNTHESE!$E:$E,$T$1,SYNTHESE!$F:$F,\">=1\")))","v":""},{"$f":"IF($Z$2=\"pok\",\"\",IF(A195=\"\",\"\",COUNTIFS(SYNTHESE!$D:$D,A195,SYNTHESE!$E:$E,$U$1,SYNTHESE!$F:$F,\">=1\")))","v":""},{"$f":"IF($Z$2=\"pok\",\"\",IF(A195=\"\",\"\",COUNTIFS(SYNTHESE!$D:$D,A195,SYNTHESE!$E:$E,$V$1,SYNTHESE!$F:$F,\">=1\")))","v":""},{"$f":"IF($Z$2=\"pok\",\"\",IF(A195=\"\",\"\",COUNTIFS(SYNTHESE!$D:$D,A195,SYNTHESE!$E:$E,$W$1,SYNTHESE!$F:$F,\">=1\")))","v":""},{"$f":"IF($Z$2=\"pok\",\"\",IF(A195=\"\",\"\",COUNTIFS(SYNTHESE!$D:$D,A195,SYNTHESE!$E:$E,$X$1,SYNTHESE!$F:$F,\">=1\")))","v":""},{"$f":"IF($Z$2=\"pok\",\"\",IF(A195=\"\",\"\",COUNTIFS(SYNTHESE!$D:$D,A195,SYNTHESE!$E:$E,$Y$1,SYNTHESE!$F:$F,\">=1\")))","v":""},0]
[{"$f":"IF(ETUDIANTS!A196=\"\",\"\",ETUDIANTS!A196)","v":""},{"$f":"IF($Z$2=\"pok\",\"\",IF(A196=\"\",\"\",COUNTIFS(SYNTHESE!$D:$D,A196,SYNTHESE!$E:$E,$B$1,SYNTHESE!$F:$F,\">=1\")))","v":""},{"$f":"IF($Z$2=\"pok\",\"\",IF(A196=\"\",\"\",COUNTIFS(SYNTHESE!$D:$D,A196,SYNTHESE!$E:$E,$C$1,SYNTHESE!$F:$F,\">=1\")))","v":""},{"$f":"IF($Z$2=\"pok\",\"\",IF(A196=\"\",\"\",COUNTIFS(SYNTHESE!$D:$D,A196,SYNTHESE!$E:$E,$D$1,SYNTHESE!$F:$F,\">=1\")))","v":""},{"$f":"IF($Z$2=\"pok\",\"\",IF(A196=\"\",\"\",COUNTIFS(SYNTHESE!$D:$D,A196,SYNTHESE!$E:$E,$E$1,SYNTHESE!$F:$F,\">=1\")))","v":""},{"$f":"IF($Z$2=\"pok\",\"\",IF(A196=\"\",\"\",COUNTIFS(SYNTHESE!$D:$D,A196,SYNTHESE!$E:$E,$F$1,SYNTHESE!$F:$F,\">=1\")))","v":""},{"$f":"IF($Z$2=\"pok\",\"\",IF(A196=\"\",\"\",COUNTIFS(SYNTHESE!$D:$D,A196,SYNTHESE!$E:$E,$G$1,SYNTHESE!$F:$F,\">=1\")))","v":""},{"$f":"IF($Z$2=\"pok\",\"\",IF(A196=\"\",\"\",COUNTIFS(SYNTHESE!$D:$D,A196,SYNTHESE!$E:$E,$H$1,SYNTHESE!$F:$F,\">=1\")))","v":""},{"$f":"IF($Z$2=\"pok\",\"\",IF(A196=\"\",\"\",COUNTIFS(SYNTHESE!$D:$D,A196,SYNTHESE!$E:$E,$I$1,SYNTHESE!$F:$F,\">=1\")))","v":""},{"$f":"IF($Z$2=\"pok\",\"\",IF(A196=\"\",\"\",COUNTIFS(SYNTHESE!$D:$D,A196,SYNTHESE!$E:$E,$J$1,SYNTHESE!$F:$F,\">=1\")))","v":""},{"$f":"IF($Z$2=\"pok\",\"\",IF(A196=\"\",\"\",COUNTIFS(SYNTHESE!$D:$D,A196,SYNTHESE!$E:$E,$K$1,SYNTHESE!$F:$F,\">=1\")))","v":""},{"$f":"IF($Z$2=\"pok\",\"\",IF(A196=\"\",\"\",COUNTIFS(SYNTHESE!$D:$D,A196,SYNTHESE!$E:$E,$L$1,SYNTHESE!$F:$F,\">=1\")))","v":""},{"$f":"IF($Z$2=\"pok\",\"\",IF(A196=\"\",\"\",COUNTIFS(SYNTHESE!$D:$D,A196,SYNTHESE!$E:$E,$M$1,SYNTHESE!$F:$F,\">=1\")))","v":""},{"$f":"IF($Z$2=\"pok\",\"\",IF(A196=\"\",\"\",COUNTIFS(SYNTHESE!$D:$D,A196,SYNTHESE!$E:$E,$N$1,SYNTHESE!$F:$F,\">=1\")))","v":""},{"$f":"IF($Z$2=\"pok\",\"\",IF(A196=\"\",\"\",COUNTIFS(SYNTHESE!$D:$D,A196,SYNTHESE!$E:$E,$O$1,SYNTHESE!$F:$F,\">=1\")))","v":""},{"$f":"IF($Z$2=\"pok\",\"\",IF(A196=\"\",\"\",COUNTIFS(SYNTHESE!$D:$D,A196,SYNTHESE!$E:$E,$P$1,SYNTHESE!$F:$F,\">=1\")))","v":""},{"$f":"IF($Z$2=\"pok\",\"\",IF(A196=\"\",\"\",COUNTIFS(SYNTHESE!$D:$D,A196,SYNTHESE!$E:$E,$Q$1,SYNTHESE!$F:$F,\">=1\")))","v":""},{"$f":"IF($Z$2=\"pok\",\"\",IF(A196=\"\",\"\",COUNTIFS(SYNTHESE!$D:$D,A196,SYNTHESE!$E:$E,$R$1,SYNTHESE!$F:$F,\">=1\")))","v":""},{"$f":"IF($Z$2=\"pok\",\"\",IF(A196=\"\",\"\",COUNTIFS(SYNTHESE!$D:$D,A196,SYNTHESE!$E:$E,$S$1,SYNTHESE!$F:$F,\">=1\")))","v":""},{"$f":"IF($Z$2=\"pok\",\"\",IF(A196=\"\",\"\",COUNTIFS(SYNTHESE!$D:$D,A196,SYNTHESE!$E:$E,$T$1,SYNTHESE!$F:$F,\">=1\")))","v":""},{"$f":"IF($Z$2=\"pok\",\"\",IF(A196=\"\",\"\",COUNTIFS(SYNTHESE!$D:$D,A196,SYNTHESE!$E:$E,$U$1,SYNTHESE!$F:$F,\">=1\")))","v":""},{"$f":"IF($Z$2=\"pok\",\"\",IF(A196=\"\",\"\",COUNTIFS(SYNTHESE!$D:$D,A196,SYNTHESE!$E:$E,$V$1,SYNTHESE!$F:$F,\">=1\")))","v":""},{"$f":"IF($Z$2=\"pok\",\"\",IF(A196=\"\",\"\",COUNTIFS(SYNTHESE!$D:$D,A196,SYNTHESE!$E:$E,$W$1,SYNTHESE!$F:$F,\">=1\")))","v":""},{"$f":"IF($Z$2=\"pok\",\"\",IF(A196=\"\",\"\",COUNTIFS(SYNTHESE!$D:$D,A196,SYNTHESE!$E:$E,$X$1,SYNTHESE!$F:$F,\">=1\")))","v":""},{"$f":"IF($Z$2=\"pok\",\"\",IF(A196=\"\",\"\",COUNTIFS(SYNTHESE!$D:$D,A196,SYNTHESE!$E:$E,$Y$1,SYNTHESE!$F:$F,\">=1\")))","v":""},{"$f":"SUM(B196:Y196)","v":0}]
[{"$f":"IF(ETUDIANTS!A197=\"\",\"\",ETUDIANTS!A197)","v":""},{"$f":"IF($Z$2=\"pok\",\"\",IF(A197=\"\",\"\",COUNTIFS(SYNTHESE!$D:$D,A197,SYNTHESE!$E:$E,$B$1,SYNTHESE!$F:$F,\">=1\")))","v":""},{"$f":"IF($Z$2=\"pok\",\"\",IF(A197=\"\",\"\",COUNTIFS(SYNTHESE!$D:$D,A197,SYNTHESE!$E:$E,$C$1,SYNTHESE!$F:$F,\">=1\")))","v":""},{"$f":"IF($Z$2=\"pok\",\"\",IF(A197=\"\",\"\",COUNTIFS(SYNTHESE!$D:$D,A197,SYNTHESE!$E:$E,$D$1,SYNTHESE!$F:$F,\">=1\")))","v":""},{"$f":"IF($Z$2=\"pok\",\"\",IF(A197=\"\",\"\",COUNTIFS(SYNTHESE!$D:$D,A197,SYNTHESE!$E:$E,$E$1,SYNTHESE!$F:$F,\">=1\")))","v":""},{"$f":"IF($Z$2=\"pok\",\"\",IF(A197=\"\",\"\",COUNTIFS(SYNTHESE!$D:$D,A197,SYNTHESE!$E:$E,$F$1,SYNTHESE!$F:$F,\">=1\")))","v":""},{"$f":"IF($Z$2=\"pok\",\"\",IF(A197=\"\",\"\",COUNTIFS(SYNTHESE!$D:$D,A197,SYNTHESE!$E:$E,$G$1,SYNTHESE!$F:$F,\">=1\")))","v":""},{"$f":"IF($Z$2=\"pok\",\"\",IF(A197=\"\",\"\",COUNTIFS(SYNTHESE!$D:$D,A197,SYNTHESE!$E:$E,$H$1,SYNTHESE!$F:$F,\">=1\")))","v":""},{"$f":"IF($Z$2=\"pok\",\"\",IF(A197=\"\",\"\",COUNTIFS(SYNTHESE!$D:$D,A197,SYNTHESE!$E:$E,$I$1,SYNTHESE!$F:$F,\">=1\")))","v":""},{"$f":"IF($Z$2=\"pok\",\"\",IF(A197=\"\",\"\",COUNTIFS(SYNTHESE!$D:$D,A197,SYNTHESE!$E:$E,$J$1,SYNTHESE!$F:$F,\">=1\")))","v":""},{"$f":"IF($Z$2=\"pok\",\"\",IF(A197=\"\",\"\",COUNTIFS(SYNTHESE!$D:$D,A197,SYNTHESE!$E:$E,$K$1,SYNTHESE!$F:$F,\">=1\")))","v":""},{"$f":"IF($Z$2=\"pok\",\"\",IF(A197=\"\",\"\",COUNTIFS(SYNTHESE!$D:$D,A197,SYNTHESE!$E:$E,$L$1,SYNTHESE!$F:$F,\">=1\")))","v":""},{"$f":"IF($Z$2=\"pok\",\"\",IF(A197=\"\",\"\",COUNTIFS(SYNTHESE!$D:$D,A197,SYNTHESE!$E:$E,$M$1,SYNTHESE!$F:$F,\">=1\")))","v":""},{"$f":"IF($Z$2=\"pok\",\"\",IF(A197=\"\",\"\",COUNTIFS(SYNTHESE!$D:$D,A197,SYNTHESE!$E:$E,$N$1,SYNTHESE!$F:$F,\">=1\")))","v":""},{"$f":"IF($Z$2=\"pok\",\"\",IF(A197=\"\",\"\",COUNTIFS(SYNTHESE!$D:$D,A197,SYNTHESE!$E:$E,$O$1,SYNTHESE!$F:$F,\">=1\")))","v":""},{"$f":"IF($Z$2=\"pok\",\"\",IF(A197=\"\",\"\",COUNTIFS(SYNTHESE!$D:$D,A197,SYNTHESE!$E:$E,$P$1,SYNTHESE!$F:$F,\">=1\")))","v":""},{"$f":"IF($Z$2=\"pok\",\"\",IF(A197=\"\",\"\",COUNTIFS(SYNTHESE!$D:$D,A197,SYNTHESE!$E:$E,$Q$1,SYNTHESE!$F:$F,\">=1\")))","v":""},{"$f":"IF($Z$2=\"pok\",\"\",IF(A197=\"\",\"\",COUNTIFS(SYNTHESE!$D:$D,A197,SYNTHESE!$E:$E,$R$1,SYNTHESE!$F:$F,\">=1\")))","v":""},{"$f":"IF($Z$2=\"pok\",\"\",IF(A197=\"\",\"\",COUNTIFS(SYNTHESE!$D:$D,A197,SYNTHESE!$E:$E,$S$1,SYNTHESE!$F:$F,\">=1\")))","v":""},{"$f":"IF($Z$2=\"pok\",\"\",IF(A197=\"\",\"\",COUNTIFS(SYNTHESE!$D:$D,A197,SYNTHESE!$E:$E,$T$1,SYNTHESE!$F:$F,\">=1\")))","v":""},{"$f":"IF($Z$2=\"pok\",\"\",IF(A197=\"\",\"\",COUNTIFS(SYNTHESE!$D:$D,A197,SYNTHESE!$E:$E,$U$1,SYNTHESE!$F:$F,\">=1\")))","v":""},{"$f":"IF($Z$2=\"pok\",\"\",IF(A197=\"\",\"\",COUNTIFS(SYNTHESE!$D:$D,A197,SYNTHESE!$E:$E,$V$1,SYNTHESE!$F:$F,\">=1\")))","v":""},{"$f":"IF($Z$2=\"pok\",\"\",IF(A197=\"\",\"\",COUNTIFS(SYNTHESE!$D:$D,A197,SYNTHESE!$E:$E,$W$1,SYNTHESE!$F:$F,\">=1\")))","v":""},{"$f":"IF($Z$2=\"pok\",\"\",IF(A197=\"\",\"\",COUNTIFS(SYNTHESE!$D:$D,A197,SYNTHESE!$E:$E,$X$1,SYNTHESE!$F:$F,\">=1\")))","v":""},{"$f":"IF($Z$2=\"pok\",\"\",IF(A197=\"\",\"\",COUNTIFS(SYNTHESE!$D:$D,A197,SYNTHESE!$E:$E,$Y$1,SYNTHESE!$F:$F,\">=1\")))","v":""},0]
[{"$f":"IF(ETUDIANTS!A198=\"\",\"\",ETUDIANTS!A198)","v":""},{"$f":"IF($Z$2=\"pok\",\"\",IF(A198=\"\",\"\",COUNTIFS(SYNTHESE!$D:$D,A198,SYNTHESE!$E:$E,$B$1,SYNTHESE!$F:$F,\">=1\")))","v":""},{"$f":"IF($Z$2=\"pok\",\"\",IF(A198=\"\",\"\",COUNTIFS(SYNTHESE!$D:$D,A198,SYNTHESE!$E:$E,$C$1,SYNTHESE!$F:$F,\">=1\")))","v":""},{"$f":"IF($Z$2=\"pok\",\"\",IF(A198=\"\",\"\",COUNTIFS(SYNTHESE!$D:$D,A198,SYNTHESE!$E:$E,$D$1,SYNTHESE!$F:$F,\">=1\")))","v":""},{"$f":"IF($Z$2=\"pok\",\"\",IF(A198=\"\",\"\",COUNTIFS(SYNTHESE!$D:$D,A198,SYNTHESE!$E:$E,$E$1,SYNTHESE!$F:$F,\">=1\")))","v":""},{"$f":"IF($Z$2=\"pok\",\"\",IF(A198=\"\",\"\",COUNTIFS(SYNTHESE!$D:$D,A198,SYNTHESE!$E:$E,$F$1,SYNTHESE!$F:$F,\">=1\")))","v":""},{"$f":"IF($Z$2=\"pok\",\"\",IF(A198=\"\",\"\",COUNTIFS(SYNTHESE!$D:$D,A198,SYNTHESE!$E:$E,$G$1,SYNTHESE!$F:$F,\">=1\")))","v":""},{"$f":"IF($Z$2=\"pok\",\"\",IF(A198=\"\",\"\",COUNTIFS(SYNTHESE!$D:$D,A198,SYNTHESE!$E:$E,$H$1,SYNTHESE!$F:$F,\">=1\")))","v":""},{"$f":"IF($Z$2=\"pok\",\"\",IF(A198=\"\",\"\",COUNTIFS(SYNTHESE!$D:$D,A198,SYNTHESE!$E:$E,$I$1,SYNTHESE!$F:$F,\">=1\")))","v":""},{"$f":"IF($Z$2=\"pok\",\"\",IF(A198=\"\",\"\",COUNTIFS(SYNTHESE!$D:$D,A198,SYNTHESE!$E:$E,$J$1,SYNTHESE!$F:$F,\">=1\")))","v":""},{"$f":"IF($Z$2=\"pok\",\"\",IF(A198=\"\",\"\",COUNTIFS(SYNTHESE!$D:$D,A198,SYNTHESE!$E:$E,$K$1,SYNTHESE!$F:$F,\">=1\")))","v":""},{"$f":"IF($Z$2=\"pok\",\"\",IF(A198=\"\",\"\",COUNTIFS(SYNTHESE!$D:$D,A198,SYNTHESE!$E:$E,$L$1,SYNTHESE!$F:$F,\">=1\")))","v":""},{"$f":"IF($Z$2=\"pok\",\"\",IF(A198=\"\",\"\",COUNTIFS(SYNTHESE!$D:$D,A198,SYNTHESE!$E:$E,$M$1,SYNTHESE!$F:$F,\">=1\")))","v":""},{"$f":"IF($Z$2=\"pok\",\"\",IF(A198=\"\",\"\",COUNTIFS(SYNTHESE!$D:$D,A198,SYNTHESE!$E:$E,$N$1,SYNTHESE!$F:$F,\">=1\")))","v":""},{"$f":"IF($Z$2=\"pok\",\"\",IF(A198=\"\",\"\",COUNTIFS(SYNTHESE!$D:$D,A198,SYNTHESE!$E:$E,$O$1,SYNTHESE!$F:$F,\">=1\")))","v":""},{"$f":"IF($Z$2=\"pok\",\"\",IF(A198=\"\",\"\",COUNTIFS(SYNTHESE!$D:$D,A198,SYNTHESE!$E:$E,$P$1,SYNTHESE!$F:$F,\">=1\")))","v":""},{"$f":"IF($Z$2=\"pok\",\"\",IF(A198=\"\",\"\",COUNTIFS(SYNTHESE!$D:$D,A198,SYNTHESE!$E:$E,$Q$1,SYNTHESE!$F:$F,\">=1\")))","v":""},{"$f":"IF($Z$2=\"pok\",\"\",IF(A198=\"\",\"\",COUNTIFS(SYNTHESE!$D:$D,A198,SYNTHESE!$E:$E,$R$1,SYNTHESE!$F:$F,\">=1\")))","v":""},{"$f":"IF($Z$2=\"pok\",\"\",IF(A198=\"\",\"\",COUNTIFS(SYNTHESE!$D:$D,A198,SYNTHESE!$E:$E,$S$1,SYNTHESE!$F:$F,\">=1\")))","v":""},{"$f":"IF($Z$2=\"pok\",\"\",IF(A198=\"\",\"\",COUNTIFS(SYNTHESE!$D:$D,A198,SYNTHESE!$E:$E,$T$1,SYNTHESE!$F:$F,\">=1\")))","v":""},{"$f":"IF($Z$2=\"pok\",\"\",IF(A198=\"\",\"\",COUNTIFS(SYNTHESE!$D:$D,A198,SYNTHESE!$E:$E,$U$1,SYNTHESE!$F:$F,\">=1\")))","v":""},{"$f":"IF($Z$2=\"pok\",\"\",IF(A198=\"\",\"\",COUNTIFS(SYNTHESE!$D:$D,A198,SYNTHESE!$E:$E,$V$1,SYNTHESE!$F:$F,\">=1\")))","v":""},{"$f":"IF($Z$2=\"pok\",\"\",IF(A198=\"\",\"\",COUNTIFS(SYNTHESE!$D:$D,A198,SYNTHESE!$E:$E,$W$1,SYNTHESE!$F:$F,\">=1\")))","v":""},{"$f":"IF($Z$2=\"pok\",\"\",IF(A198=\"\",\"\",COUNTIFS(SYNTHESE!$D:$D,A198,SYNTHESE!$E:$E,$X$1,SYNTHESE!$F:$F,\">=1\")))","v":""},{"$f":"IF($Z$2=\"pok\",\"\",IF(A198=\"\",\"\",COUNTIFS(SYNTHESE!$D:$D,A198,SYNTHESE!$E:$E,$Y$1,SYNTHESE!$F:$F,\">=1\")))","v":""},0]
[{"$f":"IF(ETUDIANTS!A199=\"\",\"\",ETUDIANTS!A199)","v":""},{"$f":"IF($Z$2=\"pok\",\"\",IF(A199=\"\",\"\",COUNTIFS(SYNTHESE!$D:$D,A199,SYNTHESE!$E:$E,$B$1,SYNTHESE!$F:$F,\">=1\")))","v":""},{"$f":"IF($Z$2=\"pok\",\"\",IF(A199=\"\",\"\",COUNTIFS(SYNTHESE!$D:$D,A199,SYNTHESE!$E:$E,$C$1,SYNTHESE!$F:$F,\">=1\")))","v":""},{"$f":"IF($Z$2=\"pok\",\"\",IF(A199=\"\",\"\",COUNTIFS(SYNTHESE!$D:$D,A199,SYNTHESE!$E:$E,$D$1,SYNTHESE!$F:$F,\">=1\")))","v":""},{"$f":"IF($Z$2=\"pok\",\"\",IF(A199=\"\",\"\",COUNTIFS(SYNTHESE!$D:$D,A199,SYNTHESE!$E:$E,$E$1,SYNTHESE!$F:$F,\">=1\")))","v":""},{"$f":"IF($Z$2=\"pok\",\"\",IF(A199=\"\",\"\",COUNTIFS(SYNTHESE!$D:$D,A199,SYNTHESE!$E:$E,$F$1,SYNTHESE!$F:$F,\">=1\")))","v":""},{"$f":"IF($Z$2=\"pok\",\"\",IF(A199=\"\",\"\",COUNTIFS(SYNTHESE!$D:$D,A199,SYNTHESE!$E:$E,$G$1,SYNTHESE!$F:$F,\">=1\")))","v":""},{"$f":"IF($Z$2=\"pok\",\"\",IF(A199=\"\",\"\",COUNTIFS(SYNTHESE!$D:$D,A199,SYNTHESE!$E:$E,$H$1,SYNTHESE!$F:$F,\">=1\")))","v":""},{"$f":"IF($Z$2=\"pok\",\"\",IF(A199=\"\",\"\",COUNTIFS(SYNTHESE!$D:$D,A199,SYNTHESE!$E:$E,$I$1,SYNTHESE!$F:$F,\">=1\")))","v":""},{"$f":"IF($Z$2=\"pok\",\"\",IF(A199=\"\",\"\",COUNTIFS(SYNTHESE!$D:$D,A199,SYNTHESE!$E:$E,$J$1,SYNTHESE!$F:$F,\">=1\")))","v":""},{"$f":"IF($Z$2=\"pok\",\"\",IF(A199=\"\",\"\",COUNTIFS(SYNTHESE!$D:$D,A199,SYNTHESE!$E:$E,$K$1,SYNTHESE!$F:$F,\">=1\")))","v":""},{"$f":"IF($Z$2=\"pok\",\"\",IF(A199=\"\",\"\",COUNTIFS(SYNTHESE!$D:$D,A199,SYNTHESE!$E:$E,$L$1,SYNTHESE!$F:$F,\">=1\")))","v":""},{"$f":"IF($Z$2=\"pok\",\"\",IF(A199=\"\",\"\",COUNTIFS(SYNTHESE!$D:$D,A199,SYNTHESE!$E:$E,$M$1,SYNTHESE!$F:$F,\">=1\")))","v":""},{"$f":"IF($Z$2=\"pok\",\"\",IF(A199=\"\",\"\",COUNTIFS(SYNTHESE!$D:$D,A199,SYNTHESE!$E:$E,$N$1,SYNTHESE!$F:$F,\">=1\")))","v":""},{"$f":"IF($Z$2=\"pok\",\"\",IF(A199=\"\",\"\",COUNTIFS(SYNTHESE!$D:$D,A199,SYNTHESE!$E:$E,$O$1,SYNTHESE!$F:$F,\">=1\")))","v":""},{"$f":"IF($Z$2=\"pok\",\"\",IF(A199=\"\",\"\",COUNTIFS(SYNTHESE!$D:$D,A199,SYNTHESE!$E:$E,$P$1,SYNTHESE!$F:$F,\">=1\")))","v":""},{"$f":"IF($Z$2=\"pok\",\"\",IF(A199=\"\",\"\",COUNTIFS(SYNTHESE!$D:$D,A199,SYNTHESE!$E:$E,$Q$1,SYNTHESE!$F:$F,\">=1\")))","v":""},{"$f":"IF($Z$2=\"pok\",\"\",IF(A199=\"\",\"\",COUNTIFS(SYNTHESE!$D:$D,A199,SYNTHESE!$E:$E,$R$1,SYNTHESE!$F:$F,\">=1\")))","v":""},{"$f":"IF($Z$2=\"pok\",\"\",IF(A199=\"\",\"\",COUNTIFS(SYNTHESE!$D:$D,A199,SYNTHESE!$E:$E,$S$1,SYNTHESE!$F:$F,\">=1\")))","v":""},{"$f":"IF($Z$2=\"pok\",\"\",IF(A199=\"\",\"\",COUNTIFS(SYNTHESE!$D:$D,A199,SYNTHESE!$E:$E,$T$1,SYNTHESE!$F:$F,\">=1\")))","v":""},{"$f":"IF($Z$2=\"pok\",\"\",IF(A199=\"\",\"\",COUNTIFS(SYNTHESE!$D:$D,A199,SYNTHESE!$E:$E,$U$1,SYNTHESE!$F:$F,\">=1\")))","v":""},{"$f":"IF($Z$2=\"pok\",\"\",IF(A199=\"\",\"\",COUNTIFS(SYNTHESE!$D:$D,A199,SYNTHESE!$E:$E,$V$1,SYNTHESE!$F:$F,\">=1\")))","v":""},{"$f":"IF($Z$2=\"pok\",\"\",IF(A199=\"\",\"\",COUNTIFS(SYNTHESE!$D:$D,A199,SYNTHESE!$E:$E,$W$1,SYNTHESE!$F:$F,\">=1\")))","v":""},{"$f":"IF($Z$2=\"pok\",\"\",IF(A199=\"\",\"\",COUNTIFS(SYNTHESE!$D:$D,A199,SYNTHESE!$E:$E,$X$1,SYNTHESE!$F:$F,\">=1\")))","v":""},{"$f":"IF($Z$2=\"pok\",\"\",IF(A199=\"\",\"\",COUNTIFS(SYNTHESE!$D:$D,A199,SYNTHESE!$E:$E,$Y$1,SYNTHESE!$F:$F,\">=1\")))","v":""},0]
[{"$f":"IF(ETUDIANTS!A200=\"\",\"\",ETUDIANTS!A200)","v":""},{"$f":"IF($Z$2=\"pok\",\"\",IF(A200=\"\",\"\",COUNTIFS(SYNTHESE!$D:$D,A200,SYNTHESE!$E:$E,$B$1,SYNTHESE!$F:$F,\">=1\")))","v":""},{"$f":"IF($Z$2=\"pok\",\"\",IF(A200=\"\",\"\",COUNTIFS(SYNTHESE!$D:$D,A200,SYNTHESE!$E:$E,$C$1,SYNTHESE!$F:$F,\">=1\")))","v":""},{"$f":"IF($Z$2=\"pok\",\"\",IF(A200=\"\",\"\",COUNTIFS(SYNTHESE!$D:$D,A200,SYNTHESE!$E:$E,$D$1,SYNTHESE!$F:$F,\">=1\")))","v":""},{"$f":"IF($Z$2=\"pok\",\"\",IF(A200=\"\",\"\",COUNTIFS(SYNTHESE!$D:$D,A200,SYNTHESE!$E:$E,$E$1,SYNTHESE!$F:$F,\">=1\")))","v":""},{"$f":"IF($Z$2=\"pok\",\"\",IF(A200=\"\",\"\",COUNTIFS(SYNTHESE!$D:$D,A200,SYNTHESE!$E:$E,$F$1,SYNTHESE!$F:$F,\">=1\")))","v":""},{"$f":"IF($Z$2=\"pok\",\"\",IF(A200=\"\",\"\",COUNTIFS(SYNTHESE!$D:$D,A200,SYNTHESE!$E:$E,$G$1,SYNTHESE!$F:$F,\">=1\")))","v":""},{"$f":"IF($Z$2=\"pok\",\"\",IF(A200=\"\",\"\",COUNTIFS(SYNTHESE!$D:$D,A200,SYNTHESE!$E:$E,$H$1,SYNTHESE!$F:$F,\">=1\")))","v":""},{"$f":"IF($Z$2=\"pok\",\"\",IF(A200=\"\",\"\",COUNTIFS(SYNTHESE!$D:$D,A200,SYNTHESE!$E:$E,$I$1,SYNTHESE!$F:$F,\">=1\")))","v":""},{"$f":"IF($Z$2=\"pok\",\"\",IF(A200=\"\",\"\",COUNTIFS(SYNTHESE!$D:$D,A200,SYNTHESE!$E:$E,$J$1,SYNTHESE!$F:$F,\">=1\")))","v":""},{"$f":"IF($Z$2=\"pok\",\"\",IF(A200=\"\",\"\",COUNTIFS(SYNTHESE!$D:$D,A200,SYNTHESE!$E:$E,$K$1,SYNTHESE!$F:$F,\">=1\")))","v":""},{"$f":"IF($Z$2=\"pok\",\"\",IF(A200=\"\",\"\",COUNTIFS(SYNTHESE!$D:$D,A200,SYNTHESE!$E:$E,$L$1,SYNTHESE!$F:$F,\">=1\")))","v":""},{"$f":"IF($Z$2=\"pok\",\"\",IF(A200=\"\",\"\",COUNTIFS(SYNTHESE!$D:$D,A200,SYNTHESE!$E:$E,$M$1,SYNTHESE!$F:$F,\">=1\")))","v":""},{"$f":"IF($Z$2=\"pok\",\"\",IF(A200=\"\",\"\",COUNTIFS(SYNTHESE!$D:$D,A200,SYNTHESE!$E:$E,$N$1,SYNTHESE!$F:$F,\">=1\")))","v":""},{"$f":"IF($Z$2=\"pok\",\"\",IF(A200=\"\",\"\",COUNTIFS(SYNTHESE!$D:$D,A200,SYNTHESE!$E:$E,$O$1,SYNTHESE!$F:$F,\">=1\")))","v":""},{"$f":"IF($Z$2=\"pok\",\"\",IF(A200=\"\",\"\",COUNTIFS(SYNTHESE!$D:$D,A200,SYNTHESE!$E:$E,$P$1,SYNTHESE!$F:$F,\">=1\")))","v":""},{"$f":"IF($Z$2=\"pok\",\"\",IF(A200=\"\",\"\",COUNTIFS(SYNTHESE!$D:$D,A200,SYNTHESE!$E:$E,$Q$1,SYNTHESE!$F:$F,\">=1\")))","v":""},{"$f":"IF($Z$2=\"pok\",\"\",IF(A200=\"\",\"\",COUNTIFS(SYNTHESE!$D:$D,A200,SYNTHESE!$E:$E,$R$1,SYNTHESE!$F:$F,\">=1\")))","v":""},{"$f":"IF($Z$2=\"pok\",\"\",IF(A200=\"\",\"\",COUNTIFS(SYNTHESE!$D:$D,A200,SYNTHESE!$E:$E,$S$1,SYNTHESE!$F:$F,\">=1\")))","v":""},{"$f":"IF($Z$2=\"pok\",\"\",IF(A200=\"\",\"\",COUNTIFS(SYNTHESE!$D:$D,A200,SYNTHESE!$E:$E,$T$1,SYNTHESE!$F:$F,\">=1\")))","v":""},{"$f":"IF($Z$2=\"pok\",\"\",IF(A200=\"\",\"\",COUNTIFS(SYNTHESE!$D:$D,A200,SYNTHESE!$E:$E,$U$1,SYNTHESE!$F:$F,\">=1\")))","v":""},{"$f":"IF($Z$2=\"pok\",\"\",IF(A200=\"\",\"\",COUNTIFS(SYNTHESE!$D:$D,A200,SYNTHESE!$E:$E,$V$1,SYNTHESE!$F:$F,\">=1\")))","v":""},{"$f":"IF($Z$2=\"pok\",\"\",IF(A200=\"\",\"\",COUNTIFS(SYNTHESE!$D:$D,A200,SYNTHESE!$E:$E,$W$1,SYNTHESE!$F:$F,\">=1\")))","v":""},{"$f":"IF($Z$2=\"pok\",\"\",IF(A200=\"\",\"\",COUNTIFS(SYNTHESE!$D:$D,A200,SYNTHESE!$E:$E,$X$1,SYNTHESE!$F:$F,\">=1\")))","v":""},{"$f":"IF($Z$2=\"pok\",\"\",IF(A200=\"\",\"\",COUNTIFS(SYNTHESE!$D:$D,A200,SYNTHESE!$E:$E,$Y$1,SYNTHESE!$F:$F,\">=1\")))","v":""},0]
[{"$f":"IF(ETUDIANTS!A201=\"\",\"\",ETUDIANTS!A201)","v":""},{"$f":"IF($Z$2=\"pok\",\"\",IF(A201=\"\",\"\",COUNTIFS(SYNTHESE!$D:$D,A201,SYNTHESE!$E:$E,$B$1,SYNTHESE!$F:$F,\">=1\")))","v":""},{"$f":"IF($Z$2=\"pok\",\"\",IF(A201=\"\",\"\",COUNTIFS(SYNTHESE!$D:$D,A201,SYNTHESE!$E:$E,$C$1,SYNTHESE!$F:$F,\">=1\")))","v":""},{"$f":"IF($Z$2=\"pok\",\"\",IF(A201=\"\",\"\",COUNTIFS(SYNTHESE!$D:$D,A201,SYNTHESE!$E:$E,$D$1,SYNTHESE!$F:$F,\">=1\")))","v":""},{"$f":"IF($Z$2=\"pok\",\"\",IF(A201=\"\",\"\",COUNTIFS(SYNTHESE!$D:$D,A201,SYNTHESE!$E:$E,$E$1,SYNTHESE!$F:$F,\">=1\")))","v":""},{"$f":"IF($Z$2=\"pok\",\"\",IF(A201=\"\",\"\",COUNTIFS(SYNTHESE!$D:$D,A201,SYNTHESE!$E:$E,$F$1,SYNTHESE!$F:$F,\">=1\")))","v":""},{"$f":"IF($Z$2=\"pok\",\"\",IF(A201=\"\",\"\",COUNTIFS(SYNTHESE!$D:$D,A201,SYNTHESE!$E:$E,$G$1,SYNTHESE!$F:$F,\">=1\")))","v":""},{"$f":"IF($Z$2=\"pok\",\"\",IF(A201=\"\",\"\",COUNTIFS(SYNTHESE!$D:$D,A201,SYNTHESE!$E:$E,$H$1,SYNTHESE!$F:$F,\">=1\")))","v":""},{"$f":"IF($Z$2=\"pok\",\"\",IF(A201=\"\",\"\",COUNTIFS(SYNTHESE!$D:$D,A201,SYNTHESE!$E:$E,$I$1,SYNTHESE!$F:$F,\">=1\")))","v":""},{"$f":"IF($Z$2=\"pok\",\"\",IF(A201=\"\",\"\",COUNTIFS(SYNTHESE!$D:$D,A201,SYNTHESE!$E:$E,$J$1,SYNTHESE!$F:$F,\">=1\")))","v":""},{"$f":"IF($Z$2=\"pok\",\"\",IF(A201=\"\",\"\",COUNTIFS(SYNTHESE!$D:$D,A201,SYNTHESE!$E:$E,$K$1,SYNTHESE!$F:$F,\">=1\")))","v":""},{"$f":"IF($Z$2=\"pok\",\"\",IF(A201=\"\",\"\",COUNTIFS(SYNTHESE!$D:$D,A201,SYNTHESE!$E:$E,$L$1,SYNTHESE!$F:$F,\">=1\")))","v":""},{"$f":"IF($Z$2=\"pok\",\"\",IF(A201=\"\",\"\",COUNTIFS(SYNTHESE!$D:$D,A201,SYNTHESE!$E:$E,$M$1,SYNTHESE!$F:$F,\">=1\")))","v":""},{"$f":"IF($Z$2=\"pok\",\"\",IF(A201=\"\",\"\",COUNTIFS(SYNTHESE!$D:$D,A201,SYNTHESE!$E:$E,$N$1,SYNTHESE!$F:$F,\">=1\")))","v":""},{"$f":"IF($Z$2=\"pok\",\"\",IF(A201=\"\",\"\",COUNTIFS(SYNTHESE!$D:$D,A201,SYNTHESE!$E:$E,$O$1,SYNTHESE!$F:$F,\">=1\")))","v":""},{"$f":"IF($Z$2=\"pok\",\"\",IF(A201=\"\",\"\",COUNTIFS(SYNTHESE!$D:$D,A201,SYNTHESE!$E:$E,$P$1,SYNTHESE!$F:$F,\">=1\")))","v":""},{"$f":"IF($Z$2=\"pok\",\"\",IF(A201=\"\",\"\",COUNTIFS(SYNTHESE!$D:$D,A201,SYNTHESE!$E:$E,$Q$1,SYNTHESE!$F:$F,\">=1\")))","v":""},{"$f":"IF($Z$2=\"pok\",\"\",IF(A201=\"\",\"\",COUNTIFS(SYNTHESE!$D:$D,A201,SYNTHESE!$E:$E,$R$1,SYNTHESE!$F:$F,\">=1\")))","v":""},{"$f":"IF($Z$2=\"pok\",\"\",IF(A201=\"\",\"\",COUNTIFS(SYNTHESE!$D:$D,A201,SYNTHESE!$E:$E,$S$1,SYNTHESE!$F:$F,\">=1\")))","v":""},{"$f":"IF($Z$2=\"pok\",\"\",IF(A201=\"\",\"\",COUNTIFS(SYNTHESE!$D:$D,A201,SYNTHESE!$E:$E,$T$1,SYNTHESE!$F:$F,\">=1\")))","v":""},{"$f":"IF($Z$2=\"pok\",\"\",IF(A201=\"\",\"\",COUNTIFS(SYNTHESE!$D:$D,A201,SYNTHESE!$E:$E,$U$1,SYNTHESE!$F:$F,\">=1\")))","v":""},{"$f":"IF($Z$2=\"pok\",\"\",IF(A201=\"\",\"\",COUNTIFS(SYNTHESE!$D:$D,A201,SYNTHESE!$E:$E,$V$1,SYNTHESE!$F:$F,\">=1\")))","v":""},{"$f":"IF($Z$2=\"pok\",\"\",IF(A201=\"\",\"\",COUNTIFS(SYNTHESE!$D:$D,A201,SYNTHESE!$E:$E,$W$1,SYNTHESE!$F:$F,\">=1\")))","v":""},{"$f":"IF($Z$2=\"pok\",\"\",IF(A201=\"\",\"\",COUNTIFS(SYNTHESE!$D:$D,A201,SYNTHESE!$E:$E,$X$1,SYNTHESE!$F:$F,\">=1\")))","v":""},{"$f":"IF($Z$2=\"pok\",\"\",IF(A201=\"\",\"\",COUNTIFS(SYNTHESE!$D:$D,A201,SYNTHESE!$E:$E,$Y$1,SYNTHESE!$F:$F,\">=1\")))","v":""},0]
[{"$f":"IF(ETUDIANTS!A202=\"\",\"\",ETUDIANTS!A202)","v":""},{"$f":"IF($Z$2=\"pok\",\"\",IF(A202=\"\",\"\",COUNTIFS(SYNTHESE!$D:$D,A202,SYNTHESE!$E:$E,$B$1,SYNTHESE!$F:$F,\">=1\")))","v":""},{"$f":"IF($Z$2=\"pok\",\"\",IF(A202=\"\",\"\",COUNTIFS(SYNTHESE!$D:$D,A202,SYNTHESE!$E:$E,$C$1,SYNTHESE!$F:$F,\">=1\")))","v":""},{"$f":"IF($Z$2=\"pok\",\"\",IF(A202=\"\",\"\",COUNTIFS(SYNTHESE!$D:$D,A202,SYNTHESE!$E:$E,$D$1,SYNTHESE!$F:$F,\">=1\")))","v":""},{"$f":"IF($Z$2=\"pok\",\"\",IF(A202=\"\",\"\",COUNTIFS(SYNTHESE!$D:$D,A202,SYNTHESE!$E:$E,$E$1,SYNTHESE!$F:$F,\">=1\")))","v":""},{"$f":"IF($Z$2=\"pok\",\"\",IF(A202=\"\",\"\",COUNTIFS(SYNTHESE!$D:$D,A202,SYNTHESE!$E:$E,$F$1,SYNTHESE!$F:$F,\">=1\")))","v":""},{"$f":"IF($Z$2=\"pok\",\"\",IF(A202=\"\",\"\",COUNTIFS(SYNTHESE!$D:$D,A202,SYNTHESE!$E:$E,$G$1,SYNTHESE!$F:$F,\">=1\")))","v":""},{"$f":"IF($Z$2=\"pok\",\"\",IF(A202=\"\",\"\",COUNTIFS(SYNTHESE!$D:$D,A202,SYNTHESE!$E:$E,$H$1,SYNTHESE!$F:$F,\">=1\")))","v":""},{"$f":"IF($Z$2=\"pok\",\"\",IF(A202=\"\",\"\",COUNTIFS(SYNTHESE!$D:$D,A202,SYNTHESE!$E:$E,$I$1,SYNTHESE!$F:$F,\">=1\")))","v":""},{"$f":"IF($Z$2=\"pok\",\"\",IF(A202=\"\",\"\",COUNTIFS(SYNTHESE!$D:$D,A202,SYNTHESE!$E:$E,$J$1,SYNTHESE!$F:$F,\">=1\")))","v":""},{"$f":"IF($Z$2=\"pok\",\"\",IF(A202=\"\",\"\",COUNTIFS(SYNTHESE!$D:$D,A202,SYNTHESE!$E:$E,$K$1,SYNTHESE!$F:$F,\">=1\")))","v":""},{"$f":"IF($Z$2=\"pok\",\"\",IF(A202=\"\",\"\",COUNTIFS(SYNTHESE!$D:$D,A202,SYNTHESE!$E:$E,$L$1,SYNTHESE!$F:$F,\">=1\")))","v":""},{"$f":"IF($Z$2=\"pok\",\"\",IF(A202=\"\",\"\",COUNTIFS(SYNTHESE!$D:$D,A202,SYNTHESE!$E:$E,$M$1,SYNTHESE!$F:$F,\">=1\")))","v":""},{"$f":"IF($Z$2=\"pok\",\"\",IF(A202=\"\",\"\",COUNTIFS(SYNTHESE!$D:$D,A202,SYNTHESE!$E:$E,$N$1,SYNTHESE!$F:$F,\">=1\")))","v":""},{"$f":"IF($Z$2=\"pok\",\"\",IF(A202=\"\",\"\",COUNTIFS(SYNTHESE!$D:$D,A202,SYNTHESE!$E:$E,$O$1,SYNTHESE!$F:$F,\">=1\")))","v":""},{"$f":"IF($Z$2=\"pok\",\"\",IF(A202=\"\",\"\",COUNTIFS(SYNTHESE!$D:$D,A202,SYNTHESE!$E:$E,$P$1,SYNTHESE!$F:$F,\">=1\")))","v":""},{"$f":"IF($Z$2=\"pok\",\"\",IF(A202=\"\",\"\",COUNTIFS(SYNTHESE!$D:$D,A202,SYNTHESE!$E:$E,$Q$1,SYNTHESE!$F:$F,\">=1\")))","v":""},{"$f":"IF($Z$2=\"pok\",\"\",IF(A202=\"\",\"\",COUNTIFS(SYNTHESE!$D:$D,A202,SYNTHESE!$E:$E,$R$1,SYNTHESE!$F:$F,\">=1\")))","v":""},{"$f":"IF($Z$2=\"pok\",\"\",IF(A202=\"\",\"\",COUNTIFS(SYNTHESE!$D:$D,A202,SYNTHESE!$E:$E,$S$1,SYNTHESE!$F:$F,\">=1\")))","v":""},{"$f":"IF($Z$2=\"pok\",\"\",IF(A202=\"\",\"\",COUNTIFS(SYNTHESE!$D:$D,A202,SYNTHESE!$E:$E,$T$1,SYNTHESE!$F:$F,\">=1\")))","v":""},{"$f":"IF($Z$2=\"pok\",\"\",IF(A202=\"\",\"\",COUNTIFS(SYNTHESE!$D:$D,A202,SYNTHESE!$E:$E,$U$1,SYNTHESE!$F:$F,\">=1\")))","v":""},{"$f":"IF($Z$2=\"pok\",\"\",IF(A202=\"\",\"\",COUNTIFS(SYNTHESE!$D:$D,A202,SYNTHESE!$E:$E,$V$1,SYNTHESE!$F:$F,\">=1\")))","v":""},{"$f":"IF($Z$2=\"pok\",\"\",IF(A202=\"\",\"\",COUNTIFS(SYNTHESE!$D:$D,A202,SYNTHESE!$E:$E,$W$1,SYNTHESE!$F:$F,\">=1\")))","v":""},{"$f":"IF($Z$2=\"pok\",\"\",IF(A202=\"\",\"\",COUNTIFS(SYNTHESE!$D:$D,A202,SYNTHESE!$E:$E,$X$1,SYNTHESE!$F:$F,\">=1\")))","v":""},{"$f":"IF($Z$2=\"pok\",\"\",IF(A202=\"\",\"\",COUNTIFS(SYNTHESE!$D:$D,A202,SYNTHESE!$E:$E,$Y$1,SYNTHESE!$F:$F,\">=1\")))","v":""},0]
[{"$f":"IF(ETUDIANTS!A203=\"\",\"\",ETUDIANTS!A203)","v":""},{"$f":"IF($Z$2=\"pok\",\"\",IF(A203=\"\",\"\",COUNTIFS(SYNTHESE!$D:$D,A203,SYNTHESE!$E:$E,$B$1,SYNTHESE!$F:$F,\">=1\")))","v":""},{"$f":"IF($Z$2=\"pok\",\"\",IF(A203=\"\",\"\",COUNTIFS(SYNTHESE!$D:$D,A203,SYNTHESE!$E:$E,$C$1,SYNTHESE!$F:$F,\">=1\")))","v":""},{"$f":"IF($Z$2=\"pok\",\"\",IF(A203=\"\",\"\",COUNTIFS(SYNTHESE!$D:$D,A203,SYNTHESE!$E:$E,$D$1,SYNTHESE!$F:$F,\">=1\")))","v":""},{"$f":"IF($Z$2=\"pok\",\"\",IF(A203=\"\",\"\",COUNTIFS(SYNTHESE!$D:$D,A203,SYNTHESE!$E:$E,$E$1,SYNTHESE!$F:$F,\">=1\")))","v":""},{"$f":"IF($Z$2=\"pok\",\"\",IF(A203=\"\",\"\",COUNTIFS(SYNTHESE!$D:$D,A203,SYNTHESE!$E:$E,$F$1,SYNTHESE!$F:$F,\">=1\")))","v":""},{"$f":"IF($Z$2=\"pok\",\"\",IF(A203=\"\",\"\",COUNTIFS(SYNTHESE!$D:$D,A203,SYNTHESE!$E:$E,$G$1,SYNTHESE!$F:$F,\">=1\")))","v":""},{"$f":"IF($Z$2=\"pok\",\"\",IF(A203=\"\",\"\",COUNTIFS(SYNTHESE!$D:$D,A203,SYNTHESE!$E:$E,$H$1,SYNTHESE!$F:$F,\">=1\")))","v":""},{"$f":"IF($Z$2=\"pok\",\"\",IF(A203=\"\",\"\",COUNTIFS(SYNTHESE!$D:$D,A203,SYNTHESE!$E:$E,$I$1,SYNTHESE!$F:$F,\">=1\")))","v":""},{"$f":"IF($Z$2=\"pok\",\"\",IF(A203=\"\",\"\",COUNTIFS(SYNTHESE!$D:$D,A203,SYNTHESE!$E:$E,$J$1,SYNTHESE!$F:$F,\">=1\")))","v":""},{"$f":"IF($Z$2=\"pok\",\"\",IF(A203=\"\",\"\",COUNTIFS(SYNTHESE!$D:$D,A203,SYNTHESE!$E:$E,$K$1,SYNTHESE!$F:$F,\">=1\")))","v":""},{"$f":"IF($Z$2=\"pok\",\"\",IF(A203=\"\",\"\",COUNTIFS(SYNTHESE!$D:$D,A203,SYNTHESE!$E:$E,$L$1,SYNTHESE!$F:$F,\">=1\")))","v":""},{"$f":"IF($Z$2=\"pok\",\"\",IF(A203=\"\",\"\",COUNTIFS(SYNTHESE!$D:$D,A203,SYNTHESE!$E:$E,$M$1,SYNTHESE!$F:$F,\">=1\")))","v":""},{"$f":"IF($Z$2=\"pok\",\"\",IF(A203=\"\",\"\",COUNTIFS(SYNTHESE!$D:$D,A203,SYNTHESE!$E:$E,$N$1,SYNTHESE!$F:$F,\">=1\")))","v":""},{"$f":"IF($Z$2=\"pok\",\"\",IF(A203=\"\",\"\",COUNTIFS(SYNTHESE!$D:$D,A203,SYNTHESE!$E:$E,$O$1,SYNTHESE!$F:$F,\">=1\")))","v":""},{"$f":"IF($Z$2=\"pok\",\"\",IF(A203=\"\",\"\",COUNTIFS(SYNTHESE!$D:$D,A203,SYNTHESE!$E:$E,$P$1,SYNTHESE!$F:$F,\">=1\")))","v":""},{"$f":"IF($Z$2=\"pok\",\"\",IF(A203=\"\",\"\",COUNTIFS(SYNTHESE!$D:$D,A203,SYNTHESE!$E:$E,$Q$1,SYNTHESE!$F:$F,\">=1\")))","v":""},{"$f":"IF($Z$2=\"pok\",\"\",IF(A203=\"\",\"\",COUNTIFS(SYNTHESE!$D:$D,A203,SYNTHESE!$E:$E,$R$1,SYNTHESE!$F:$F,\">=1\")))","v":""},{"$f":"IF($Z$2=\"pok\",\"\",IF(A203=\"\",\"\",COUNTIFS(SYNTHESE!$D:$D,A203,SYNTHESE!$E:$E,$S$1,SYNTHESE!$F:$F,\">=1\")))","v":""},{"$f":"IF($Z$2=\"pok\",\"\",IF(A203=\"\",\"\",COUNTIFS(SYNTHESE!$D:$D,A203,SYNTHESE!$E:$E,$T$1,SYNTHESE!$F:$F,\">=1\")))","v":""},{"$f":"IF($Z$2=\"pok\",\"\",IF(A203=\"\",\"\",COUNTIFS(SYNTHESE!$D:$D,A203,SYNTHESE!$E:$E,$U$1,SYNTHESE!$F:$F,\">=1\")))","v":""},{"$f":"IF($Z$2=\"pok\",\"\",IF(A203=\"\",\"\",COUNTIFS(SYNTHESE!$D:$D,A203,SYNTHESE!$E:$E,$V$1,SYNTHESE!$F:$F,\">=1\")))","v":""},{"$f":"IF($Z$2=\"pok\",\"\",IF(A203=\"\",\"\",COUNTIFS(SYNTHESE!$D:$D,A203,SYNTHESE!$E:$E,$W$1,SYNTHESE!$F:$F,\">=1\")))","v":""},{"$f":"IF($Z$2=\"pok\",\"\",IF(A203=\"\",\"\",COUNTIFS(SYNTHESE!$D:$D,A203,SYNTHESE!$E:$E,$X$1,SYNTHESE!$F:$F,\">=1\")))","v":""},{"$f":"IF($Z$2=\"pok\",\"\",IF(A203=\"\",\"\",COUNTIFS(SYNTHESE!$D:$D,A203,SYNTHESE!$E:$E,$Y$1,SYNTHESE!$F:$F,\">=1\")))","v":""},0]
[{"$f":"IF(ETUDIANTS!A204=\"\",\"\",ETUDIANTS!A204)","v":""},{"$f":"IF($Z$2=\"pok\",\"\",IF(A204=\"\",\"\",COUNTIFS(SYNTHESE!$D:$D,A204,SYNTHESE!$E:$E,$B$1,SYNTHESE!$F:$F,\">=1\")))","v":""},{"$f":"IF($Z$2=\"pok\",\"\",IF(A204=\"\",\"\",COUNTIFS(SYNTHESE!$D:$D,A204,SYNTHESE!$E:$E,$C$1,SYNTHESE!$F:$F,\">=1\")))","v":""},{"$f":"IF($Z$2=\"pok\",\"\",IF(A204=\"\",\"\",COUNTIFS(SYNTHESE!$D:$D,A204,SYNTHESE!$E:$E,$D$1,SYNTHESE!$F:$F,\">=1\")))","v":""},{"$f":"IF($Z$2=\"pok\",\"\",IF(A204=\"\",\"\",COUNTIFS(SYNTHESE!$D:$D,A204,SYNTHESE!$E:$E,$E$1,SYNTHESE!$F:$F,\">=1\")))","v":""},{"$f":"IF($Z$2=\"pok\",\"\",IF(A204=\"\",\"\",COUNTIFS(SYNTHESE!$D:$D,A204,SYNTHESE!$E:$E,$F$1,SYNTHESE!$F:$F,\">=1\")))","v":""},{"$f":"IF($Z$2=\"pok\",\"\",IF(A204=\"\",\"\",COUNTIFS(SYNTHESE!$D:$D,A204,SYNTHESE!$E:$E,$G$1,SYNTHESE!$F:$F,\">=1\")))","v":""},{"$f":"IF($Z$2=\"pok\",\"\",IF(A204=\"\",\"\",COUNTIFS(SYNTHESE!$D:$D,A204,SYNTHESE!$E:$E,$H$1,SYNTHESE!$F:$F,\">=1\")))","v":""},{"$f":"IF($Z$2=\"pok\",\"\",IF(A204=\"\",\"\",COUNTIFS(SYNTHESE!$D:$D,A204,SYNTHESE!$E:$E,$I$1,SYNTHESE!$F:$F,\">=1\")))","v":""},{"$f":"IF($Z$2=\"pok\",\"\",IF(A204=\"\",\"\",COUNTIFS(SYNTHESE!$D:$D,A204,SYNTHESE!$E:$E,$J$1,SYNTHESE!$F:$F,\">=1\")))","v":""},{"$f":"IF($Z$2=\"pok\",\"\",IF(A204=\"\",\"\",COUNTIFS(SYNTHESE!$D:$D,A204,SYNTHESE!$E:$E,$K$1,SYNTHESE!$F:$F,\">=1\")))","v":""},{"$f":"IF($Z$2=\"pok\",\"\",IF(A204=\"\",\"\",COUNTIFS(SYNTHESE!$D:$D,A204,SYNTHESE!$E:$E,$L$1,SYNTHESE!$F:$F,\">=1\")))","v":""},{"$f":"IF($Z$2=\"pok\",\"\",IF(A204=\"\",\"\",COUNTIFS(SYNTHESE!$D:$D,A204,SYNTHESE!$E:$E,$M$1,SYNTHESE!$F:$F,\">=1\")))","v":""},{"$f":"IF($Z$2=\"pok\",\"\",IF(A204=\"\",\"\",COUNTIFS(SYNTHESE!$D:$D,A204,SYNTHESE!$E:$E,$N$1,SYNTHESE!$F:$F,\">=1\")))","v":""},{"$f":"IF($Z$2=\"pok\",\"\",IF(A204=\"\",\"\",COUNTIFS(SYNTHESE!$D:$D,A204,SYNTHESE!$E:$E,$O$1,SYNTHESE!$F:$F,\">=1\")))","v":""},{"$f":"IF($Z$2=\"pok\",\"\",IF(A204=\"\",\"\",COUNTIFS(SYNTHESE!$D:$D,A204,SYNTHESE!$E:$E,$P$1,SYNTHESE!$F:$F,\">=1\")))","v":""},{"$f":"IF($Z$2=\"pok\",\"\",IF(A204=\"\",\"\",COUNTIFS(SYNTHESE!$D:$D,A204,SYNTHESE!$E:$E,$Q$1,SYNTHESE!$F:$F,\">=1\")))","v":""},{"$f":"IF($Z$2=\"pok\",\"\",IF(A204=\"\",\"\",COUNTIFS(SYNTHESE!$D:$D,A204,SYNTHESE!$E:$E,$R$1,SYNTHESE!$F:$F,\">=1\")))","v":""},{"$f":"IF($Z$2=\"pok\",\"\",IF(A204=\"\",\"\",COUNTIFS(SYNTHESE!$D:$D,A204,SYNTHESE!$E:$E,$S$1,SYNTHESE!$F:$F,\">=1\")))","v":""},{"$f":"IF($Z$2=\"pok\",\"\",IF(A204=\"\",\"\",COUNTIFS(SYNTHESE!$D:$D,A204,SYNTHESE!$E:$E,$T$1,SYNTHESE!$F:$F,\">=1\")))","v":""},{"$f":"IF($Z$2=\"pok\",\"\",IF(A204=\"\",\"\",COUNTIFS(SYNTHESE!$D:$D,A204,SYNTHESE!$E:$E,$U$1,SYNTHESE!$F:$F,\">=1\")))","v":""},{"$f":"IF($Z$2=\"pok\",\"\",IF(A204=\"\",\"\",COUNTIFS(SYNTHESE!$D:$D,A204,SYNTHESE!$E:$E,$V$1,SYNTHESE!$F:$F,\">=1\")))","v":""},{"$f":"IF($Z$2=\"pok\",\"\",IF(A204=\"\",\"\",COUNTIFS(SYNTHESE!$D:$D,A204,SYNTHESE!$E:$E,$W$1,SYNTHESE!$F:$F,\">=1\")))","v":""},{"$f":"IF($Z$2=\"pok\",\"\",IF(A204=\"\",\"\",COUNTIFS(SYNTHESE!$D:$D,A204,SYNTHESE!$E:$E,$X$1,SYNTHESE!$F:$F,\">=1\")))","v":""},{"$f":"IF($Z$2=\"pok\",\"\",IF(A204=\"\",\"\",COUNTIFS(SYNTHESE!$D:$D,A204,SYNTHESE!$E:$E,$Y$1,SYNTHESE!$F:$F,\">=1\")))","v":""},0]
[{"$f":"IF(ETUDIANTS!A205=\"\",\"\",ETUDIANTS!A205)","v":""},{"$f":"IF($Z$2=\"pok\",\"\",IF(A205=\"\",\"\",COUNTIFS(SYNTHESE!$D:$D,A205,SYNTHESE!$E:$E,$B$1,SYNTHESE!$F:$F,\">=1\")))","v":""},{"$f":"IF($Z$2=\"pok\",\"\",IF(A205=\"\",\"\",COUNTIFS(SYNTHESE!$D:$D,A205,SYNTHESE!$E:$E,$C$1,SYNTHESE!$F:$F,\">=1\")))","v":""},{"$f":"IF($Z$2=\"pok\",\"\",IF(A205=\"\",\"\",COUNTIFS(SYNTHESE!$D:$D,A205,SYNTHESE!$E:$E,$D$1,SYNTHESE!$F:$F,\">=1\")))","v":""},{"$f":"IF($Z$2=\"pok\",\"\",IF(A205=\"\",\"\",COUNTIFS(SYNTHESE!$D:$D,A205,SYNTHESE!$E:$E,$E$1,SYNTHESE!$F:$F,\">=1\")))","v":""},{"$f":"IF($Z$2=\"pok\",\"\",IF(A205=\"\",\"\",COUNTIFS(SYNTHESE!$D:$D,A205,SYNTHESE!$E:$E,$F$1,SYNTHESE!$F:$F,\">=1\")))","v":""},{"$f":"IF($Z$2=\"pok\",\"\",IF(A205=\"\",\"\",COUNTIFS(SYNTHESE!$D:$D,A205,SYNTHESE!$E:$E,$G$1,SYNTHESE!$F:$F,\">=1\")))","v":""},{"$f":"IF($Z$2=\"pok\",\"\",IF(A205=\"\",\"\",COUNTIFS(SYNTHESE!$D:$D,A205,SYNTHESE!$E:$E,$H$1,SYNTHESE!$F:$F,\">=1\")))","v":""},{"$f":"IF($Z$2=\"pok\",\"\",IF(A205=\"\",\"\",COUNTIFS(SYNTHESE!$D:$D,A205,SYNTHESE!$E:$E,$I$1,SYNTHESE!$F:$F,\">=1\")))","v":""},{"$f":"IF($Z$2=\"pok\",\"\",IF(A205=\"\",\"\",COUNTIFS(SYNTHESE!$D:$D,A205,SYNTHESE!$E:$E,$J$1,SYNTHESE!$F:$F,\">=1\")))","v":""},{"$f":"IF($Z$2=\"pok\",\"\",IF(A205=\"\",\"\",COUNTIFS(SYNTHESE!$D:$D,A205,SYNTHESE!$E:$E,$K$1,SYNTHESE!$F:$F,\">=1\")))","v":""},{"$f":"IF($Z$2=\"pok\",\"\",IF(A205=\"\",\"\",COUNTIFS(SYNTHESE!$D:$D,A205,SYNTHESE!$E:$E,$L$1,SYNTHESE!$F:$F,\">=1\")))","v":""},{"$f":"IF($Z$2=\"pok\",\"\",IF(A205=\"\",\"\",COUNTIFS(SYNTHESE!$D:$D,A205,SYNTHESE!$E:$E,$M$1,SYNTHESE!$F:$F,\">=1\")))","v":""},{"$f":"IF($Z$2=\"pok\",\"\",IF(A205=\"\",\"\",COUNTIFS(SYNTHESE!$D:$D,A205,SYNTHESE!$E:$E,$N$1,SYNTHESE!$F:$F,\">=1\")))","v":""},{"$f":"IF($Z$2=\"pok\",\"\",IF(A205=\"\",\"\",COUNTIFS(SYNTHESE!$D:$D,A205,SYNTHESE!$E:$E,$O$1,SYNTHESE!$F:$F,\">=1\")))","v":""},{"$f":"IF($Z$2=\"pok\",\"\",IF(A205=\"\",\"\",COUNTIFS(SYNTHESE!$D:$D,A205,SYNTHESE!$E:$E,$P$1,SYNTHESE!$F:$F,\">=1\")))","v":""},{"$f":"IF($Z$2=\"pok\",\"\",IF(A205=\"\",\"\",COUNTIFS(SYNTHESE!$D:$D,A205,SYNTHESE!$E:$E,$Q$1,SYNTHESE!$F:$F,\">=1\")))","v":""},{"$f":"IF($Z$2=\"pok\",\"\",IF(A205=\"\",\"\",COUNTIFS(SYNTHESE!$D:$D,A205,SYNTHESE!$E:$E,$R$1,SYNTHESE!$F:$F,\">=1\")))","v":""},{"$f":"IF($Z$2=\"pok\",\"\",IF(A205=\"\",\"\",COUNTIFS(SYNTHESE!$D:$D,A205,SYNTHESE!$E:$E,$S$1,SYNTHESE!$F:$F,\">=1\")))","v":""},{"$f":"IF($Z$2=\"pok\",\"\",IF(A205=\"\",\"\",COUNTIFS(SYNTHESE!$D:$D,A205,SYNTHESE!$E:$E,$T$1,SYNTHESE!$F:$F,\">=1\")))","v":""},{"$f":"IF($Z$2=\"pok\",\"\",IF(A205=\"\",\"\",COUNTIFS(SYNTHESE!$D:$D,A205,SYNTHESE!$E:$E,$U$1,SYNTHESE!$F:$F,\">=1\")))","v":""},{"$f":"IF($Z$2=\"pok\",\"\",IF(A205=\"\",\"\",COUNTIFS(SYNTHESE!$D:$D,A205,SYNTHESE!$E:$E,$V$1,SYNTHESE!$F:$F,\">=1\")))","v":""},{"$f":"IF($Z$2=\"pok\",\"\",IF(A205=\"\",\"\",COUNTIFS(SYNTHESE!$D:$D,A205,SYNTHESE!$E:$E,$W$1,SYNTHESE!$F:$F,\">=1\")))","v":""},{"$f":"IF($Z$2=\"pok\",\"\",IF(A205=\"\",\"\",COUNTIFS(SYNTHESE!$D:$D,A205,SYNTHESE!$E:$E,$X$1,SYNTHESE!$F:$F,\">=1\")))","v":""},{"$f":"IF($Z$2=\"pok\",\"\",IF(A205=\"\",\"\",COUNTIFS(SYNTHESE!$D:$D,A205,SYNTHESE!$E:$E,$Y$1,SYNTHESE!$F:$F,\">=1\")))","v":""},0]
[{"$f":"IF(ETUDIANTS!A206=\"\",\"\",ETUDIANTS!A206)","v":""},{"$f":"IF($Z$2=\"pok\",\"\",IF(A206=\"\",\"\",COUNTIFS(SYNTHESE!$D:$D,A206,SYNTHESE!$E:$E,$B$1,SYNTHESE!$F:$F,\">=1\")))","v":""},{"$f":"IF($Z$2=\"pok\",\"\",IF(A206=\"\",\"\",COUNTIFS(SYNTHESE!$D:$D,A206,SYNTHESE!$E:$E,$C$1,SYNTHESE!$F:$F,\">=1\")))","v":""},{"$f":"IF($Z$2=\"pok\",\"\",IF(A206=\"\",\"\",COUNTIFS(SYNTHESE!$D:$D,A206,SYNTHESE!$E:$E,$D$1,SYNTHESE!$F:$F,\">=1\")))","v":""},{"$f":"IF($Z$2=\"pok\",\"\",IF(A206=\"\",\"\",COUNTIFS(SYNTHESE!$D:$D,A206,SYNTHESE!$E:$E,$E$1,SYNTHESE!$F:$F,\">=1\")))","v":""},{"$f":"IF($Z$2=\"pok\",\"\",IF(A206=\"\",\"\",COUNTIFS(SYNTHESE!$D:$D,A206,SYNTHESE!$E:$E,$F$1,SYNTHESE!$F:$F,\">=1\")))","v":""},{"$f":"IF($Z$2=\"pok\",\"\",IF(A206=\"\",\"\",COUNTIFS(SYNTHESE!$D:$D,A206,SYNTHESE!$E:$E,$G$1,SYNTHESE!$F:$F,\">=1\")))","v":""},{"$f":"IF($Z$2=\"pok\",\"\",IF(A206=\"\",\"\",COUNTIFS(SYNTHESE!$D:$D,A206,SYNTHESE!$E:$E,$H$1,SYNTHESE!$F:$F,\">=1\")))","v":""},{"$f":"IF($Z$2=\"pok\",\"\",IF(A206=\"\",\"\",COUNTIFS(SYNTHESE!$D:$D,A206,SYNTHESE!$E:$E,$I$1,SYNTHESE!$F:$F,\">=1\")))","v":""},{"$f":"IF($Z$2=\"pok\",\"\",IF(A206=\"\",\"\",COUNTIFS(SYNTHESE!$D:$D,A206,SYNTHESE!$E:$E,$J$1,SYNTHESE!$F:$F,\">=1\")))","v":""},{"$f":"IF($Z$2=\"pok\",\"\",IF(A206=\"\",\"\",COUNTIFS(SYNTHESE!$D:$D,A206,SYNTHESE!$E:$E,$K$1,SYNTHESE!$F:$F,\">=1\")))","v":""},{"$f":"IF($Z$2=\"pok\",\"\",IF(A206=\"\",\"\",COUNTIFS(SYNTHESE!$D:$D,A206,SYNTHESE!$E:$E,$L$1,SYNTHESE!$F:$F,\">=1\")))","v":""},{"$f":"IF($Z$2=\"pok\",\"\",IF(A206=\"\",\"\",COUNTIFS(SYNTHESE!$D:$D,A206,SYNTHESE!$E:$E,$M$1,SYNTHESE!$F:$F,\">=1\")))","v":""},{"$f":"IF($Z$2=\"pok\",\"\",IF(A206=\"\",\"\",COUNTIFS(SYNTHESE!$D:$D,A206,SYNTHESE!$E:$E,$N$1,SYNTHESE!$F:$F,\">=1\")))","v":""},{"$f":"IF($Z$2=\"pok\",\"\",IF(A206=\"\",\"\",COUNTIFS(SYNTHESE!$D:$D,A206,SYNTHESE!$E:$E,$O$1,SYNTHESE!$F:$F,\">=1\")))","v":""},{"$f":"IF($Z$2=\"pok\",\"\",IF(A206=\"\",\"\",COUNTIFS(SYNTHESE!$D:$D,A206,SYNTHESE!$E:$E,$P$1,SYNTHESE!$F:$F,\">=1\")))","v":""},{"$f":"IF($Z$2=\"pok\",\"\",IF(A206=\"\",\"\",COUNTIFS(SYNTHESE!$D:$D,A206,SYNTHESE!$E:$E,$Q$1,SYNTHESE!$F:$F,\">=1\")))","v":""},{"$f":"IF($Z$2=\"pok\",\"\",IF(A206=\"\",\"\",COUNTIFS(SYNTHESE!$D:$D,A206,SYNTHESE!$E:$E,$R$1,SYNTHESE!$F:$F,\">=1\")))","v":""},{"$f":"IF($Z$2=\"pok\",\"\",IF(A206=\"\",\"\",COUNTIFS(SYNTHESE!$D:$D,A206,SYNTHESE!$E:$E,$S$1,SYNTHESE!$F:$F,\">=1\")))","v":""},{"$f":"IF($Z$2=\"pok\",\"\",IF(A206=\"\",\"\",COUNTIFS(SYNTHESE!$D:$D,A206,SYNTHESE!$E:$E,$T$1,SYNTHESE!$F:$F,\">=1\")))","v":""},{"$f":"IF($Z$2=\"pok\",\"\",IF(A206=\"\",\"\",COUNTIFS(SYNTHESE!$D:$D,A206,SYNTHESE!$E:$E,$U$1,SYNTHESE!$F:$F,\">=1\")))","v":""},{"$f":"IF($Z$2=\"pok\",\"\",IF(A206=\"\",\"\",COUNTIFS(SYNTHESE!$D:$D,A206,SYNTHESE!$E:$E,$V$1,SYNTHESE!$F:$F,\">=1\")))","v":""},{"$f":"IF($Z$2=\"pok\",\"\",IF(A206=\"\",\"\",COUNTIFS(SYNTHESE!$D:$D,A206,SYNTHESE!$E:$E,$W$1,SYNTHESE!$F:$F,\">=1\")))","v":""},{"$f":"IF($Z$2=\"pok\",\"\",IF(A206=\"\",\"\",COUNTIFS(SYNTHESE!$D:$D,A206,SYNTHESE!$E:$E,$X$1,SYNTHESE!$F:$F,\">=1\")))","v":""},{"$f":"IF($Z$2=\"pok\",\"\",IF(A206=\"\",\"\",COUNTIFS(SYNTHESE!$D:$D,A206,SYNTHESE!$E:$E,$Y$1,SYNTHESE!$F:$F,\">=1\")))","v":""},0]
[{"$f":"IF(ETUDIANTS!A207=\"\",\"\",ETUDIANTS!A207)","v":""},{"$f":"IF($Z$2=\"pok\",\"\",IF(A207=\"\",\"\",COUNTIFS(SYNTHESE!$D:$D,A207,SYNTHESE!$E:$E,$B$1,SYNTHESE!$F:$F,\">=1\")))","v":""},{"$f":"IF($Z$2=\"pok\",\"\",IF(A207=\"\",\"\",COUNTIFS(SYNTHESE!$D:$D,A207,SYNTHESE!$E:$E,$C$1,SYNTHESE!$F:$F,\">=1\")))","v":""},{"$f":"IF($Z$2=\"pok\",\"\",IF(A207=\"\",\"\",COUNTIFS(SYNTHESE!$D:$D,A207,SYNTHESE!$E:$E,$D$1,SYNTHESE!$F:$F,\">=1\")))","v":""},{"$f":"IF($Z$2=\"pok\",\"\",IF(A207=\"\",\"\",COUNTIFS(SYNTHESE!$D:$D,A207,SYNTHESE!$E:$E,$E$1,SYNTHESE!$F:$F,\">=1\")))","v":""},{"$f":"IF($Z$2=\"pok\",\"\",IF(A207=\"\",\"\",COUNTIFS(SYNTHESE!$D:$D,A207,SYNTHESE!$E:$E,$F$1,SYNTHESE!$F:$F,\">=1\")))","v":""},{"$f":"IF($Z$2=\"pok\",\"\",IF(A207=\"\",\"\",COUNTIFS(SYNTHESE!$D:$D,A207,SYNTHESE!$E:$E,$G$1,SYNTHESE!$F:$F,\">=1\")))","v":""},{"$f":"IF($Z$2=\"pok\",\"\",IF(A207=\"\",\"\",COUNTIFS(SYNTHESE!$D:$D,A207,SYNTHESE!$E:$E,$H$1,SYNTHESE!$F:$F,\">=1\")))","v":""},{"$f":"IF($Z$2=\"pok\",\"\",IF(A207=\"\",\"\",COUNTIFS(SYNTHESE!$D:$D,A207,SYNTHESE!$E:$E,$I$1,SYNTHESE!$F:$F,\">=1\")))","v":""},{"$f":"IF($Z$2=\"pok\",\"\",IF(A207=\"\",\"\",COUNTIFS(SYNTHESE!$D:$D,A207,SYNTHESE!$E:$E,$J$1,SYNTHESE!$F:$F,\">=1\")))","v":""},{"$f":"IF($Z$2=\"pok\",\"\",IF(A207=\"\",\"\",COUNTIFS(SYNTHESE!$D:$D,A207,SYNTHESE!$E:$E,$K$1,SYNTHESE!$F:$F,\">=1\")))","v":""},{"$f":"IF($Z$2=\"pok\",\"\",IF(A207=\"\",\"\",COUNTIFS(SYNTHESE!$D:$D,A207,SYNTHESE!$E:$E,$L$1,SYNTHESE!$F:$F,\">=1\")))","v":""},{"$f":"IF($Z$2=\"pok\",\"\",IF(A207=\"\",\"\",COUNTIFS(SYNTHESE!$D:$D,A207,SYNTHESE!$E:$E,$M$1,SYNTHESE!$F:$F,\">=1\")))","v":""},{"$f":"IF($Z$2=\"pok\",\"\",IF(A207=\"\",\"\",COUNTIFS(SYNTHESE!$D:$D,A207,SYNTHESE!$E:$E,$N$1,SYNTHESE!$F:$F,\">=1\")))","v":""},{"$f":"IF($Z$2=\"pok\",\"\",IF(A207=\"\",\"\",COUNTIFS(SYNTHESE!$D:$D,A207,SYNTHESE!$E:$E,$O$1,SYNTHESE!$F:$F,\">=1\")))","v":""},{"$f":"IF($Z$2=\"pok\",\"\",IF(A207=\"\",\"\",COUNTIFS(SYNTHESE!$D:$D,A207,SYNTHESE!$E:$E,$P$1,SYNTHESE!$F:$F,\">=1\")))","v":""},{"$f":"IF($Z$2=\"pok\",\"\",IF(A207=\"\",\"\",COUNTIFS(SYNTHESE!$D:$D,A207,SYNTHESE!$E:$E,$Q$1,SYNTHESE!$F:$F,\">=1\")))","v":""},{"$f":"IF($Z$2=\"pok\",\"\",IF(A207=\"\",\"\",COUNTIFS(SYNTHESE!$D:$D,A207,SYNTHESE!$E:$E,$R$1,SYNTHESE!$F:$F,\">=1\")))","v":""},{"$f":"IF($Z$2=\"pok\",\"\",IF(A207=\"\",\"\",COUNTIFS(SYNTHESE!$D:$D,A207,SYNTHESE!$E:$E,$S$1,SYNTHESE!$F:$F,\">=1\")))","v":""},{"$f":"IF($Z$2=\"pok\",\"\",IF(A207=\"\",\"\",COUNTIFS(SYNTHESE!$D:$D,A207,SYNTHESE!$E:$E,$T$1,SYNTHESE!$F:$F,\">=1\")))","v":""},{"$f":"IF($Z$2=\"pok\",\"\",IF(A207=\"\",\"\",COUNTIFS(SYNTHESE!$D:$D,A207,SYNTHESE!$E:$E,$U$1,SYNTHESE!$F:$F,\">=1\")))","v":""},{"$f":"IF($Z$2=\"pok\",\"\",IF(A207=\"\",\"\",COUNTIFS(SYNTHESE!$D:$D,A207,SYNTHESE!$E:$E,$V$1,SYNTHESE!$F:$F,\">=1\")))","v":""},{"$f":"IF($Z$2=\"pok\",\"\",IF(A207=\"\",\"\",COUNTIFS(SYNTHESE!$D:$D,A207,SYNTHESE!$E:$E,$W$1,SYNTHESE!$F:$F,\">=1\")))","v":""},{"$f":"IF($Z$2=\"pok\",\"\",IF(A207=\"\",\"\",COUNTIFS(SYNTHESE!$D:$D,A207,SYNTHESE!$E:$E,$X$1,SYNTHESE!$F:$F,\">=1\")))","v":""},{"$f":"IF($Z$2=\"pok\",\"\",IF(A207=\"\",\"\",COUNTIFS(SYNTHESE!$D:$D,A207,SYNTHESE!$E:$E,$Y$1,SYNTHESE!$F:$F,\">=1\")))","v":""},0]
[{"$f":"IF(ETUDIANTS!A208=\"\",\"\",ETUDIANTS!A208)","v":""},{"$f":"IF($Z$2=\"pok\",\"\",IF(A208=\"\",\"\",COUNTIFS(SYNTHESE!$D:$D,A208,SYNTHESE!$E:$E,$B$1,SYNTHESE!$F:$F,\">=1\")))","v":""},{"$f":"IF($Z$2=\"pok\",\"\",IF(A208=\"\",\"\",COUNTIFS(SYNTHESE!$D:$D,A208,SYNTHESE!$E:$E,$C$1,SYNTHESE!$F:$F,\">=1\")))","v":""},{"$f":"IF($Z$2=\"pok\",\"\",IF(A208=\"\",\"\",COUNTIFS(SYNTHESE!$D:$D,A208,SYNTHESE!$E:$E,$D$1,SYNTHESE!$F:$F,\">=1\")))","v":""},{"$f":"IF($Z$2=\"pok\",\"\",IF(A208=\"\",\"\",COUNTIFS(SYNTHESE!$D:$D,A208,SYNTHESE!$E:$E,$E$1,SYNTHESE!$F:$F,\">=1\")))","v":""},{"$f":"IF($Z$2=\"pok\",\"\",IF(A208=\"\",\"\",COUNTIFS(SYNTHESE!$D:$D,A208,SYNTHESE!$E:$E,$F$1,SYNTHESE!$F:$F,\">=1\")))","v":""},{"$f":"IF($Z$2=\"pok\",\"\",IF(A208=\"\",\"\",COUNTIFS(SYNTHESE!$D:$D,A208,SYNTHESE!$E:$E,$G$1,SYNTHESE!$F:$F,\">=1\")))","v":""},{"$f":"IF($Z$2=\"pok\",\"\",IF(A208=\"\",\"\",COUNTIFS(SYNTHESE!$D:$D,A208,SYNTHESE!$E:$E,$H$1,SYNTHESE!$F:$F,\">=1\")))","v":""},{"$f":"IF($Z$2=\"pok\",\"\",IF(A208=\"\",\"\",COUNTIFS(SYNTHESE!$D:$D,A208,SYNTHESE!$E:$E,$I$1,SYNTHESE!$F:$F,\">=1\")))","v":""},{"$f":"IF($Z$2=\"pok\",\"\",IF(A208=\"\",\"\",COUNTIFS(SYNTHESE!$D:$D,A208,SYNTHESE!$E:$E,$J$1,SYNTHESE!$F:$F,\">=1\")))","v":""},{"$f":"IF($Z$2=\"pok\",\"\",IF(A208=\"\",\"\",COUNTIFS(SYNTHESE!$D:$D,A208,SYNTHESE!$E:$E,$K$1,SYNTHESE!$F:$F,\">=1\")))","v":""},{"$f":"IF($Z$2=\"pok\",\"\",IF(A208=\"\",\"\",COUNTIFS(SYNTHESE!$D:$D,A208,SYNTHESE!$E:$E,$L$1,SYNTHESE!$F:$F,\">=1\")))","v":""},{"$f":"IF($Z$2=\"pok\",\"\",IF(A208=\"\",\"\",COUNTIFS(SYNTHESE!$D:$D,A208,SYNTHESE!$E:$E,$M$1,SYNTHESE!$F:$F,\">=1\")))","v":""},{"$f":"IF($Z$2=\"pok\",\"\",IF(A208=\"\",\"\",COUNTIFS(SYNTHESE!$D:$D,A208,SYNTHESE!$E:$E,$N$1,SYNTHESE!$F:$F,\">=1\")))","v":""},{"$f":"IF($Z$2=\"pok\",\"\",IF(A208=\"\",\"\",COUNTIFS(SYNTHESE!$D:$D,A208,SYNTHESE!$E:$E,$O$1,SYNTHESE!$F:$F,\">=1\")))","v":""},{"$f":"IF($Z$2=\"pok\",\"\",IF(A208=\"\",\"\",COUNTIFS(SYNTHESE!$D:$D,A208,SYNTHESE!$E:$E,$P$1,SYNTHESE!$F:$F,\">=1\")))","v":""},{"$f":"IF($Z$2=\"pok\",\"\",IF(A208=\"\",\"\",COUNTIFS(SYNTHESE!$D:$D,A208,SYNTHESE!$E:$E,$Q$1,SYNTHESE!$F:$F,\">=1\")))","v":""},{"$f":"IF($Z$2=\"pok\",\"\",IF(A208=\"\",\"\",COUNTIFS(SYNTHESE!$D:$D,A208,SYNTHESE!$E:$E,$R$1,SYNTHESE!$F:$F,\">=1\")))","v":""},{"$f":"IF($Z$2=\"pok\",\"\",IF(A208=\"\",\"\",COUNTIFS(SYNTHESE!$D:$D,A208,SYNTHESE!$E:$E,$S$1,SYNTHESE!$F:$F,\">=1\")))","v":""},{"$f":"IF($Z$2=\"pok\",\"\",IF(A208=\"\",\"\",COUNTIFS(SYNTHESE!$D:$D,A208,SYNTHESE!$E:$E,$T$1,SYNTHESE!$F:$F,\">=1\")))","v":""},{"$f":"IF($Z$2=\"pok\",\"\",IF(A208=\"\",\"\",COUNTIFS(SYNTHESE!$D:$D,A208,SYNTHESE!$E:$E,$U$1,SYNTHESE!$F:$F,\">=1\")))","v":""},{"$f":"IF($Z$2=\"pok\",\"\",IF(A208=\"\",\"\",COUNTIFS(SYNTHESE!$D:$D,A208,SYNTHESE!$E:$E,$V$1,SYNTHESE!$F:$F,\">=1\")))","v":""},{"$f":"IF($Z$2=\"pok\",\"\",IF(A208=\"\",\"\",COUNTIFS(SYNTHESE!$D:$D,A208,SYNTHESE!$E:$E,$W$1,SYNTHESE!$F:$F,\">=1\")))","v":""},{"$f":"IF($Z$2=\"pok\",\"\",IF(A208=\"\",\"\",COUNTIFS(SYNTHESE!$D:$D,A208,SYNTHESE!$E:$E,$X$1,SYNTHESE!$F:$F,\">=1\")))","v":""},{"$f":"IF($Z$2=\"pok\",\"\",IF(A208=\"\",\"\",COUNTIFS(SYNTHESE!$D:$D,A208,SYNTHESE!$E:$E,$Y$1,SYNTHESE!$F:$F,\">=1\")))","v":""},0]
[{"$f":"IF(ETUDIANTS!A209=\"\",\"\",ETUDIANTS!A209)","v":""},{"$f":"IF($Z$2=\"pok\",\"\",IF(A209=\"\",\"\",COUNTIFS(SYNTHESE!$D:$D,A209,SYNTHESE!$E:$E,$B$1,SYNTHESE!$F:$F,\">=1\")))","v":""},{"$f":"IF($Z$2=\"pok\",\"\",IF(A209=\"\",\"\",COUNTIFS(SYNTHESE!$D:$D,A209,SYNTHESE!$E:$E,$C$1,SYNTHESE!$F:$F,\">=1\")))","v":""},{"$f":"IF($Z$2=\"pok\",\"\",IF(A209=\"\",\"\",COUNTIFS(SYNTHESE!$D:$D,A209,SYNTHESE!$E:$E,$D$1,SYNTHESE!$F:$F,\">=1\")))","v":""},{"$f":"IF($Z$2=\"pok\",\"\",IF(A209=\"\",\"\",COUNTIFS(SYNTHESE!$D:$D,A209,SYNTHESE!$E:$E,$E$1,SYNTHESE!$F:$F,\">=1\")))","v":""},{"$f":"IF($Z$2=\"pok\",\"\",IF(A209=\"\",\"\",COUNTIFS(SYNTHESE!$D:$D,A209,SYNTHESE!$E:$E,$F$1,SYNTHESE!$F:$F,\">=1\")))","v":""},{"$f":"IF($Z$2=\"pok\",\"\",IF(A209=\"\",\"\",COUNTIFS(SYNTHESE!$D:$D,A209,SYNTHESE!$E:$E,$G$1,SYNTHESE!$F:$F,\">=1\")))","v":""},{"$f":"IF($Z$2=\"pok\",\"\",IF(A209=\"\",\"\",COUNTIFS(SYNTHESE!$D:$D,A209,SYNTHESE!$E:$E,$H$1,SYNTHESE!$F:$F,\">=1\")))","v":""},{"$f":"IF($Z$2=\"pok\",\"\",IF(A209=\"\",\"\",COUNTIFS(SYNTHESE!$D:$D,A209,SYNTHESE!$E:$E,$I$1,SYNTHESE!$F:$F,\">=1\")))","v":""},{"$f":"IF($Z$2=\"pok\",\"\",IF(A209=\"\",\"\",COUNTIFS(SYNTHESE!$D:$D,A209,SYNTHESE!$E:$E,$J$1,SYNTHESE!$F:$F,\">=1\")))","v":""},{"$f":"IF($Z$2=\"pok\",\"\",IF(A209=\"\",\"\",COUNTIFS(SYNTHESE!$D:$D,A209,SYNTHESE!$E:$E,$K$1,SYNTHESE!$F:$F,\">=1\")))","v":""},{"$f":"IF($Z$2=\"pok\",\"\",IF(A209=\"\",\"\",COUNTIFS(SYNTHESE!$D:$D,A209,SYNTHESE!$E:$E,$L$1,SYNTHESE!$F:$F,\">=1\")))","v":""},{"$f":"IF($Z$2=\"pok\",\"\",IF(A209=\"\",\"\",COUNTIFS(SYNTHESE!$D:$D,A209,SYNTHESE!$E:$E,$M$1,SYNTHESE!$F:$F,\">=1\")))","v":""},{"$f":"IF($Z$2=\"pok\",\"\",IF(A209=\"\",\"\",COUNTIFS(SYNTHESE!$D:$D,A209,SYNTHESE!$E:$E,$N$1,SYNTHESE!$F:$F,\">=1\")))","v":""},{"$f":"IF($Z$2=\"pok\",\"\",IF(A209=\"\",\"\",COUNTIFS(SYNTHESE!$D:$D,A209,SYNTHESE!$E:$E,$O$1,SYNTHESE!$F:$F,\">=1\")))","v":""},{"$f":"IF($Z$2=\"pok\",\"\",IF(A209=\"\",\"\",COUNTIFS(SYNTHESE!$D:$D,A209,SYNTHESE!$E:$E,$P$1,SYNTHESE!$F:$F,\">=1\")))","v":""},{"$f":"IF($Z$2=\"pok\",\"\",IF(A209=\"\",\"\",COUNTIFS(SYNTHESE!$D:$D,A209,SYNTHESE!$E:$E,$Q$1,SYNTHESE!$F:$F,\">=1\")))","v":""},{"$f":"IF($Z$2=\"pok\",\"\",IF(A209=\"\",\"\",COUNTIFS(SYNTHESE!$D:$D,A209,SYNTHESE!$E:$E,$R$1,SYNTHESE!$F:$F,\">=1\")))","v":""},{"$f":"IF($Z$2=\"pok\",\"\",IF(A209=\"\",\"\",COUNTIFS(SYNTHESE!$D:$D,A209,SYNTHESE!$E:$E,$S$1,SYNTHESE!$F:$F,\">=1\")))","v":""},{"$f":"IF($Z$2=\"pok\",\"\",IF(A209=\"\",\"\",COUNTIFS(SYNTHESE!$D:$D,A209,SYNTHESE!$E:$E,$T$1,SYNTHESE!$F:$F,\">=1\")))","v":""},{"$f":"IF($Z$2=\"pok\",\"\",IF(A209=\"\",\"\",COUNTIFS(SYNTHESE!$D:$D,A209,SYNTHESE!$E:$E,$U$1,SYNTHESE!$F:$F,\">=1\")))","v":""},{"$f":"IF($Z$2=\"pok\",\"\",IF(A209=\"\",\"\",COUNTIFS(SYNTHESE!$D:$D,A209,SYNTHESE!$E:$E,$V$1,SYNTHESE!$F:$F,\">=1\")))","v":""},{"$f":"IF($Z$2=\"pok\",\"\",IF(A209=\"\",\"\",COUNTIFS(SYNTHESE!$D:$D,A209,SYNTHESE!$E:$E,$W$1,SYNTHESE!$F:$F,\">=1\")))","v":""},{"$f":"IF($Z$2=\"pok\",\"\",IF(A209=\"\",\"\",COUNTIFS(SYNTHESE!$D:$D,A209,SYNTHESE!$E:$E,$X$1,SYNTHESE!$F:$F,\">=1\")))","v":""},{"$f":"IF($Z$2=\"pok\",\"\",IF(A209=\"\",\"\",COUNTIFS(SYNTHESE!$D:$D,A209,SYNTHESE!$E:$E,$Y$1,SYNTHESE!$F:$F,\">=1\")))","v":""},0]
[{"$f":"IF(ETUDIANTS!A210=\"\",\"\",ETUDIANTS!A210)","v":""},{"$f":"IF($Z$2=\"pok\",\"\",IF(A210=\"\",\"\",COUNTIFS(SYNTHESE!$D:$D,A210,SYNTHESE!$E:$E,$B$1,SYNTHESE!$F:$F,\">=1\")))","v":""},{"$f":"IF($Z$2=\"pok\",\"\",IF(A210=\"\",\"\",COUNTIFS(SYNTHESE!$D:$D,A210,SYNTHESE!$E:$E,$C$1,SYNTHESE!$F:$F,\">=1\")))","v":""},{"$f":"IF($Z$2=\"pok\",\"\",IF(A210=\"\",\"\",COUNTIFS(SYNTHESE!$D:$D,A210,SYNTHESE!$E:$E,$D$1,SYNTHESE!$F:$F,\">=1\")))","v":""},{"$f":"IF($Z$2=\"pok\",\"\",IF(A210=\"\",\"\",COUNTIFS(SYNTHESE!$D:$D,A210,SYNTHESE!$E:$E,$E$1,SYNTHESE!$F:$F,\">=1\")))","v":""},{"$f":"IF($Z$2=\"pok\",\"\",IF(A210=\"\",\"\",COUNTIFS(SYNTHESE!$D:$D,A210,SYNTHESE!$E:$E,$F$1,SYNTHESE!$F:$F,\">=1\")))","v":""},{"$f":"IF($Z$2=\"pok\",\"\",IF(A210=\"\",\"\",COUNTIFS(SYNTHESE!$D:$D,A210,SYNTHESE!$E:$E,$G$1,SYNTHESE!$F:$F,\">=1\")))","v":""},{"$f":"IF($Z$2=\"pok\",\"\",IF(A210=\"\",\"\",COUNTIFS(SYNTHESE!$D:$D,A210,SYNTHESE!$E:$E,$H$1,SYNTHESE!$F:$F,\">=1\")))","v":""},{"$f":"IF($Z$2=\"pok\",\"\",IF(A210=\"\",\"\",COUNTIFS(SYNTHESE!$D:$D,A210,SYNTHESE!$E:$E,$I$1,SYNTHESE!$F:$F,\">=1\")))","v":""},{"$f":"IF($Z$2=\"pok\",\"\",IF(A210=\"\",\"\",COUNTIFS(SYNTHESE!$D:$D,A210,SYNTHESE!$E:$E,$J$1,SYNTHESE!$F:$F,\">=1\")))","v":""},{"$f":"IF($Z$2=\"pok\",\"\",IF(A210=\"\",\"\",COUNTIFS(SYNTHESE!$D:$D,A210,SYNTHESE!$E:$E,$K$1,SYNTHESE!$F:$F,\">=1\")))","v":""},{"$f":"IF($Z$2=\"pok\",\"\",IF(A210=\"\",\"\",COUNTIFS(SYNTHESE!$D:$D,A210,SYNTHESE!$E:$E,$L$1,SYNTHESE!$F:$F,\">=1\")))","v":""},{"$f":"IF($Z$2=\"pok\",\"\",IF(A210=\"\",\"\",COUNTIFS(SYNTHESE!$D:$D,A210,SYNTHESE!$E:$E,$M$1,SYNTHESE!$F:$F,\">=1\")))","v":""},{"$f":"IF($Z$2=\"pok\",\"\",IF(A210=\"\",\"\",COUNTIFS(SYNTHESE!$D:$D,A210,SYNTHESE!$E:$E,$N$1,SYNTHESE!$F:$F,\">=1\")))","v":""},{"$f":"IF($Z$2=\"pok\",\"\",IF(A210=\"\",\"\",COUNTIFS(SYNTHESE!$D:$D,A210,SYNTHESE!$E:$E,$O$1,SYNTHESE!$F:$F,\">=1\")))","v":""},{"$f":"IF($Z$2=\"pok\",\"\",IF(A210=\"\",\"\",COUNTIFS(SYNTHESE!$D:$D,A210,SYNTHESE!$E:$E,$P$1,SYNTHESE!$F:$F,\">=1\")))","v":""},{"$f":"IF($Z$2=\"pok\",\"\",IF(A210=\"\",\"\",COUNTIFS(SYNTHESE!$D:$D,A210,SYNTHESE!$E:$E,$Q$1,SYNTHESE!$F:$F,\">=1\")))","v":""},{"$f":"IF($Z$2=\"pok\",\"\",IF(A210=\"\",\"\",COUNTIFS(SYNTHESE!$D:$D,A210,SYNTHESE!$E:$E,$R$1,SYNTHESE!$F:$F,\">=1\")))","v":""},{"$f":"IF($Z$2=\"pok\",\"\",IF(A210=\"\",\"\",COUNTIFS(SYNTHESE!$D:$D,A210,SYNTHESE!$E:$E,$S$1,SYNTHESE!$F:$F,\">=1\")))","v":""},{"$f":"IF($Z$2=\"pok\",\"\",IF(A210=\"\",\"\",COUNTIFS(SYNTHESE!$D:$D,A210,SYNTHESE!$E:$E,$T$1,SYNTHESE!$F:$F,\">=1\")))","v":""},{"$f":"IF($Z$2=\"pok\",\"\",IF(A210=\"\",\"\",COUNTIFS(SYNTHESE!$D:$D,A210,SYNTHESE!$E:$E,$U$1,SYNTHESE!$F:$F,\">=1\")))","v":""},{"$f":"IF($Z$2=\"pok\",\"\",IF(A210=\"\",\"\",COUNTIFS(SYNTHESE!$D:$D,A210,SYNTHESE!$E:$E,$V$1,SYNTHESE!$F:$F,\">=1\")))","v":""},{"$f":"IF($Z$2=\"pok\",\"\",IF(A210=\"\",\"\",COUNTIFS(SYNTHESE!$D:$D,A210,SYNTHESE!$E:$E,$W$1,SYNTHESE!$F:$F,\">=1\")))","v":""},{"$f":"IF($Z$2=\"pok\",\"\",IF(A210=\"\",\"\",COUNTIFS(SYNTHESE!$D:$D,A210,SYNTHESE!$E:$E,$X$1,SYNTHESE!$F:$F,\">=1\")))","v":""},{"$f":"IF($Z$2=\"pok\",\"\",IF(A210=\"\",\"\",COUNTIFS(SYNTHESE!$D:$D,A210,SYNTHESE!$E:$E,$Y$1,SYNTHESE!$F:$F,\">=1\")))","v":""},0]
[{"$f":"IF(ETUDIANTS!A211=\"\",\"\",ETUDIANTS!A211)","v":""},{"$f":"IF($Z$2=\"pok\",\"\",IF(A211=\"\",\"\",COUNTIFS(SYNTHESE!$D:$D,A211,SYNTHESE!$E:$E,$B$1,SYNTHESE!$F:$F,\">=1\")))","v":""},{"$f":"IF($Z$2=\"pok\",\"\",IF(A211=\"\",\"\",COUNTIFS(SYNTHESE!$D:$D,A211,SYNTHESE!$E:$E,$C$1,SYNTHESE!$F:$F,\">=1\")))","v":""},{"$f":"IF($Z$2=\"pok\",\"\",IF(A211=\"\",\"\",COUNTIFS(SYNTHESE!$D:$D,A211,SYNTHESE!$E:$E,$D$1,SYNTHESE!$F:$F,\">=1\")))","v":""},{"$f":"IF($Z$2=\"pok\",\"\",IF(A211=\"\",\"\",COUNTIFS(SYNTHESE!$D:$D,A211,SYNTHESE!$E:$E,$E$1,SYNTHESE!$F:$F,\">=1\")))","v":""},{"$f":"IF($Z$2=\"pok\",\"\",IF(A211=\"\",\"\",COUNTIFS(SYNTHESE!$D:$D,A211,SYNTHESE!$E:$E,$F$1,SYNTHESE!$F:$F,\">=1\")))","v":""},{"$f":"IF($Z$2=\"pok\",\"\",IF(A211=\"\",\"\",COUNTIFS(SYNTHESE!$D:$D,A211,SYNTHESE!$E:$E,$G$1,SYNTHESE!$F:$F,\">=1\")))","v":""},{"$f":"IF($Z$2=\"pok\",\"\",IF(A211=\"\",\"\",COUNTIFS(SYNTHESE!$D:$D,A211,SYNTHESE!$E:$E,$H$1,SYNTHESE!$F:$F,\">=1\")))","v":""},{"$f":"IF($Z$2=\"pok\",\"\",IF(A211=\"\",\"\",COUNTIFS(SYNTHESE!$D:$D,A211,SYNTHESE!$E:$E,$I$1,SYNTHESE!$F:$F,\">=1\")))","v":""},{"$f":"IF($Z$2=\"pok\",\"\",IF(A211=\"\",\"\",COUNTIFS(SYNTHESE!$D:$D,A211,SYNTHESE!$E:$E,$J$1,SYNTHESE!$F:$F,\">=1\")))","v":""},{"$f":"IF($Z$2=\"pok\",\"\",IF(A211=\"\",\"\",COUNTIFS(SYNTHESE!$D:$D,A211,SYNTHESE!$E:$E,$K$1,SYNTHESE!$F:$F,\">=1\")))","v":""},{"$f":"IF($Z$2=\"pok\",\"\",IF(A211=\"\",\"\",COUNTIFS(SYNTHESE!$D:$D,A211,SYNTHESE!$E:$E,$L$1,SYNTHESE!$F:$F,\">=1\")))","v":""},{"$f":"IF($Z$2=\"pok\",\"\",IF(A211=\"\",\"\",COUNTIFS(SYNTHESE!$D:$D,A211,SYNTHESE!$E:$E,$M$1,SYNTHESE!$F:$F,\">=1\")))","v":""},{"$f":"IF($Z$2=\"pok\",\"\",IF(A211=\"\",\"\",COUNTIFS(SYNTHESE!$D:$D,A211,SYNTHESE!$E:$E,$N$1,SYNTHESE!$F:$F,\">=1\")))","v":""},{"$f":"IF($Z$2=\"pok\",\"\",IF(A211=\"\",\"\",COUNTIFS(SYNTHESE!$D:$D,A211,SYNTHESE!$E:$E,$O$1,SYNTHESE!$F:$F,\">=1\")))","v":""},{"$f":"IF($Z$2=\"pok\",\"\",IF(A211=\"\",\"\",COUNTIFS(SYNTHESE!$D:$D,A211,SYNTHESE!$E:$E,$P$1,SYNTHESE!$F:$F,\">=1\")))","v":""},{"$f":"IF($Z$2=\"pok\",\"\",IF(A211=\"\",\"\",COUNTIFS(SYNTHESE!$D:$D,A211,SYNTHESE!$E:$E,$Q$1,SYNTHESE!$F:$F,\">=1\")))","v":""},{"$f":"IF($Z$2=\"pok\",\"\",IF(A211=\"\",\"\",COUNTIFS(SYNTHESE!$D:$D,A211,SYNTHESE!$E:$E,$R$1,SYNTHESE!$F:$F,\">=1\")))","v":""},{"$f":"IF($Z$2=\"pok\",\"\",IF(A211=\"\",\"\",COUNTIFS(SYNTHESE!$D:$D,A211,SYNTHESE!$E:$E,$S$1,SYNTHESE!$F:$F,\">=1\")))","v":""},{"$f":"IF($Z$2=\"pok\",\"\",IF(A211=\"\",\"\",COUNTIFS(SYNTHESE!$D:$D,A211,SYNTHESE!$E:$E,$T$1,SYNTHESE!$F:$F,\">=1\")))","v":""},{"$f":"IF($Z$2=\"pok\",\"\",IF(A211=\"\",\"\",COUNTIFS(SYNTHESE!$D:$D,A211,SYNTHESE!$E:$E,$U$1,SYNTHESE!$F:$F,\">=1\")))","v":""},{"$f":"IF($Z$2=\"pok\",\"\",IF(A211=\"\",\"\",COUNTIFS(SYNTHESE!$D:$D,A211,SYNTHESE!$E:$E,$V$1,SYNTHESE!$F:$F,\">=1\")))","v":""},{"$f":"IF($Z$2=\"pok\",\"\",IF(A211=\"\",\"\",COUNTIFS(SYNTHESE!$D:$D,A211,SYNTHESE!$E:$E,$W$1,SYNTHESE!$F:$F,\">=1\")))","v":""},{"$f":"IF($Z$2=\"pok\",\"\",IF(A211=\"\",\"\",COUNTIFS(SYNTHESE!$D:$D,A211,SYNTHESE!$E:$E,$X$1,SYNTHESE!$F:$F,\">=1\")))","v":""},{"$f":"IF($Z$2=\"pok\",\"\",IF(A211=\"\",\"\",COUNTIFS(SYNTHESE!$D:$D,A211,SYNTHESE!$E:$E,$Y$1,SYNTHESE!$F:$F,\">=1\")))","v":""},0]
[{"$f":"IF(ETUDIANTS!A212=\"\",\"\",ETUDIANTS!A212)","v":""},{"$f":"IF($Z$2=\"pok\",\"\",IF(A212=\"\",\"\",COUNTIFS(SYNTHESE!$D:$D,A212,SYNTHESE!$E:$E,$B$1,SYNTHESE!$F:$F,\">=1\")))","v":""},{"$f":"IF($Z$2=\"pok\",\"\",IF(A212=\"\",\"\",COUNTIFS(SYNTHESE!$D:$D,A212,SYNTHESE!$E:$E,$C$1,SYNTHESE!$F:$F,\">=1\")))","v":""},{"$f":"IF($Z$2=\"pok\",\"\",IF(A212=\"\",\"\",COUNTIFS(SYNTHESE!$D:$D,A212,SYNTHESE!$E:$E,$D$1,SYNTHESE!$F:$F,\">=1\")))","v":""},{"$f":"IF($Z$2=\"pok\",\"\",IF(A212=\"\",\"\",COUNTIFS(SYNTHESE!$D:$D,A212,SYNTHESE!$E:$E,$E$1,SYNTHESE!$F:$F,\">=1\")))","v":""},{"$f":"IF($Z$2=\"pok\",\"\",IF(A212=\"\",\"\",COUNTIFS(SYNTHESE!$D:$D,A212,SYNTHESE!$E:$E,$F$1,SYNTHESE!$F:$F,\">=1\")))","v":""},{"$f":"IF($Z$2=\"pok\",\"\",IF(A212=\"\",\"\",COUNTIFS(SYNTHESE!$D:$D,A212,SYNTHESE!$E:$E,$G$1,SYNTHESE!$F:$F,\">=1\")))","v":""},{"$f":"IF($Z$2=\"pok\",\"\",IF(A212=\"\",\"\",COUNTIFS(SYNTHESE!$D:$D,A212,SYNTHESE!$E:$E,$H$1,SYNTHESE!$F:$F,\">=1\")))","v":""},{"$f":"IF($Z$2=\"pok\",\"\",IF(A212=\"\",\"\",COUNTIFS(SYNTHESE!$D:$D,A212,SYNTHESE!$E:$E,$I$1,SYNTHESE!$F:$F,\">=1\")))","v":""},{"$f":"IF($Z$2=\"pok\",\"\",IF(A212=\"\",\"\",COUNTIFS(SYNTHESE!$D:$D,A212,SYNTHESE!$E:$E,$J$1,SYNTHESE!$F:$F,\">=1\")))","v":""},{"$f":"IF($Z$2=\"pok\",\"\",IF(A212=\"\",\"\",COUNTIFS(SYNTHESE!$D:$D,A212,SYNTHESE!$E:$E,$K$1,SYNTHESE!$F:$F,\">=1\")))","v":""},{"$f":"IF($Z$2=\"pok\",\"\",IF(A212=\"\",\"\",COUNTIFS(SYNTHESE!$D:$D,A212,SYNTHESE!$E:$E,$L$1,SYNTHESE!$F:$F,\">=1\")))","v":""},{"$f":"IF($Z$2=\"pok\",\"\",IF(A212=\"\",\"\",COUNTIFS(SYNTHESE!$D:$D,A212,SYNTHESE!$E:$E,$M$1,SYNTHESE!$F:$F,\">=1\")))","v":""},{"$f":"IF($Z$2=\"pok\",\"\",IF(A212=\"\",\"\",COUNTIFS(SYNTHESE!$D:$D,A212,SYNTHESE!$E:$E,$N$1,SYNTHESE!$F:$F,\">=1\")))","v":""},{"$f":"IF($Z$2=\"pok\",\"\",IF(A212=\"\",\"\",COUNTIFS(SYNTHESE!$D:$D,A212,SYNTHESE!$E:$E,$O$1,SYNTHESE!$F:$F,\">=1\")))","v":""},{"$f":"IF($Z$2=\"pok\",\"\",IF(A212=\"\",\"\",COUNTIFS(SYNTHESE!$D:$D,A212,SYNTHESE!$E:$E,$P$1,SYNTHESE!$F:$F,\">=1\")))","v":""},{"$f":"IF($Z$2=\"pok\",\"\",IF(A212=\"\",\"\",COUNTIFS(SYNTHESE!$D:$D,A212,SYNTHESE!$E:$E,$Q$1,SYNTHESE!$F:$F,\">=1\")))","v":""},{"$f":"IF($Z$2=\"pok\",\"\",IF(A212=\"\",\"\",COUNTIFS(SYNTHESE!$D:$D,A212,SYNTHESE!$E:$E,$R$1,SYNTHESE!$F:$F,\">=1\")))","v":""},{"$f":"IF($Z$2=\"pok\",\"\",IF(A212=\"\",\"\",COUNTIFS(SYNTHESE!$D:$D,A212,SYNTHESE!$E:$E,$S$1,SYNTHESE!$F:$F,\">=1\")))","v":""},{"$f":"IF($Z$2=\"pok\",\"\",IF(A212=\"\",\"\",COUNTIFS(SYNTHESE!$D:$D,A212,SYNTHESE!$E:$E,$T$1,SYNTHESE!$F:$F,\">=1\")))","v":""},{"$f":"IF($Z$2=\"pok\",\"\",IF(A212=\"\",\"\",COUNTIFS(SYNTHESE!$D:$D,A212,SYNTHESE!$E:$E,$U$1,SYNTHESE!$F:$F,\">=1\")))","v":""},{"$f":"IF($Z$2=\"pok\",\"\",IF(A212=\"\",\"\",COUNTIFS(SYNTHESE!$D:$D,A212,SYNTHESE!$E:$E,$V$1,SYNTHESE!$F:$F,\">=1\")))","v":""},{"$f":"IF($Z$2=\"pok\",\"\",IF(A212=\"\",\"\",COUNTIFS(SYNTHESE!$D:$D,A212,SYNTHESE!$E:$E,$W$1,SYNTHESE!$F:$F,\">=1\")))","v":""},{"$f":"IF($Z$2=\"pok\",\"\",IF(A212=\"\",\"\",COUNTIFS(SYNTHESE!$D:$D,A212,SYNTHESE!$E:$E,$X$1,SYNTHESE!$F:$F,\">=1\")))","v":""},{"$f":"IF($Z$2=\"pok\",\"\",IF(A212=\"\",\"\",COUNTIFS(SYNTHESE!$D:$D,A212,SYNTHESE!$E:$E,$Y$1,SYNTHESE!$F:$F,\">=1\")))","v":""},0]
[{"$f":"IF(ETUDIANTS!A213=\"\",\"\",ETUDIANTS!A213)","v":""},{"$f":"IF($Z$2=\"pok\",\"\",IF(A213=\"\",\"\",COUNTIFS(SYNTHESE!$D:$D,A213,SYNTHESE!$E:$E,$B$1,SYNTHESE!$F:$F,\">=1\")))","v":""},{"$f":"IF($Z$2=\"pok\",\"\",IF(A213=\"\",\"\",COUNTIFS(SYNTHESE!$D:$D,A213,SYNTHESE!$E:$E,$C$1,SYNTHESE!$F:$F,\">=1\")))","v":""},{"$f":"IF($Z$2=\"pok\",\"\",IF(A213=\"\",\"\",COUNTIFS(SYNTHESE!$D:$D,A213,SYNTHESE!$E:$E,$D$1,SYNTHESE!$F:$F,\">=1\")))","v":""},{"$f":"IF($Z$2=\"pok\",\"\",IF(A213=\"\",\"\",COUNTIFS(SYNTHESE!$D:$D,A213,SYNTHESE!$E:$E,$E$1,SYNTHESE!$F:$F,\">=1\")))","v":""},{"$f":"IF($Z$2=\"pok\",\"\",IF(A213=\"\",\"\",COUNTIFS(SYNTHESE!$D:$D,A213,SYNTHESE!$E:$E,$F$1,SYNTHESE!$F:$F,\">=1\")))","v":""},{"$f":"IF($Z$2=\"pok\",\"\",IF(A213=\"\",\"\",COUNTIFS(SYNTHESE!$D:$D,A213,SYNTHESE!$E:$E,$G$1,SYNTHESE!$F:$F,\">=1\")))","v":""},{"$f":"IF($Z$2=\"pok\",\"\",IF(A213=\"\",\"\",COUNTIFS(SYNTHESE!$D:$D,A213,SYNTHESE!$E:$E,$H$1,SYNTHESE!$F:$F,\">=1\")))","v":""},{"$f":"IF($Z$2=\"pok\",\"\",IF(A213=\"\",\"\",COUNTIFS(SYNTHESE!$D:$D,A213,SYNTHESE!$E:$E,$I$1,SYNTHESE!$F:$F,\">=1\")))","v":""},{"$f":"IF($Z$2=\"pok\",\"\",IF(A213=\"\",\"\",COUNTIFS(SYNTHESE!$D:$D,A213,SYNTHESE!$E:$E,$J$1,SYNTHESE!$F:$F,\">=1\")))","v":""},{"$f":"IF($Z$2=\"pok\",\"\",IF(A213=\"\",\"\",COUNTIFS(SYNTHESE!$D:$D,A213,SYNTHESE!$E:$E,$K$1,SYNTHESE!$F:$F,\">=1\")))","v":""},{"$f":"IF($Z$2=\"pok\",\"\",IF(A213=\"\",\"\",COUNTIFS(SYNTHESE!$D:$D,A213,SYNTHESE!$E:$E,$L$1,SYNTHESE!$F:$F,\">=1\")))","v":""},{"$f":"IF($Z$2=\"pok\",\"\",IF(A213=\"\",\"\",COUNTIFS(SYNTHESE!$D:$D,A213,SYNTHESE!$E:$E,$M$1,SYNTHESE!$F:$F,\">=1\")))","v":""},{"$f":"IF($Z$2=\"pok\",\"\",IF(A213=\"\",\"\",COUNTIFS(SYNTHESE!$D:$D,A213,SYNTHESE!$E:$E,$N$1,SYNTHESE!$F:$F,\">=1\")))","v":""},{"$f":"IF($Z$2=\"pok\",\"\",IF(A213=\"\",\"\",COUNTIFS(SYNTHESE!$D:$D,A213,SYNTHESE!$E:$E,$O$1,SYNTHESE!$F:$F,\">=1\")))","v":""},{"$f":"IF($Z$2=\"pok\",\"\",IF(A213=\"\",\"\",COUNTIFS(SYNTHESE!$D:$D,A213,SYNTHESE!$E:$E,$P$1,SYNTHESE!$F:$F,\">=1\")))","v":""},{"$f":"IF($Z$2=\"pok\",\"\",IF(A213=\"\",\"\",COUNTIFS(SYNTHESE!$D:$D,A213,SYNTHESE!$E:$E,$Q$1,SYNTHESE!$F:$F,\">=1\")))","v":""},{"$f":"IF($Z$2=\"pok\",\"\",IF(A213=\"\",\"\",COUNTIFS(SYNTHESE!$D:$D,A213,SYNTHESE!$E:$E,$R$1,SYNTHESE!$F:$F,\">=1\")))","v":""},{"$f":"IF($Z$2=\"pok\",\"\",IF(A213=\"\",\"\",COUNTIFS(SYNTHESE!$D:$D,A213,SYNTHESE!$E:$E,$S$1,SYNTHESE!$F:$F,\">=1\")))","v":""},{"$f":"IF($Z$2=\"pok\",\"\",IF(A213=\"\",\"\",COUNTIFS(SYNTHESE!$D:$D,A213,SYNTHESE!$E:$E,$T$1,SYNTHESE!$F:$F,\">=1\")))","v":""},{"$f":"IF($Z$2=\"pok\",\"\",IF(A213=\"\",\"\",COUNTIFS(SYNTHESE!$D:$D,A213,SYNTHESE!$E:$E,$U$1,SYNTHESE!$F:$F,\">=1\")))","v":""},{"$f":"IF($Z$2=\"pok\",\"\",IF(A213=\"\",\"\",COUNTIFS(SYNTHESE!$D:$D,A213,SYNTHESE!$E:$E,$V$1,SYNTHESE!$F:$F,\">=1\")))","v":""},{"$f":"IF($Z$2=\"pok\",\"\",IF(A213=\"\",\"\",COUNTIFS(SYNTHESE!$D:$D,A213,SYNTHESE!$E:$E,$W$1,SYNTHESE!$F:$F,\">=1\")))","v":""},{"$f":"IF($Z$2=\"pok\",\"\",IF(A213=\"\",\"\",COUNTIFS(SYNTHESE!$D:$D,A213,SYNTHESE!$E:$E,$X$1,SYNTHESE!$F:$F,\">=1\")))","v":""},{"$f":"IF($Z$2=\"pok\",\"\",IF(A213=\"\",\"\",COUNTIFS(SYNTHESE!$D:$D,A213,SYNTHESE!$E:$E,$Y$1,SYNTHESE!$F:$F,\">=1\")))","v":""},0]
[{"$f":"IF(ETUDIANTS!A214=\"\",\"\",ETUDIANTS!A214)","v":""},{"$f":"IF($Z$2=\"pok\",\"\",IF(A214=\"\",\"\",COUNTIFS(SYNTHESE!$D:$D,A214,SYNTHESE!$E:$E,$B$1,SYNTHESE!$F:$F,\">=1\")))","v":""},{"$f":"IF($Z$2=\"pok\",\"\",IF(A214=\"\",\"\",COUNTIFS(SYNTHESE!$D:$D,A214,SYNTHESE!$E:$E,$C$1,SYNTHESE!$F:$F,\">=1\")))","v":""},{"$f":"IF($Z$2=\"pok\",\"\",IF(A214=\"\",\"\",COUNTIFS(SYNTHESE!$D:$D,A214,SYNTHESE!$E:$E,$D$1,SYNTHESE!$F:$F,\">=1\")))","v":""},{"$f":"IF($Z$2=\"pok\",\"\",IF(A214=\"\",\"\",COUNTIFS(SYNTHESE!$D:$D,A214,SYNTHESE!$E:$E,$E$1,SYNTHESE!$F:$F,\">=1\")))","v":""},{"$f":"IF($Z$2=\"pok\",\"\",IF(A214=\"\",\"\",COUNTIFS(SYNTHESE!$D:$D,A214,SYNTHESE!$E:$E,$F$1,SYNTHESE!$F:$F,\">=1\")))","v":""},{"$f":"IF($Z$2=\"pok\",\"\",IF(A214=\"\",\"\",COUNTIFS(SYNTHESE!$D:$D,A214,SYNTHESE!$E:$E,$G$1,SYNTHESE!$F:$F,\">=1\")))","v":""},{"$f":"IF($Z$2=\"pok\",\"\",IF(A214=\"\",\"\",COUNTIFS(SYNTHESE!$D:$D,A214,SYNTHESE!$E:$E,$H$1,SYNTHESE!$F:$F,\">=1\")))","v":""},{"$f":"IF($Z$2=\"pok\",\"\",IF(A214=\"\",\"\",COUNTIFS(SYNTHESE!$D:$D,A214,SYNTHESE!$E:$E,$I$1,SYNTHESE!$F:$F,\">=1\")))","v":""},{"$f":"IF($Z$2=\"pok\",\"\",IF(A214=\"\",\"\",COUNTIFS(SYNTHESE!$D:$D,A214,SYNTHESE!$E:$E,$J$1,SYNTHESE!$F:$F,\">=1\")))","v":""},{"$f":"IF($Z$2=\"pok\",\"\",IF(A214=\"\",\"\",COUNTIFS(SYNTHESE!$D:$D,A214,SYNTHESE!$E:$E,$K$1,SYNTHESE!$F:$F,\">=1\")))","v":""},{"$f":"IF($Z$2=\"pok\",\"\",IF(A214=\"\",\"\",COUNTIFS(SYNTHESE!$D:$D,A214,SYNTHESE!$E:$E,$L$1,SYNTHESE!$F:$F,\">=1\")))","v":""},{"$f":"IF($Z$2=\"pok\",\"\",IF(A214=\"\",\"\",COUNTIFS(SYNTHESE!$D:$D,A214,SYNTHESE!$E:$E,$M$1,SYNTHESE!$F:$F,\">=1\")))","v":""},{"$f":"IF($Z$2=\"pok\",\"\",IF(A214=\"\",\"\",COUNTIFS(SYNTHESE!$D:$D,A214,SYNTHESE!$E:$E,$N$1,SYNTHESE!$F:$F,\">=1\")))","v":""},{"$f":"IF($Z$2=\"pok\",\"\",IF(A214=\"\",\"\",COUNTIFS(SYNTHESE!$D:$D,A214,SYNTHESE!$E:$E,$O$1,SYNTHESE!$F:$F,\">=1\")))","v":""},{"$f":"IF($Z$2=\"pok\",\"\",IF(A214=\"\",\"\",COUNTIFS(SYNTHESE!$D:$D,A214,SYNTHESE!$E:$E,$P$1,SYNTHESE!$F:$F,\">=1\")))","v":""},{"$f":"IF($Z$2=\"pok\",\"\",IF(A214=\"\",\"\",COUNTIFS(SYNTHESE!$D:$D,A214,SYNTHESE!$E:$E,$Q$1,SYNTHESE!$F:$F,\">=1\")))","v":""},{"$f":"IF($Z$2=\"pok\",\"\",IF(A214=\"\",\"\",COUNTIFS(SYNTHESE!$D:$D,A214,SYNTHESE!$E:$E,$R$1,SYNTHESE!$F:$F,\">=1\")))","v":""},{"$f":"IF($Z$2=\"pok\",\"\",IF(A214=\"\",\"\",COUNTIFS(SYNTHESE!$D:$D,A214,SYNTHESE!$E:$E,$S$1,SYNTHESE!$F:$F,\">=1\")))","v":""},{"$f":"IF($Z$2=\"pok\",\"\",IF(A214=\"\",\"\",COUNTIFS(SYNTHESE!$D:$D,A214,SYNTHESE!$E:$E,$T$1,SYNTHESE!$F:$F,\">=1\")))","v":""},{"$f":"IF($Z$2=\"pok\",\"\",IF(A214=\"\",\"\",COUNTIFS(SYNTHESE!$D:$D,A214,SYNTHESE!$E:$E,$U$1,SYNTHESE!$F:$F,\">=1\")))","v":""},{"$f":"IF($Z$2=\"pok\",\"\",IF(A214=\"\",\"\",COUNTIFS(SYNTHESE!$D:$D,A214,SYNTHESE!$E:$E,$V$1,SYNTHESE!$F:$F,\">=1\")))","v":""},{"$f":"IF($Z$2=\"pok\",\"\",IF(A214=\"\",\"\",COUNTIFS(SYNTHESE!$D:$D,A214,SYNTHESE!$E:$E,$W$1,SYNTHESE!$F:$F,\">=1\")))","v":""},{"$f":"IF($Z$2=\"pok\",\"\",IF(A214=\"\",\"\",COUNTIFS(SYNTHESE!$D:$D,A214,SYNTHESE!$E:$E,$X$1,SYNTHESE!$F:$F,\">=1\")))","v":""},{"$f":"IF($Z$2=\"pok\",\"\",IF(A214=\"\",\"\",COUNTIFS(SYNTHESE!$D:$D,A214,SYNTHESE!$E:$E,$Y$1,SYNTHESE!$F:$F,\">=1\")))","v":""},0]
[{"$f":"IF(ETUDIANTS!A215=\"\",\"\",ETUDIANTS!A215)","v":""},{"$f":"IF($Z$2=\"pok\",\"\",IF(A215=\"\",\"\",COUNTIFS(SYNTHESE!$D:$D,A215,SYNTHESE!$E:$E,$B$1,SYNTHESE!$F:$F,\">=1\")))","v":""},{"$f":"IF($Z$2=\"pok\",\"\",IF(A215=\"\",\"\",COUNTIFS(SYNTHESE!$D:$D,A215,SYNTHESE!$E:$E,$C$1,SYNTHESE!$F:$F,\">=1\")))","v":""},{"$f":"IF($Z$2=\"pok\",\"\",IF(A215=\"\",\"\",COUNTIFS(SYNTHESE!$D:$D,A215,SYNTHESE!$E:$E,$D$1,SYNTHESE!$F:$F,\">=1\")))","v":""},{"$f":"IF($Z$2=\"pok\",\"\",IF(A215=\"\",\"\",COUNTIFS(SYNTHESE!$D:$D,A215,SYNTHESE!$E:$E,$E$1,SYNTHESE!$F:$F,\">=1\")))","v":""},{"$f":"IF($Z$2=\"pok\",\"\",IF(A215=\"\",\"\",COUNTIFS(SYNTHESE!$D:$D,A215,SYNTHESE!$E:$E,$F$1,SYNTHESE!$F:$F,\">=1\")))","v":""},{"$f":"IF($Z$2=\"pok\",\"\",IF(A215=\"\",\"\",COUNTIFS(SYNTHESE!$D:$D,A215,SYNTHESE!$E:$E,$G$1,SYNTHESE!$F:$F,\">=1\")))","v":""},{"$f":"IF($Z$2=\"pok\",\"\",IF(A215=\"\",\"\",COUNTIFS(SYNTHESE!$D:$D,A215,SYNTHESE!$E:$E,$H$1,SYNTHESE!$F:$F,\">=1\")))","v":""},{"$f":"IF($Z$2=\"pok\",\"\",IF(A215=\"\",\"\",COUNTIFS(SYNTHESE!$D:$D,A215,SYNTHESE!$E:$E,$I$1,SYNTHESE!$F:$F,\">=1\")))","v":""},{"$f":"IF($Z$2=\"pok\",\"\",IF(A215=\"\",\"\",COUNTIFS(SYNTHESE!$D:$D,A215,SYNTHESE!$E:$E,$J$1,SYNTHESE!$F:$F,\">=1\")))","v":""},{"$f":"IF($Z$2=\"pok\",\"\",IF(A215=\"\",\"\",COUNTIFS(SYNTHESE!$D:$D,A215,SYNTHESE!$E:$E,$K$1,SYNTHESE!$F:$F,\">=1\")))","v":""},{"$f":"IF($Z$2=\"pok\",\"\",IF(A215=\"\",\"\",COUNTIFS(SYNTHESE!$D:$D,A215,SYNTHESE!$E:$E,$L$1,SYNTHESE!$F:$F,\">=1\")))","v":""},{"$f":"IF($Z$2=\"pok\",\"\",IF(A215=\"\",\"\",COUNTIFS(SYNTHESE!$D:$D,A215,SYNTHESE!$E:$E,$M$1,SYNTHESE!$F:$F,\">=1\")))","v":""},{"$f":"IF($Z$2=\"pok\",\"\",IF(A215=\"\",\"\",COUNTIFS(SYNTHESE!$D:$D,A215,SYNTHESE!$E:$E,$N$1,SYNTHESE!$F:$F,\">=1\")))","v":""},{"$f":"IF($Z$2=\"pok\",\"\",IF(A215=\"\",\"\",COUNTIFS(SYNTHESE!$D:$D,A215,SYNTHESE!$E:$E,$O$1,SYNTHESE!$F:$F,\">=1\")))","v":""},{"$f":"IF($Z$2=\"pok\",\"\",IF(A215=\"\",\"\",COUNTIFS(SYNTHESE!$D:$D,A215,SYNTHESE!$E:$E,$P$1,SYNTHESE!$F:$F,\">=1\")))","v":""},{"$f":"IF($Z$2=\"pok\",\"\",IF(A215=\"\",\"\",COUNTIFS(SYNTHESE!$D:$D,A215,SYNTHESE!$E:$E,$Q$1,SYNTHESE!$F:$F,\">=1\")))","v":""},{"$f":"IF($Z$2=\"pok\",\"\",IF(A215=\"\",\"\",COUNTIFS(SYNTHESE!$D:$D,A215,SYNTHESE!$E:$E,$R$1,SYNTHESE!$F:$F,\">=1\")))","v":""},{"$f":"IF($Z$2=\"pok\",\"\",IF(A215=\"\",\"\",COUNTIFS(SYNTHESE!$D:$D,A215,SYNTHESE!$E:$E,$S$1,SYNTHESE!$F:$F,\">=1\")))","v":""},{"$f":"IF($Z$2=\"pok\",\"\",IF(A215=\"\",\"\",COUNTIFS(SYNTHESE!$D:$D,A215,SYNTHESE!$E:$E,$T$1,SYNTHESE!$F:$F,\">=1\")))","v":""},{"$f":"IF($Z$2=\"pok\",\"\",IF(A215=\"\",\"\",COUNTIFS(SYNTHESE!$D:$D,A215,SYNTHESE!$E:$E,$U$1,SYNTHESE!$F:$F,\">=1\")))","v":""},{"$f":"IF($Z$2=\"pok\",\"\",IF(A215=\"\",\"\",COUNTIFS(SYNTHESE!$D:$D,A215,SYNTHESE!$E:$E,$V$1,SYNTHESE!$F:$F,\">=1\")))","v":""},{"$f":"IF($Z$2=\"pok\",\"\",IF(A215=\"\",\"\",COUNTIFS(SYNTHESE!$D:$D,A215,SYNTHESE!$E:$E,$W$1,SYNTHESE!$F:$F,\">=1\")))","v":""},{"$f":"IF($Z$2=\"pok\",\"\",IF(A215=\"\",\"\",COUNTIFS(SYNTHESE!$D:$D,A215,SYNTHESE!$E:$E,$X$1,SYNTHESE!$F:$F,\">=1\")))","v":""},{"$f":"IF($Z$2=\"pok\",\"\",IF(A215=\"\",\"\",COUNTIFS(SYNTHESE!$D:$D,A215,SYNTHESE!$E:$E,$Y$1,SYNTHESE!$F:$F,\">=1\")))","v":""},0]
[{"$f":"IF(ETUDIANTS!A216=\"\",\"\",ETUDIANTS!A216)","v":""},{"$f":"IF($Z$2=\"pok\",\"\",IF(A216=\"\",\"\",COUNTIFS(SYNTHESE!$D:$D,A216,SYNTHESE!$E:$E,$B$1,SYNTHESE!$F:$F,\">=1\")))","v":""},{"$f":"IF($Z$2=\"pok\",\"\",IF(A216=\"\",\"\",COUNTIFS(SYNTHESE!$D:$D,A216,SYNTHESE!$E:$E,$C$1,SYNTHESE!$F:$F,\">=1\")))","v":""},{"$f":"IF($Z$2=\"pok\",\"\",IF(A216=\"\",\"\",COUNTIFS(SYNTHESE!$D:$D,A216,SYNTHESE!$E:$E,$D$1,SYNTHESE!$F:$F,\">=1\")))","v":""},{"$f":"IF($Z$2=\"pok\",\"\",IF(A216=\"\",\"\",COUNTIFS(SYNTHESE!$D:$D,A216,SYNTHESE!$E:$E,$E$1,SYNTHESE!$F:$F,\">=1\")))","v":""},{"$f":"IF($Z$2=\"pok\",\"\",IF(A216=\"\",\"\",COUNTIFS(SYNTHESE!$D:$D,A216,SYNTHESE!$E:$E,$F$1,SYNTHESE!$F:$F,\">=1\")))","v":""},{"$f":"IF($Z$2=\"pok\",\"\",IF(A216=\"\",\"\",COUNTIFS(SYNTHESE!$D:$D,A216,SYNTHESE!$E:$E,$G$1,SYNTHESE!$F:$F,\">=1\")))","v":""},{"$f":"IF($Z$2=\"pok\",\"\",IF(A216=\"\",\"\",COUNTIFS(SYNTHESE!$D:$D,A216,SYNTHESE!$E:$E,$H$1,SYNTHESE!$F:$F,\">=1\")))","v":""},{"$f":"IF($Z$2=\"pok\",\"\",IF(A216=\"\",\"\",COUNTIFS(SYNTHESE!$D:$D,A216,SYNTHESE!$E:$E,$I$1,SYNTHESE!$F:$F,\">=1\")))","v":""},{"$f":"IF($Z$2=\"pok\",\"\",IF(A216=\"\",\"\",COUNTIFS(SYNTHESE!$D:$D,A216,SYNTHESE!$E:$E,$J$1,SYNTHESE!$F:$F,\">=1\")))","v":""},{"$f":"IF($Z$2=\"pok\",\"\",IF(A216=\"\",\"\",COUNTIFS(SYNTHESE!$D:$D,A216,SYNTHESE!$E:$E,$K$1,SYNTHESE!$F:$F,\">=1\")))","v":""},{"$f":"IF($Z$2=\"pok\",\"\",IF(A216=\"\",\"\",COUNTIFS(SYNTHESE!$D:$D,A216,SYNTHESE!$E:$E,$L$1,SYNTHESE!$F:$F,\">=1\")))","v":""},{"$f":"IF($Z$2=\"pok\",\"\",IF(A216=\"\",\"\",COUNTIFS(SYNTHESE!$D:$D,A216,SYNTHESE!$E:$E,$M$1,SYNTHESE!$F:$F,\">=1\")))","v":""},{"$f":"IF($Z$2=\"pok\",\"\",IF(A216=\"\",\"\",COUNTIFS(SYNTHESE!$D:$D,A216,SYNTHESE!$E:$E,$N$1,SYNTHESE!$F:$F,\">=1\")))","v":""},{"$f":"IF($Z$2=\"pok\",\"\",IF(A216=\"\",\"\",COUNTIFS(SYNTHESE!$D:$D,A216,SYNTHESE!$E:$E,$O$1,SYNTHESE!$F:$F,\">=1\")))","v":""},{"$f":"IF($Z$2=\"pok\",\"\",IF(A216=\"\",\"\",COUNTIFS(SYNTHESE!$D:$D,A216,SYNTHESE!$E:$E,$P$1,SYNTHESE!$F:$F,\">=1\")))","v":""},{"$f":"IF($Z$2=\"pok\",\"\",IF(A216=\"\",\"\",COUNTIFS(SYNTHESE!$D:$D,A216,SYNTHESE!$E:$E,$Q$1,SYNTHESE!$F:$F,\">=1\")))","v":""},{"$f":"IF($Z$2=\"pok\",\"\",IF(A216=\"\",\"\",COUNTIFS(SYNTHESE!$D:$D,A216,SYNTHESE!$E:$E,$R$1,SYNTHESE!$F:$F,\">=1\")))","v":""},{"$f":"IF($Z$2=\"pok\",\"\",IF(A216=\"\",\"\",COUNTIFS(SYNTHESE!$D:$D,A216,SYNTHESE!$E:$E,$S$1,SYNTHESE!$F:$F,\">=1\")))","v":""},{"$f":"IF($Z$2=\"pok\",\"\",IF(A216=\"\",\"\",COUNTIFS(SYNTHESE!$D:$D,A216,SYNTHESE!$E:$E,$T$1,SYNTHESE!$F:$F,\">=1\")))","v":""},{"$f":"IF($Z$2=\"pok\",\"\",IF(A216=\"\",\"\",COUNTIFS(SYNTHESE!$D:$D,A216,SYNTHESE!$E:$E,$U$1,SYNTHESE!$F:$F,\">=1\")))","v":""},{"$f":"IF($Z$2=\"pok\",\"\",IF(A216=\"\",\"\",COUNTIFS(SYNTHESE!$D:$D,A216,SYNTHESE!$E:$E,$V$1,SYNTHESE!$F:$F,\">=1\")))","v":""},{"$f":"IF($Z$2=\"pok\",\"\",IF(A216=\"\",\"\",COUNTIFS(SYNTHESE!$D:$D,A216,SYNTHESE!$E:$E,$W$1,SYNTHESE!$F:$F,\">=1\")))","v":""},{"$f":"IF($Z$2=\"pok\",\"\",IF(A216=\"\",\"\",COUNTIFS(SYNTHESE!$D:$D,A216,SYNTHESE!$E:$E,$X$1,SYNTHESE!$F:$F,\">=1\")))","v":""},{"$f":"IF($Z$2=\"pok\",\"\",IF(A216=\"\",\"\",COUNTIFS(SYNTHESE!$D:$D,A216,SYNTHESE!$E:$E,$Y$1,SYNTHESE!$F:$F,\">=1\")))","v":""},0]
[{"$f":"IF(ETUDIANTS!A217=\"\",\"\",ETUDIANTS!A217)","v":""},{"$f":"IF($Z$2=\"pok\",\"\",IF(A217=\"\",\"\",COUNTIFS(SYNTHESE!$D:$D,A217,SYNTHESE!$E:$E,$B$1,SYNTHESE!$F:$F,\">=1\")))","v":""},{"$f":"IF($Z$2=\"pok\",\"\",IF(A217=\"\",\"\",COUNTIFS(SYNTHESE!$D:$D,A217,SYNTHESE!$E:$E,$C$1,SYNTHESE!$F:$F,\">=1\")))","v":""},{"$f":"IF($Z$2=\"pok\",\"\",IF(A217=\"\",\"\",COUNTIFS(SYNTHESE!$D:$D,A217,SYNTHESE!$E:$E,$D$1,SYNTHESE!$F:$F,\">=1\")))","v":""},{"$f":"IF($Z$2=\"pok\",\"\",IF(A217=\"\",\"\",COUNTIFS(SYNTHESE!$D:$D,A217,SYNTHESE!$E:$E,$E$1,SYNTHESE!$F:$F,\">=1\")))","v":""},{"$f":"IF($Z$2=\"pok\",\"\",IF(A217=\"\",\"\",COUNTIFS(SYNTHESE!$D:$D,A217,SYNTHESE!$E:$E,$F$1,SYNTHESE!$F:$F,\">=1\")))","v":""},{"$f":"IF($Z$2=\"pok\",\"\",IF(A217=\"\",\"\",COUNTIFS(SYNTHESE!$D:$D,A217,SYNTHESE!$E:$E,$G$1,SYNTHESE!$F:$F,\">=1\")))","v":""},{"$f":"IF($Z$2=\"pok\",\"\",IF(A217=\"\",\"\",COUNTIFS(SYNTHESE!$D:$D,A217,SYNTHESE!$E:$E,$H$1,SYNTHESE!$F:$F,\">=1\")))","v":""},{"$f":"IF($Z$2=\"pok\",\"\",IF(A217=\"\",\"\",COUNTIFS(SYNTHESE!$D:$D,A217,SYNTHESE!$E:$E,$I$1,SYNTHESE!$F:$F,\">=1\")))","v":""},{"$f":"IF($Z$2=\"pok\",\"\",IF(A217=\"\",\"\",COUNTIFS(SYNTHESE!$D:$D,A217,SYNTHESE!$E:$E,$J$1,SYNTHESE!$F:$F,\">=1\")))","v":""},{"$f":"IF($Z$2=\"pok\",\"\",IF(A217=\"\",\"\",COUNTIFS(SYNTHESE!$D:$D,A217,SYNTHESE!$E:$E,$K$1,SYNTHESE!$F:$F,\">=1\")))","v":""},{"$f":"IF($Z$2=\"pok\",\"\",IF(A217=\"\",\"\",COUNTIFS(SYNTHESE!$D:$D,A217,SYNTHESE!$E:$E,$L$1,SYNTHESE!$F:$F,\">=1\")))","v":""},{"$f":"IF($Z$2=\"pok\",\"\",IF(A217=\"\",\"\",COUNTIFS(SYNTHESE!$D:$D,A217,SYNTHESE!$E:$E,$M$1,SYNTHESE!$F:$F,\">=1\")))","v":""},{"$f":"IF($Z$2=\"pok\",\"\",IF(A217=\"\",\"\",COUNTIFS(SYNTHESE!$D:$D,A217,SYNTHESE!$E:$E,$N$1,SYNTHESE!$F:$F,\">=1\")))","v":""},{"$f":"IF($Z$2=\"pok\",\"\",IF(A217=\"\",\"\",COUNTIFS(SYNTHESE!$D:$D,A217,SYNTHESE!$E:$E,$O$1,SYNTHESE!$F:$F,\">=1\")))","v":""},{"$f":"IF($Z$2=\"pok\",\"\",IF(A217=\"\",\"\",COUNTIFS(SYNTHESE!$D:$D,A217,SYNTHESE!$E:$E,$P$1,SYNTHESE!$F:$F,\">=1\")))","v":""},{"$f":"IF($Z$2=\"pok\",\"\",IF(A217=\"\",\"\",COUNTIFS(SYNTHESE!$D:$D,A217,SYNTHESE!$E:$E,$Q$1,SYNTHESE!$F:$F,\">=1\")))","v":""},{"$f":"IF($Z$2=\"pok\",\"\",IF(A217=\"\",\"\",COUNTIFS(SYNTHESE!$D:$D,A217,SYNTHESE!$E:$E,$R$1,SYNTHESE!$F:$F,\">=1\")))","v":""},{"$f":"IF($Z$2=\"pok\",\"\",IF(A217=\"\",\"\",COUNTIFS(SYNTHESE!$D:$D,A217,SYNTHESE!$E:$E,$S$1,SYNTHESE!$F:$F,\">=1\")))","v":""},{"$f":"IF($Z$2=\"pok\",\"\",IF(A217=\"\",\"\",COUNTIFS(SYNTHESE!$D:$D,A217,SYNTHESE!$E:$E,$T$1,SYNTHESE!$F:$F,\">=1\")))","v":""},{"$f":"IF($Z$2=\"pok\",\"\",IF(A217=\"\",\"\",COUNTIFS(SYNTHESE!$D:$D,A217,SYNTHESE!$E:$E,$U$1,SYNTHESE!$F:$F,\">=1\")))","v":""},{"$f":"IF($Z$2=\"pok\",\"\",IF(A217=\"\",\"\",COUNTIFS(SYNTHESE!$D:$D,A217,SYNTHESE!$E:$E,$V$1,SYNTHESE!$F:$F,\">=1\")))","v":""},{"$f":"IF($Z$2=\"pok\",\"\",IF(A217=\"\",\"\",COUNTIFS(SYNTHESE!$D:$D,A217,SYNTHESE!$E:$E,$W$1,SYNTHESE!$F:$F,\">=1\")))","v":""},{"$f":"IF($Z$2=\"pok\",\"\",IF(A217=\"\",\"\",COUNTIFS(SYNTHESE!$D:$D,A217,SYNTHESE!$E:$E,$X$1,SYNTHESE!$F:$F,\">=1\")))","v":""},{"$f":"IF($Z$2=\"pok\",\"\",IF(A217=\"\",\"\",COUNTIFS(SYNTHESE!$D:$D,A217,SYNTHESE!$E:$E,$Y$1,SYNTHESE!$F:$F,\">=1\")))","v":""},0]
[{"$f":"IF(ETUDIANTS!A218=\"\",\"\",ETUDIANTS!A218)","v":""},{"$f":"IF($Z$2=\"pok\",\"\",IF(A218=\"\",\"\",COUNTIFS(SYNTHESE!$D:$D,A218,SYNTHESE!$E:$E,$B$1,SYNTHESE!$F:$F,\">=1\")))","v":""},{"$f":"IF($Z$2=\"pok\",\"\",IF(A218=\"\",\"\",COUNTIFS(SYNTHESE!$D:$D,A218,SYNTHESE!$E:$E,$C$1,SYNTHESE!$F:$F,\">=1\")))","v":""},{"$f":"IF($Z$2=\"pok\",\"\",IF(A218=\"\",\"\",COUNTIFS(SYNTHESE!$D:$D,A218,SYNTHESE!$E:$E,$D$1,SYNTHESE!$F:$F,\">=1\")))","v":""},{"$f":"IF($Z$2=\"pok\",\"\",IF(A218=\"\",\"\",COUNTIFS(SYNTHESE!$D:$D,A218,SYNTHESE!$E:$E,$E$1,SYNTHESE!$F:$F,\">=1\")))","v":""},{"$f":"IF($Z$2=\"pok\",\"\",IF(A218=\"\",\"\",COUNTIFS(SYNTHESE!$D:$D,A218,SYNTHESE!$E:$E,$F$1,SYNTHESE!$F:$F,\">=1\")))","v":""},{"$f":"IF($Z$2=\"pok\",\"\",IF(A218=\"\",\"\",COUNTIFS(SYNTHESE!$D:$D,A218,SYNTHESE!$E:$E,$G$1,SYNTHESE!$F:$F,\">=1\")))","v":""},{"$f":"IF($Z$2=\"pok\",\"\",IF(A218=\"\",\"\",COUNTIFS(SYNTHESE!$D:$D,A218,SYNTHESE!$E:$E,$H$1,SYNTHESE!$F:$F,\">=1\")))","v":""},{"$f":"IF($Z$2=\"pok\",\"\",IF(A218=\"\",\"\",COUNTIFS(SYNTHESE!$D:$D,A218,SYNTHESE!$E:$E,$I$1,SYNTHESE!$F:$F,\">=1\")))","v":""},{"$f":"IF($Z$2=\"pok\",\"\",IF(A218=\"\",\"\",COUNTIFS(SYNTHESE!$D:$D,A218,SYNTHESE!$E:$E,$J$1,SYNTHESE!$F:$F,\">=1\")))","v":""},{"$f":"IF($Z$2=\"pok\",\"\",IF(A218=\"\",\"\",COUNTIFS(SYNTHESE!$D:$D,A218,SYNTHESE!$E:$E,$K$1,SYNTHESE!$F:$F,\">=1\")))","v":""},{"$f":"IF($Z$2=\"pok\",\"\",IF(A218=\"\",\"\",COUNTIFS(SYNTHESE!$D:$D,A218,SYNTHESE!$E:$E,$L$1,SYNTHESE!$F:$F,\">=1\")))","v":""},{"$f":"IF($Z$2=\"pok\",\"\",IF(A218=\"\",\"\",COUNTIFS(SYNTHESE!$D:$D,A218,SYNTHESE!$E:$E,$M$1,SYNTHESE!$F:$F,\">=1\")))","v":""},{"$f":"IF($Z$2=\"pok\",\"\",IF(A218=\"\",\"\",COUNTIFS(SYNTHESE!$D:$D,A218,SYNTHESE!$E:$E,$N$1,SYNTHESE!$F:$F,\">=1\")))","v":""},{"$f":"IF($Z$2=\"pok\",\"\",IF(A218=\"\",\"\",COUNTIFS(SYNTHESE!$D:$D,A218,SYNTHESE!$E:$E,$O$1,SYNTHESE!$F:$F,\">=1\")))","v":""},{"$f":"IF($Z$2=\"pok\",\"\",IF(A218=\"\",\"\",COUNTIFS(SYNTHESE!$D:$D,A218,SYNTHESE!$E:$E,$P$1,SYNTHESE!$F:$F,\">=1\")))","v":""},{"$f":"IF($Z$2=\"pok\",\"\",IF(A218=\"\",\"\",COUNTIFS(SYNTHESE!$D:$D,A218,SYNTHESE!$E:$E,$Q$1,SYNTHESE!$F:$F,\">=1\")))","v":""},{"$f":"IF($Z$2=\"pok\",\"\",IF(A218=\"\",\"\",COUNTIFS(SYNTHESE!$D:$D,A218,SYNTHESE!$E:$E,$R$1,SYNTHESE!$F:$F,\">=1\")))","v":""},{"$f":"IF($Z$2=\"pok\",\"\",IF(A218=\"\",\"\",COUNTIFS(SYNTHESE!$D:$D,A218,SYNTHESE!$E:$E,$S$1,SYNTHESE!$F:$F,\">=1\")))","v":""},{"$f":"IF($Z$2=\"pok\",\"\",IF(A218=\"\",\"\",COUNTIFS(SYNTHESE!$D:$D,A218,SYNTHESE!$E:$E,$T$1,SYNTHESE!$F:$F,\">=1\")))","v":""},{"$f":"IF($Z$2=\"pok\",\"\",IF(A218=\"\",\"\",COUNTIFS(SYNTHESE!$D:$D,A218,SYNTHESE!$E:$E,$U$1,SYNTHESE!$F:$F,\">=1\")))","v":""},{"$f":"IF($Z$2=\"pok\",\"\",IF(A218=\"\",\"\",COUNTIFS(SYNTHESE!$D:$D,A218,SYNTHESE!$E:$E,$V$1,SYNTHESE!$F:$F,\">=1\")))","v":""},{"$f":"IF($Z$2=\"pok\",\"\",IF(A218=\"\",\"\",COUNTIFS(SYNTHESE!$D:$D,A218,SYNTHESE!$E:$E,$W$1,SYNTHESE!$F:$F,\">=1\")))","v":""},{"$f":"IF($Z$2=\"pok\",\"\",IF(A218=\"\",\"\",COUNTIFS(SYNTHESE!$D:$D,A218,SYNTHESE!$E:$E,$X$1,SYNTHESE!$F:$F,\">=1\")))","v":""},{"$f":"IF($Z$2=\"pok\",\"\",IF(A218=\"\",\"\",COUNTIFS(SYNTHESE!$D:$D,A218,SYNTHESE!$E:$E,$Y$1,SYNTHESE!$F:$F,\">=1\")))","v":""},0]
[{"$f":"IF(ETUDIANTS!A219=\"\",\"\",ETUDIANTS!A219)","v":""},{"$f":"IF($Z$2=\"pok\",\"\",IF(A219=\"\",\"\",COUNTIFS(SYNTHESE!$D:$D,A219,SYNTHESE!$E:$E,$B$1,SYNTHESE!$F:$F,\">=1\")))","v":""},{"$f":"IF($Z$2=\"pok\",\"\",IF(A219=\"\",\"\",COUNTIFS(SYNTHESE!$D:$D,A219,SYNTHESE!$E:$E,$C$1,SYNTHESE!$F:$F,\">=1\")))","v":""},{"$f":"IF($Z$2=\"pok\",\"\",IF(A219=\"\",\"\",COUNTIFS(SYNTHESE!$D:$D,A219,SYNTHESE!$E:$E,$D$1,SYNTHESE!$F:$F,\">=1\")))","v":""},{"$f":"IF($Z$2=\"pok\",\"\",IF(A219=\"\",\"\",COUNTIFS(SYNTHESE!$D:$D,A219,SYNTHESE!$E:$E,$E$1,SYNTHESE!$F:$F,\">=1\")))","v":""},{"$f":"IF($Z$2=\"pok\",\"\",IF(A219=\"\",\"\",COUNTIFS(SYNTHESE!$D:$D,A219,SYNTHESE!$E:$E,$F$1,SYNTHESE!$F:$F,\">=1\")))","v":""},{"$f":"IF($Z$2=\"pok\",\"\",IF(A219=\"\",\"\",COUNTIFS(SYNTHESE!$D:$D,A219,SYNTHESE!$E:$E,$G$1,SYNTHESE!$F:$F,\">=1\")))","v":""},{"$f":"IF($Z$2=\"pok\",\"\",IF(A219=\"\",\"\",COUNTIFS(SYNTHESE!$D:$D,A219,SYNTHESE!$E:$E,$H$1,SYNTHESE!$F:$F,\">=1\")))","v":""},{"$f":"IF($Z$2=\"pok\",\"\",IF(A219=\"\",\"\",COUNTIFS(SYNTHESE!$D:$D,A219,SYNTHESE!$E:$E,$I$1,SYNTHESE!$F:$F,\">=1\")))","v":""},{"$f":"IF($Z$2=\"pok\",\"\",IF(A219=\"\",\"\",COUNTIFS(SYNTHESE!$D:$D,A219,SYNTHESE!$E:$E,$J$1,SYNTHESE!$F:$F,\">=1\")))","v":""},{"$f":"IF($Z$2=\"pok\",\"\",IF(A219=\"\",\"\",COUNTIFS(SYNTHESE!$D:$D,A219,SYNTHESE!$E:$E,$K$1,SYNTHESE!$F:$F,\">=1\")))","v":""},{"$f":"IF($Z$2=\"pok\",\"\",IF(A219=\"\",\"\",COUNTIFS(SYNTHESE!$D:$D,A219,SYNTHESE!$E:$E,$L$1,SYNTHESE!$F:$F,\">=1\")))","v":""},{"$f":"IF($Z$2=\"pok\",\"\",IF(A219=\"\",\"\",COUNTIFS(SYNTHESE!$D:$D,A219,SYNTHESE!$E:$E,$M$1,SYNTHESE!$F:$F,\">=1\")))","v":""},{"$f":"IF($Z$2=\"pok\",\"\",IF(A219=\"\",\"\",COUNTIFS(SYNTHESE!$D:$D,A219,SYNTHESE!$E:$E,$N$1,SYNTHESE!$F:$F,\">=1\")))","v":""},{"$f":"IF($Z$2=\"pok\",\"\",IF(A219=\"\",\"\",COUNTIFS(SYNTHESE!$D:$D,A219,SYNTHESE!$E:$E,$O$1,SYNTHESE!$F:$F,\">=1\")))","v":""},{"$f":"IF($Z$2=\"pok\",\"\",IF(A219=\"\",\"\",COUNTIFS(SYNTHESE!$D:$D,A219,SYNTHESE!$E:$E,$P$1,SYNTHESE!$F:$F,\">=1\")))","v":""},{"$f":"IF($Z$2=\"pok\",\"\",IF(A219=\"\",\"\",COUNTIFS(SYNTHESE!$D:$D,A219,SYNTHESE!$E:$E,$Q$1,SYNTHESE!$F:$F,\">=1\")))","v":""},{"$f":"IF($Z$2=\"pok\",\"\",IF(A219=\"\",\"\",COUNTIFS(SYNTHESE!$D:$D,A219,SYNTHESE!$E:$E,$R$1,SYNTHESE!$F:$F,\">=1\")))","v":""},{"$f":"IF($Z$2=\"pok\",\"\",IF(A219=\"\",\"\",COUNTIFS(SYNTHESE!$D:$D,A219,SYNTHESE!$E:$E,$S$1,SYNTHESE!$F:$F,\">=1\")))","v":""},{"$f":"IF($Z$2=\"pok\",\"\",IF(A219=\"\",\"\",COUNTIFS(SYNTHESE!$D:$D,A219,SYNTHESE!$E:$E,$T$1,SYNTHESE!$F:$F,\">=1\")))","v":""},{"$f":"IF($Z$2=\"pok\",\"\",IF(A219=\"\",\"\",COUNTIFS(SYNTHESE!$D:$D,A219,SYNTHESE!$E:$E,$U$1,SYNTHESE!$F:$F,\">=1\")))","v":""},{"$f":"IF($Z$2=\"pok\",\"\",IF(A219=\"\",\"\",COUNTIFS(SYNTHESE!$D:$D,A219,SYNTHESE!$E:$E,$V$1,SYNTHESE!$F:$F,\">=1\")))","v":""},{"$f":"IF($Z$2=\"pok\",\"\",IF(A219=\"\",\"\",COUNTIFS(SYNTHESE!$D:$D,A219,SYNTHESE!$E:$E,$W$1,SYNTHESE!$F:$F,\">=1\")))","v":""},{"$f":"IF($Z$2=\"pok\",\"\",IF(A219=\"\",\"\",COUNTIFS(SYNTHESE!$D:$D,A219,SYNTHESE!$E:$E,$X$1,SYNTHESE!$F:$F,\">=1\")))","v":""},{"$f":"IF($Z$2=\"pok\",\"\",IF(A219=\"\",\"\",COUNTIFS(SYNTHESE!$D:$D,A219,SYNTHESE!$E:$E,$Y$1,SYNTHESE!$F:$F,\">=1\")))","v":""},0]
[{"$f":"IF(ETUDIANTS!A220=\"\",\"\",ETUDIANTS!A220)","v":""},{"$f":"IF($Z$2=\"pok\",\"\",IF(A220=\"\",\"\",COUNTIFS(SYNTHESE!$D:$D,A220,SYNTHESE!$E:$E,$B$1,SYNTHESE!$F:$F,\">=1\")))","v":""},{"$f":"IF($Z$2=\"pok\",\"\",IF(A220=\"\",\"\",COUNTIFS(SYNTHESE!$D:$D,A220,SYNTHESE!$E:$E,$C$1,SYNTHESE!$F:$F,\">=1\")))","v":""},{"$f":"IF($Z$2=\"pok\",\"\",IF(A220=\"\",\"\",COUNTIFS(SYNTHESE!$D:$D,A220,SYNTHESE!$E:$E,$D$1,SYNTHESE!$F:$F,\">=1\")))","v":""},{"$f":"IF($Z$2=\"pok\",\"\",IF(A220=\"\",\"\",COUNTIFS(SYNTHESE!$D:$D,A220,SYNTHESE!$E:$E,$E$1,SYNTHESE!$F:$F,\">=1\")))","v":""},{"$f":"IF($Z$2=\"pok\",\"\",IF(A220=\"\",\"\",COUNTIFS(SYNTHESE!$D:$D,A220,SYNTHESE!$E:$E,$F$1,SYNTHESE!$F:$F,\">=1\")))","v":""},{"$f":"IF($Z$2=\"pok\",\"\",IF(A220=\"\",\"\",COUNTIFS(SYNTHESE!$D:$D,A220,SYNTHESE!$E:$E,$G$1,SYNTHESE!$F:$F,\">=1\")))","v":""},{"$f":"IF($Z$2=\"pok\",\"\",IF(A220=\"\",\"\",COUNTIFS(SYNTHESE!$D:$D,A220,SYNTHESE!$E:$E,$H$1,SYNTHESE!$F:$F,\">=1\")))","v":""},{"$f":"IF($Z$2=\"pok\",\"\",IF(A220=\"\",\"\",COUNTIFS(SYNTHESE!$D:$D,A220,SYNTHESE!$E:$E,$I$1,SYNTHESE!$F:$F,\">=1\")))","v":""},{"$f":"IF($Z$2=\"pok\",\"\",IF(A220=\"\",\"\",COUNTIFS(SYNTHESE!$D:$D,A220,SYNTHESE!$E:$E,$J$1,SYNTHESE!$F:$F,\">=1\")))","v":""},{"$f":"IF($Z$2=\"pok\",\"\",IF(A220=\"\",\"\",COUNTIFS(SYNTHESE!$D:$D,A220,SYNTHESE!$E:$E,$K$1,SYNTHESE!$F:$F,\">=1\")))","v":""},{"$f":"IF($Z$2=\"pok\",\"\",IF(A220=\"\",\"\",COUNTIFS(SYNTHESE!$D:$D,A220,SYNTHESE!$E:$E,$L$1,SYNTHESE!$F:$F,\">=1\")))","v":""},{"$f":"IF($Z$2=\"pok\",\"\",IF(A220=\"\",\"\",COUNTIFS(SYNTHESE!$D:$D,A220,SYNTHESE!$E:$E,$M$1,SYNTHESE!$F:$F,\">=1\")))","v":""},{"$f":"IF($Z$2=\"pok\",\"\",IF(A220=\"\",\"\",COUNTIFS(SYNTHESE!$D:$D,A220,SYNTHESE!$E:$E,$N$1,SYNTHESE!$F:$F,\">=1\")))","v":""},{"$f":"IF($Z$2=\"pok\",\"\",IF(A220=\"\",\"\",COUNTIFS(SYNTHESE!$D:$D,A220,SYNTHESE!$E:$E,$O$1,SYNTHESE!$F:$F,\">=1\")))","v":""},{"$f":"IF($Z$2=\"pok\",\"\",IF(A220=\"\",\"\",COUNTIFS(SYNTHESE!$D:$D,A220,SYNTHESE!$E:$E,$P$1,SYNTHESE!$F:$F,\">=1\")))","v":""},{"$f":"IF($Z$2=\"pok\",\"\",IF(A220=\"\",\"\",COUNTIFS(SYNTHESE!$D:$D,A220,SYNTHESE!$E:$E,$Q$1,SYNTHESE!$F:$F,\">=1\")))","v":""},{"$f":"IF($Z$2=\"pok\",\"\",IF(A220=\"\",\"\",COUNTIFS(SYNTHESE!$D:$D,A220,SYNTHESE!$E:$E,$R$1,SYNTHESE!$F:$F,\">=1\")))","v":""},{"$f":"IF($Z$2=\"pok\",\"\",IF(A220=\"\",\"\",COUNTIFS(SYNTHESE!$D:$D,A220,SYNTHESE!$E:$E,$S$1,SYNTHESE!$F:$F,\">=1\")))","v":""},{"$f":"IF($Z$2=\"pok\",\"\",IF(A220=\"\",\"\",COUNTIFS(SYNTHESE!$D:$D,A220,SYNTHESE!$E:$E,$T$1,SYNTHESE!$F:$F,\">=1\")))","v":""},{"$f":"IF($Z$2=\"pok\",\"\",IF(A220=\"\",\"\",COUNTIFS(SYNTHESE!$D:$D,A220,SYNTHESE!$E:$E,$U$1,SYNTHESE!$F:$F,\">=1\")))","v":""},{"$f":"IF($Z$2=\"pok\",\"\",IF(A220=\"\",\"\",COUNTIFS(SYNTHESE!$D:$D,A220,SYNTHESE!$E:$E,$V$1,SYNTHESE!$F:$F,\">=1\")))","v":""},{"$f":"IF($Z$2=\"pok\",\"\",IF(A220=\"\",\"\",COUNTIFS(SYNTHESE!$D:$D,A220,SYNTHESE!$E:$E,$W$1,SYNTHESE!$F:$F,\">=1\")))","v":""},{"$f":"IF($Z$2=\"pok\",\"\",IF(A220=\"\",\"\",COUNTIFS(SYNTHESE!$D:$D,A220,SYNTHESE!$E:$E,$X$1,SYNTHESE!$F:$F,\">=1\")))","v":""},{"$f":"IF($Z$2=\"pok\",\"\",IF(A220=\"\",\"\",COUNTIFS(SYNTHESE!$D:$D,A220,SYNTHESE!$E:$E,$Y$1,SYNTHESE!$F:$F,\">=1\")))","v":""},0]
[{"$f":"IF(ETUDIANTS!A221=\"\",\"\",ETUDIANTS!A221)","v":""},{"$f":"IF($Z$2=\"pok\",\"\",IF(A221=\"\",\"\",COUNTIFS(SYNTHESE!$D:$D,A221,SYNTHESE!$E:$E,$B$1,SYNTHESE!$F:$F,\">=1\")))","v":""},{"$f":"IF($Z$2=\"pok\",\"\",IF(A221=\"\",\"\",COUNTIFS(SYNTHESE!$D:$D,A221,SYNTHESE!$E:$E,$C$1,SYNTHESE!$F:$F,\">=1\")))","v":""},{"$f":"IF($Z$2=\"pok\",\"\",IF(A221=\"\",\"\",COUNTIFS(SYNTHESE!$D:$D,A221,SYNTHESE!$E:$E,$D$1,SYNTHESE!$F:$F,\">=1\")))","v":""},{"$f":"IF($Z$2=\"pok\",\"\",IF(A221=\"\",\"\",COUNTIFS(SYNTHESE!$D:$D,A221,SYNTHESE!$E:$E,$E$1,SYNTHESE!$F:$F,\">=1\")))","v":""},{"$f":"IF($Z$2=\"pok\",\"\",IF(A221=\"\",\"\",COUNTIFS(SYNTHESE!$D:$D,A221,SYNTHESE!$E:$E,$F$1,SYNTHESE!$F:$F,\">=1\")))","v":""},{"$f":"IF($Z$2=\"pok\",\"\",IF(A221=\"\",\"\",COUNTIFS(SYNTHESE!$D:$D,A221,SYNTHESE!$E:$E,$G$1,SYNTHESE!$F:$F,\">=1\")))","v":""},{"$f":"IF($Z$2=\"pok\",\"\",IF(A221=\"\",\"\",COUNTIFS(SYNTHESE!$D:$D,A221,SYNTHESE!$E:$E,$H$1,SYNTHESE!$F:$F,\">=1\")))","v":""},{"$f":"IF($Z$2=\"pok\",\"\",IF(A221=\"\",\"\",COUNTIFS(SYNTHESE!$D:$D,A221,SYNTHESE!$E:$E,$I$1,SYNTHESE!$F:$F,\">=1\")))","v":""},{"$f":"IF($Z$2=\"pok\",\"\",IF(A221=\"\",\"\",COUNTIFS(SYNTHESE!$D:$D,A221,SYNTHESE!$E:$E,$J$1,SYNTHESE!$F:$F,\">=1\")))","v":""},{"$f":"IF($Z$2=\"pok\",\"\",IF(A221=\"\",\"\",COUNTIFS(SYNTHESE!$D:$D,A221,SYNTHESE!$E:$E,$K$1,SYNTHESE!$F:$F,\">=1\")))","v":""},{"$f":"IF($Z$2=\"pok\",\"\",IF(A221=\"\",\"\",COUNTIFS(SYNTHESE!$D:$D,A221,SYNTHESE!$E:$E,$L$1,SYNTHESE!$F:$F,\">=1\")))","v":""},{"$f":"IF($Z$2=\"pok\",\"\",IF(A221=\"\",\"\",COUNTIFS(SYNTHESE!$D:$D,A221,SYNTHESE!$E:$E,$M$1,SYNTHESE!$F:$F,\">=1\")))","v":""},{"$f":"IF($Z$2=\"pok\",\"\",IF(A221=\"\",\"\",COUNTIFS(SYNTHESE!$D:$D,A221,SYNTHESE!$E:$E,$N$1,SYNTHESE!$F:$F,\">=1\")))","v":""},{"$f":"IF($Z$2=\"pok\",\"\",IF(A221=\"\",\"\",COUNTIFS(SYNTHESE!$D:$D,A221,SYNTHESE!$E:$E,$O$1,SYNTHESE!$F:$F,\">=1\")))","v":""},{"$f":"IF($Z$2=\"pok\",\"\",IF(A221=\"\",\"\",COUNTIFS(SYNTHESE!$D:$D,A221,SYNTHESE!$E:$E,$P$1,SYNTHESE!$F:$F,\">=1\")))","v":""},{"$f":"IF($Z$2=\"pok\",\"\",IF(A221=\"\",\"\",COUNTIFS(SYNTHESE!$D:$D,A221,SYNTHESE!$E:$E,$Q$1,SYNTHESE!$F:$F,\">=1\")))","v":""},{"$f":"IF($Z$2=\"pok\",\"\",IF(A221=\"\",\"\",COUNTIFS(SYNTHESE!$D:$D,A221,SYNTHESE!$E:$E,$R$1,SYNTHESE!$F:$F,\">=1\")))","v":""},{"$f":"IF($Z$2=\"pok\",\"\",IF(A221=\"\",\"\",COUNTIFS(SYNTHESE!$D:$D,A221,SYNTHESE!$E:$E,$S$1,SYNTHESE!$F:$F,\">=1\")))","v":""},{"$f":"IF($Z$2=\"pok\",\"\",IF(A221=\"\",\"\",COUNTIFS(SYNTHESE!$D:$D,A221,SYNTHESE!$E:$E,$T$1,SYNTHESE!$F:$F,\">=1\")))","v":""},{"$f":"IF($Z$2=\"pok\",\"\",IF(A221=\"\",\"\",COUNTIFS(SYNTHESE!$D:$D,A221,SYNTHESE!$E:$E,$U$1,SYNTHESE!$F:$F,\">=1\")))","v":""},{"$f":"IF($Z$2=\"pok\",\"\",IF(A221=\"\",\"\",COUNTIFS(SYNTHESE!$D:$D,A221,SYNTHESE!$E:$E,$V$1,SYNTHESE!$F:$F,\">=1\")))","v":""},{"$f":"IF($Z$2=\"pok\",\"\",IF(A221=\"\",\"\",COUNTIFS(SYNTHESE!$D:$D,A221,SYNTHESE!$E:$E,$W$1,SYNTHESE!$F:$F,\">=1\")))","v":""},{"$f":"IF($Z$2=\"pok\",\"\",IF(A221=\"\",\"\",COUNTIFS(SYNTHESE!$D:$D,A221,SYNTHESE!$E:$E,$X$1,SYNTHESE!$F:$F,\">=1\")))","v":""},{"$f":"IF($Z$2=\"pok\",\"\",IF(A221=\"\",\"\",COUNTIFS(SYNTHESE!$D:$D,A221,SYNTHESE!$E:$E,$Y$1,SYNTHESE!$F:$F,\">=1\")))","v":""},0]
[{"$f":"IF(ETUDIANTS!A222=\"\",\"\",ETUDIANTS!A222)","v":""},{"$f":"IF($Z$2=\"pok\",\"\",IF(A222=\"\",\"\",COUNTIFS(SYNTHESE!$D:$D,A222,SYNTHESE!$E:$E,$B$1,SYNTHESE!$F:$F,\">=1\")))","v":""},{"$f":"IF($Z$2=\"pok\",\"\",IF(A222=\"\",\"\",COUNTIFS(SYNTHESE!$D:$D,A222,SYNTHESE!$E:$E,$C$1,SYNTHESE!$F:$F,\">=1\")))","v":""},{"$f":"IF($Z$2=\"pok\",\"\",IF(A222=\"\",\"\",COUNTIFS(SYNTHESE!$D:$D,A222,SYNTHESE!$E:$E,$D$1,SYNTHESE!$F:$F,\">=1\")))","v":""},{"$f":"IF($Z$2=\"pok\",\"\",IF(A222=\"\",\"\",COUNTIFS(SYNTHESE!$D:$D,A222,SYNTHESE!$E:$E,$E$1,SYNTHESE!$F:$F,\">=1\")))","v":""},{"$f":"IF($Z$2=\"pok\",\"\",IF(A222=\"\",\"\",COUNTIFS(SYNTHESE!$D:$D,A222,SYNTHESE!$E:$E,$F$1,SYNTHESE!$F:$F,\">=1\")))","v":""},{"$f":"IF($Z$2=\"pok\",\"\",IF(A222=\"\",\"\",COUNTIFS(SYNTHESE!$D:$D,A222,SYNTHESE!$E:$E,$G$1,SYNTHESE!$F:$F,\">=1\")))","v":""},{"$f":"IF($Z$2=\"pok\",\"\",IF(A222=\"\",\"\",COUNTIFS(SYNTHESE!$D:$D,A222,SYNTHESE!$E:$E,$H$1,SYNTHESE!$F:$F,\">=1\")))","v":""},{"$f":"IF($Z$2=\"pok\",\"\",IF(A222=\"\",\"\",COUNTIFS(SYNTHESE!$D:$D,A222,SYNTHESE!$E:$E,$I$1,SYNTHESE!$F:$F,\">=1\")))","v":""},{"$f":"IF($Z$2=\"pok\",\"\",IF(A222=\"\",\"\",COUNTIFS(SYNTHESE!$D:$D,A222,SYNTHESE!$E:$E,$J$1,SYNTHESE!$F:$F,\">=1\")))","v":""},{"$f":"IF($Z$2=\"pok\",\"\",IF(A222=\"\",\"\",COUNTIFS(SYNTHESE!$D:$D,A222,SYNTHESE!$E:$E,$K$1,SYNTHESE!$F:$F,\">=1\")))","v":""},{"$f":"IF($Z$2=\"pok\",\"\",IF(A222=\"\",\"\",COUNTIFS(SYNTHESE!$D:$D,A222,SYNTHESE!$E:$E,$L$1,SYNTHESE!$F:$F,\">=1\")))","v":""},{"$f":"IF($Z$2=\"pok\",\"\",IF(A222=\"\",\"\",COUNTIFS(SYNTHESE!$D:$D,A222,SYNTHESE!$E:$E,$M$1,SYNTHESE!$F:$F,\">=1\")))","v":""},{"$f":"IF($Z$2=\"pok\",\"\",IF(A222=\"\",\"\",COUNTIFS(SYNTHESE!$D:$D,A222,SYNTHESE!$E:$E,$N$1,SYNTHESE!$F:$F,\">=1\")))","v":""},{"$f":"IF($Z$2=\"pok\",\"\",IF(A222=\"\",\"\",COUNTIFS(SYNTHESE!$D:$D,A222,SYNTHESE!$E:$E,$O$1,SYNTHESE!$F:$F,\">=1\")))","v":""},{"$f":"IF($Z$2=\"pok\",\"\",IF(A222=\"\",\"\",COUNTIFS(SYNTHESE!$D:$D,A222,SYNTHESE!$E:$E,$P$1,SYNTHESE!$F:$F,\">=1\")))","v":""},{"$f":"IF($Z$2=\"pok\",\"\",IF(A222=\"\",\"\",COUNTIFS(SYNTHESE!$D:$D,A222,SYNTHESE!$E:$E,$Q$1,SYNTHESE!$F:$F,\">=1\")))","v":""},{"$f":"IF($Z$2=\"pok\",\"\",IF(A222=\"\",\"\",COUNTIFS(SYNTHESE!$D:$D,A222,SYNTHESE!$E:$E,$R$1,SYNTHESE!$F:$F,\">=1\")))","v":""},{"$f":"IF($Z$2=\"pok\",\"\",IF(A222=\"\",\"\",COUNTIFS(SYNTHESE!$D:$D,A222,SYNTHESE!$E:$E,$S$1,SYNTHESE!$F:$F,\">=1\")))","v":""},{"$f":"IF($Z$2=\"pok\",\"\",IF(A222=\"\",\"\",COUNTIFS(SYNTHESE!$D:$D,A222,SYNTHESE!$E:$E,$T$1,SYNTHESE!$F:$F,\">=1\")))","v":""},{"$f":"IF($Z$2=\"pok\",\"\",IF(A222=\"\",\"\",COUNTIFS(SYNTHESE!$D:$D,A222,SYNTHESE!$E:$E,$U$1,SYNTHESE!$F:$F,\">=1\")))","v":""},{"$f":"IF($Z$2=\"pok\",\"\",IF(A222=\"\",\"\",COUNTIFS(SYNTHESE!$D:$D,A222,SYNTHESE!$E:$E,$V$1,SYNTHESE!$F:$F,\">=1\")))","v":""},{"$f":"IF($Z$2=\"pok\",\"\",IF(A222=\"\",\"\",COUNTIFS(SYNTHESE!$D:$D,A222,SYNTHESE!$E:$E,$W$1,SYNTHESE!$F:$F,\">=1\")))","v":""},{"$f":"IF($Z$2=\"pok\",\"\",IF(A222=\"\",\"\",COUNTIFS(SYNTHESE!$D:$D,A222,SYNTHESE!$E:$E,$X$1,SYNTHESE!$F:$F,\">=1\")))","v":""},{"$f":"IF($Z$2=\"pok\",\"\",IF(A222=\"\",\"\",COUNTIFS(SYNTHESE!$D:$D,A222,SYNTHESE!$E:$E,$Y$1,SYNTHESE!$F:$F,\">=1\")))","v":""},0]
[{"$f":"IF(ETUDIANTS!A223=\"\",\"\",ETUDIANTS!A223)","v":""},{"$f":"IF($Z$2=\"pok\",\"\",IF(A223=\"\",\"\",COUNTIFS(SYNTHESE!$D:$D,A223,SYNTHESE!$E:$E,$B$1,SYNTHESE!$F:$F,\">=1\")))","v":""},{"$f":"IF($Z$2=\"pok\",\"\",IF(A223=\"\",\"\",COUNTIFS(SYNTHESE!$D:$D,A223,SYNTHESE!$E:$E,$C$1,SYNTHESE!$F:$F,\">=1\")))","v":""},{"$f":"IF($Z$2=\"pok\",\"\",IF(A223=\"\",\"\",COUNTIFS(SYNTHESE!$D:$D,A223,SYNTHESE!$E:$E,$D$1,SYNTHESE!$F:$F,\">=1\")))","v":""},{"$f":"IF($Z$2=\"pok\",\"\",IF(A223=\"\",\"\",COUNTIFS(SYNTHESE!$D:$D,A223,SYNTHESE!$E:$E,$E$1,SYNTHESE!$F:$F,\">=1\")))","v":""},{"$f":"IF($Z$2=\"pok\",\"\",IF(A223=\"\",\"\",COUNTIFS(SYNTHESE!$D:$D,A223,SYNTHESE!$E:$E,$F$1,SYNTHESE!$F:$F,\">=1\")))","v":""},{"$f":"IF($Z$2=\"pok\",\"\",IF(A223=\"\",\"\",COUNTIFS(SYNTHESE!$D:$D,A223,SYNTHESE!$E:$E,$G$1,SYNTHESE!$F:$F,\">=1\")))","v":""},{"$f":"IF($Z$2=\"pok\",\"\",IF(A223=\"\",\"\",COUNTIFS(SYNTHESE!$D:$D,A223,SYNTHESE!$E:$E,$H$1,SYNTHESE!$F:$F,\">=1\")))","v":""},{"$f":"IF($Z$2=\"pok\",\"\",IF(A223=\"\",\"\",COUNTIFS(SYNTHESE!$D:$D,A223,SYNTHESE!$E:$E,$I$1,SYNTHESE!$F:$F,\">=1\")))","v":""},{"$f":"IF($Z$2=\"pok\",\"\",IF(A223=\"\",\"\",COUNTIFS(SYNTHESE!$D:$D,A223,SYNTHESE!$E:$E,$J$1,SYNTHESE!$F:$F,\">=1\")))","v":""},{"$f":"IF($Z$2=\"pok\",\"\",IF(A223=\"\",\"\",COUNTIFS(SYNTHESE!$D:$D,A223,SYNTHESE!$E:$E,$K$1,SYNTHESE!$F:$F,\">=1\")))","v":""},{"$f":"IF($Z$2=\"pok\",\"\",IF(A223=\"\",\"\",COUNTIFS(SYNTHESE!$D:$D,A223,SYNTHESE!$E:$E,$L$1,SYNTHESE!$F:$F,\">=1\")))","v":""},{"$f":"IF($Z$2=\"pok\",\"\",IF(A223=\"\",\"\",COUNTIFS(SYNTHESE!$D:$D,A223,SYNTHESE!$E:$E,$M$1,SYNTHESE!$F:$F,\">=1\")))","v":""},{"$f":"IF($Z$2=\"pok\",\"\",IF(A223=\"\",\"\",COUNTIFS(SYNTHESE!$D:$D,A223,SYNTHESE!$E:$E,$N$1,SYNTHESE!$F:$F,\">=1\")))","v":""},{"$f":"IF($Z$2=\"pok\",\"\",IF(A223=\"\",\"\",COUNTIFS(SYNTHESE!$D:$D,A223,SYNTHESE!$E:$E,$O$1,SYNTHESE!$F:$F,\">=1\")))","v":""},{"$f":"IF($Z$2=\"pok\",\"\",IF(A223=\"\",\"\",COUNTIFS(SYNTHESE!$D:$D,A223,SYNTHESE!$E:$E,$P$1,SYNTHESE!$F:$F,\">=1\")))","v":""},{"$f":"IF($Z$2=\"pok\",\"\",IF(A223=\"\",\"\",COUNTIFS(SYNTHESE!$D:$D,A223,SYNTHESE!$E:$E,$Q$1,SYNTHESE!$F:$F,\">=1\")))","v":""},{"$f":"IF($Z$2=\"pok\",\"\",IF(A223=\"\",\"\",COUNTIFS(SYNTHESE!$D:$D,A223,SYNTHESE!$E:$E,$R$1,SYNTHESE!$F:$F,\">=1\")))","v":""},{"$f":"IF($Z$2=\"pok\",\"\",IF(A223=\"\",\"\",COUNTIFS(SYNTHESE!$D:$D,A223,SYNTHESE!$E:$E,$S$1,SYNTHESE!$F:$F,\">=1\")))","v":""},{"$f":"IF($Z$2=\"pok\",\"\",IF(A223=\"\",\"\",COUNTIFS(SYNTHESE!$D:$D,A223,SYNTHESE!$E:$E,$T$1,SYNTHESE!$F:$F,\">=1\")))","v":""},{"$f":"IF($Z$2=\"pok\",\"\",IF(A223=\"\",\"\",COUNTIFS(SYNTHESE!$D:$D,A223,SYNTHESE!$E:$E,$U$1,SYNTHESE!$F:$F,\">=1\")))","v":""},{"$f":"IF($Z$2=\"pok\",\"\",IF(A223=\"\",\"\",COUNTIFS(SYNTHESE!$D:$D,A223,SYNTHESE!$E:$E,$V$1,SYNTHESE!$F:$F,\">=1\")))","v":""},{"$f":"IF($Z$2=\"pok\",\"\",IF(A223=\"\",\"\",COUNTIFS(SYNTHESE!$D:$D,A223,SYNTHESE!$E:$E,$W$1,SYNTHESE!$F:$F,\">=1\")))","v":""},{"$f":"IF($Z$2=\"pok\",\"\",IF(A223=\"\",\"\",COUNTIFS(SYNTHESE!$D:$D,A223,SYNTHESE!$E:$E,$X$1,SYNTHESE!$F:$F,\">=1\")))","v":""},{"$f":"IF($Z$2=\"pok\",\"\",IF(A223=\"\",\"\",COUNTIFS(SYNTHESE!$D:$D,A223,SYNTHESE!$E:$E,$Y$1,SYNTHESE!$F:$F,\">=1\")))","v":""},0]
[{"$f":"IF(ETUDIANTS!A224=\"\",\"\",ETUDIANTS!A224)","v":""},{"$f":"IF($Z$2=\"pok\",\"\",IF(A224=\"\",\"\",COUNTIFS(SYNTHESE!$D:$D,A224,SYNTHESE!$E:$E,$B$1,SYNTHESE!$F:$F,\">=1\")))","v":""},{"$f":"IF($Z$2=\"pok\",\"\",IF(A224=\"\",\"\",COUNTIFS(SYNTHESE!$D:$D,A224,SYNTHESE!$E:$E,$C$1,SYNTHESE!$F:$F,\">=1\")))","v":""},{"$f":"IF($Z$2=\"pok\",\"\",IF(A224=\"\",\"\",COUNTIFS(SYNTHESE!$D:$D,A224,SYNTHESE!$E:$E,$D$1,SYNTHESE!$F:$F,\">=1\")))","v":""},{"$f":"IF($Z$2=\"pok\",\"\",IF(A224=\"\",\"\",COUNTIFS(SYNTHESE!$D:$D,A224,SYNTHESE!$E:$E,$E$1,SYNTHESE!$F:$F,\">=1\")))","v":""},{"$f":"IF($Z$2=\"pok\",\"\",IF(A224=\"\",\"\",COUNTIFS(SYNTHESE!$D:$D,A224,SYNTHESE!$E:$E,$F$1,SYNTHESE!$F:$F,\">=1\")))","v":""},{"$f":"IF($Z$2=\"pok\",\"\",IF(A224=\"\",\"\",COUNTIFS(SYNTHESE!$D:$D,A224,SYNTHESE!$E:$E,$G$1,SYNTHESE!$F:$F,\">=1\")))","v":""},{"$f":"IF($Z$2=\"pok\",\"\",IF(A224=\"\",\"\",COUNTIFS(SYNTHESE!$D:$D,A224,SYNTHESE!$E:$E,$H$1,SYNTHESE!$F:$F,\">=1\")))","v":""},{"$f":"IF($Z$2=\"pok\",\"\",IF(A224=\"\",\"\",COUNTIFS(SYNTHESE!$D:$D,A224,SYNTHESE!$E:$E,$I$1,SYNTHESE!$F:$F,\">=1\")))","v":""},{"$f":"IF($Z$2=\"pok\",\"\",IF(A224=\"\",\"\",COUNTIFS(SYNTHESE!$D:$D,A224,SYNTHESE!$E:$E,$J$1,SYNTHESE!$F:$F,\">=1\")))","v":""},{"$f":"IF($Z$2=\"pok\",\"\",IF(A224=\"\",\"\",COUNTIFS(SYNTHESE!$D:$D,A224,SYNTHESE!$E:$E,$K$1,SYNTHESE!$F:$F,\">=1\")))","v":""},{"$f":"IF($Z$2=\"pok\",\"\",IF(A224=\"\",\"\",COUNTIFS(SYNTHESE!$D:$D,A224,SYNTHESE!$E:$E,$L$1,SYNTHESE!$F:$F,\">=1\")))","v":""},{"$f":"IF($Z$2=\"pok\",\"\",IF(A224=\"\",\"\",COUNTIFS(SYNTHESE!$D:$D,A224,SYNTHESE!$E:$E,$M$1,SYNTHESE!$F:$F,\">=1\")))","v":""},{"$f":"IF($Z$2=\"pok\",\"\",IF(A224=\"\",\"\",COUNTIFS(SYNTHESE!$D:$D,A224,SYNTHESE!$E:$E,$N$1,SYNTHESE!$F:$F,\">=1\")))","v":""},{"$f":"IF($Z$2=\"pok\",\"\",IF(A224=\"\",\"\",COUNTIFS(SYNTHESE!$D:$D,A224,SYNTHESE!$E:$E,$O$1,SYNTHESE!$F:$F,\">=1\")))","v":""},{"$f":"IF($Z$2=\"pok\",\"\",IF(A224=\"\",\"\",COUNTIFS(SYNTHESE!$D:$D,A224,SYNTHESE!$E:$E,$P$1,SYNTHESE!$F:$F,\">=1\")))","v":""},{"$f":"IF($Z$2=\"pok\",\"\",IF(A224=\"\",\"\",COUNTIFS(SYNTHESE!$D:$D,A224,SYNTHESE!$E:$E,$Q$1,SYNTHESE!$F:$F,\">=1\")))","v":""},{"$f":"IF($Z$2=\"pok\",\"\",IF(A224=\"\",\"\",COUNTIFS(SYNTHESE!$D:$D,A224,SYNTHESE!$E:$E,$R$1,SYNTHESE!$F:$F,\">=1\")))","v":""},{"$f":"IF($Z$2=\"pok\",\"\",IF(A224=\"\",\"\",COUNTIFS(SYNTHESE!$D:$D,A224,SYNTHESE!$E:$E,$S$1,SYNTHESE!$F:$F,\">=1\")))","v":""},{"$f":"IF($Z$2=\"pok\",\"\",IF(A224=\"\",\"\",COUNTIFS(SYNTHESE!$D:$D,A224,SYNTHESE!$E:$E,$T$1,SYNTHESE!$F:$F,\">=1\")))","v":""},{"$f":"IF($Z$2=\"pok\",\"\",IF(A224=\"\",\"\",COUNTIFS(SYNTHESE!$D:$D,A224,SYNTHESE!$E:$E,$U$1,SYNTHESE!$F:$F,\">=1\")))","v":""},{"$f":"IF($Z$2=\"pok\",\"\",IF(A224=\"\",\"\",COUNTIFS(SYNTHESE!$D:$D,A224,SYNTHESE!$E:$E,$V$1,SYNTHESE!$F:$F,\">=1\")))","v":""},{"$f":"IF($Z$2=\"pok\",\"\",IF(A224=\"\",\"\",COUNTIFS(SYNTHESE!$D:$D,A224,SYNTHESE!$E:$E,$W$1,SYNTHESE!$F:$F,\">=1\")))","v":""},{"$f":"IF($Z$2=\"pok\",\"\",IF(A224=\"\",\"\",COUNTIFS(SYNTHESE!$D:$D,A224,SYNTHESE!$E:$E,$X$1,SYNTHESE!$F:$F,\">=1\")))","v":""},{"$f":"IF($Z$2=\"pok\",\"\",IF(A224=\"\",\"\",COUNTIFS(SYNTHESE!$D:$D,A224,SYNTHESE!$E:$E,$Y$1,SYNTHESE!$F:$F,\">=1\")))","v":""},0]
[{"$f":"IF(ETUDIANTS!A225=\"\",\"\",ETUDIANTS!A225)","v":""},{"$f":"IF($Z$2=\"pok\",\"\",IF(A225=\"\",\"\",COUNTIFS(SYNTHESE!$D:$D,A225,SYNTHESE!$E:$E,$B$1,SYNTHESE!$F:$F,\">=1\")))","v":""},{"$f":"IF($Z$2=\"pok\",\"\",IF(A225=\"\",\"\",COUNTIFS(SYNTHESE!$D:$D,A225,SYNTHESE!$E:$E,$C$1,SYNTHESE!$F:$F,\">=1\")))","v":""},{"$f":"IF($Z$2=\"pok\",\"\",IF(A225=\"\",\"\",COUNTIFS(SYNTHESE!$D:$D,A225,SYNTHESE!$E:$E,$D$1,SYNTHESE!$F:$F,\">=1\")))","v":""},{"$f":"IF($Z$2=\"pok\",\"\",IF(A225=\"\",\"\",COUNTIFS(SYNTHESE!$D:$D,A225,SYNTHESE!$E:$E,$E$1,SYNTHESE!$F:$F,\">=1\")))","v":""},{"$f":"IF($Z$2=\"pok\",\"\",IF(A225=\"\",\"\",COUNTIFS(SYNTHESE!$D:$D,A225,SYNTHESE!$E:$E,$F$1,SYNTHESE!$F:$F,\">=1\")))","v":""},{"$f":"IF($Z$2=\"pok\",\"\",IF(A225=\"\",\"\",COUNTIFS(SYNTHESE!$D:$D,A225,SYNTHESE!$E:$E,$G$1,SYNTHESE!$F:$F,\">=1\")))","v":""},{"$f":"IF($Z$2=\"pok\",\"\",IF(A225=\"\",\"\",COUNTIFS(SYNTHESE!$D:$D,A225,SYNTHESE!$E:$E,$H$1,SYNTHESE!$F:$F,\">=1\")))","v":""},{"$f":"IF($Z$2=\"pok\",\"\",IF(A225=\"\",\"\",COUNTIFS(SYNTHESE!$D:$D,A225,SYNTHESE!$E:$E,$I$1,SYNTHESE!$F:$F,\">=1\")))","v":""},{"$f":"IF($Z$2=\"pok\",\"\",IF(A225=\"\",\"\",COUNTIFS(SYNTHESE!$D:$D,A225,SYNTHESE!$E:$E,$J$1,SYNTHESE!$F:$F,\">=1\")))","v":""},{"$f":"IF($Z$2=\"pok\",\"\",IF(A225=\"\",\"\",COUNTIFS(SYNTHESE!$D:$D,A225,SYNTHESE!$E:$E,$K$1,SYNTHESE!$F:$F,\">=1\")))","v":""},{"$f":"IF($Z$2=\"pok\",\"\",IF(A225=\"\",\"\",COUNTIFS(SYNTHESE!$D:$D,A225,SYNTHESE!$E:$E,$L$1,SYNTHESE!$F:$F,\">=1\")))","v":""},{"$f":"IF($Z$2=\"pok\",\"\",IF(A225=\"\",\"\",COUNTIFS(SYNTHESE!$D:$D,A225,SYNTHESE!$E:$E,$M$1,SYNTHESE!$F:$F,\">=1\")))","v":""},{"$f":"IF($Z$2=\"pok\",\"\",IF(A225=\"\",\"\",COUNTIFS(SYNTHESE!$D:$D,A225,SYNTHESE!$E:$E,$N$1,SYNTHESE!$F:$F,\">=1\")))","v":""},{"$f":"IF($Z$2=\"pok\",\"\",IF(A225=\"\",\"\",COUNTIFS(SYNTHESE!$D:$D,A225,SYNTHESE!$E:$E,$O$1,SYNTHESE!$F:$F,\">=1\")))","v":""},{"$f":"IF($Z$2=\"pok\",\"\",IF(A225=\"\",\"\",COUNTIFS(SYNTHESE!$D:$D,A225,SYNTHESE!$E:$E,$P$1,SYNTHESE!$F:$F,\">=1\")))","v":""},{"$f":"IF($Z$2=\"pok\",\"\",IF(A225=\"\",\"\",COUNTIFS(SYNTHESE!$D:$D,A225,SYNTHESE!$E:$E,$Q$1,SYNTHESE!$F:$F,\">=1\")))","v":""},{"$f":"IF($Z$2=\"pok\",\"\",IF(A225=\"\",\"\",COUNTIFS(SYNTHESE!$D:$D,A225,SYNTHESE!$E:$E,$R$1,SYNTHESE!$F:$F,\">=1\")))","v":""},{"$f":"IF($Z$2=\"pok\",\"\",IF(A225=\"\",\"\",COUNTIFS(SYNTHESE!$D:$D,A225,SYNTHESE!$E:$E,$S$1,SYNTHESE!$F:$F,\">=1\")))","v":""},{"$f":"IF($Z$2=\"pok\",\"\",IF(A225=\"\",\"\",COUNTIFS(SYNTHESE!$D:$D,A225,SYNTHESE!$E:$E,$T$1,SYNTHESE!$F:$F,\">=1\")))","v":""},{"$f":"IF($Z$2=\"pok\",\"\",IF(A225=\"\",\"\",COUNTIFS(SYNTHESE!$D:$D,A225,SYNTHESE!$E:$E,$U$1,SYNTHESE!$F:$F,\">=1\")))","v":""},{"$f":"IF($Z$2=\"pok\",\"\",IF(A225=\"\",\"\",COUNTIFS(SYNTHESE!$D:$D,A225,SYNTHESE!$E:$E,$V$1,SYNTHESE!$F:$F,\">=1\")))","v":""},{"$f":"IF($Z$2=\"pok\",\"\",IF(A225=\"\",\"\",COUNTIFS(SYNTHESE!$D:$D,A225,SYNTHESE!$E:$E,$W$1,SYNTHESE!$F:$F,\">=1\")))","v":""},{"$f":"IF($Z$2=\"pok\",\"\",IF(A225=\"\",\"\",COUNTIFS(SYNTHESE!$D:$D,A225,SYNTHESE!$E:$E,$X$1,SYNTHESE!$F:$F,\">=1\")))","v":""},{"$f":"IF($Z$2=\"pok\",\"\",IF(A225=\"\",\"\",COUNTIFS(SYNTHESE!$D:$D,A225,SYNTHESE!$E:$E,$Y$1,SYNTHESE!$F:$F,\">=1\")))","v":""},0]
[{"$f":"IF(ETUDIANTS!A226=\"\",\"\",ETUDIANTS!A226)","v":""},{"$f":"IF($Z$2=\"pok\",\"\",IF(A226=\"\",\"\",COUNTIFS(SYNTHESE!$D:$D,A226,SYNTHESE!$E:$E,$B$1,SYNTHESE!$F:$F,\">=1\")))","v":""},{"$f":"IF($Z$2=\"pok\",\"\",IF(A226=\"\",\"\",COUNTIFS(SYNTHESE!$D:$D,A226,SYNTHESE!$E:$E,$C$1,SYNTHESE!$F:$F,\">=1\")))","v":""},{"$f":"IF($Z$2=\"pok\",\"\",IF(A226=\"\",\"\",COUNTIFS(SYNTHESE!$D:$D,A226,SYNTHESE!$E:$E,$D$1,SYNTHESE!$F:$F,\">=1\")))","v":""},{"$f":"IF($Z$2=\"pok\",\"\",IF(A226=\"\",\"\",COUNTIFS(SYNTHESE!$D:$D,A226,SYNTHESE!$E:$E,$E$1,SYNTHESE!$F:$F,\">=1\")))","v":""},{"$f":"IF($Z$2=\"pok\",\"\",IF(A226=\"\",\"\",COUNTIFS(SYNTHESE!$D:$D,A226,SYNTHESE!$E:$E,$F$1,SYNTHESE!$F:$F,\">=1\")))","v":""},{"$f":"IF($Z$2=\"pok\",\"\",IF(A226=\"\",\"\",COUNTIFS(SYNTHESE!$D:$D,A226,SYNTHESE!$E:$E,$G$1,SYNTHESE!$F:$F,\">=1\")))","v":""},{"$f":"IF($Z$2=\"pok\",\"\",IF(A226=\"\",\"\",COUNTIFS(SYNTHESE!$D:$D,A226,SYNTHESE!$E:$E,$H$1,SYNTHESE!$F:$F,\">=1\")))","v":""},{"$f":"IF($Z$2=\"pok\",\"\",IF(A226=\"\",\"\",COUNTIFS(SYNTHESE!$D:$D,A226,SYNTHESE!$E:$E,$I$1,SYNTHESE!$F:$F,\">=1\")))","v":""},{"$f":"IF($Z$2=\"pok\",\"\",IF(A226=\"\",\"\",COUNTIFS(SYNTHESE!$D:$D,A226,SYNTHESE!$E:$E,$J$1,SYNTHESE!$F:$F,\">=1\")))","v":""},{"$f":"IF($Z$2=\"pok\",\"\",IF(A226=\"\",\"\",COUNTIFS(SYNTHESE!$D:$D,A226,SYNTHESE!$E:$E,$K$1,SYNTHESE!$F:$F,\">=1\")))","v":""},{"$f":"IF($Z$2=\"pok\",\"\",IF(A226=\"\",\"\",COUNTIFS(SYNTHESE!$D:$D,A226,SYNTHESE!$E:$E,$L$1,SYNTHESE!$F:$F,\">=1\")))","v":""},{"$f":"IF($Z$2=\"pok\",\"\",IF(A226=\"\",\"\",COUNTIFS(SYNTHESE!$D:$D,A226,SYNTHESE!$E:$E,$M$1,SYNTHESE!$F:$F,\">=1\")))","v":""},{"$f":"IF($Z$2=\"pok\",\"\",IF(A226=\"\",\"\",COUNTIFS(SYNTHESE!$D:$D,A226,SYNTHESE!$E:$E,$N$1,SYNTHESE!$F:$F,\">=1\")))","v":""},{"$f":"IF($Z$2=\"pok\",\"\",IF(A226=\"\",\"\",COUNTIFS(SYNTHESE!$D:$D,A226,SYNTHESE!$E:$E,$O$1,SYNTHESE!$F:$F,\">=1\")))","v":""},{"$f":"IF($Z$2=\"pok\",\"\",IF(A226=\"\",\"\",COUNTIFS(SYNTHESE!$D:$D,A226,SYNTHESE!$E:$E,$P$1,SYNTHESE!$F:$F,\">=1\")))","v":""},{"$f":"IF($Z$2=\"pok\",\"\",IF(A226=\"\",\"\",COUNTIFS(SYNTHESE!$D:$D,A226,SYNTHESE!$E:$E,$Q$1,SYNTHESE!$F:$F,\">=1\")))","v":""},{"$f":"IF($Z$2=\"pok\",\"\",IF(A226=\"\",\"\",COUNTIFS(SYNTHESE!$D:$D,A226,SYNTHESE!$E:$E,$R$1,SYNTHESE!$F:$F,\">=1\")))","v":""},{"$f":"IF($Z$2=\"pok\",\"\",IF(A226=\"\",\"\",COUNTIFS(SYNTHESE!$D:$D,A226,SYNTHESE!$E:$E,$S$1,SYNTHESE!$F:$F,\">=1\")))","v":""},{"$f":"IF($Z$2=\"pok\",\"\",IF(A226=\"\",\"\",COUNTIFS(SYNTHESE!$D:$D,A226,SYNTHESE!$E:$E,$T$1,SYNTHESE!$F:$F,\">=1\")))","v":""},{"$f":"IF($Z$2=\"pok\",\"\",IF(A226=\"\",\"\",COUNTIFS(SYNTHESE!$D:$D,A226,SYNTHESE!$E:$E,$U$1,SYNTHESE!$F:$F,\">=1\")))","v":""},{"$f":"IF($Z$2=\"pok\",\"\",IF(A226=\"\",\"\",COUNTIFS(SYNTHESE!$D:$D,A226,SYNTHESE!$E:$E,$V$1,SYNTHESE!$F:$F,\">=1\")))","v":""},{"$f":"IF($Z$2=\"pok\",\"\",IF(A226=\"\",\"\",COUNTIFS(SYNTHESE!$D:$D,A226,SYNTHESE!$E:$E,$W$1,SYNTHESE!$F:$F,\">=1\")))","v":""},{"$f":"IF($Z$2=\"pok\",\"\",IF(A226=\"\",\"\",COUNTIFS(SYNTHESE!$D:$D,A226,SYNTHESE!$E:$E,$X$1,SYNTHESE!$F:$F,\">=1\")))","v":""},{"$f":"IF($Z$2=\"pok\",\"\",IF(A226=\"\",\"\",COUNTIFS(SYNTHESE!$D:$D,A226,SYNTHESE!$E:$E,$Y$1,SYNTHESE!$F:$F,\">=1\")))","v":""},0]
[{"$f":"IF(ETUDIANTS!A227=\"\",\"\",ETUDIANTS!A227)","v":""},{"$f":"IF($Z$2=\"pok\",\"\",IF(A227=\"\",\"\",COUNTIFS(SYNTHESE!$D:$D,A227,SYNTHESE!$E:$E,$B$1,SYNTHESE!$F:$F,\">=1\")))","v":""},{"$f":"IF($Z$2=\"pok\",\"\",IF(A227=\"\",\"\",COUNTIFS(SYNTHESE!$D:$D,A227,SYNTHESE!$E:$E,$C$1,SYNTHESE!$F:$F,\">=1\")))","v":""},{"$f":"IF($Z$2=\"pok\",\"\",IF(A227=\"\",\"\",COUNTIFS(SYNTHESE!$D:$D,A227,SYNTHESE!$E:$E,$D$1,SYNTHESE!$F:$F,\">=1\")))","v":""},{"$f":"IF($Z$2=\"pok\",\"\",IF(A227=\"\",\"\",COUNTIFS(SYNTHESE!$D:$D,A227,SYNTHESE!$E:$E,$E$1,SYNTHESE!$F:$F,\">=1\")))","v":""},{"$f":"IF($Z$2=\"pok\",\"\",IF(A227=\"\",\"\",COUNTIFS(SYNTHESE!$D:$D,A227,SYNTHESE!$E:$E,$F$1,SYNTHESE!$F:$F,\">=1\")))","v":""},{"$f":"IF($Z$2=\"pok\",\"\",IF(A227=\"\",\"\",COUNTIFS(SYNTHESE!$D:$D,A227,SYNTHESE!$E:$E,$G$1,SYNTHESE!$F:$F,\">=1\")))","v":""},{"$f":"IF($Z$2=\"pok\",\"\",IF(A227=\"\",\"\",COUNTIFS(SYNTHESE!$D:$D,A227,SYNTHESE!$E:$E,$H$1,SYNTHESE!$F:$F,\">=1\")))","v":""},{"$f":"IF($Z$2=\"pok\",\"\",IF(A227=\"\",\"\",COUNTIFS(SYNTHESE!$D:$D,A227,SYNTHESE!$E:$E,$I$1,SYNTHESE!$F:$F,\">=1\")))","v":""},{"$f":"IF($Z$2=\"pok\",\"\",IF(A227=\"\",\"\",COUNTIFS(SYNTHESE!$D:$D,A227,SYNTHESE!$E:$E,$J$1,SYNTHESE!$F:$F,\">=1\")))","v":""},{"$f":"IF($Z$2=\"pok\",\"\",IF(A227=\"\",\"\",COUNTIFS(SYNTHESE!$D:$D,A227,SYNTHESE!$E:$E,$K$1,SYNTHESE!$F:$F,\">=1\")))","v":""},{"$f":"IF($Z$2=\"pok\",\"\",IF(A227=\"\",\"\",COUNTIFS(SYNTHESE!$D:$D,A227,SYNTHESE!$E:$E,$L$1,SYNTHESE!$F:$F,\">=1\")))","v":""},{"$f":"IF($Z$2=\"pok\",\"\",IF(A227=\"\",\"\",COUNTIFS(SYNTHESE!$D:$D,A227,SYNTHESE!$E:$E,$M$1,SYNTHESE!$F:$F,\">=1\")))","v":""},{"$f":"IF($Z$2=\"pok\",\"\",IF(A227=\"\",\"\",COUNTIFS(SYNTHESE!$D:$D,A227,SYNTHESE!$E:$E,$N$1,SYNTHESE!$F:$F,\">=1\")))","v":""},{"$f":"IF($Z$2=\"pok\",\"\",IF(A227=\"\",\"\",COUNTIFS(SYNTHESE!$D:$D,A227,SYNTHESE!$E:$E,$O$1,SYNTHESE!$F:$F,\">=1\")))","v":""},{"$f":"IF($Z$2=\"pok\",\"\",IF(A227=\"\",\"\",COUNTIFS(SYNTHESE!$D:$D,A227,SYNTHESE!$E:$E,$P$1,SYNTHESE!$F:$F,\">=1\")))","v":""},{"$f":"IF($Z$2=\"pok\",\"\",IF(A227=\"\",\"\",COUNTIFS(SYNTHESE!$D:$D,A227,SYNTHESE!$E:$E,$Q$1,SYNTHESE!$F:$F,\">=1\")))","v":""},{"$f":"IF($Z$2=\"pok\",\"\",IF(A227=\"\",\"\",COUNTIFS(SYNTHESE!$D:$D,A227,SYNTHESE!$E:$E,$R$1,SYNTHESE!$F:$F,\">=1\")))","v":""},{"$f":"IF($Z$2=\"pok\",\"\",IF(A227=\"\",\"\",COUNTIFS(SYNTHESE!$D:$D,A227,SYNTHESE!$E:$E,$S$1,SYNTHESE!$F:$F,\">=1\")))","v":""},{"$f":"IF($Z$2=\"pok\",\"\",IF(A227=\"\",\"\",COUNTIFS(SYNTHESE!$D:$D,A227,SYNTHESE!$E:$E,$T$1,SYNTHESE!$F:$F,\">=1\")))","v":""},{"$f":"IF($Z$2=\"pok\",\"\",IF(A227=\"\",\"\",COUNTIFS(SYNTHESE!$D:$D,A227,SYNTHESE!$E:$E,$U$1,SYNTHESE!$F:$F,\">=1\")))","v":""},{"$f":"IF($Z$2=\"pok\",\"\",IF(A227=\"\",\"\",COUNTIFS(SYNTHESE!$D:$D,A227,SYNTHESE!$E:$E,$V$1,SYNTHESE!$F:$F,\">=1\")))","v":""},{"$f":"IF($Z$2=\"pok\",\"\",IF(A227=\"\",\"\",COUNTIFS(SYNTHESE!$D:$D,A227,SYNTHESE!$E:$E,$W$1,SYNTHESE!$F:$F,\">=1\")))","v":""},{"$f":"IF($Z$2=\"pok\",\"\",IF(A227=\"\",\"\",COUNTIFS(SYNTHESE!$D:$D,A227,SYNTHESE!$E:$E,$X$1,SYNTHESE!$F:$F,\">=1\")))","v":""},{"$f":"IF($Z$2=\"pok\",\"\",IF(A227=\"\",\"\",COUNTIFS(SYNTHESE!$D:$D,A227,SYNTHESE!$E:$E,$Y$1,SYNTHESE!$F:$F,\">=1\")))","v":""},0]
[{"$f":"IF(ETUDIANTS!A228=\"\",\"\",ETUDIANTS!A228)","v":""},{"$f":"IF($Z$2=\"pok\",\"\",IF(A228=\"\",\"\",COUNTIFS(SYNTHESE!$D:$D,A228,SYNTHESE!$E:$E,$B$1,SYNTHESE!$F:$F,\">=1\")))","v":""},{"$f":"IF($Z$2=\"pok\",\"\",IF(A228=\"\",\"\",COUNTIFS(SYNTHESE!$D:$D,A228,SYNTHESE!$E:$E,$C$1,SYNTHESE!$F:$F,\">=1\")))","v":""},{"$f":"IF($Z$2=\"pok\",\"\",IF(A228=\"\",\"\",COUNTIFS(SYNTHESE!$D:$D,A228,SYNTHESE!$E:$E,$D$1,SYNTHESE!$F:$F,\">=1\")))","v":""},{"$f":"IF($Z$2=\"pok\",\"\",IF(A228=\"\",\"\",COUNTIFS(SYNTHESE!$D:$D,A228,SYNTHESE!$E:$E,$E$1,SYNTHESE!$F:$F,\">=1\")))","v":""},{"$f":"IF($Z$2=\"pok\",\"\",IF(A228=\"\",\"\",COUNTIFS(SYNTHESE!$D:$D,A228,SYNTHESE!$E:$E,$F$1,SYNTHESE!$F:$F,\">=1\")))","v":""},{"$f":"IF($Z$2=\"pok\",\"\",IF(A228=\"\",\"\",COUNTIFS(SYNTHESE!$D:$D,A228,SYNTHESE!$E:$E,$G$1,SYNTHESE!$F:$F,\">=1\")))","v":""},{"$f":"IF($Z$2=\"pok\",\"\",IF(A228=\"\",\"\",COUNTIFS(SYNTHESE!$D:$D,A228,SYNTHESE!$E:$E,$H$1,SYNTHESE!$F:$F,\">=1\")))","v":""},{"$f":"IF($Z$2=\"pok\",\"\",IF(A228=\"\",\"\",COUNTIFS(SYNTHESE!$D:$D,A228,SYNTHESE!$E:$E,$I$1,SYNTHESE!$F:$F,\">=1\")))","v":""},{"$f":"IF($Z$2=\"pok\",\"\",IF(A228=\"\",\"\",COUNTIFS(SYNTHESE!$D:$D,A228,SYNTHESE!$E:$E,$J$1,SYNTHESE!$F:$F,\">=1\")))","v":""},{"$f":"IF($Z$2=\"pok\",\"\",IF(A228=\"\",\"\",COUNTIFS(SYNTHESE!$D:$D,A228,SYNTHESE!$E:$E,$K$1,SYNTHESE!$F:$F,\">=1\")))","v":""},{"$f":"IF($Z$2=\"pok\",\"\",IF(A228=\"\",\"\",COUNTIFS(SYNTHESE!$D:$D,A228,SYNTHESE!$E:$E,$L$1,SYNTHESE!$F:$F,\">=1\")))","v":""},{"$f":"IF($Z$2=\"pok\",\"\",IF(A228=\"\",\"\",COUNTIFS(SYNTHESE!$D:$D,A228,SYNTHESE!$E:$E,$M$1,SYNTHESE!$F:$F,\">=1\")))","v":""},{"$f":"IF($Z$2=\"pok\",\"\",IF(A228=\"\",\"\",COUNTIFS(SYNTHESE!$D:$D,A228,SYNTHESE!$E:$E,$N$1,SYNTHESE!$F:$F,\">=1\")))","v":""},{"$f":"IF($Z$2=\"pok\",\"\",IF(A228=\"\",\"\",COUNTIFS(SYNTHESE!$D:$D,A228,SYNTHESE!$E:$E,$O$1,SYNTHESE!$F:$F,\">=1\")))","v":""},{"$f":"IF($Z$2=\"pok\",\"\",IF(A228=\"\",\"\",COUNTIFS(SYNTHESE!$D:$D,A228,SYNTHESE!$E:$E,$P$1,SYNTHESE!$F:$F,\">=1\")))","v":""},{"$f":"IF($Z$2=\"pok\",\"\",IF(A228=\"\",\"\",COUNTIFS(SYNTHESE!$D:$D,A228,SYNTHESE!$E:$E,$Q$1,SYNTHESE!$F:$F,\">=1\")))","v":""},{"$f":"IF($Z$2=\"pok\",\"\",IF(A228=\"\",\"\",COUNTIFS(SYNTHESE!$D:$D,A228,SYNTHESE!$E:$E,$R$1,SYNTHESE!$F:$F,\">=1\")))","v":""},{"$f":"IF($Z$2=\"pok\",\"\",IF(A228=\"\",\"\",COUNTIFS(SYNTHESE!$D:$D,A228,SYNTHESE!$E:$E,$S$1,SYNTHESE!$F:$F,\">=1\")))","v":""},{"$f":"IF($Z$2=\"pok\",\"\",IF(A228=\"\",\"\",COUNTIFS(SYNTHESE!$D:$D,A228,SYNTHESE!$E:$E,$T$1,SYNTHESE!$F:$F,\">=1\")))","v":""},{"$f":"IF($Z$2=\"pok\",\"\",IF(A228=\"\",\"\",COUNTIFS(SYNTHESE!$D:$D,A228,SYNTHESE!$E:$E,$U$1,SYNTHESE!$F:$F,\">=1\")))","v":""},{"$f":"IF($Z$2=\"pok\",\"\",IF(A228=\"\",\"\",COUNTIFS(SYNTHESE!$D:$D,A228,SYNTHESE!$E:$E,$V$1,SYNTHESE!$F:$F,\">=1\")))","v":""},{"$f":"IF($Z$2=\"pok\",\"\",IF(A228=\"\",\"\",COUNTIFS(SYNTHESE!$D:$D,A228,SYNTHESE!$E:$E,$W$1,SYNTHESE!$F:$F,\">=1\")))","v":""},{"$f":"IF($Z$2=\"pok\",\"\",IF(A228=\"\",\"\",COUNTIFS(SYNTHESE!$D:$D,A228,SYNTHESE!$E:$E,$X$1,SYNTHESE!$F:$F,\">=1\")))","v":""},{"$f":"IF($Z$2=\"pok\",\"\",IF(A228=\"\",\"\",COUNTIFS(SYNTHESE!$D:$D,A228,SYNTHESE!$E:$E,$Y$1,SYNTHESE!$F:$F,\">=1\")))","v":""},0]
[{"$f":"IF(ETUDIANTS!A229=\"\",\"\",ETUDIANTS!A229)","v":""},{"$f":"IF($Z$2=\"pok\",\"\",IF(A229=\"\",\"\",COUNTIFS(SYNTHESE!$D:$D,A229,SYNTHESE!$E:$E,$B$1,SYNTHESE!$F:$F,\">=1\")))","v":""},{"$f":"IF($Z$2=\"pok\",\"\",IF(A229=\"\",\"\",COUNTIFS(SYNTHESE!$D:$D,A229,SYNTHESE!$E:$E,$C$1,SYNTHESE!$F:$F,\">=1\")))","v":""},{"$f":"IF($Z$2=\"pok\",\"\",IF(A229=\"\",\"\",COUNTIFS(SYNTHESE!$D:$D,A229,SYNTHESE!$E:$E,$D$1,SYNTHESE!$F:$F,\">=1\")))","v":""},{"$f":"IF($Z$2=\"pok\",\"\",IF(A229=\"\",\"\",COUNTIFS(SYNTHESE!$D:$D,A229,SYNTHESE!$E:$E,$E$1,SYNTHESE!$F:$F,\">=1\")))","v":""},{"$f":"IF($Z$2=\"pok\",\"\",IF(A229=\"\",\"\",COUNTIFS(SYNTHESE!$D:$D,A229,SYNTHESE!$E:$E,$F$1,SYNTHESE!$F:$F,\">=1\")))","v":""},{"$f":"IF($Z$2=\"pok\",\"\",IF(A229=\"\",\"\",COUNTIFS(SYNTHESE!$D:$D,A229,SYNTHESE!$E:$E,$G$1,SYNTHESE!$F:$F,\">=1\")))","v":""},{"$f":"IF($Z$2=\"pok\",\"\",IF(A229=\"\",\"\",COUNTIFS(SYNTHESE!$D:$D,A229,SYNTHESE!$E:$E,$H$1,SYNTHESE!$F:$F,\">=1\")))","v":""},{"$f":"IF($Z$2=\"pok\",\"\",IF(A229=\"\",\"\",COUNTIFS(SYNTHESE!$D:$D,A229,SYNTHESE!$E:$E,$I$1,SYNTHESE!$F:$F,\">=1\")))","v":""},{"$f":"IF($Z$2=\"pok\",\"\",IF(A229=\"\",\"\",COUNTIFS(SYNTHESE!$D:$D,A229,SYNTHESE!$E:$E,$J$1,SYNTHESE!$F:$F,\">=1\")))","v":""},{"$f":"IF($Z$2=\"pok\",\"\",IF(A229=\"\",\"\",COUNTIFS(SYNTHESE!$D:$D,A229,SYNTHESE!$E:$E,$K$1,SYNTHESE!$F:$F,\">=1\")))","v":""},{"$f":"IF($Z$2=\"pok\",\"\",IF(A229=\"\",\"\",COUNTIFS(SYNTHESE!$D:$D,A229,SYNTHESE!$E:$E,$L$1,SYNTHESE!$F:$F,\">=1\")))","v":""},{"$f":"IF($Z$2=\"pok\",\"\",IF(A229=\"\",\"\",COUNTIFS(SYNTHESE!$D:$D,A229,SYNTHESE!$E:$E,$M$1,SYNTHESE!$F:$F,\">=1\")))","v":""},{"$f":"IF($Z$2=\"pok\",\"\",IF(A229=\"\",\"\",COUNTIFS(SYNTHESE!$D:$D,A229,SYNTHESE!$E:$E,$N$1,SYNTHESE!$F:$F,\">=1\")))","v":""},{"$f":"IF($Z$2=\"pok\",\"\",IF(A229=\"\",\"\",COUNTIFS(SYNTHESE!$D:$D,A229,SYNTHESE!$E:$E,$O$1,SYNTHESE!$F:$F,\">=1\")))","v":""},{"$f":"IF($Z$2=\"pok\",\"\",IF(A229=\"\",\"\",COUNTIFS(SYNTHESE!$D:$D,A229,SYNTHESE!$E:$E,$P$1,SYNTHESE!$F:$F,\">=1\")))","v":""},{"$f":"IF($Z$2=\"pok\",\"\",IF(A229=\"\",\"\",COUNTIFS(SYNTHESE!$D:$D,A229,SYNTHESE!$E:$E,$Q$1,SYNTHESE!$F:$F,\">=1\")))","v":""},{"$f":"IF($Z$2=\"pok\",\"\",IF(A229=\"\",\"\",COUNTIFS(SYNTHESE!$D:$D,A229,SYNTHESE!$E:$E,$R$1,SYNTHESE!$F:$F,\">=1\")))","v":""},{"$f":"IF($Z$2=\"pok\",\"\",IF(A229=\"\",\"\",COUNTIFS(SYNTHESE!$D:$D,A229,SYNTHESE!$E:$E,$S$1,SYNTHESE!$F:$F,\">=1\")))","v":""},{"$f":"IF($Z$2=\"pok\",\"\",IF(A229=\"\",\"\",COUNTIFS(SYNTHESE!$D:$D,A229,SYNTHESE!$E:$E,$T$1,SYNTHESE!$F:$F,\">=1\")))","v":""},{"$f":"IF($Z$2=\"pok\",\"\",IF(A229=\"\",\"\",COUNTIFS(SYNTHESE!$D:$D,A229,SYNTHESE!$E:$E,$U$1,SYNTHESE!$F:$F,\">=1\")))","v":""},{"$f":"IF($Z$2=\"pok\",\"\",IF(A229=\"\",\"\",COUNTIFS(SYNTHESE!$D:$D,A229,SYNTHESE!$E:$E,$V$1,SYNTHESE!$F:$F,\">=1\")))","v":""},{"$f":"IF($Z$2=\"pok\",\"\",IF(A229=\"\",\"\",COUNTIFS(SYNTHESE!$D:$D,A229,SYNTHESE!$E:$E,$W$1,SYNTHESE!$F:$F,\">=1\")))","v":""},{"$f":"IF($Z$2=\"pok\",\"\",IF(A229=\"\",\"\",COUNTIFS(SYNTHESE!$D:$D,A229,SYNTHESE!$E:$E,$X$1,SYNTHESE!$F:$F,\">=1\")))","v":""},{"$f":"IF($Z$2=\"pok\",\"\",IF(A229=\"\",\"\",COUNTIFS(SYNTHESE!$D:$D,A229,SYNTHESE!$E:$E,$Y$1,SYNTHESE!$F:$F,\">=1\")))","v":""},0]
[{"$f":"IF(ETUDIANTS!A230=\"\",\"\",ETUDIANTS!A230)","v":""},{"$f":"IF($Z$2=\"pok\",\"\",IF(A230=\"\",\"\",COUNTIFS(SYNTHESE!$D:$D,A230,SYNTHESE!$E:$E,$B$1,SYNTHESE!$F:$F,\">=1\")))","v":""},{"$f":"IF($Z$2=\"pok\",\"\",IF(A230=\"\",\"\",COUNTIFS(SYNTHESE!$D:$D,A230,SYNTHESE!$E:$E,$C$1,SYNTHESE!$F:$F,\">=1\")))","v":""},{"$f":"IF($Z$2=\"pok\",\"\",IF(A230=\"\",\"\",COUNTIFS(SYNTHESE!$D:$D,A230,SYNTHESE!$E:$E,$D$1,SYNTHESE!$F:$F,\">=1\")))","v":""},{"$f":"IF($Z$2=\"pok\",\"\",IF(A230=\"\",\"\",COUNTIFS(SYNTHESE!$D:$D,A230,SYNTHESE!$E:$E,$E$1,SYNTHESE!$F:$F,\">=1\")))","v":""},{"$f":"IF($Z$2=\"pok\",\"\",IF(A230=\"\",\"\",COUNTIFS(SYNTHESE!$D:$D,A230,SYNTHESE!$E:$E,$F$1,SYNTHESE!$F:$F,\">=1\")))","v":""},{"$f":"IF($Z$2=\"pok\",\"\",IF(A230=\"\",\"\",COUNTIFS(SYNTHESE!$D:$D,A230,SYNTHESE!$E:$E,$G$1,SYNTHESE!$F:$F,\">=1\")))","v":""},{"$f":"IF($Z$2=\"pok\",\"\",IF(A230=\"\",\"\",COUNTIFS(SYNTHESE!$D:$D,A230,SYNTHESE!$E:$E,$H$1,SYNTHESE!$F:$F,\">=1\")))","v":""},{"$f":"IF($Z$2=\"pok\",\"\",IF(A230=\"\",\"\",COUNTIFS(SYNTHESE!$D:$D,A230,SYNTHESE!$E:$E,$I$1,SYNTHESE!$F:$F,\">=1\")))","v":""},{"$f":"IF($Z$2=\"pok\",\"\",IF(A230=\"\",\"\",COUNTIFS(SYNTHESE!$D:$D,A230,SYNTHESE!$E:$E,$J$1,SYNTHESE!$F:$F,\">=1\")))","v":""},{"$f":"IF($Z$2=\"pok\",\"\",IF(A230=\"\",\"\",COUNTIFS(SYNTHESE!$D:$D,A230,SYNTHESE!$E:$E,$K$1,SYNTHESE!$F:$F,\">=1\")))","v":""},{"$f":"IF($Z$2=\"pok\",\"\",IF(A230=\"\",\"\",COUNTIFS(SYNTHESE!$D:$D,A230,SYNTHESE!$E:$E,$L$1,SYNTHESE!$F:$F,\">=1\")))","v":""},{"$f":"IF($Z$2=\"pok\",\"\",IF(A230=\"\",\"\",COUNTIFS(SYNTHESE!$D:$D,A230,SYNTHESE!$E:$E,$M$1,SYNTHESE!$F:$F,\">=1\")))","v":""},{"$f":"IF($Z$2=\"pok\",\"\",IF(A230=\"\",\"\",COUNTIFS(SYNTHESE!$D:$D,A230,SYNTHESE!$E:$E,$N$1,SYNTHESE!$F:$F,\">=1\")))","v":""},{"$f":"IF($Z$2=\"pok\",\"\",IF(A230=\"\",\"\",COUNTIFS(SYNTHESE!$D:$D,A230,SYNTHESE!$E:$E,$O$1,SYNTHESE!$F:$F,\">=1\")))","v":""},{"$f":"IF($Z$2=\"pok\",\"\",IF(A230=\"\",\"\",COUNTIFS(SYNTHESE!$D:$D,A230,SYNTHESE!$E:$E,$P$1,SYNTHESE!$F:$F,\">=1\")))","v":""},{"$f":"IF($Z$2=\"pok\",\"\",IF(A230=\"\",\"\",COUNTIFS(SYNTHESE!$D:$D,A230,SYNTHESE!$E:$E,$Q$1,SYNTHESE!$F:$F,\">=1\")))","v":""},{"$f":"IF($Z$2=\"pok\",\"\",IF(A230=\"\",\"\",COUNTIFS(SYNTHESE!$D:$D,A230,SYNTHESE!$E:$E,$R$1,SYNTHESE!$F:$F,\">=1\")))","v":""},{"$f":"IF($Z$2=\"pok\",\"\",IF(A230=\"\",\"\",COUNTIFS(SYNTHESE!$D:$D,A230,SYNTHESE!$E:$E,$S$1,SYNTHESE!$F:$F,\">=1\")))","v":""},{"$f":"IF($Z$2=\"pok\",\"\",IF(A230=\"\",\"\",COUNTIFS(SYNTHESE!$D:$D,A230,SYNTHESE!$E:$E,$T$1,SYNTHESE!$F:$F,\">=1\")))","v":""},{"$f":"IF($Z$2=\"pok\",\"\",IF(A230=\"\",\"\",COUNTIFS(SYNTHESE!$D:$D,A230,SYNTHESE!$E:$E,$U$1,SYNTHESE!$F:$F,\">=1\")))","v":""},{"$f":"IF($Z$2=\"pok\",\"\",IF(A230=\"\",\"\",COUNTIFS(SYNTHESE!$D:$D,A230,SYNTHESE!$E:$E,$V$1,SYNTHESE!$F:$F,\">=1\")))","v":""},{"$f":"IF($Z$2=\"pok\",\"\",IF(A230=\"\",\"\",COUNTIFS(SYNTHESE!$D:$D,A230,SYNTHESE!$E:$E,$W$1,SYNTHESE!$F:$F,\">=1\")))","v":""},{"$f":"IF($Z$2=\"pok\",\"\",IF(A230=\"\",\"\",COUNTIFS(SYNTHESE!$D:$D,A230,SYNTHESE!$E:$E,$X$1,SYNTHESE!$F:$F,\">=1\")))","v":""},{"$f":"IF($Z$2=\"pok\",\"\",IF(A230=\"\",\"\",COUNTIFS(SYNTHESE!$D:$D,A230,SYNTHESE!$E:$E,$Y$1,SYNTHESE!$F:$F,\">=1\")))","v":""},0]
[{"$f":"IF(ETUDIANTS!A231=\"\",\"\",ETUDIANTS!A231)","v":""},{"$f":"IF($Z$2=\"pok\",\"\",IF(A231=\"\",\"\",COUNTIFS(SYNTHESE!$D:$D,A231,SYNTHESE!$E:$E,$B$1,SYNTHESE!$F:$F,\">=1\")))","v":""},{"$f":"IF($Z$2=\"pok\",\"\",IF(A231=\"\",\"\",COUNTIFS(SYNTHESE!$D:$D,A231,SYNTHESE!$E:$E,$C$1,SYNTHESE!$F:$F,\">=1\")))","v":""},{"$f":"IF($Z$2=\"pok\",\"\",IF(A231=\"\",\"\",COUNTIFS(SYNTHESE!$D:$D,A231,SYNTHESE!$E:$E,$D$1,SYNTHESE!$F:$F,\">=1\")))","v":""},{"$f":"IF($Z$2=\"pok\",\"\",IF(A231=\"\",\"\",COUNTIFS(SYNTHESE!$D:$D,A231,SYNTHESE!$E:$E,$E$1,SYNTHESE!$F:$F,\">=1\")))","v":""},{"$f":"IF($Z$2=\"pok\",\"\",IF(A231=\"\",\"\",COUNTIFS(SYNTHESE!$D:$D,A231,SYNTHESE!$E:$E,$F$1,SYNTHESE!$F:$F,\">=1\")))","v":""},{"$f":"IF($Z$2=\"pok\",\"\",IF(A231=\"\",\"\",COUNTIFS(SYNTHESE!$D:$D,A231,SYNTHESE!$E:$E,$G$1,SYNTHESE!$F:$F,\">=1\")))","v":""},{"$f":"IF($Z$2=\"pok\",\"\",IF(A231=\"\",\"\",COUNTIFS(SYNTHESE!$D:$D,A231,SYNTHESE!$E:$E,$H$1,SYNTHESE!$F:$F,\">=1\")))","v":""},{"$f":"IF($Z$2=\"pok\",\"\",IF(A231=\"\",\"\",COUNTIFS(SYNTHESE!$D:$D,A231,SYNTHESE!$E:$E,$I$1,SYNTHESE!$F:$F,\">=1\")))","v":""},{"$f":"IF($Z$2=\"pok\",\"\",IF(A231=\"\",\"\",COUNTIFS(SYNTHESE!$D:$D,A231,SYNTHESE!$E:$E,$J$1,SYNTHESE!$F:$F,\">=1\")))","v":""},{"$f":"IF($Z$2=\"pok\",\"\",IF(A231=\"\",\"\",COUNTIFS(SYNTHESE!$D:$D,A231,SYNTHESE!$E:$E,$K$1,SYNTHESE!$F:$F,\">=1\")))","v":""},{"$f":"IF($Z$2=\"pok\",\"\",IF(A231=\"\",\"\",COUNTIFS(SYNTHESE!$D:$D,A231,SYNTHESE!$E:$E,$L$1,SYNTHESE!$F:$F,\">=1\")))","v":""},{"$f":"IF($Z$2=\"pok\",\"\",IF(A231=\"\",\"\",COUNTIFS(SYNTHESE!$D:$D,A231,SYNTHESE!$E:$E,$M$1,SYNTHESE!$F:$F,\">=1\")))","v":""},{"$f":"IF($Z$2=\"pok\",\"\",IF(A231=\"\",\"\",COUNTIFS(SYNTHESE!$D:$D,A231,SYNTHESE!$E:$E,$N$1,SYNTHESE!$F:$F,\">=1\")))","v":""},{"$f":"IF($Z$2=\"pok\",\"\",IF(A231=\"\",\"\",COUNTIFS(SYNTHESE!$D:$D,A231,SYNTHESE!$E:$E,$O$1,SYNTHESE!$F:$F,\">=1\")))","v":""},{"$f":"IF($Z$2=\"pok\",\"\",IF(A231=\"\",\"\",COUNTIFS(SYNTHESE!$D:$D,A231,SYNTHESE!$E:$E,$P$1,SYNTHESE!$F:$F,\">=1\")))","v":""},{"$f":"IF($Z$2=\"pok\",\"\",IF(A231=\"\",\"\",COUNTIFS(SYNTHESE!$D:$D,A231,SYNTHESE!$E:$E,$Q$1,SYNTHESE!$F:$F,\">=1\")))","v":""},{"$f":"IF($Z$2=\"pok\",\"\",IF(A231=\"\",\"\",COUNTIFS(SYNTHESE!$D:$D,A231,SYNTHESE!$E:$E,$R$1,SYNTHESE!$F:$F,\">=1\")))","v":""},{"$f":"IF($Z$2=\"pok\",\"\",IF(A231=\"\",\"\",COUNTIFS(SYNTHESE!$D:$D,A231,SYNTHESE!$E:$E,$S$1,SYNTHESE!$F:$F,\">=1\")))","v":""},{"$f":"IF($Z$2=\"pok\",\"\",IF(A231=\"\",\"\",COUNTIFS(SYNTHESE!$D:$D,A231,SYNTHESE!$E:$E,$T$1,SYNTHESE!$F:$F,\">=1\")))","v":""},{"$f":"IF($Z$2=\"pok\",\"\",IF(A231=\"\",\"\",COUNTIFS(SYNTHESE!$D:$D,A231,SYNTHESE!$E:$E,$U$1,SYNTHESE!$F:$F,\">=1\")))","v":""},{"$f":"IF($Z$2=\"pok\",\"\",IF(A231=\"\",\"\",COUNTIFS(SYNTHESE!$D:$D,A231,SYNTHESE!$E:$E,$V$1,SYNTHESE!$F:$F,\">=1\")))","v":""},{"$f":"IF($Z$2=\"pok\",\"\",IF(A231=\"\",\"\",COUNTIFS(SYNTHESE!$D:$D,A231,SYNTHESE!$E:$E,$W$1,SYNTHESE!$F:$F,\">=1\")))","v":""},{"$f":"IF($Z$2=\"pok\",\"\",IF(A231=\"\",\"\",COUNTIFS(SYNTHESE!$D:$D,A231,SYNTHESE!$E:$E,$X$1,SYNTHESE!$F:$F,\">=1\")))","v":""},{"$f":"IF($Z$2=\"pok\",\"\",IF(A231=\"\",\"\",COUNTIFS(SYNTHESE!$D:$D,A231,SYNTHESE!$E:$E,$Y$1,SYNTHESE!$F:$F,\">=1\")))","v":""},0]
[{"$f":"IF(ETUDIANTS!A232=\"\",\"\",ETUDIANTS!A232)","v":""},{"$f":"IF($Z$2=\"pok\",\"\",IF(A232=\"\",\"\",COUNTIFS(SYNTHESE!$D:$D,A232,SYNTHESE!$E:$E,$B$1,SYNTHESE!$F:$F,\">=1\")))","v":""},{"$f":"IF($Z$2=\"pok\",\"\",IF(A232=\"\",\"\",COUNTIFS(SYNTHESE!$D:$D,A232,SYNTHESE!$E:$E,$C$1,SYNTHESE!$F:$F,\">=1\")))","v":""},{"$f":"IF($Z$2=\"pok\",\"\",IF(A232=\"\",\"\",COUNTIFS(SYNTHESE!$D:$D,A232,SYNTHESE!$E:$E,$D$1,SYNTHESE!$F:$F,\">=1\")))","v":""},{"$f":"IF($Z$2=\"pok\",\"\",IF(A232=\"\",\"\",COUNTIFS(SYNTHESE!$D:$D,A232,SYNTHESE!$E:$E,$E$1,SYNTHESE!$F:$F,\">=1\")))","v":""},{"$f":"IF($Z$2=\"pok\",\"\",IF(A232=\"\",\"\",COUNTIFS(SYNTHESE!$D:$D,A232,SYNTHESE!$E:$E,$F$1,SYNTHESE!$F:$F,\">=1\")))","v":""},{"$f":"IF($Z$2=\"pok\",\"\",IF(A232=\"\",\"\",COUNTIFS(SYNTHESE!$D:$D,A232,SYNTHESE!$E:$E,$G$1,SYNTHESE!$F:$F,\">=1\")))","v":""},{"$f":"IF($Z$2=\"pok\",\"\",IF(A232=\"\",\"\",COUNTIFS(SYNTHESE!$D:$D,A232,SYNTHESE!$E:$E,$H$1,SYNTHESE!$F:$F,\">=1\")))","v":""},{"$f":"IF($Z$2=\"pok\",\"\",IF(A232=\"\",\"\",COUNTIFS(SYNTHESE!$D:$D,A232,SYNTHESE!$E:$E,$I$1,SYNTHESE!$F:$F,\">=1\")))","v":""},{"$f":"IF($Z$2=\"pok\",\"\",IF(A232=\"\",\"\",COUNTIFS(SYNTHESE!$D:$D,A232,SYNTHESE!$E:$E,$J$1,SYNTHESE!$F:$F,\">=1\")))","v":""},{"$f":"IF($Z$2=\"pok\",\"\",IF(A232=\"\",\"\",COUNTIFS(SYNTHESE!$D:$D,A232,SYNTHESE!$E:$E,$K$1,SYNTHESE!$F:$F,\">=1\")))","v":""},{"$f":"IF($Z$2=\"pok\",\"\",IF(A232=\"\",\"\",COUNTIFS(SYNTHESE!$D:$D,A232,SYNTHESE!$E:$E,$L$1,SYNTHESE!$F:$F,\">=1\")))","v":""},{"$f":"IF($Z$2=\"pok\",\"\",IF(A232=\"\",\"\",COUNTIFS(SYNTHESE!$D:$D,A232,SYNTHESE!$E:$E,$M$1,SYNTHESE!$F:$F,\">=1\")))","v":""},{"$f":"IF($Z$2=\"pok\",\"\",IF(A232=\"\",\"\",COUNTIFS(SYNTHESE!$D:$D,A232,SYNTHESE!$E:$E,$N$1,SYNTHESE!$F:$F,\">=1\")))","v":""},{"$f":"IF($Z$2=\"pok\",\"\",IF(A232=\"\",\"\",COUNTIFS(SYNTHESE!$D:$D,A232,SYNTHESE!$E:$E,$O$1,SYNTHESE!$F:$F,\">=1\")))","v":""},{"$f":"IF($Z$2=\"pok\",\"\",IF(A232=\"\",\"\",COUNTIFS(SYNTHESE!$D:$D,A232,SYNTHESE!$E:$E,$P$1,SYNTHESE!$F:$F,\">=1\")))","v":""},{"$f":"IF($Z$2=\"pok\",\"\",IF(A232=\"\",\"\",COUNTIFS(SYNTHESE!$D:$D,A232,SYNTHESE!$E:$E,$Q$1,SYNTHESE!$F:$F,\">=1\")))","v":""},{"$f":"IF($Z$2=\"pok\",\"\",IF(A232=\"\",\"\",COUNTIFS(SYNTHESE!$D:$D,A232,SYNTHESE!$E:$E,$R$1,SYNTHESE!$F:$F,\">=1\")))","v":""},{"$f":"IF($Z$2=\"pok\",\"\",IF(A232=\"\",\"\",COUNTIFS(SYNTHESE!$D:$D,A232,SYNTHESE!$E:$E,$S$1,SYNTHESE!$F:$F,\">=1\")))","v":""},{"$f":"IF($Z$2=\"pok\",\"\",IF(A232=\"\",\"\",COUNTIFS(SYNTHESE!$D:$D,A232,SYNTHESE!$E:$E,$T$1,SYNTHESE!$F:$F,\">=1\")))","v":""},{"$f":"IF($Z$2=\"pok\",\"\",IF(A232=\"\",\"\",COUNTIFS(SYNTHESE!$D:$D,A232,SYNTHESE!$E:$E,$U$1,SYNTHESE!$F:$F,\">=1\")))","v":""},{"$f":"IF($Z$2=\"pok\",\"\",IF(A232=\"\",\"\",COUNTIFS(SYNTHESE!$D:$D,A232,SYNTHESE!$E:$E,$V$1,SYNTHESE!$F:$F,\">=1\")))","v":""},{"$f":"IF($Z$2=\"pok\",\"\",IF(A232=\"\",\"\",COUNTIFS(SYNTHESE!$D:$D,A232,SYNTHESE!$E:$E,$W$1,SYNTHESE!$F:$F,\">=1\")))","v":""},{"$f":"IF($Z$2=\"pok\",\"\",IF(A232=\"\",\"\",COUNTIFS(SYNTHESE!$D:$D,A232,SYNTHESE!$E:$E,$X$1,SYNTHESE!$F:$F,\">=1\")))","v":""},{"$f":"IF($Z$2=\"pok\",\"\",IF(A232=\"\",\"\",COUNTIFS(SYNTHESE!$D:$D,A232,SYNTHESE!$E:$E,$Y$1,SYNTHESE!$F:$F,\">=1\")))","v":""},0]
[{"$f":"IF(ETUDIANTS!A233=\"\",\"\",ETUDIANTS!A233)","v":""},{"$f":"IF($Z$2=\"pok\",\"\",IF(A233=\"\",\"\",COUNTIFS(SYNTHESE!$D:$D,A233,SYNTHESE!$E:$E,$B$1,SYNTHESE!$F:$F,\">=1\")))","v":""},{"$f":"IF($Z$2=\"pok\",\"\",IF(A233=\"\",\"\",COUNTIFS(SYNTHESE!$D:$D,A233,SYNTHESE!$E:$E,$C$1,SYNTHESE!$F:$F,\">=1\")))","v":""},{"$f":"IF($Z$2=\"pok\",\"\",IF(A233=\"\",\"\",COUNTIFS(SYNTHESE!$D:$D,A233,SYNTHESE!$E:$E,$D$1,SYNTHESE!$F:$F,\">=1\")))","v":""},{"$f":"IF($Z$2=\"pok\",\"\",IF(A233=\"\",\"\",COUNTIFS(SYNTHESE!$D:$D,A233,SYNTHESE!$E:$E,$E$1,SYNTHESE!$F:$F,\">=1\")))","v":""},{"$f":"IF($Z$2=\"pok\",\"\",IF(A233=\"\",\"\",COUNTIFS(SYNTHESE!$D:$D,A233,SYNTHESE!$E:$E,$F$1,SYNTHESE!$F:$F,\">=1\")))","v":""},{"$f":"IF($Z$2=\"pok\",\"\",IF(A233=\"\",\"\",COUNTIFS(SYNTHESE!$D:$D,A233,SYNTHESE!$E:$E,$G$1,SYNTHESE!$F:$F,\">=1\")))","v":""},{"$f":"IF($Z$2=\"pok\",\"\",IF(A233=\"\",\"\",COUNTIFS(SYNTHESE!$D:$D,A233,SYNTHESE!$E:$E,$H$1,SYNTHESE!$F:$F,\">=1\")))","v":""},{"$f":"IF($Z$2=\"pok\",\"\",IF(A233=\"\",\"\",COUNTIFS(SYNTHESE!$D:$D,A233,SYNTHESE!$E:$E,$I$1,SYNTHESE!$F:$F,\">=1\")))","v":""},{"$f":"IF($Z$2=\"pok\",\"\",IF(A233=\"\",\"\",COUNTIFS(SYNTHESE!$D:$D,A233,SYNTHESE!$E:$E,$J$1,SYNTHESE!$F:$F,\">=1\")))","v":""},{"$f":"IF($Z$2=\"pok\",\"\",IF(A233=\"\",\"\",COUNTIFS(SYNTHESE!$D:$D,A233,SYNTHESE!$E:$E,$K$1,SYNTHESE!$F:$F,\">=1\")))","v":""},{"$f":"IF($Z$2=\"pok\",\"\",IF(A233=\"\",\"\",COUNTIFS(SYNTHESE!$D:$D,A233,SYNTHESE!$E:$E,$L$1,SYNTHESE!$F:$F,\">=1\")))","v":""},{"$f":"IF($Z$2=\"pok\",\"\",IF(A233=\"\",\"\",COUNTIFS(SYNTHESE!$D:$D,A233,SYNTHESE!$E:$E,$M$1,SYNTHESE!$F:$F,\">=1\")))","v":""},{"$f":"IF($Z$2=\"pok\",\"\",IF(A233=\"\",\"\",COUNTIFS(SYNTHESE!$D:$D,A233,SYNTHESE!$E:$E,$N$1,SYNTHESE!$F:$F,\">=1\")))","v":""},{"$f":"IF($Z$2=\"pok\",\"\",IF(A233=\"\",\"\",COUNTIFS(SYNTHESE!$D:$D,A233,SYNTHESE!$E:$E,$O$1,SYNTHESE!$F:$F,\">=1\")))","v":""},{"$f":"IF($Z$2=\"pok\",\"\",IF(A233=\"\",\"\",COUNTIFS(SYNTHESE!$D:$D,A233,SYNTHESE!$E:$E,$P$1,SYNTHESE!$F:$F,\">=1\")))","v":""},{"$f":"IF($Z$2=\"pok\",\"\",IF(A233=\"\",\"\",COUNTIFS(SYNTHESE!$D:$D,A233,SYNTHESE!$E:$E,$Q$1,SYNTHESE!$F:$F,\">=1\")))","v":""},{"$f":"IF($Z$2=\"pok\",\"\",IF(A233=\"\",\"\",COUNTIFS(SYNTHESE!$D:$D,A233,SYNTHESE!$E:$E,$R$1,SYNTHESE!$F:$F,\">=1\")))","v":""},{"$f":"IF($Z$2=\"pok\",\"\",IF(A233=\"\",\"\",COUNTIFS(SYNTHESE!$D:$D,A233,SYNTHESE!$E:$E,$S$1,SYNTHESE!$F:$F,\">=1\")))","v":""},{"$f":"IF($Z$2=\"pok\",\"\",IF(A233=\"\",\"\",COUNTIFS(SYNTHESE!$D:$D,A233,SYNTHESE!$E:$E,$T$1,SYNTHESE!$F:$F,\">=1\")))","v":""},{"$f":"IF($Z$2=\"pok\",\"\",IF(A233=\"\",\"\",COUNTIFS(SYNTHESE!$D:$D,A233,SYNTHESE!$E:$E,$U$1,SYNTHESE!$F:$F,\">=1\")))","v":""},{"$f":"IF($Z$2=\"pok\",\"\",IF(A233=\"\",\"\",COUNTIFS(SYNTHESE!$D:$D,A233,SYNTHESE!$E:$E,$V$1,SYNTHESE!$F:$F,\">=1\")))","v":""},{"$f":"IF($Z$2=\"pok\",\"\",IF(A233=\"\",\"\",COUNTIFS(SYNTHESE!$D:$D,A233,SYNTHESE!$E:$E,$W$1,SYNTHESE!$F:$F,\">=1\")))","v":""},{"$f":"IF($Z$2=\"pok\",\"\",IF(A233=\"\",\"\",COUNTIFS(SYNTHESE!$D:$D,A233,SYNTHESE!$E:$E,$X$1,SYNTHESE!$F:$F,\">=1\")))","v":""},{"$f":"IF($Z$2=\"pok\",\"\",IF(A233=\"\",\"\",COUNTIFS(SYNTHESE!$D:$D,A233,SYNTHESE!$E:$E,$Y$1,SYNTHESE!$F:$F,\">=1\")))","v":""},0]
[{"$f":"IF(ETUDIANTS!A234=\"\",\"\",ETUDIANTS!A234)","v":""},{"$f":"IF($Z$2=\"pok\",\"\",IF(A234=\"\",\"\",COUNTIFS(SYNTHESE!$D:$D,A234,SYNTHESE!$E:$E,$B$1,SYNTHESE!$F:$F,\">=1\")))","v":""},{"$f":"IF($Z$2=\"pok\",\"\",IF(A234=\"\",\"\",COUNTIFS(SYNTHESE!$D:$D,A234,SYNTHESE!$E:$E,$C$1,SYNTHESE!$F:$F,\">=1\")))","v":""},{"$f":"IF($Z$2=\"pok\",\"\",IF(A234=\"\",\"\",COUNTIFS(SYNTHESE!$D:$D,A234,SYNTHESE!$E:$E,$D$1,SYNTHESE!$F:$F,\">=1\")))","v":""},{"$f":"IF($Z$2=\"pok\",\"\",IF(A234=\"\",\"\",COUNTIFS(SYNTHESE!$D:$D,A234,SYNTHESE!$E:$E,$E$1,SYNTHESE!$F:$F,\">=1\")))","v":""},{"$f":"IF($Z$2=\"pok\",\"\",IF(A234=\"\",\"\",COUNTIFS(SYNTHESE!$D:$D,A234,SYNTHESE!$E:$E,$F$1,SYNTHESE!$F:$F,\">=1\")))","v":""},{"$f":"IF($Z$2=\"pok\",\"\",IF(A234=\"\",\"\",COUNTIFS(SYNTHESE!$D:$D,A234,SYNTHESE!$E:$E,$G$1,SYNTHESE!$F:$F,\">=1\")))","v":""},{"$f":"IF($Z$2=\"pok\",\"\",IF(A234=\"\",\"\",COUNTIFS(SYNTHESE!$D:$D,A234,SYNTHESE!$E:$E,$H$1,SYNTHESE!$F:$F,\">=1\")))","v":""},{"$f":"IF($Z$2=\"pok\",\"\",IF(A234=\"\",\"\",COUNTIFS(SYNTHESE!$D:$D,A234,SYNTHESE!$E:$E,$I$1,SYNTHESE!$F:$F,\">=1\")))","v":""},{"$f":"IF($Z$2=\"pok\",\"\",IF(A234=\"\",\"\",COUNTIFS(SYNTHESE!$D:$D,A234,SYNTHESE!$E:$E,$J$1,SYNTHESE!$F:$F,\">=1\")))","v":""},{"$f":"IF($Z$2=\"pok\",\"\",IF(A234=\"\",\"\",COUNTIFS(SYNTHESE!$D:$D,A234,SYNTHESE!$E:$E,$K$1,SYNTHESE!$F:$F,\">=1\")))","v":""},{"$f":"IF($Z$2=\"pok\",\"\",IF(A234=\"\",\"\",COUNTIFS(SYNTHESE!$D:$D,A234,SYNTHESE!$E:$E,$L$1,SYNTHESE!$F:$F,\">=1\")))","v":""},{"$f":"IF($Z$2=\"pok\",\"\",IF(A234=\"\",\"\",COUNTIFS(SYNTHESE!$D:$D,A234,SYNTHESE!$E:$E,$M$1,SYNTHESE!$F:$F,\">=1\")))","v":""},{"$f":"IF($Z$2=\"pok\",\"\",IF(A234=\"\",\"\",COUNTIFS(SYNTHESE!$D:$D,A234,SYNTHESE!$E:$E,$N$1,SYNTHESE!$F:$F,\">=1\")))","v":""},{"$f":"IF($Z$2=\"pok\",\"\",IF(A234=\"\",\"\",COUNTIFS(SYNTHESE!$D:$D,A234,SYNTHESE!$E:$E,$O$1,SYNTHESE!$F:$F,\">=1\")))","v":""},{"$f":"IF($Z$2=\"pok\",\"\",IF(A234=\"\",\"\",COUNTIFS(SYNTHESE!$D:$D,A234,SYNTHESE!$E:$E,$P$1,SYNTHESE!$F:$F,\">=1\")))","v":""},{"$f":"IF($Z$2=\"pok\",\"\",IF(A234=\"\",\"\",COUNTIFS(SYNTHESE!$D:$D,A234,SYNTHESE!$E:$E,$Q$1,SYNTHESE!$F:$F,\">=1\")))","v":""},{"$f":"IF($Z$2=\"pok\",\"\",IF(A234=\"\",\"\",COUNTIFS(SYNTHESE!$D:$D,A234,SYNTHESE!$E:$E,$R$1,SYNTHESE!$F:$F,\">=1\")))","v":""},{"$f":"IF($Z$2=\"pok\",\"\",IF(A234=\"\",\"\",COUNTIFS(SYNTHESE!$D:$D,A234,SYNTHESE!$E:$E,$S$1,SYNTHESE!$F:$F,\">=1\")))","v":""},{"$f":"IF($Z$2=\"pok\",\"\",IF(A234=\"\",\"\",COUNTIFS(SYNTHESE!$D:$D,A234,SYNTHESE!$E:$E,$T$1,SYNTHESE!$F:$F,\">=1\")))","v":""},{"$f":"IF($Z$2=\"pok\",\"\",IF(A234=\"\",\"\",COUNTIFS(SYNTHESE!$D:$D,A234,SYNTHESE!$E:$E,$U$1,SYNTHESE!$F:$F,\">=1\")))","v":""},{"$f":"IF($Z$2=\"pok\",\"\",IF(A234=\"\",\"\",COUNTIFS(SYNTHESE!$D:$D,A234,SYNTHESE!$E:$E,$V$1,SYNTHESE!$F:$F,\">=1\")))","v":""},{"$f":"IF($Z$2=\"pok\",\"\",IF(A234=\"\",\"\",COUNTIFS(SYNTHESE!$D:$D,A234,SYNTHESE!$E:$E,$W$1,SYNTHESE!$F:$F,\">=1\")))","v":""},{"$f":"IF($Z$2=\"pok\",\"\",IF(A234=\"\",\"\",COUNTIFS(SYNTHESE!$D:$D,A234,SYNTHESE!$E:$E,$X$1,SYNTHESE!$F:$F,\">=1\")))","v":""},{"$f":"IF($Z$2=\"pok\",\"\",IF(A234=\"\",\"\",COUNTIFS(SYNTHESE!$D:$D,A234,SYNTHESE!$E:$E,$Y$1,SYNTHESE!$F:$F,\">=1\")))","v":""},0]

{"sheet":"MODELE","index":10,"n_rows":15,"n_cols":19,"rows_kept":15,"cut":false,"hidden":false,"merged":[[2,13,2,14],[8,13,8,14],[8,15,8,16],[3,3,3,4],[3,9,3,10],[3,13,3,14],[3,11,3,12],[2,5,2,6],[2,7,2,8],[2,9,2,10],[2,11,2,12],[3,7,3,8],[8,7,8,8],[8,9,8,10],[8,11,8,12],[8,1,8,2],[8,5,8,6],[6,2,6,4],[8,3,8,4],[3,5,3,6],[0,3,0,4],[1,3,1,4],[2,3,2,4],[1,5,1,6],[0,5,0,6],[0,7,0,8],[0,9,0,10],[1,7,1,8],[1,9,1,10],[0,13,0,14],[1,13,1,14],[0,11,0,12],[1,11,1,12],[8,17,8,18],[0,15,0,16],[1,15,1,16],[2,15,2,16],[3,15,3,16],[0,17,0,18],[1,17,1,18],[2,17,2,18],[3,17,3,18]]}
["Subit",1,{"$f":"IFERROR(VLOOKUP(B8,INDIC_PERF,2,FALSE),\"\")","v":"Non compréhension des enjeux du rapprochement. "},{"$f":"IFERROR(VLOOKUP($D$8,INDIC_PERF,2,FALSE),\"\")","v":""},null,{"$f":"IFERROR(VLOOKUP(F8,INDIC_PERF,2,FALSE),\"\")","v":""},null,{"$f":"IFERROR(VLOOKUP(H8,INDIC_PERF,2,FALSE),\"\")","v":""},null,{"$f":"IFERROR(VLOOKUP(J8,INDIC_PERF,2,FALSE),\"\")","v":""},null,{"$f":"IFERROR(VLOOKUP(L8,INDIC_PERF,2,FALSE),\"\")","v":""},null,{"$f":"IFERROR(VLOOKUP(N8,INDIC_PERF,2,FALSE),\"\")","v":""},null,{"$f":"IFERROR(VLOOKUP(P8,INDIC_PERF,2,FALSE),\"\")","v":""},null,{"$f":"IFERROR(VLOOKUP(R8,INDIC_PERF,2,FALSE),\"\")","v":""}]
["Exécute",2,{"$f":"IFERROR(VLOOKUP(B8,INDIC_PERF,3,FALSE),\"\")","v":"État réalisé en suivant un mode opératoire (manque d’autonomie). "},{"$f":"IFERROR(VLOOKUP(D8,INDIC_PERF,3,FALSE),\"\")","v":""},null,{"$f":"IFERROR(VLOOKUP(F8,INDIC_PERF,3,FALSE),\"\")","v":""},null,{"$f":"IFERROR(VLOOKUP(H8,INDIC_PERF,3,FALSE),\"\")","v":""},null,{"$f":"IFERROR(VLOOKUP(J8,INDIC_PERF,3,FALSE),\"\")","v":""},null,{"$f":"IFERROR(VLOOKUP(L8,INDIC_PERF,3,FALSE),\"\")","v":""},null,{"$f":"IFERROR(VLOOKUP(N8,INDIC_PERF,3,FALSE),\"\")","v":""},null,{"$f":"IFERROR(VLOOKUP(P8,INDIC_PERF,3,FALSE),\"\")","v":""},null,{"$f":"IFERROR(VLOOKUP(R8,INDIC_PERF,3,FALSE),\"\")","v":""}]
["Maîtrise",3,{"$f":"IFERROR(VLOOKUP(B8,INDIC_PERF,4,FALSE),\"\")","v":"État de rapprochement bancaire réalisé. "},{"$f":"IFERROR(VLOOKUP(D8,INDIC_PERF,4,FALSE),\"\")","v":""},null,{"$f":"IFERROR(VLOOKUP(F8,INDIC_PERF,4,FALSE),\"\")","v":""},null,{"$f":"IFERROR(VLOOKUP(H8,INDIC_PERF,4,FALSE),\"\")","v":""},null,{"$f":"IFERROR(VLOOKUP(J8,INDIC_PERF,4,FALSE),\"\")","v":""},null,{"$f":"IFERROR(VLOOKUP(L8,INDIC_PERF,4,FALSE),\"\")","v":""},null,{"$f":"IFERROR(VLOOKUP(N8,INDIC_PERF,4,FALSE),\"\")","v":""},null,{"$f":"IFERROR(VLOOKUP(P8,INDIC_PERF,4,FALSE),\"\")","v":""},null,{"$f":"IFERROR(VLOOKUP(R8,INDIC_PERF,4,FALSE),\"\")","v":""}]
["Est expert",4,{"$f":"IFERROR(VLOOKUP(B8,INDIC_PERF,5,FALSE),\"\")","v":"Capacité à rectifier en comptabilité des éléments en suspens."},{"$f":"IFERROR(VLOOKUP(D8,INDIC_PERF,5,FALSE),\"\")","v":""},null,{"$f":"IFERROR(VLOOKUP(F8,INDIC_PERF,5,FALSE),\"\")","v":""},null,{"$f":"IFERROR(VLOOKUP(H8,INDIC_PERF,5,FALSE),\"\")","v":""},null,{"$f":"IFERROR(VLOOKUP(J8,INDIC_PERF,5,FALSE),\"\")","v":""},null,{"$f":"IFERROR(VLOOKUP(L8,INDIC_PERF,5,FALSE),\"\")","v":""},null,{"$f":"IFERROR(VLOOKUP(N8,INDIC_PERF,5,FALSE),\"\")","v":""},null,{"$f":"IFERROR(VLOOKUP(P8,INDIC_PERF,5,FALSE),\"\")","v":""},null,{"$f":"IFERROR(VLOOKUP(R8,INDIC_PERF,5,FALSE),\"\")","v":""}]
["NON ÉVALUÉ","NE","masque"]
["ACCUEIL",null,"NB COMPÉTENCES ÉVALUÉES",{"$f":"COUNTA(B9:S9)","v":1},"NUMERO DE LA SP"]
["Accéder à la synthèse","TITRE",null,null,null,"DATE",null,"SP"]
["Accéder à la liste des SP",{"$f":"IFERROR(VLOOKUP(B9,COMPET,2,FALSE),\"\")","v":"C164"},{"$f":"IF(B9=\"\",\"Sélectionnez une compétence à évaluer\", \"\")","v":""},{"$f":"IFERROR(VLOOKUP(D9,COMPET,2,FALSE),\"\")","v":""},{"$f":"IF(D9=\"\",\"Sélectionnez une compétence à évaluer\", \"\")","v":"Sélectionnez une compétence à évaluer"},{"$f":"IFERROR(VLOOKUP(F9,COMPET,2,FALSE),\"\")","v":""},{"$f":"IF(F9=\"\",\"Sélectionnez une compétence à évaluer\", \"\")","v":"Sélectionnez une compétence à évaluer"},{"$f":"IFERROR(VLOOKUP(H9,COMPET,2,FALSE),\"\")","v":""},{"$f":"IF(H9=\"\",\"Sélectionnez une compétence à évaluer\", \"\")","v":"Sélectionnez une compétence à évaluer"},{"$f":"IFERROR(VLOOKUP(J9,COMPET,2,FALSE),\"\")","v":""},{"$f":"IF(J9=\"\",\"Sélectionnez une compétence à évaluer\", \"\")","v":"Sélectionnez une compétence à évaluer"},{"$f":"IFERROR(VLOOKUP(L9,COMPET,2,FALSE),\"\")","v":""},{"$f":"IF(L9=\"\",\"Sélectionnez une compétence à évaluer\", \"\")","v":"Sélectionnez une compétence à évaluer"},{"$f":"IFERROR(VLOOKUP(N9,COMPET,2,FALSE),\"\")","v":""},{"$f":"IF(N9=\"\",\"Sélectionnez une compétence à évaluer\", \"\")","v":"Sélectionnez une compétence à évaluer"},{"$f":"IFERROR(VLOOKUP(P9,COMPET,2,FALSE),\"\")","v":""},{"$f":"IF(P9=\"\",\"Sélectionnez une compétence à évaluer\", \"\")","v":"Sélectionnez une compétence à évaluer"},{"$f":"IFERROR(VLOOKUP(R9,COMPET,2,FALSE),\"\")","v":""},{"$f":"IF(R9=\"\",\"Sélectionnez une compétence à évaluer\", \"\")","v":"Sélectionnez une compétence à évaluer"}]
["Sélectionnez les compétences à évaluer -->","C16.4 - Réaliser un rapprochement bancaire"]
["ETUDIANTS","ÉVAL","Commentaire","ÉVAL","Commentaire","ÉVAL","Commentaire","ÉVAL","Commentaire","ÉVAL","Commentaire","ÉVAL","Commentaire","ÉVAL","Commentaire","ÉVAL","Commentaire","ÉVAL","Commentaire"]
["A"]
["B"]
["C"]
["D"]
["E"]

{"sheet":"PROFIL AUTOMATIQUE","index":11,"n_rows":25,"n_cols":15,"rows_kept":25,"cut":false,"hidden":true,"merged":[[0,12,0,13],[0,14,0,15]]}
["ETUDIANT 01","NON ÉVALUÉ","SUBIT","EXÉCUTE","MAITRISE","EXPERT","NON ÉVALUÉ","SUBIT","EXÉCUTE","MAITRISE","EXPERT",null,"RETOUR ACCUEIL",null,"ACCEDER A LA FICHE EVALUATION SITUATION A"]
["C111 - Rechercher des clients par prospection",{"$f":"COUNTIFS(#REF!,'PROFIL AUTOMATIQUE'!$A$1,#REF!,'PROFIL AUTOMATIQUE'!A2,#REF!,\"ne\")","v":{"$error":"#REF!"}},{"$f":"COUNTIFS(#REF!,'PROFIL AUTOMATIQUE'!$A$1,#REF!,'PROFIL AUTOMATIQUE'!A2,#REF!,1)","v":{"$error":"#REF!"}},{"$f":"COUNTIFS(#REF!,'PROFIL AUTOMATIQUE'!$A$1,#REF!,'PROFIL AUTOMATIQUE'!A2,#REF!,2)","v":{"$error":"#REF!"}},{"$f":"COUNTIFS(#REF!,'PROFIL AUTOMATIQUE'!$A$1,#REF!,'PROFIL AUTOMATIQUE'!A2,#REF!,3)","v":{"$error":"#REF!"}},{"$f":"COUNTIFS(#REF!,'PROFIL AUTOMATIQUE'!$A$1,#REF!,'PROFIL AUTOMATIQUE'!A2,#REF!,4)","v":{"$error":"#REF!"}},{"$f":"IF(COUNTIF(B2:F2,0)=5,\"\",IF(B2=MAX(B2:F2),\"X\",\"\"))","v":{"$error":"#REF!"}},{"$f":"IF(COUNTIF(B2:F2,0)=5,\"\",IF(C2=MAX(B2:F2),\"X\",\"\"))","v":{"$error":"#REF!"}},{"$f":"IF(COUNTIF(B2:F2,0)=5,\"\",IF(D2=MAX(B2:F2),\"X\",\"\"))","v":{"$error":"#REF!"}},{"$f":"IF(COUNTIF(B2:F2,0)=5,\"\",IF(E2=MAX(B2:F2),\"X\",\"\"))","v":{"$error":"#REF!"}},{"$f":"IF(COUNTIF(B2:F2,0)=5,\"\",IF(F2=MAX(B2:F2),\"X\",\"\"))","v":{"$error":"#REF!"}},{"$f":"IF(COUNTIF(G2:K2,\"x\")=0,\"pok\",\"\")","v":"pok"}]
["C112 - Rechercher des clients  pour répondre à un appel d'offres",{"$f":"COUNTIFS(#REF!,'PROFIL AUTOMATIQUE'!$A$1,#REF!,'PROFIL AUTOMATIQUE'!A3,#REF!,\"ne\")","v":{"$error":"#REF!"}},{"$f":"COUNTIFS(#REF!,'PROFIL AUTOMATIQUE'!$A$1,#REF!,'PROFIL AUTOMATIQUE'!A3,#REF!,1)","v":{"$error":"#REF!"}},{"$f":"COUNTIFS(#REF!,'PROFIL AUTOMATIQUE'!$A$1,#REF!,'PROFIL AUTOMATIQUE'!A3,#REF!,2)","v":{"$error":"#REF!"}},{"$f":"COUNTIFS(#REF!,'PROFIL AUTOMATIQUE'!$A$1,#REF!,'PROFIL AUTOMATIQUE'!A3,#REF!,3)","v":{"$error":"#REF!"}},{"$f":"COUNTIFS(#REF!,'PROFIL AUTOMATIQUE'!$A$1,#REF!,'PROFIL AUTOMATIQUE'!A3,#REF!,4)","v":{"$error":"#REF!"}},{"$f":"IF(COUNTIF(B3:F3,0)=5,\"\",IF(B3=MAX(B3:F3),\"X\",\"\"))","v":{"$error":"#REF!"}},{"$f":"IF(COUNTIF(B3:F3,0)=5,\"\",IF(C3=MAX(B3:F3),\"X\",\"\"))","v":{"$error":"#REF!"}},{"$f":"IF(COUNTIF(B3:F3,0)=5,\"\",IF(D3=MAX(B3:F3),\"X\",\"\"))","v":{"$error":"#REF!"}},{"$f":"IF(COUNTIF(B3:F3,0)=5,\"\",IF(E3=MAX(B3:F3),\"X\",\"\"))","v":{"$error":"#REF!"}},{"$f":"IF(COUNTIF(B3:F3,0)=5,\"\",IF(F3=MAX(B3:F3),\"X\",\"\"))","v":{"$error":"#REF!"}},{"$f":"IF(COUNTIF(G3:K3,\"x\")=0,\"pok\",\"\")","v":"pok"}]
["C12.1 - Traiter la demande du client (de la demande de devis jusqu'à la facturation)",{"$f":"COUNTIFS(#REF!,'PROFIL AUTOMATIQUE'!$A$1,#REF!,'PROFIL AUTOMATIQUE'!A4,#REF!,\"ne\")","v":{"$error":"#REF!"}},{"$f":"COUNTIFS(#REF!,'PROFIL AUTOMATIQUE'!$A$1,#REF!,'PROFIL AUTOMATIQUE'!A4,#REF!,1)","v":{"$error":"#REF!"}},{"$f":"COUNTIFS(#REF!,'PROFIL AUTOMATIQUE'!$A$1,#REF!,'PROFIL AUTOMATIQUE'!A4,#REF!,2)","v":{"$error":"#REF!"}},{"$f":"COUNTIFS(#REF!,'PROFIL AUTOMATIQUE'!$A$1,#REF!,'PROFIL AUTOMATIQUE'!A4,#REF!,3)","v":{"$error":"#REF!"}},{"$f":"COUNTIFS(#REF!,'PROFIL AUTOMATIQUE'!$A$1,#REF!,'PROFIL AUTOMATIQUE'!A4,#REF!,4)","v":{"$error":"#REF!"}},{"$error":"#REF!"},{"$error":"#REF!"},{"$error":"#REF!"},{"$error":"#REF!"},{"$error":"#REF!"},"pok"]
["C12.2 - Relancer les éventuels impayés",{"$f":"COUNTIFS(#REF!,'PROFIL AUTOMATIQUE'!$A$1,#REF!,'PROFIL AUTOMATIQUE'!A5,#REF!,\"ne\")","v":{"$error":"#REF!"}},{"$f":"COUNTIFS(#REF!,'PROFIL AUTOMATIQUE'!$A$1,#REF!,'PROFIL AUTOMATIQUE'!A5,#REF!,1)","v":{"$error":"#REF!"}},{"$f":"COUNTIFS(#REF!,'PROFIL AUTOMATIQUE'!$A$1,#REF!,'PROFIL AUTOMATIQUE'!A5,#REF!,2)","v":{"$error":"#REF!"}},{"$f":"COUNTIFS(#REF!,'PROFIL AUTOMATIQUE'!$A$1,#REF!,'PROFIL AUTOMATIQUE'!A5,#REF!,3)","v":{"$error":"#REF!"}},{"$f":"COUNTIFS(#REF!,'PROFIL AUTOMATIQUE'!$A$1,#REF!,'PROFIL AUTOMATIQUE'!A5,#REF!,4)","v":{"$error":"#REF!"}},{"$error":"#REF!"},{"$error":"#REF!"},{"$error":"#REF!"},{"$error":"#REF!"},{"$error":"#REF!"},"pok"]
["C13.1 - Informer, conseiller, orienter",{"$f":"COUNTIFS(#REF!,'PROFIL AUTOMATIQUE'!$A$1,#REF!,'PROFIL AUTOMATIQUE'!A6,#REF!,\"ne\")","v":{"$error":"#REF!"}},{"$f":"COUNTIFS(#REF!,'PROFIL AUTOMATIQUE'!$A$1,#REF!,'PROFIL AUTOMATIQUE'!A6,#REF!,1)","v":{"$error":"#REF!"}},{"$f":"COUNTIFS(#REF!,'PROFIL AUTOMATIQUE'!$A$1,#REF!,'PROFIL AUTOMATIQUE'!A6,#REF!,2)","v":{"$error":"#REF!"}},{"$f":"COUNTIFS(#REF!,'PROFIL AUTOMATIQUE'!$A$1,#REF!,'PROFIL AUTOMATIQUE'!A6,#REF!,3)","v":{"$error":"#REF!"}},{"$f":"COUNTIFS(#REF!,'PROFIL AUTOMATIQUE'!$A$1,#REF!,'PROFIL AUTOMATIQUE'!A6,#REF!,4)","v":{"$error":"#REF!"}},{"$error":"#REF!"},{"$error":"#REF!"},{"$error":"#REF!"},{"$error":"#REF!"},{"$error":"#REF!"},"pok"]
["C13.2 - Traiter les réclamations",{"$f":"COUNTIFS(#REF!,'PROFIL AUTOMATIQUE'!$A$1,#REF!,'PROFIL AUTOMATIQUE'!A7,#REF!,\"ne\")","v":{"$error":"#REF!"}},{"$f":"COUNTIFS(#REF!,'PROFIL AUTOMATIQUE'!$A$1,#REF!,'PROFIL AUTOMATIQUE'!A7,#REF!,1)","v":{"$error":"#REF!"}},{"$f":"COUNTIFS(#REF!,'PROFIL AUTOMATIQUE'!$A$1,#REF!,'PROFIL AUTOMATIQUE'!A7,#REF!,2)","v":{"$error":"#REF!"}},{"$f":"COUNTIFS(#REF!,'PROFIL AUTOMATIQUE'!$A$1,#REF!,'PROFIL AUTOMATIQUE'!A7,#REF!,3)","v":{"$error":"#REF!"}},{"$f":"COUNTIFS(#REF!,'PROFIL AUTOMATIQUE'!$A$1,#REF!,'PROFIL AUTOMATIQUE'!A7,#REF!,4)","v":{"$error":"#REF!"}},{"$error":"#REF!"},{"$error":"#REF!"},{"$error":"#REF!"},{"$error":"#REF!"},{"$error":"#REF!"},"pok"]
["C14 - Rechercher et sélectionner les fournisseurs",{"$f":"COUNTIFS(#REF!,'PROFIL AUTOMATIQUE'!$A$1,#REF!,'PROFIL AUTOMATIQUE'!A8,#REF!,\"ne\")","v":{"$error":"#REF!"}},{"$f":"COUNTIFS(#REF!,'PROFIL AUTOMATIQUE'!$A$1,#REF!,'PROFIL AUTOMATIQUE'!A8,#REF!,1)","v":{"$error":"#REF!"}},{"$f":"COUNTIFS(#REF!,'PROFIL AUTOMATIQUE'!$A$1,#REF!,'PROFIL AUTOMATIQUE'!A8,#REF!,2)","v":{"$error":"#REF!"}},{"$f":"COUNTIFS(#REF!,'PROFIL AUTOMATIQUE'!$A$1,#REF!,'PROFIL AUTOMATIQUE'!A8,#REF!,3)","v":{"$error":"#REF!"}},{"$f":"COUNTIFS(#REF!,'PROFIL AUTOMATIQUE'!$A$1,#REF!,'PROFIL AUTOMATIQUE'!A8,#REF!,4)","v":{"$error":"#REF!"}},{"$error":"#REF!"},{"$error":"#REF!"},{"$error":"#REF!"},{"$error":"#REF!"},{"$error":"#REF!"},"pok"]
["C15.1 - Passer des commandes d'achat et d'immobilisation et les contrôler, valider le règlement",{"$f":"COUNTIFS(#REF!,'PROFIL AUTOMATIQUE'!$A$1,#REF!,'PROFIL AUTOMATIQUE'!A9,#REF!,\"ne\")","v":{"$error":"#REF!"}},{"$f":"COUNTIFS(#REF!,'PROFIL AUTOMATIQUE'!$A$1,#REF!,'PROFIL AUTOMATIQUE'!A9,#REF!,1)","v":{"$error":"#REF!"}},{"$f":"COUNTIFS(#REF!,'PROFIL AUTOMATIQUE'!$A$1,#REF!,'PROFIL AUTOMATIQUE'!A9,#REF!,2)","v":{"$error":"#REF!"}},{"$f":"COUNTIFS(#REF!,'PROFIL AUTOMATIQUE'!$A$1,#REF!,'PROFIL AUTOMATIQUE'!A9,#REF!,3)","v":{"$error":"#REF!"}},{"$f":"COUNTIFS(#REF!,'PROFIL AUTOMATIQUE'!$A$1,#REF!,'PROFIL AUTOMATIQUE'!A9,#REF!,4)","v":{"$error":"#REF!"}},{"$error":"#REF!"},{"$error":"#REF!"},{"$error":"#REF!"},{"$error":"#REF!"},{"$error":"#REF!"},"pok"]
["C15.2 - Evaluer les fournisseurs",{"$f":"COUNTIFS(#REF!,'PROFIL AUTOMATIQUE'!$A$1,#REF!,'PROFIL AUTOMATIQUE'!A10,#REF!,\"ne\")","v":{"$error":"#REF!"}},{"$f":"COUNTIFS(#REF!,'PROFIL AUTOMATIQUE'!$A$1,#REF!,'PROFIL AUTOMATIQUE'!A10,#REF!,1)","v":{"$error":"#REF!"}},{"$f":"COUNTIFS(#REF!,'PROFIL AUTOMATIQUE'!$A$1,#REF!,'PROFIL AUTOMATIQUE'!A10,#REF!,2)","v":{"$error":"#REF!"}},{"$f":"COUNTIFS(#REF!,'PROFIL AUTOMATIQUE'!$A$1,#REF!,'PROFIL AUTOMATIQUE'!A10,#REF!,3)","v":{"$error":"#REF!"}},{"$f":"COUNTIFS(#REF!,'PROFIL AUTOMATIQUE'!$A$1,#REF!,'PROFIL AUTOMATIQUE'!A10,#REF!,4)","v":{"$error":"#REF!"}},{"$error":"#REF!"},{"$error":"#REF!"},{"$error":"#REF!"},{"$error":"#REF!"},{"$error":"#REF!"},"pok"]
["C16.1 - Contrôler les enregistrements comptables",{"$f":"COUNTIFS(#REF!,'PROFIL AUTOMATIQUE'!$A$1,#REF!,'PROFIL AUTOMATIQUE'!A11,#REF!,\"ne\")","v":{"$error":"#REF!"}},{"$f":"COUNTIFS(#REF!,'PROFIL AUTOMATIQUE'!$A$1,#REF!,'PROFIL AUTOMATIQUE'!A11,#REF!,1)","v":{"$error":"#REF!"}},{"$f":"COUNTIFS(#REF!,'PROFIL AUTOMATIQUE'!$A$1,#REF!,'PROFIL AUTOMATIQUE'!A11,#REF!,2)","v":{"$error":"#REF!"}},{"$f":"COUNTIFS(#REF!,'PROFIL AUTOMATIQUE'!$A$1,#REF!,'PROFIL AUTOMATIQUE'!A11,#REF!,3)","v":{"$error":"#REF!"}},{"$f":"COUNTIFS(#REF!,'PROFIL AUTOMATIQUE'!$A$1,#REF!,'PROFIL AUTOMATIQUE'!A11,#REF!,4)","v":{"$error":"#REF!"}},{"$error":"#REF!"},{"$error":"#REF!"},{"$error":"#REF!"},{"$error":"#REF!"},{"$error":"#REF!"},"pok"]
["C16.2 - Analyser les comptes de tiers",{"$f":"COUNTIFS(#REF!,'PROFIL AUTOMATIQUE'!$A$1,#REF!,'PROFIL AUTOMATIQUE'!A12,#REF!,\"ne\")","v":{"$error":"#REF!"}},{"$f":"COUNTIFS(#REF!,'PROFIL AUTOMATIQUE'!$A$1,#REF!,'PROFIL AUTOMATIQUE'!A12,#REF!,1)","v":{"$error":"#REF!"}},{"$f":"COUNTIFS(#REF!,'PROFIL AUTOMATIQUE'!$A$1,#REF!,'PROFIL AUTOMATIQUE'!A12,#REF!,2)","v":{"$error":"#REF!"}},{"$f":"COUNTIFS(#REF!,'PROFIL AUTOMATIQUE'!$A$1,#REF!,'PROFIL AUTOMATIQUE'!A12,#REF!,3)","v":{"$error":"#REF!"}},{"$f":"COUNTIFS(#REF!,'PROFIL AUTOMATIQUE'!$A$1,#REF!,'PROFIL AUTOMATIQUE'!A12,#REF!,4)","v":{"$error":"#REF!"}},{"$error":"#REF!"},{"$error":"#REF!"},{"$error":"#REF!"},{"$error":"#REF!"},{"$error":"#REF!"},"pok"]
["C16.4 - Réaliser un rapprochement bancaire",{"$f":"COUNTIFS(#REF!,'PROFIL AUTOMATIQUE'!$A$1,#REF!,'PROFIL AUTOMATIQUE'!A13,#REF!,\"ne\")","v":{"$error":"#REF!"}},{"$f":"COUNTIFS(#REF!,'PROFIL AUTOMATIQUE'!$A$1,#REF!,'PROFIL AUTOMATIQUE'!A13,#REF!,1)","v":{"$error":"#REF!"}},{"$f":"COUNTIFS(#REF!,'PROFIL AUTOMATIQUE'!$A$1,#REF!,'PROFIL AUTOMATIQUE'!A13,#REF!,2)","v":{"$error":"#REF!"}},{"$f":"COUNTIFS(#REF!,'PROFIL AUTOMATIQUE'!$A$1,#REF!,'PROFIL AUTOMATIQUE'!A13,#REF!,3)","v":{"$error":"#REF!"}},{"$f":"COUNTIFS(#REF!,'PROFIL AUTOMATIQUE'!$A$1,#REF!,'PROFIL AUTOMATIQUE'!A13,#REF!,4)","v":{"$error":"#REF!"}},{"$error":"#REF!"},{"$error":"#REF!"},{"$error":"#REF!"},{"$error":"#REF!"},{"$error":"#REF!"},"pok"]
["C16.5- Calculer et déclarer la TVA",{"$f":"COUNTIFS(#REF!,'PROFIL AUTOMATIQUE'!$A$1,#REF!,'PROFIL AUTOMATIQUE'!A14,#REF!,\"ne\")","v":{"$error":"#REF!"}},{"$f":"COUNTIFS(#REF!,'PROFIL AUTOMATIQUE'!$A$1,#REF!,'PROFIL AUTOMATIQUE'!A14,#REF!,1)","v":{"$error":"#REF!"}},{"$f":"COUNTIFS(#REF!,'PROFIL AUTOMATIQUE'!$A$1,#REF!,'PROFIL AUTOMATIQUE'!A14,#REF!,2)","v":{"$error":"#REF!"}},{"$f":"COUNTIFS(#REF!,'PROFIL AUTOMATIQUE'!$A$1,#REF!,'PROFIL AUTOMATIQUE'!A14,#REF!,3)","v":{"$error":"#REF!"}},{"$f":"COUNTIFS(#REF!,'PROFIL AUTOMATIQUE'!$A$1,#REF!,'PROFIL AUTOMATIQUE'!A14,#REF!,4)","v":{"$error":"#REF!"}},{"$error":"#REF!"},{"$error":"#REF!"},{"$error":"#REF!"},{"$error":"#REF!"},{"$error":"#REF!"},"pok"]
["Mettre en œuvre l'environnement numérique",{"$f":"COUNTIFS(#REF!,'PROFIL AUTOMATIQUE'!$A$1,#REF!,'PROFIL AUTOMATIQUE'!A15,#REF!,\"ne\")","v":{"$error":"#REF!"}},{"$f":"COUNTIFS(#REF!,'PROFIL AUTOMATIQUE'!$A$1,#REF!,'PROFIL AUTOMATIQUE'!A15,#REF!,1)","v":{"$error":"#REF!"}},{"$f":"COUNTIFS(#REF!,'PROFIL AUTOMATIQUE'!$A$1,#REF!,'PROFIL AUTOMATIQUE'!A15,#REF!,2)","v":{"$error":"#REF!"}},{"$f":"COUNTIFS(#REF!,'PROFIL AUTOMATIQUE'!$A$1,#REF!,'PROFIL AUTOMATIQUE'!A15,#REF!,3)","v":{"$error":"#REF!"}},{"$f":"COUNTIFS(#REF!,'PROFIL AUTOMATIQUE'!$A$1,#REF!,'PROFIL AUTOMATIQUE'!A15,#REF!,4)","v":{"$error":"#REF!"}},{"$error":"#REF!"},{"$error":"#REF!"},{"$error":"#REF!"},{"$error":"#REF!"},{"$error":"#REF!"},"pok"]
["Sélectionner des outils ou services informatiques et numériques de communication adaptés au contexte et usages",{"$f":"COUNTIFS(#REF!,'PROFIL AUTOMATIQUE'!$A$1,#REF!,'PROFIL AUTOMATIQUE'!A16,#REF!,\"ne\")","v":{"$error":"#REF!"}},{"$f":"COUNTIFS(#REF!,'PROFIL AUTOMATIQUE'!$A$1,#REF!,'PROFIL AUTOMATIQUE'!A16,#REF!,1)","v":{"$error":"#REF!"}},{"$f":"COUNTIFS(#REF!,'PROFIL AUTOMATIQUE'!$A$1,#REF!,'PROFIL AUTOMATIQUE'!A16,#REF!,2)","v":{"$error":"#REF!"}},{"$f":"COUNTIFS(#REF!,'PROFIL AUTOMATIQUE'!$A$1,#REF!,'PROFIL AUTOMATIQUE'!A16,#REF!,3)","v":{"$error":"#REF!"}},{"$f":"COUNTIFS(#REF!,'PROFIL AUTOMATIQUE'!$A$1,#REF!,'PROFIL AUTOMATIQUE'!A16,#REF!,4)","v":{"$error":"#REF!"}},{"$error":"#REF!"},{"$error":"#REF!"},{"$error":"#REF!"},{"$error":"#REF!"},{"$error":"#REF!"},"pok"]
["Maîtriser et utiliser des fonctionnalités du PGI et du tableur",{"$f":"COUNTIFS(#REF!,'PROFIL AUTOMATIQUE'!$A$1,#REF!,'PROFIL AUTOMATIQUE'!A17,#REF!,\"ne\")","v":{"$error":"#REF!"}},{"$f":"COUNTIFS(#REF!,'PROFIL AUTOMATIQUE'!$A$1,#REF!,'PROFIL AUTOMATIQUE'!A17,#REF!,1)","v":{"$error":"#REF!"}},{"$f":"COUNTIFS(#REF!,'PROFIL AUTOMATIQUE'!$A$1,#REF!,'PROFIL AUTOMATIQUE'!A17,#REF!,2)","v":{"$error":"#REF!"}},{"$f":"COUNTIFS(#REF!,'PROFIL AUTOMATIQUE'!$A$1,#REF!,'PROFIL AUTOMATIQUE'!A17,#REF!,3)","v":{"$error":"#REF!"}},{"$f":"COUNTIFS(#REF!,'PROFIL AUTOMATIQUE'!$A$1,#REF!,'PROFIL AUTOMATIQUE'!A17,#REF!,4)","v":{"$error":"#REF!"}},{"$error":"#REF!"},{"$error":"#REF!"},{"$error":"#REF!"},{"$error":"#REF!"},{"$error":"#REF!"},"pok"]
["Maîtriser et utiliser des fonctionnalités des outils de messagerie, du traitement de texte et du logiciel de PREAO",{"$f":"COUNTIFS(#REF!,'PROFIL AUTOMATIQUE'!$A$1,#REF!,'PROFIL AUTOMATIQUE'!A18,#REF!,\"ne\")","v":{"$error":"#REF!"}},{"$f":"COUNTIFS(#REF!,'PROFIL AUTOMATIQUE'!$A$1,#REF!,'PROFIL AUTOMATIQUE'!A18,#REF!,1)","v":{"$error":"#REF!"}},{"$f":"COUNTIFS(#REF!,'PROFIL AUTOMATIQUE'!$A$1,#REF!,'PROFIL AUTOMATIQUE'!A18,#REF!,2)","v":{"$error":"#REF!"}},{"$f":"COUNTIFS(#REF!,'PROFIL AUTOMATIQUE'!$A$1,#REF!,'PROFIL AUTOMATIQUE'!A18,#REF!,3)","v":{"$error":"#REF!"}},{"$f":"COUNTIFS(#REF!,'PROFIL AUTOMATIQUE'!$A$1,#REF!,'PROFIL AUTOMATIQUE'!A18,#REF!,4)","v":{"$error":"#REF!"}},{"$error":"#REF!"},{"$error":"#REF!"},{"$error":"#REF!"},{"$error":"#REF!"},{"$error":"#REF!"},"pok"]
["Communiquer des informations fiables",{"$f":"COUNTIFS(#REF!,'PROFIL AUTOMATIQUE'!$A$1,#REF!,'PROFIL AUTOMATIQUE'!A19,#REF!,\"ne\")","v":{"$error":"#REF!"}},{"$f":"COUNTIFS(#REF!,'PROFIL AUTOMATIQUE'!$A$1,#REF!,'PROFIL AUTOMATIQUE'!A19,#REF!,1)","v":{"$error":"#REF!"}},{"$f":"COUNTIFS(#REF!,'PROFIL AUTOMATIQUE'!$A$1,#REF!,'PROFIL AUTOMATIQUE'!A19,#REF!,2)","v":{"$error":"#REF!"}},{"$f":"COUNTIFS(#REF!,'PROFIL AUTOMATIQUE'!$A$1,#REF!,'PROFIL AUTOMATIQUE'!A19,#REF!,3)","v":{"$error":"#REF!"}},{"$f":"COUNTIFS(#REF!,'PROFIL AUTOMATIQUE'!$A$1,#REF!,'PROFIL AUTOMATIQUE'!A19,#REF!,4)","v":{"$error":"#REF!"}},{"$error":"#REF!"},{"$error":"#REF!"},{"$error":"#REF!"},{"$error":"#REF!"},{"$error":"#REF!"},"pok"]
["Valoriser l'image de l'entreprise",{"$f":"COUNTIFS(#REF!,'PROFIL AUTOMATIQUE'!$A$1,#REF!,'PROFIL AUTOMATIQUE'!A20,#REF!,\"ne\")","v":{"$error":"#REF!"}},{"$f":"COUNTIFS(#REF!,'PROFIL AUTOMATIQUE'!$A$1,#REF!,'PROFIL AUTOMATIQUE'!A20,#REF!,1)","v":{"$error":"#REF!"}},{"$f":"COUNTIFS(#REF!,'PROFIL AUTOMATIQUE'!$A$1,#REF!,'PROFIL AUTOMATIQUE'!A20,#REF!,2)","v":{"$error":"#REF!"}},{"$f":"COUNTIFS(#REF!,'PROFIL AUTOMATIQUE'!$A$1,#REF!,'PROFIL AUTOMATIQUE'!A20,#REF!,3)","v":{"$error":"#REF!"}},{"$f":"COUNTIFS(#REF!,'PROFIL AUTOMATIQUE'!$A$1,#REF!,'PROFIL AUTOMATIQUE'!A20,#REF!,4)","v":{"$error":"#REF!"}},{"$error":"#REF!"},{"$error":"#REF!"},{"$error":"#REF!"},{"$error":"#REF!"},{"$error":"#REF!"},"pok"]
["Analyser des contextes de communication écrite",{"$f":"COUNTIFS(#REF!,'PROFIL AUTOMATIQUE'!$A$1,#REF!,'PROFIL AUTOMATIQUE'!A21,#REF!,\"ne\")","v":{"$error":"#REF!"}},{"$f":"COUNTIFS(#REF!,'PROFIL AUTOMATIQUE'!$A$1,#REF!,'PROFIL AUTOMATIQUE'!A21,#REF!,1)","v":{"$error":"#REF!"}},{"$f":"COUNTIFS(#REF!,'PROFIL AUTOMATIQUE'!$A$1,#REF!,'PROFIL AUTOMATIQUE'!A21,#REF!,2)","v":{"$error":"#REF!"}},{"$f":"COUNTIFS(#REF!,'PROFIL AUTOMATIQUE'!$A$1,#REF!,'PROFIL AUTOMATIQUE'!A21,#REF!,3)","v":{"$error":"#REF!"}},{"$f":"COUNTIFS(#REF!,'PROFIL AUTOMATIQUE'!$A$1,#REF!,'PROFIL AUTOMATIQUE'!A21,#REF!,4)","v":{"$error":"#REF!"}},{"$error":"#REF!"},{"$error":"#REF!"},{"$error":"#REF!"},{"$error":"#REF!"},{"$error":"#REF!"},"pok"]
["Produire des documents écrits de qualité professionnelle ",{"$f":"COUNTIFS(#REF!,'PROFIL AUTOMATIQUE'!$A$1,#REF!,'PROFIL AUTOMATIQUE'!A22,#REF!,\"ne\")","v":{"$error":"#REF!"}},{"$f":"COUNTIFS(#REF!,'PROFIL AUTOMATIQUE'!$A$1,#REF!,'PROFIL AUTOMATIQUE'!A22,#REF!,1)","v":{"$error":"#REF!"}},{"$f":"COUNTIFS(#REF!,'PROFIL AUTOMATIQUE'!$A$1,#REF!,'PROFIL AUTOMATIQUE'!A22,#REF!,2)","v":{"$error":"#REF!"}},{"$f":"COUNTIFS(#REF!,'PROFIL AUTOMATIQUE'!$A$1,#REF!,'PROFIL AUTOMATIQUE'!A22,#REF!,3)","v":{"$error":"#REF!"}},{"$f":"COUNTIFS(#REF!,'PROFIL AUTOMATIQUE'!$A$1,#REF!,'PROFIL AUTOMATIQUE'!A22,#REF!,4)","v":{"$error":"#REF!"}},{"$error":"#REF!"},{"$error":"#REF!"},{"$error":"#REF!"},{"$error":"#REF!"},{"$error":"#REF!"},"pok"]
["Etre efficace dans sa communication écrite",{"$f":"COUNTIFS(#REF!,'PROFIL AUTOMATIQUE'!$A$1,#REF!,'PROFIL AUTOMATIQUE'!A23,#REF!,\"ne\")","v":{"$error":"#REF!"}},{"$f":"COUNTIFS(#REF!,'PROFIL AUTOMATIQUE'!$A$1,#REF!,'PROFIL AUTOMATIQUE'!A23,#REF!,1)","v":{"$error":"#REF!"}},{"$f":"COUNTIFS(#REF!,'PROFIL AUTOMATIQUE'!$A$1,#REF!,'PROFIL AUTOMATIQUE'!A23,#REF!,2)","v":{"$error":"#REF!"}},{"$f":"COUNTIFS(#REF!,'PROFIL AUTOMATIQUE'!$A$1,#REF!,'PROFIL AUTOMATIQUE'!A23,#REF!,3)","v":{"$error":"#REF!"}},{"$f":"COUNTIFS(#REF!,'PROFIL AUTOMATIQUE'!$A$1,#REF!,'PROFIL AUTOMATIQUE'!A23,#REF!,4)","v":{"$error":"#REF!"}},{"$error":"#REF!"},{"$error":"#REF!"},{"$error":"#REF!"},{"$error":"#REF!"},{"$error":"#REF!"},"pok"]
["Analyser des contextes de communication orale",{"$f":"COUNTIFS(#REF!,'PROFIL AUTOMATIQUE'!$A$1,#REF!,'PROFIL AUTOMATIQUE'!A24,#REF!,\"ne\")","v":{"$error":"#REF!"}},{"$f":"COUNTIFS(#REF!,'PROFIL AUTOMATIQUE'!$A$1,#REF!,'PROFIL AUTOMATIQUE'!A24,#REF!,1)","v":{"$error":"#REF!"}},{"$f":"COUNTIFS(#REF!,'PROFIL AUTOMATIQUE'!$A$1,#REF!,'PROFIL AUTOMATIQUE'!A24,#REF!,2)","v":{"$error":"#REF!"}},{"$f":"COUNTIFS(#REF!,'PROFIL AUTOMATIQUE'!$A$1,#REF!,'PROFIL AUTOMATIQUE'!A24,#REF!,3)","v":{"$error":"#REF!"}},{"$f":"COUNTIFS(#REF!,'PROFIL AUTOMATIQUE'!$A$1,#REF!,'PROFIL AUTOMATIQUE'!A24,#REF!,4)","v":{"$error":"#REF!"}},{"$error":"#REF!"},{"$error":"#REF!"},{"$error":"#REF!"},{"$error":"#REF!"},{"$error":"#REF!"},"pok"]
["Etre efficace dans sa communication orale",{"$f":"COUNTIFS(#REF!,'PROFIL AUTOMATIQUE'!$A$1,#REF!,'PROFIL AUTOMATIQUE'!A25,#REF!,\"ne\")","v":{"$error":"#REF!"}},{"$f":"COUNTIFS(#REF!,'PROFIL AUTOMATIQUE'!$A$1,#REF!,'PROFIL AUTOMATIQUE'!A25,#REF!,1)","v":{"$error":"#REF!"}},{"$f":"COUNTIFS(#REF!,'PROFIL AUTOMATIQUE'!$A$1,#REF!,'PROFIL AUTOMATIQUE'!A25,#REF!,2)","v":{"$error":"#REF!"}},{"$f":"COUNTIFS(#REF!,'PROFIL AUTOMATIQUE'!$A$1,#REF!,'PROFIL AUTOMATIQUE'!A25,#REF!,3)","v":{"$error":"#REF!"}},{"$f":"COUNTIFS(#REF!,'PROFIL AUTOMATIQUE'!$A$1,#REF!,'PROFIL AUTOMATIQUE'!A25,#REF!,4)","v":{"$error":"#REF!"}},{"$error":"#REF!"},{"$error":"#REF!"},{"$error":"#REF!"},{"$error":"#REF!"},{"$error":"#REF!"},"pok"]

{"sheet":"COMPETENCES","index":12,"n_rows":25,"n_cols":6,"rows_kept":25,"cut":false,"hidden":false,"merged":[]}
["LIBELLE COMPETENCE","COMPET","Subit","Exécute","Maîtrise","Est expert"]
["C111 - Rechercher des clients par prospection","C111","Pas d’identification de la cible, démarche de prospection suivant un protocole sans que le choix soit argumenté. Documents présentant l’offre commerciale pas adaptés à la cible et au contexte.","Prospection conduite partiellement : Cible de prospection identifiée. Les documents présentant l’offre sont conçus à partir d’indications quant à la méthode et au plan d’action. Mise en place imprécise d’outils de suivi mais pas d’évaluation (ou non adaptés).","Analyse de la situation de gestion qui permet une identification pertinente de la cible, la mise en œuvre d’une méthode de prospection avec des documents adaptés et d’un plan d’action aidée par le questionnement des enseignants. \nMise en place d’outils de suivi et d’évaluation adaptés","Capacité à identifier d’autres cibles de prospection.\nEst capable de proposer d’autres actions de prospection avec des méthodes et des plans d’actions adaptés. "]
["C112 - Rechercher des clients  pour répondre à un appel d'offres","C112","Dossier de réponse à l’avis de marché public ne respectant pas la procédure.\nDossier d’appel d’offres irrecevable.","Identification partielle des pièces justificatives pour constituer le dossier de réponse.\nMise en place d’outils de suivi mais pas d’évaluation (ou non adaptés).","Analyse de l’avis de marché public, la constitution d’un dossier de réponse respectant la procédure (avec une aide minime extérieure) et les délais. \nMise en place d’outils de suivi et d’évaluation adaptés.","Constitution du dossier de réponse en toute autonomie."]
["C12.1 - Traiter la demande du client (de la demande de devis jusqu'à la facturation)","C121","Réponse à la demande n’est pas adaptée car la demande n’est pas comprise ou le contexte de la situation professionnelle n’est pas appréhendé","Réponse partiellement adaptée \nRéponse nécessitant systématiquement une aide extérieure (parvient à répondre mais systématiquement guidé par exemple : il faut créer le client, réaliser un devis …).","Réponse adaptée au client en autonomie en lien avec le contexte (en fonction de la demande, de la relation avec le client, du processus de vente, des CGV…) : actualisation des données, documents commerciaux conformes en toute autonomie.\nCapacité à assurer le suivi de cette demande, le contrôle et apporter d’éventuelles modifications.","Capacité à prendre en charge la demande du client et les opérations de suivi, de contrôle, de modification en toute autonomie et avec réactivité et anticipation."]
["C12.2 - Relancer les éventuels impayés","C122","Enjeux des relances et des outils de suivi non perçus. Moyens à mobiliser non identifiés","Relances et suivi effectuées avec une aide extérieure.","Des relances pertinentes et adaptées à la procédure en vigueur et en mobilisant les ressources nécessaires. \nUn suivi adapté.","Capacité à proposer une amélioration de la procédure de relance ou d’autres moyens de recouvrement."]
["C13.1 - Informer, conseiller, orienter","C131","Réponse à la demande du client inexistante ou non adaptée car demande non comprise ou contexte de la situation professionnelle non appréhendé.","Analyse insuffisante de la situation professionnelle nécessitant une aide extérieure pour accueillir, informer, conseiller. \nDes ajustements sont encore nécessaires pour parvenir au résultat attendu.","Analyse de la situation professionnelle permettant un accueil adapté, une délivrance d’informations et de conseils adaptés à la demande du client.","Capacité à analyser et à améliorer la procédure d’accueil (seulement si l’amélioration se justifie)."]
["C13.2 - Traiter les réclamations","C132","Réponse à la demande du client inexistante ou non adaptée car demande non comprise ou contexte de la situation professionnelle non appréhendé.","Analyse insuffisante de la situation professionnelle nécessitant une aide extérieure pour traiter les réclamations. Des ajustements sont encore nécessaires pour parvenir au résultat attendu.","Analyse de la situation professionnelle permettant un traitement efficace des réclamations formulées par le client.","Capacité à analyser et à améliorer le traitement des réclamations, en fonction notamment des coûts de non qualité (seulement si l’amélioration se justifie)."]
["C14 - Rechercher et sélectionner les fournisseurs","C140","Choix non adapté car la demande n’est pas comprise ou le contexte de la situation professionnelle n’est pas appréhendé.","Analyse et démarche insuffisantes de la situation professionnelle nécessitant une aide extérieure systématique pour élaborer le cahier des charges et pour choisir et mettre en œuvre l’outil de comparaison.","Analyse de la situation professionnelle nécessitant quelques explications complémentaires quant à l’élaboration du cahier des charges reflétant les besoins de la PME. Choix du fournisseur et sélection argumentée et justifiée, en toute autonomie.","Capacité à analyser, et à améliorer la procédure de qualification des fournisseurs si nécessaire."]
["C15.1 - Passer des commandes d'achat et d'immobilisation et les contrôler, valider le règlement","C151","Besoin non compris ou non évalués.","Traitement du besoin partiellement conduit et/ou adapté.","Opérations d’achats conformes au besoin, suivies et contrôlées (réception, règlements) en lien avec le contexte (processus d’achat, CGA, fournisseurs qualifiés).","Capacité à repérer les procédures de contrôles et à les améliorer si nécessaire."]
["C15.2 - Evaluer les fournisseurs","C152","Enjeux de l’évaluation des fournisseurs non perçus, démarche non assurée.  ","Analyse insuffisante nécessitant une aide extérieure systématique (on donne les critères).","Analyse de la situation conduisant à la mise en place d’outils d’évaluation des fournisseurs adaptés au contexte. Les propositions d'actions à mener auprès des fournisseurs sont réalisées avec une aide minime extérieure.",". Évaluation de la performance de qualité et réactivité en toute autonomie."]
["C16.1 - Contrôler les enregistrements comptables","C161","Absence de contrôle, non compréhension des principes comptables.","Identification et vérification de l’existence des écritures comptables générées. Aide extérieure systématique pour effectuer les contrôles et modifier les erreurs éventuelles.","Enregistrements comptables conformes aux principes comptables et aux choix de l’entité. Rectification des erreurs.","Autonomie rigueur et réactivité dans le suivi comptable des opérations commerciales."]
["C16.2 - Analyser les comptes de tiers","C162","Non compréhension des enjeux représentés par l’analyse des comptes de tiers. ","Identification des comptes de tiers et des informations comptables inhérentes mais traitement incomplet de celles-ci. ","Analyse des créances clients et des dettes fournisseurs, mise en œuvre des actions pour le respect des échéances et évaluation de l’impact sur la trésorerie. ","Autonomie rigueur et réactivité dans le suivi des comptes de tiers et anticipation sur la trésorerie."]
["C16.4 - Réaliser un rapprochement bancaire","C164","Non compréhension des enjeux du rapprochement. ","État réalisé en suivant un mode opératoire (manque d’autonomie). ","État de rapprochement bancaire réalisé. ","Capacité à rectifier en comptabilité des éléments en suspens."]
["C16.5- Calculer et déclarer la TVA","C165","Non identification des informations comptables permettant le traitement des opérations relatives à la TVA. ","Calcul de la TVA due et déclaration de TVA effectués avec un mode opératoire (manque d’autonomie). ","Établissement, contrôle et dépôt de la déclaration de TVA en conformité à la réglementation pour les opérations réalisées en France métropolitaine. \nAide nécessaire pour la TVA intracommunautaire. ","Capacité à traiter l’ensemble des opérations relatives à la déclaration de TVA en toute autonomie."]
["Mettre en œuvre l'environnement numérique","INF1","Ne se repère pas dans l’environnement numérique. ","Met en œuvre l’environnement numérique sans analyser les choix, peu d’autonomie. Analyse les contraintes et les ressources. ","Met en œuvre l’environnement numérique en justifiant les choix. ","Met en œuvre l’environnement numérique et si nécessaire propose des améliorations en argumentant de manière raisonnée, pour contribuer à l’efficacité professionnelle."]
["Sélectionner des outils ou services informatiques et numériques de communication adaptés au contexte et usages","INF2","Sélection non pertinente et/ou usage inadapté des outils ou des services compte tenu du contexte de la situation de communication écrite et méconnaissance des finalités des outils. ","Connaissance des finalités mais outils sélectionnés ou usage non adapté à la situation de communication. ","Connaissances des finalités et sélection et usage des outils ou des services pertinents mais non argumenté au regard du contexte et des usages. ","Aisance dans l’argumentation des choix opérés."]
["Maîtriser et utiliser des fonctionnalités du PGI et du tableur","INF3","Absence de repérage des différentes fonctionnalités à mobiliser sur PGI ou tableur. ","Mise en œuvre de l’outil logiciel (utilisé dans les différentes situations) selon un mode opératoire (manque d’autonomie). ","Présentation des critères de choix des fonctionnalités retenues. ","Mise en relation de différentes fonctionnalités, proposition argumentée d’autres fonctionnalités adaptées et fait preuve d’initiative."]
["Maîtriser et utiliser des fonctionnalités des outils de messagerie, du traitement de texte et du logiciel de PREAO","INF4","Absence de repérage des différentes fonctionnalités à mobiliser. ","Mise en œuvre de l’outil logiciel selon un mode opératoire (manque d’autonomie). ","Présentation des critères de choix des fonctionnalités retenues. ","Mise en relation de différentes fonctionnalités, proposition argumentée d’autres fonctionnalités adaptées et fait preuve d’initiative."]
["Communiquer des informations fiables","COM1","Absence d’identification des informations à transmettre ou absence de collecte des informations."," Informations transmises non vérifiées ou ne respectant pas les contraintes du contexte. ","Informations transmises vérifiées et conformes aux contraintes du contexte. ","Capacité d’autonomie dans la collecte et la transmission des informations."]
["Valoriser l'image de l'entreprise","COM2"]
["Analyser des contextes de communication écrite","COM3","Absence de connaissance des notions ne permettant pas une analyse.  ","Description de la situation sans analyse. ","Analyse pertinente de la situation de communication écrite : objectifs à atteindre, acteurs, historique de la relation, enjeux, type de relation, contraintes et ressources (charte graphique, valeurs de l’entreprise, environnement technologique, …), analyse du message reçu. ","Capacité à transférer les compétences acquises en communication écrite dans un contexte différent"]
["Produire des documents écrits de qualité professionnelle ","COM4","Documents écrits non professionnels ne respectant pas les règles et les usages professionnels. Orthographe et expression très insuffisantes, non professionnelles. ","Documents écrits de qualité, mais perfectibles quant au respect des usages professionnels.\nOrthographe et expression insuffisantes. ","Documents écrits de qualité professionnelle dans le respect des règles éthiques, des usages professionnels et des valeurs de l’entreprise. Orthographe et expression satisfaisantes et professionnelles. Aucune faute. ","Justification et argumentation dans le respect des règles éthiques, des usages professionnels et des valeurs de l’entreprise. "]
["Etre efficace dans sa communication écrite","COM5","Objectifs non identifiés, réponse non adaptée. ","Objectifs identifiés, réponse peu adaptée ou pas adaptée. ","Identification et recherche des informations manquantes pour préparer la réponse. Justification de l’adaptation des messages aux supports, au mode de diffusion choisi et aux interlocuteurs de niveaux, fonctions, personnalités ou cultures différentes. Justification de la prise en compte de l’historique des communications. Utilisation ou création de modèles de documents pertinents"," Capacité à évaluer l’écart entre l’objectif attendu et le résultat obtenu et les raisons de cet écart"]
["Analyser des contextes de communication orale","COM6","Description des faits et du contexte sans analyse. ","Description des faits et du contexte avec une tentative d’analyse. ","Analyse pertinente du contexte mais analyse des faits perfectibles \nSavoirs globalement maîtrisés. "," Analyse des faits en relation avec le contexte en mobilisant et maîtrisant les savoirs de communication (de base, et interpersonnelle)."]
["Etre efficace dans sa communication orale","COM7","Objectifs non identifiés. ","Objectifs identifiés mais stratégie de communication interpersonnelle non adaptée. ","Objectifs identifiés, stratégie de communication interpersonnelle cernée mais techniques pas assez maîtrisées. ","Objectifs de communication atteints, maîtrise et pertinence des techniques de communication et gain positif (enjeu gagnant)."]

{"sheet":"SYNTHESE","index":13,"n_rows":43,"n_cols":15,"rows_kept":43,"cut":false,"hidden":false,"merged":[[0,0,1,0]]}
["RETOURNER À ACCUEIL",{"$f":"COUNTA(A4:A3961)","v":40},"NUM SP","ç Sélectionnez le numéro de SP pour laquelle vous souhaitez supprimer les évaluations.",null,"PROFIL",null,"Statistiques globales des évaluations toutes compétences confondues","NB NON ÉVALUÉ","NB SUBIT","NB EXÉCUTE","NB MAITRISE","NB EXPERT",null,{"$f":"_xlfn.UNIQUE(A3:A1048576)","v":"NUM SP"}]
[null,null,"ÉTUDIANT.ES","ç Sélectionnez le nom de l'étudiant pour lequel vous souhaitez supprimer les évaluations.",null,null,null,"ok",{"$f":"IF(H2=\"ok\",COUNTIFS($F:$F,\"NE\"),\"\")","v":0},{"$f":"IF(H2=\"ok\",COUNTIF(F:F,1),\"\")","v":3},{"$f":"IF(H2=\"ok\",COUNTIF(F:F,2),\"\")","v":9},{"$f":"IF(H2=\"ok\",COUNTIF(F:F,3),\"\")","v":18},{"$f":"IF(H2=\"ok\",COUNTIF(F:F,4),\"\")","v":10},null,1]
["NUM SP","NOM SP","DATE SP","ETUDIANT","COMPETENCE VISEE","VALEUR COMPETENCE","COMMENTAIRE","TYPE SITUATION APPRENTISSAGE",{"$f":"IFERROR(I2/SUM($I$2:$M$2),\"\")","v":0},{"$f":"IFERROR(J2/SUM($I$2:$M$2),\"\")","v":7.4999999999999997E-2},0.22500000000000001,0.45,0.25,null,2]
[1,"TEST 01","2021-09-01","A","C111 - Rechercher des clients par prospection",3,null,"DEVOIR MAISON",null,null,null,null,null,null,3]
[1,"TEST 01","2021-09-01","B","C111 - Rechercher des clients par prospection",2,null,"DEVOIR MAISON",null,null,null,null,null,null,0]
[1,"TEST 01","2021-09-01","C","C111 - Rechercher des clients par prospection",4,null,"DEVOIR MAISON"]
[1,"TEST 01","2021-09-01","D","C111 - Rechercher des clients par prospection",1,null,"DEVOIR MAISON"]
[1,"TEST 01","2021-09-01","A","C112 - Rechercher des clients  pour répondre à un appel d'offres",3,null,"DEVOIR MAISON"]
[1,"TEST 01","2021-09-01","B","C112 - Rechercher des clients  pour répondre à un appel d'offres",3,null,"DEVOIR MAISON"]
[1,"TEST 01","2021-09-01","C","C112 - Rechercher des clients  pour répondre à un appel d'offres",3,null,"DEVOIR MAISON"]
[1,"TEST 01","2021-09-01","D","C112 - Rechercher des clients  pour répondre à un appel d'offres",3,null,"DEVOIR MAISON"]
[1,"TEST 01","2021-09-01","A","C12.1 - Traiter la demande du client (de la demande de devis jusqu'à la facturation)",2,null,"DEVOIR MAISON"]
[1,"TEST 01","2021-09-01","B","C12.1 - Traiter la demande du client (de la demande de devis jusqu'à la facturation)",1,null,"DEVOIR MAISON"]
[1,"TEST 01","2021-09-01","C","C12.1 - Traiter la demande du client (de la demande de devis jusqu'à la facturation)",3,null,"DEVOIR MAISON"]
[1,"TEST 01","2021-09-01","D","C12.1 - Traiter la demande du client (de la demande de devis jusqu'à la facturation)",4,null,"DEVOIR MAISON"]
[1,"TEST 01","2021-09-01","A","C13.1 - Informer, conseiller, orienter",3,null,"DEVOIR MAISON"]
[1,"TEST 01","2021-09-01","B","C13.1 - Informer, conseiller, orienter",2,null,"DEVOIR MAISON"]
[1,"TEST 01","2021-09-01","C","C13.1 - Informer, conseiller, orienter",3,null,"DEVOIR MAISON"]
[1,"TEST 01","2021-09-01","D","C13.1 - Informer, conseiller, orienter",4,null,"DEVOIR MAISON"]
[2,"test 02","2021-10-01","A","C13.1 - Informer, conseiller, orienter",4,null,"EVALUATION COMPETENCE SURVEILLÉE"]
[2,"test 02","2021-10-01","B","C13.1 - Informer, conseiller, orienter",4,null,"EVALUATION COMPETENCE SURVEILLÉE"]
[2,"test 02","2021-10-01","C","C13.1 - Informer, conseiller, orienter",4,null,"EVALUATION COMPETENCE SURVEILLÉE"]
[2,"test 02","2021-10-01","D","C13.1 - Informer, conseiller, orienter",3,null,"EVALUATION COMPETENCE SURVEILLÉE"]
[2,"test 02","2021-10-01","A","C13.2 - Traiter les réclamations",3,null,"EVALUATION COMPETENCE SURVEILLÉE"]
[2,"test 02","2021-10-01","B","C13.2 - Traiter les réclamations",4,null,"EVALUATION COMPETENCE SURVEILLÉE"]
[2,"test 02","2021-10-01","C","C13.2 - Traiter les réclamations",2,null,"EVALUATION COMPETENCE SURVEILLÉE"]
[2,"test 02","2021-10-01","D","C13.2 - Traiter les réclamations",2,null,"EVALUATION COMPETENCE SURVEILLÉE"]
[2,"test 02","2021-10-01","A","C14 - Rechercher et sélectionner les fournisseurs",3,null,"EVALUATION COMPETENCE SURVEILLÉE"]
[2,"test 02","2021-10-01","B","C14 - Rechercher et sélectionner les fournisseurs",2,null,"EVALUATION COMPETENCE SURVEILLÉE"]
[2,"test 02","2021-10-01","C","C14 - Rechercher et sélectionner les fournisseurs",3,null,"EVALUATION COMPETENCE SURVEILLÉE"]
[2,"test 02","2021-10-01","D","C14 - Rechercher et sélectionner les fournisseurs",2,null,"EVALUATION COMPETENCE SURVEILLÉE"]
[2,"test 02","2021-10-01","A","C15.1 - Passer des commandes d'achat et d'immobilisation et les contrôler, valider le règlement",3,null,"EVALUATION COMPETENCE SURVEILLÉE"]
[2,"test 02","2021-10-01","B","C15.1 - Passer des commandes d'achat et d'immobilisation et les contrôler, valider le règlement",3,null,"EVALUATION COMPETENCE SURVEILLÉE"]
[2,"test 02","2021-10-01","C","C15.1 - Passer des commandes d'achat et d'immobilisation et les contrôler, valider le règlement",3,null,"EVALUATION COMPETENCE SURVEILLÉE"]
[2,"test 02","2021-10-01","D","C15.1 - Passer des commandes d'achat et d'immobilisation et les contrôler, valider le règlement",3,null,"EVALUATION COMPETENCE SURVEILLÉE"]
[3,"TEST 03","2021-12-01","A","C15.1 - Passer des commandes d'achat et d'immobilisation et les contrôler, valider le règlement",4,null,"EVALUATION COMPETENCE SURVEILLÉE"]
[3,"TEST 03","2021-12-01","B","C15.1 - Passer des commandes d'achat et d'immobilisation et les contrôler, valider le règlement",2,null,"EVALUATION COMPETENCE SURVEILLÉE"]
[3,"TEST 03","2021-12-01","C","C15.1 - Passer des commandes d'achat et d'immobilisation et les contrôler, valider le règlement",3,null,"EVALUATION COMPETENCE SURVEILLÉE"]
[3,"TEST 03","2021-12-01","D","C15.1 - Passer des commandes d'achat et d'immobilisation et les contrôler, valider le règlement",4,null,"EVALUATION COMPETENCE SURVEILLÉE"]
[3,"TEST 03","2021-12-01","A","C13.2 - Traiter les réclamations",3,null,"EVALUATION COMPETENCE SURVEILLÉE"]
[3,"TEST 03","2021-12-01","B","C13.2 - Traiter les réclamations",4,null,"EVALUATION COMPETENCE SURVEILLÉE"]
[3,"TEST 03","2021-12-01","C","C13.2 - Traiter les réclamations",2,null,"EVALUATION COMPETENCE SURVEILLÉE"]
[3,"TEST 03","2021-12-01","D","C13.2 - Traiter les réclamations",1,null,"EVALUATION COMPETENCE SURVEILLÉE"]

{"sheet":"PARAMETRES","index":14,"n_rows":9,"n_cols":12,"rows_kept":9,"cut":false,"hidden":false,"merged":[[1,11,3,13],[3,0,3,1],[5,0,5,1],[7,0,7,1]]}
["NUM SUP",3,null,null,null,null,null,"LIBELLE","TYPE"]
[null,null,null,null,null,null,null,"DEVOIR MAISON","DM",null,null,"RETOURNER A L'ACCUEIL"]
["Nom établissement",null,null,null,null,null,null,"EVALUATION COMPETENCE SURVEILLÉE","EC"]
["Établissement de démo",null,null,null,null,null,null,"SITUATION PROFESSIONNELLE D'APPRENTISSAGE (CLASSE)","SA"]
["Ville établissement",null,null,null,null,null,null,"RESTITUTION ORALE","RO"]
["DUNKERQUE",null,null,null,null,null,null,"SITUATION PROFESSIONNELLE SCÉNARIO ATELIER PROFESSIONNEL","SC"]
["Session évaluation",null,null,null,null,null,null,"SITUATION PROFESSIONNELLE STAGE","SS"]
[2022,null,null,null,null,null,null,"TRAVAUX DIRIGÉS","TD"]
[null,null,null,null,null,null,null,"TRAVAUX PRATIQUES","TP"]

{"sheet":"CCF - E4","index":15,"n_rows":94,"n_cols":33,"rows_kept":94,"cut":false,"hidden":false,"merged":[[42,1,42,9],[23,1,23,19],[38,1,38,9],[39,1,39,9],[40,1,40,9],[41,1,41,9],[28,1,28,9],[29,1,29,9],[30,1,30,9],[26,1,26,19],[27,1,27,9],[0,1,1,2],[0,3,0,4],[0,5,0,8],[1,4,1,8],[2,1,2,5],[2,6,2,19],[9,1,9,4],[9,5,9,19],[10,1,10,19],[11,29,12,31],[12,1,12,19],[2,26,3,27],[3,1,3,5],[3,6,3,19],[5,1,5,8],[6,1,6,19],[6,26,8,27],[7,1,7,19],[8,1,8,4],[8,5,8,19],[14,1,14,9],[13,29,14,31],[19,1,19,19],[16,1,16,19],[15,1,15,9],[17,1,17,9],[18,1,18,9],[13,1,13,19],[20,1,20,9],[21,1,21,9],[22,1,22,9],[24,1,24,9],[25,1,25,9],[11,32,12,34],[13,32,14,34],[45,20,45,27],[0,9,1,19],[37,20,37,27],[32,1,32,9],[33,1,33,9],[34,1,34,9],[35,1,35,9],[37,1,37,9],[45,1,45,5],[45,6,45,19],[43,1,43,9],[44,1,44,9],[36,1,36,19],[31,1,31,19]]}
[null,"CANDIDAT(E) ",null,"Nom et Prénom :",null,null,null,null,null,{"$f":"IF(ISBLANK(PARAMETRES!A4),\"\",CONCATENATE(PARAMETRES!A4, \" - \",PARAMETRES!A6,\" - \",PARAMETRES!A8))","v":"Établissement de démo - DUNKERQUE - 2022"}]
[null,null,null,"Matricule :"]
[null,"Membres de la commission",null,null,null,null,"Signatures",null,null,null,null,null,null,null,null,null,null,null,null,null,null,null,null,null,null,null,"Voir la synthèse des évaluations SITUATION A BLOC1"]
[]
[]
[null,"SITUATION A - CONTRÔLE EN COURS DE FORMATION"]
[null,"Observations des formateurs sur le parcours de formation",null,null,null,null,null,null,null,null,null,null,null,null,null,null,null,null,null,null,null,null,null,null,null,null,"Retour Accueil"]
[null,"Notamment à partir des situations professionnelles professionnelles inscrites dans le tableau synoptique du candidat."]
[null,"En organisme de formation",null,null,null,"En milieu professionnel"]
[]
[null,"CRITÈRES DE PERFORMANCE DE LA SITUATION A - (CCF)"]
[null,null,null,null,null,null,null,null,null,null,"NT","TI","I","S","TS","NT","TI","I","S","TS",null,null,null,null,null,null,null,null,null,"Proposition de notation partielle",null,null,"Proposition de notation sur la grille"]
[null,"Résultats liés à la gestion de la relation clients-fournisseurs",null,null,null,null,null,null,null,null,null,null,null,null,null,null,null,null,null,null,null,null,null,null,null,null,"Max TI","entre 0 et 3",{"$f":"IF(AB18=0,\"\",IF(AC18=MAX($AC$18:$AF$18),\"<--\",\"\"))","v":""}]
[null,"C1.1 Qualité de la prospection effectuée ou de la réponse à l'appel d'offres",null,null,null,null,null,null,null,null,null,null,null,null,null,null,null,null,null,null,null,null,null,null,null,null,"Max I","entre 4 et 7",{"$f":"IF(AB18=0,\"\",IF(AD18=MAX($AC$18:$AF$18),\"<--\",\"\"))","v":""},{"$f":"IFERROR((($AC$18*1+$AD$18*1.5+$AE$18*3+$AF$18*4)/(AB18*4))*14,\"\")","v":""},null,null,{"$f":"IFERROR((($AC$18*1+$AD$18*1.5+$AE$18*3+$AF$18*4)/(25*4))*14,\"\")","v":0}]
["C111 - Rechercher des clients par prospection","Une prospection efficace, ciblée et les outils de suivi adaptés",null,null,null,null,null,null,null,null,{"$f":"COUNTIFS(SYNTHESE!$D:$D,$F$1,SYNTHESE!$E:$E,A15,SYNTHESE!$F:$F,\"NE\")","v":0},{"$f":"COUNTIFS(SYNTHESE!$D:$D,$F$1,SYNTHESE!$E:$E,A15,SYNTHESE!$F:$F,\"1\")","v":0},{"$f":"COUNTIFS(SYNTHESE!$D:$D,$F$1,SYNTHESE!$E:$E,A15,SYNTHESE!$F:$F,\"2\")","v":0},{"$f":"COUNTIFS(SYNTHESE!$D:$D,$F$1,SYNTHESE!$E:$E,A15,SYNTHESE!$F:$F,\"3\")","v":0},{"$f":"COUNTIFS(SYNTHESE!$D:$D,$F$1,SYNTHESE!$E:$E,A15,SYNTHESE!$F:$F,\"4\")","v":0},{"$f":"IF(COUNTIF(K15:O15,0)=5,\"\",IF(K15=MAX(K15:O15),\"X\",\"\"))","v":""},{"$f":"IF(COUNTIF(K15:O15,0)=5,\"\",IF(L15=MAX(K15:O15),\"X\",\"\"))","v":""},{"$f":"IF(COUNTIF(K15:O15,0)=5,\"\",IF(M15=MAX(K15:O15),\"X\",\"\"))","v":""},{"$f":"IF(COUNTIF(K15:O15,0)=5,\"\",IF(N15=MAX(K15:O15),\"X\",\"\"))","v":""},{"$f":"IF(COUNTIF(K15:O15,0)=5,\"\",IF(O15=MAX(K15:O15),\"X\",\"\"))","v":""},null,{"$f":"IF(COUNTIF(Q15:T15,\"x\")>1,\"pok\",\"\")","v":""},{"$f":"IF(P15=\"x\",\"NT\",IF(Q15=\"x\",\"TI\",IF(R15=\"x\",\"I\",IF(S15=\"x\",\"S\",IF(T15=\"x\",\"TS\",\"\")))))","v":""},null,null,null,"Max S","entre 8 et 10",{"$f":"IF(AB18=0,\"\",IF(AE18=MAX($AC$18:$AF$18),\"<--\",\"\"))","v":""}]
["C112 - Rechercher des clients  pour répondre à un appel d'offres","Une réponse pertinente aux appels d'offre dans le champ de compétences de la PME et des outils de suivi adaptés",null,null,null,null,null,null,null,null,{"$f":"COUNTIFS(SYNTHESE!$D:$D,$F$1,SYNTHESE!$E:$E,A16,SYNTHESE!$F:$F,\"NE\")","v":0},{"$f":"COUNTIFS(SYNTHESE!$D:$D,$F$1,SYNTHESE!$E:$E,A16,SYNTHESE!$F:$F,\"1\")","v":0},{"$f":"COUNTIFS(SYNTHESE!$D:$D,$F$1,SYNTHESE!$E:$E,A16,SYNTHESE!$F:$F,\"2\")","v":0},{"$f":"COUNTIFS(SYNTHESE!$D:$D,$F$1,SYNTHESE!$E:$E,A16,SYNTHESE!$F:$F,\"3\")","v":0},{"$f":"COUNTIFS(SYNTHESE!$D:$D,$F$1,SYNTHESE!$E:$E,A16,SYNTHESE!$F:$F,\"4\")","v":0},{"$f":"IF(COUNTIF(K16:O16,0)=5,\"\",IF(K16=MAX(K16:O16),\"X\",\"\"))","v":""},{"$f":"IF(COUNTIF(K16:O16,0)=5,\"\",IF(L16=MAX(K16:O16),\"X\",\"\"))","v":""},{"$f":"IF(COUNTIF(K16:O16,0)=5,\"\",IF(M16=MAX(K16:O16),\"X\",\"\"))","v":""},{"$f":"IF(COUNTIF(K16:O16,0)=5,\"\",IF(N16=MAX(K16:O16),\"X\",\"\"))","v":""},{"$f":"IF(COUNTIF(K16:O16,0)=5,\"\",IF(O16=MAX(K16:O16),\"X\",\"\"))","v":""},null,{"$f":"IF(COUNTIF(Q16:T16,\"x\")>1,\"pok\",\"\")","v":""},{"$f":"IF(P16=\"x\",\"NT\",IF(Q16=\"x\",\"TI\",IF(R16=\"x\",\"I\",IF(S16=\"x\",\"S\",IF(T16=\"x\",\"TS\",\"\")))))","v":""},null,null,null,"Max TS","entre 10 et 14",{"$f":"IF(AB18=0,\"\",IF(AF18=MAX($AC$18:$AF$18),\"<--\",\"\"))","v":""}]
[null,"C1.2 Qualité du traitement de la demande du client (de la demande de devis jusqu'à la relance des éventuels impayés)",null,null,null,null,null,null,null,null,null,null,null,null,null,null,null,null,null,null,null,"","",null,null,"nb critères","nb croix",null,"TI","I","S","TS"]
["C12.1 - Traiter la demande du client (de la demande de devis jusqu'à la facturation)","Qualité de la réponse apportée au client (du devis jusqu'à la facturation)",null,null,null,null,null,null,null,null,{"$f":"COUNTIFS(SYNTHESE!$D:$D,$F$1,SYNTHESE!$E:$E,A18,SYNTHESE!$F:$F,\"NE\")","v":0},{"$f":"COUNTIFS(SYNTHESE!$D:$D,$F$1,SYNTHESE!$E:$E,A18,SYNTHESE!$F:$F,\"1\")","v":0},{"$f":"COUNTIFS(SYNTHESE!$D:$D,$F$1,SYNTHESE!$E:$E,A18,SYNTHESE!$F:$F,\"2\")","v":0},{"$f":"COUNTIFS(SYNTHESE!$D:$D,$F$1,SYNTHESE!$E:$E,A18,SYNTHESE!$F:$F,\"3\")","v":0},{"$f":"COUNTIFS(SYNTHESE!$D:$D,$F$1,SYNTHESE!$E:$E,A18,SYNTHESE!$F:$F,\"4\")","v":0},{"$f":"IF(COUNTIF(K18:O18,0)=5,\"\",IF(K18=MAX(K18:O18),\"X\",\"\"))","v":""},{"$f":"IF(COUNTIF(K18:O18,0)=5,\"\",IF(L18=MAX(K18:O18),\"X\",\"\"))","v":""},{"$f":"IF(COUNTIF(K18:O18,0)=5,\"\",IF(M18=MAX(K18:O18),\"X\",\"\"))","v":""},{"$f":"IF(COUNTIF(K18:O18,0)=5,\"\",IF(N18=MAX(K18:O18),\"X\",\"\"))","v":""},{"$f":"IF(COUNTIF(K18:O18,0)=5,\"\",IF(O18=MAX(K18:O18),\"X\",\"\"))","v":""},null,"","",null,null,{"$f":"COUNTA(P15:T16,P18:T19,P21:T23,P25:T26,P28:T31,P33:T36,P38:T45)","v":120},{"$f":"COUNTA(P15:T16,P18:T19,P21:T23,P25:T26,P28:T31,P33:T36,P38:T45)","v":120},{"$f":"COUNTIF(P15:T45,\"x\")","v":0},{"$f":"COUNTIF(Q38:Q45,\"x\")+COUNTIF(Q33:Q36,\"x\")+COUNTIF(Q28:Q31,\"x\")+COUNTIF(Q25:Q26,\"x\")+COUNTIF(Q21:Q23,\"x\")+COUNTIF(Q18:Q19,\"x\")+COUNTIF(Q15:Q16,\"x\")","v":0},{"$f":"COUNTIF(R38:R45,\"x\")+COUNTIF(R33:R36,\"x\")+COUNTIF(R28:R31,\"x\")+COUNTIF(R25:R26,\"x\")+COUNTIF(R21:R23,\"x\")+COUNTIF(R18:R19,\"x\")+COUNTIF(R15:R16,\"x\")","v":0},{"$f":"COUNTIF(S38:S45,\"x\")+COUNTIF(S33:S36,\"x\")+COUNTIF(S28:S31,\"x\")+COUNTIF(S25:S26,\"x\")+COUNTIF(S21:S23,\"x\")+COUNTIF(S18:S19,\"x\")+COUNTIF(S15:S16,\"x\")","v":0},{"$f":"COUNTIF(T38:T45,\"x\")+COUNTIF(T33:T36,\"x\")+COUNTIF(T28:T31,\"x\")+COUNTIF(T25:T26,\"x\")+COUNTIF(T21:T23,\"x\")+COUNTIF(T18:T19,\"x\")+COUNTIF(T15:T16,\"x\")","v":0}]
["C12.2 - Relancer les éventuels impayés","Pertinence et qualité des relances pour impayés et leur suivi",null,null,null,null,null,null,null,null,{"$f":"COUNTIFS(SYNTHESE!$D:$D,$F$1,SYNTHESE!$E:$E,A19,SYNTHESE!$F:$F,\"NE\")","v":0},{"$f":"COUNTIFS(SYNTHESE!$D:$D,$F$1,SYNTHESE!$E:$E,A19,SYNTHESE!$F:$F,\"1\")","v":0},{"$f":"COUNTIFS(SYNTHESE!$D:$D,$F$1,SYNTHESE!$E:$E,A19,SYNTHESE!$F:$F,\"2\")","v":0},{"$f":"COUNTIFS(SYNTHESE!$D:$D,$F$1,SYNTHESE!$E:$E,A19,SYNTHESE!$F:$F,\"3\")","v":0},{"$f":"COUNTIFS(SYNTHESE!$D:$D,$F$1,SYNTHESE!$E:$E,A19,SYNTHESE!$F:$F,\"4\")","v":0},{"$f":"IF(COUNTIF(K19:O19,0)=5,\"\",IF(K19=MAX(K19:O19),\"X\",\"\"))","v":""},{"$f":"IF(COUNTIF(K19:O19,0)=5,\"\",IF(L19=MAX(K19:O19),\"X\",\"\"))","v":""},{"$f":"IF(COUNTIF(K19:O19,0)=5,\"\",IF(M19=MAX(K19:O19),\"X\",\"\"))","v":""},{"$f":"IF(COUNTIF(K19:O19,0)=5,\"\",IF(N19=MAX(K19:O19),\"X\",\"\"))","v":""},{"$f":"IF(COUNTIF(K19:O19,0)=5,\"\",IF(O19=MAX(K19:O19),\"X\",\"\"))","v":""},null,"",""]
[null,"C1.3 Pertinence de l'information, du conseil et du traitement des réclamations",null,null,null,null,null,null,null,null,null,null,null,null,null,null,null,null,null,null,null,"",""]
["C13.1 - Informer, conseiller, orienter","Qualité de l'accueil",null,null,null,null,null,null,null,null,{"$f":"COUNTIFS(SYNTHESE!$D:$D,$F$1,SYNTHESE!$E:$E,A21,SYNTHESE!$F:$F,\"NE\")","v":0},{"$f":"COUNTIFS(SYNTHESE!$D:$D,$F$1,SYNTHESE!$E:$E,A21,SYNTHESE!$F:$F,\"1\")","v":0},{"$f":"COUNTIFS(SYNTHESE!$D:$D,$F$1,SYNTHESE!$E:$E,A21,SYNTHESE!$F:$F,\"2\")","v":0},{"$f":"COUNTIFS(SYNTHESE!$D:$D,$F$1,SYNTHESE!$E:$E,A21,SYNTHESE!$F:$F,\"3\")","v":0},{"$f":"COUNTIFS(SYNTHESE!$D:$D,$F$1,SYNTHESE!$E:$E,A21,SYNTHESE!$F:$F,\"4\")","v":0},{"$f":"IF(COUNTIF(K21:O21,0)=5,\"\",IF(K21=MAX(K21:O21),\"X\",\"\"))","v":""},{"$f":"IF(COUNTIF(K21:O21,0)=5,\"\",IF(L21=MAX(K21:O21),\"X\",\"\"))","v":""},{"$f":"IF(COUNTIF(K21:O21,0)=5,\"\",IF(M21=MAX(K21:O21),\"X\",\"\"))","v":""},{"$f":"IF(COUNTIF(K21:O21,0)=5,\"\",IF(N21=MAX(K21:O21),\"X\",\"\"))","v":""},{"$f":"IF(COUNTIF(K21:O21,0)=5,\"\",IF(O21=MAX(K21:O21),\"X\",\"\"))","v":""},null,"",""]
["C13.2 - Traiter les réclamations","Qualité et pertinence du traitement des réclamations",null,null,null,null,null,null,null,null,{"$f":"COUNTIFS(SYNTHESE!$D:$D,$F$1,SYNTHESE!$E:$E,A22,SYNTHESE!$F:$F,\"NE\")","v":0},{"$f":"COUNTIFS(SYNTHESE!$D:$D,$F$1,SYNTHESE!$E:$E,A22,SYNTHESE!$F:$F,\"1\")","v":0},{"$f":"COUNTIFS(SYNTHESE!$D:$D,$F$1,SYNTHESE!$E:$E,A22,SYNTHESE!$F:$F,\"2\")","v":0},{"$f":"COUNTIFS(SYNTHESE!$D:$D,$F$1,SYNTHESE!$E:$E,A22,SYNTHESE!$F:$F,\"3\")","v":0},{"$f":"COUNTIFS(SYNTHESE!$D:$D,$F$1,SYNTHESE!$E:$E,A22,SYNTHESE!$F:$F,\"4\")","v":0},{"$f":"IF(COUNTIF(K22:O22,0)=5,\"\",IF(K22=MAX(K22:O22),\"X\",\"\"))","v":""},{"$f":"IF(COUNTIF(K22:O22,0)=5,\"\",IF(L22=MAX(K22:O22),\"X\",\"\"))","v":""},{"$f":"IF(COUNTIF(K22:O22,0)=5,\"\",IF(M22=MAX(K22:O22),\"X\",\"\"))","v":""},{"$f":"IF(COUNTIF(K22:O22,0)=5,\"\",IF(N22=MAX(K22:O22),\"X\",\"\"))","v":""},{"$f":"IF(COUNTIF(K22:O22,0)=5,\"\",IF(O22=MAX(K22:O22),\"X\",\"\"))","v":""},null,"",""]
["C14 - Rechercher et sélectionner les fournisseurs","C1.4 Pertinence du choix des fournisseurs",null,null,null,null,null,null,null,null,{"$f":"COUNTIFS(SYNTHESE!$D:$D,$F$1,SYNTHESE!$E:$E,A23,SYNTHESE!$F:$F,\"NE\")","v":0},{"$f":"COUNTIFS(SYNTHESE!$D:$D,$F$1,SYNTHESE!$E:$E,A23,SYNTHESE!$F:$F,\"1\")","v":0},{"$f":"COUNTIFS(SYNTHESE!$D:$D,$F$1,SYNTHESE!$E:$E,A23,SYNTHESE!$F:$F,\"2\")","v":0},{"$f":"COUNTIFS(SYNTHESE!$D:$D,$F$1,SYNTHESE!$E:$E,A23,SYNTHESE!$F:$F,\"3\")","v":0},{"$f":"COUNTIFS(SYNTHESE!$D:$D,$F$1,SYNTHESE!$E:$E,A23,SYNTHESE!$F:$F,\"4\")","v":0},{"$f":"IF(COUNTIF(K23:O23,0)=5,\"\",IF(K23=MAX(K23:O23),\"X\",\"\"))","v":""},{"$f":"IF(COUNTIF(K23:O23,0)=5,\"\",IF(L23=MAX(K23:O23),\"X\",\"\"))","v":""},{"$f":"IF(COUNTIF(K23:O23,0)=5,\"\",IF(M23=MAX(K23:O23),\"X\",\"\"))","v":""},{"$f":"IF(COUNTIF(K23:O23,0)=5,\"\",IF(N23=MAX(K23:O23),\"X\",\"\"))","v":""},{"$f":"IF(COUNTIF(K23:O23,0)=5,\"\",IF(O23=MAX(K23:O23),\"X\",\"\"))","v":""},null,"",""]
[null,"C1.5 Qualité du suivi et du contrôle des opérations d'achats et d'investissement de la PME",null,null,null,null,null,null,null,null,null,null,null,null,null,null,null,null,null,null,null,"",""]
["C15.1 - Passer des commandes d'achat et d'immobilisation et les contrôler, valider le règlement","Qualité du traitement du besoin d'achat ou d'investissement",null,null,null,null,null,null,null,null,{"$f":"COUNTIFS(SYNTHESE!$D:$D,$F$1,SYNTHESE!$E:$E,A25,SYNTHESE!$F:$F,\"NE\")","v":0},{"$f":"COUNTIFS(SYNTHESE!$D:$D,$F$1,SYNTHESE!$E:$E,A25,SYNTHESE!$F:$F,\"1\")","v":0},{"$f":"COUNTIFS(SYNTHESE!$D:$D,$F$1,SYNTHESE!$E:$E,A25,SYNTHESE!$F:$F,\"2\")","v":0},{"$f":"COUNTIFS(SYNTHESE!$D:$D,$F$1,SYNTHESE!$E:$E,A25,SYNTHESE!$F:$F,\"3\")","v":0},{"$f":"COUNTIFS(SYNTHESE!$D:$D,$F$1,SYNTHESE!$E:$E,A25,SYNTHESE!$F:$F,\"4\")","v":0},{"$f":"IF(COUNTIF(K25:O25,0)=5,\"\",IF(K25=MAX(K25:O25),\"X\",\"\"))","v":""},{"$f":"IF(COUNTIF(K25:O25,0)=5,\"\",IF(L25=MAX(K25:O25),\"X\",\"\"))","v":""},{"$f":"IF(COUNTIF(K25:O25,0)=5,\"\",IF(M25=MAX(K25:O25),\"X\",\"\"))","v":""},{"$f":"IF(COUNTIF(K25:O25,0)=5,\"\",IF(N25=MAX(K25:O25),\"X\",\"\"))","v":""},{"$f":"IF(COUNTIF(K25:O25,0)=5,\"\",IF(O25=MAX(K25:O25),\"X\",\"\"))","v":""},null,"",""]
["C15.2 - Evaluer les fournisseurs","Qualité de l'évaluation des performances des fournisseurs",null,null,null,null,null,null,null,null,{"$f":"COUNTIFS(SYNTHESE!$D:$D,$F$1,SYNTHESE!$E:$E,A26,SYNTHESE!$F:$F,\"NE\")","v":0},{"$f":"COUNTIFS(SYNTHESE!$D:$D,$F$1,SYNTHESE!$E:$E,A26,SYNTHESE!$F:$F,\"1\")","v":0},{"$f":"COUNTIFS(SYNTHESE!$D:$D,$F$1,SYNTHESE!$E:$E,A26,SYNTHESE!$F:$F,\"2\")","v":0},{"$f":"COUNTIFS(SYNTHESE!$D:$D,$F$1,SYNTHESE!$E:$E,A26,SYNTHESE!$F:$F,\"3\")","v":0},{"$f":"COUNTIFS(SYNTHESE!$D:$D,$F$1,SYNTHESE!$E:$E,A26,SYNTHESE!$F:$F,\"4\")","v":0},"","","","","",null,"",""]
[null,"C1.6 Pertinence du suivi comptable des opérations avec les clients et les fournisseurs",null,null,null,null,null,null,null,null,null,null,null,null,null,null,null,null,null,null,null,"",""]
["C16.1 - Contrôler les enregistrements comptables","Qualité des contrôles des enregistrements",null,null,null,null,null,null,null,null,{"$f":"COUNTIFS(SYNTHESE!$D:$D,$F$1,SYNTHESE!$E:$E,A28,SYNTHESE!$F:$F,\"NE\")","v":0},{"$f":"COUNTIFS(SYNTHESE!$D:$D,$F$1,SYNTHESE!$E:$E,A28,SYNTHESE!$F:$F,\"1\")","v":0},{"$f":"COUNTIFS(SYNTHESE!$D:$D,$F$1,SYNTHESE!$E:$E,A28,SYNTHESE!$F:$F,\"2\")","v":0},{"$f":"COUNTIFS(SYNTHESE!$D:$D,$F$1,SYNTHESE!$E:$E,A28,SYNTHESE!$F:$F,\"3\")","v":0},{"$f":"COUNTIFS(SYNTHESE!$D:$D,$F$1,SYNTHESE!$E:$E,A28,SYNTHESE!$F:$F,\"4\")","v":0},{"$f":"IF(COUNTIF(K28:O28,0)=5,\"\",IF(K28=MAX(K28:O28),\"X\",\"\"))","v":""},{"$f":"IF(COUNTIF(K28:O28,0)=5,\"\",IF(L28=MAX(K28:O28),\"X\",\"\"))","v":""},{"$f":"IF(COUNTIF(K28:O28,0)=5,\"\",IF(M28=MAX(K28:O28),\"X\",\"\"))","v":""},{"$f":"IF(COUNTIF(K28:O28,0)=5,\"\",IF(N28=MAX(K28:O28),\"X\",\"\"))","v":""},{"$f":"IF(COUNTIF(K28:O28,0)=5,\"\",IF(O28=MAX(K28:O28),\"X\",\"\"))","v":""},null,"",""]
["C16.2 - Analyser les comptes de tiers","Qualité de l'analyse des comptes de tiers",null,null,null,null,null,null,null,null,{"$f":"COUNTIFS(SYNTHESE!$D:$D,$F$1,SYNTHESE!$E:$E,A29,SYNTHESE!$F:$F,\"NE\")","v":0},{"$f":"COUNTIFS(SYNTHESE!$D:$D,$F$1,SYNTHESE!$E:$E,A29,SYNTHESE!$F:$F,\"1\")","v":0},{"$f":"COUNTIFS(SYNTHESE!$D:$D,$F$1,SYNTHESE!$E:$E,A29,SYNTHESE!$F:$F,\"2\")","v":0},{"$f":"COUNTIFS(SYNTHESE!$D:$D,$F$1,SYNTHESE!$E:$E,A29,SYNTHESE!$F:$F,\"3\")","v":0},{"$f":"COUNTIFS(SYNTHESE!$D:$D,$F$1,SYNTHESE!$E:$E,A29,SYNTHESE!$F:$F,\"4\")","v":0},"","","","","",null,"",""]
["C16.4 - Réaliser un rapprochement bancaire","Qualité des opérations de rapprochement bancaire",null,null,null,null,null,null,null,null,{"$f":"COUNTIFS(SYNTHESE!$D:$D,$F$1,SYNTHESE!$E:$E,A30,SYNTHESE!$F:$F,\"NE\")","v":0},{"$f":"COUNTIFS(SYNTHESE!$D:$D,$F$1,SYNTHESE!$E:$E,A30,SYNTHESE!$F:$F,\"1\")","v":0},{"$f":"COUNTIFS(SYNTHESE!$D:$D,$F$1,SYNTHESE!$E:$E,A30,SYNTHESE!$F:$F,\"2\")","v":0},{"$f":"COUNTIFS(SYNTHESE!$D:$D,$F$1,SYNTHESE!$E:$E,A30,SYNTHESE!$F:$F,\"3\")","v":0},{"$f":"COUNTIFS(SYNTHESE!$D:$D,$F$1,SYNTHESE!$E:$E,A30,SYNTHESE!$F:$F,\"4\")","v":0},"","","","","",null,"",""]
["C16.5- Calculer et déclarer la TVA","Qualité des opérations relatives à la déclaration de TVA",null,null,null,null,null,null,null,null,{"$f":"COUNTIFS(SYNTHESE!$D:$D,$F$1,SYNTHESE!$E:$E,A31,SYNTHESE!$F:$F,\"NE\")","v":0},{"$f":"COUNTIFS(SYNTHESE!$D:$D,$F$1,SYNTHESE!$E:$E,A31,SYNTHESE!$F:$F,\"1\")","v":0},{"$f":"COUNTIFS(SYNTHESE!$D:$D,$F$1,SYNTHESE!$E:$E,A31,SYNTHESE!$F:$F,\"2\")","v":0},{"$f":"COUNTIFS(SYNTHESE!$D:$D,$F$1,SYNTHESE!$E:$E,A31,SYNTHESE!$F:$F,\"3\")","v":0},{"$f":"COUNTIFS(SYNTHESE!$D:$D,$F$1,SYNTHESE!$E:$E,A31,SYNTHESE!$F:$F,\"4\")","v":0},"","","","","",null,"",""]
[null,"Résultat liés à la mobilisation des ressources de l'environnement technologique",null,null,null,null,null,null,null,null,null,null,null,null,null,null,null,null,null,null,null,"",""]
["Mettre en œuvre l'environnement numérique","Efficacité dans la mise en œuvre de l'environnement numérique",null,null,null,null,null,null,null,null,{"$f":"COUNTIFS(SYNTHESE!$D:$D,$F$1,SYNTHESE!$E:$E,A33,SYNTHESE!$F:$F,\"NE\")","v":0},{"$f":"COUNTIFS(SYNTHESE!$D:$D,$F$1,SYNTHESE!$E:$E,A33,SYNTHESE!$F:$F,\"1\")","v":0},{"$f":"COUNTIFS(SYNTHESE!$D:$D,$F$1,SYNTHESE!$E:$E,A33,SYNTHESE!$F:$F,\"2\")","v":0},{"$f":"COUNTIFS(SYNTHESE!$D:$D,$F$1,SYNTHESE!$E:$E,A33,SYNTHESE!$F:$F,\"3\")","v":0},{"$f":"COUNTIFS(SYNTHESE!$D:$D,$F$1,SYNTHESE!$E:$E,A33,SYNTHESE!$F:$F,\"4\")","v":0},{"$f":"IF(COUNTIF(K33:O33,0)=5,\"\",IF(K33=MAX(K33:O33),\"X\",\"\"))","v":""},{"$f":"IF(COUNTIF(K33:O33,0)=5,\"\",IF(L33=MAX(K33:O33),\"X\",\"\"))","v":""},{"$f":"IF(COUNTIF(K33:O33,0)=5,\"\",IF(M33=MAX(K33:O33),\"X\",\"\"))","v":""},{"$f":"IF(COUNTIF(K33:O33,0)=5,\"\",IF(N33=MAX(K33:O33),\"X\",\"\"))","v":""},{"$f":"IF(COUNTIF(K33:O33,0)=5,\"\",IF(O33=MAX(K33:O33),\"X\",\"\"))","v":""},null,"",""]
["Sélectionner des outils ou services informatiques et numériques de communication adaptés au contexte et usages","Sélection des outils ou services informatiques et numériques de communication adaptés au contexte et usages",null,null,null,null,null,null,null,null,{"$f":"COUNTIFS(SYNTHESE!$D:$D,$F$1,SYNTHESE!$E:$E,A34,SYNTHESE!$F:$F,\"NE\")","v":0},{"$f":"COUNTIFS(SYNTHESE!$D:$D,$F$1,SYNTHESE!$E:$E,A34,SYNTHESE!$F:$F,\"1\")","v":0},{"$f":"COUNTIFS(SYNTHESE!$D:$D,$F$1,SYNTHESE!$E:$E,A34,SYNTHESE!$F:$F,\"2\")","v":0},{"$f":"COUNTIFS(SYNTHESE!$D:$D,$F$1,SYNTHESE!$E:$E,A34,SYNTHESE!$F:$F,\"3\")","v":0},{"$f":"COUNTIFS(SYNTHESE!$D:$D,$F$1,SYNTHESE!$E:$E,A34,SYNTHESE!$F:$F,\"4\")","v":0},"","","","","",null,"",""]
["Maîtriser et utiliser des fonctionnalités du PGI et du tableur","Maîtrise et utilisation adaptée des fonctionnalités du PGI et du tableur",null,null,null,null,null,null,null,null,{"$f":"COUNTIFS(SYNTHESE!$D:$D,$F$1,SYNTHESE!$E:$E,A35,SYNTHESE!$F:$F,\"NE\")","v":0},{"$f":"COUNTIFS(SYNTHESE!$D:$D,$F$1,SYNTHESE!$E:$E,A35,SYNTHESE!$F:$F,\"1\")","v":0},{"$f":"COUNTIFS(SYNTHESE!$D:$D,$F$1,SYNTHESE!$E:$E,A35,SYNTHESE!$F:$F,\"2\")","v":0},{"$f":"COUNTIFS(SYNTHESE!$D:$D,$F$1,SYNTHESE!$E:$E,A35,SYNTHESE!$F:$F,\"3\")","v":0},{"$f":"COUNTIFS(SYNTHESE!$D:$D,$F$1,SYNTHESE!$E:$E,A35,SYNTHESE!$F:$F,\"4\")","v":0},"","","","","",null,"",""]
["Maîtriser et utiliser des fonctionnalités des outils de messagerie, du traitement de texte et du logiciel de PREAO","Maîtrise et utilisation adaptée des fonctionnalités des outils de messagerie, du traitement de texte et du logiciel de PREAO",null,null,null,null,null,null,null,null,{"$f":"COUNTIFS(SYNTHESE!$D:$D,$F$1,SYNTHESE!$E:$E,A36,SYNTHESE!$F:$F,\"NE\")","v":0},{"$f":"COUNTIFS(SYNTHESE!$D:$D,$F$1,SYNTHESE!$E:$E,A36,SYNTHESE!$F:$F,\"1\")","v":0},{"$f":"COUNTIFS(SYNTHESE!$D:$D,$F$1,SYNTHESE!$E:$E,A36,SYNTHESE!$F:$F,\"2\")","v":0},{"$f":"COUNTIFS(SYNTHESE!$D:$D,$F$1,SYNTHESE!$E:$E,A36,SYNTHESE!$F:$F,\"3\")","v":0},{"$f":"COUNTIFS(SYNTHESE!$D:$D,$F$1,SYNTHESE!$E:$E,A36,SYNTHESE!$F:$F,\"4\")","v":0},"","","","","",null,"",""]
[null,"Résulats en termes de communication",null,null,null,null,null,null,null,null,null,null,null,null,null,null,null,null,null,null,null,"",""]
[null,"Diversité des situations de communication écrite et orale rencontrées",null,null,null,null,null,null,null,null,null,null,null,null,null,null,null,null,null,null,{"$f":"IF(COUNTIF(P38:T38,\"x\")=0,\"<-- Saisissez l'évaluation manuellement\",\"\")","v":"<-- Saisissez l'évaluation manuellement"}]
["Valoriser l'image de l'entreprise","Valorisation de l'image de l'entreprise dans la relation",null,null,null,null,null,null,null,null,{"$f":"COUNTIFS(SYNTHESE!$D:$D,$F$1,SYNTHESE!$E:$E,A39,SYNTHESE!$F:$F,\"NE\")","v":0},{"$f":"COUNTIFS(SYNTHESE!$D:$D,$F$1,SYNTHESE!$E:$E,A39,SYNTHESE!$F:$F,\"1\")","v":0},{"$f":"COUNTIFS(SYNTHESE!$D:$D,$F$1,SYNTHESE!$E:$E,A39,SYNTHESE!$F:$F,\"2\")","v":0},{"$f":"COUNTIFS(SYNTHESE!$D:$D,$F$1,SYNTHESE!$E:$E,A39,SYNTHESE!$F:$F,\"3\")","v":0},{"$f":"COUNTIFS(SYNTHESE!$D:$D,$F$1,SYNTHESE!$E:$E,A39,SYNTHESE!$F:$F,\"4\")","v":0},{"$f":"IF(COUNTIF(K39:O39,0)=5,\"\",IF(K39=MAX(K39:O39),\"X\",\"\"))","v":""},{"$f":"IF(COUNTIF(K39:O39,0)=5,\"\",IF(L39=MAX(K39:O39),\"X\",\"\"))","v":""},{"$f":"IF(COUNTIF(K39:O39,0)=5,\"\",IF(M39=MAX(K39:O39),\"X\",\"\"))","v":""},{"$f":"IF(COUNTIF(K39:O39,0)=5,\"\",IF(N39=MAX(K39:O39),\"X\",\"\"))","v":""},{"$f":"IF(COUNTIF(K39:O39,0)=5,\"\",IF(O39=MAX(K39:O39),\"X\",\"\"))","v":""},null,"",""]
["Communiquer des informations fiables","Fiabilité des informations communiquées",null,null,null,null,null,null,null,null,{"$f":"COUNTIFS(SYNTHESE!$D:$D,$F$1,SYNTHESE!$E:$E,A40,SYNTHESE!$F:$F,\"NE\")","v":0},{"$f":"COUNTIFS(SYNTHESE!$D:$D,$F$1,SYNTHESE!$E:$E,A40,SYNTHESE!$F:$F,\"1\")","v":0},{"$f":"COUNTIFS(SYNTHESE!$D:$D,$F$1,SYNTHESE!$E:$E,A40,SYNTHESE!$F:$F,\"2\")","v":0},{"$f":"COUNTIFS(SYNTHESE!$D:$D,$F$1,SYNTHESE!$E:$E,A40,SYNTHESE!$F:$F,\"3\")","v":0},{"$f":"COUNTIFS(SYNTHESE!$D:$D,$F$1,SYNTHESE!$E:$E,A40,SYNTHESE!$F:$F,\"4\")","v":0},"","","","","",null,"",""]
["Analyser des contextes de communication écrite","Pertinence de l'analyse des contextes de communication écrite",null,null,null,null,null,null,null,null,{"$f":"COUNTIFS(SYNTHESE!$D:$D,$F$1,SYNTHESE!$E:$E,A41,SYNTHESE!$F:$F,\"NE\")","v":0},{"$f":"COUNTIFS(SYNTHESE!$D:$D,$F$1,SYNTHESE!$E:$E,A41,SYNTHESE!$F:$F,\"1\")","v":0},{"$f":"COUNTIFS(SYNTHESE!$D:$D,$F$1,SYNTHESE!$E:$E,A41,SYNTHESE!$F:$F,\"2\")","v":0},{"$f":"COUNTIFS(SYNTHESE!$D:$D,$F$1,SYNTHESE!$E:$E,A41,SYNTHESE!$F:$F,\"3\")","v":0},{"$f":"COUNTIFS(SYNTHESE!$D:$D,$F$1,SYNTHESE!$E:$E,A41,SYNTHESE!$F:$F,\"4\")","v":0},"","","","","",null,"",""]
["Produire des documents écrits de qualité professionnelle ","Efficacité de la communication écrite avec les partenaires internes et externes",null,null,null,null,null,null,null,null,{"$f":"COUNTIFS(SYNTHESE!$D:$D,$F$1,SYNTHESE!$E:$E,A42,SYNTHESE!$F:$F,\"NE\")","v":0},{"$f":"COUNTIFS(SYNTHESE!$D:$D,$F$1,SYNTHESE!$E:$E,A42,SYNTHESE!$F:$F,\"1\")","v":0},{"$f":"COUNTIFS(SYNTHESE!$D:$D,$F$1,SYNTHESE!$E:$E,A42,SYNTHESE!$F:$F,\"2\")","v":0},{"$f":"COUNTIFS(SYNTHESE!$D:$D,$F$1,SYNTHESE!$E:$E,A42,SYNTHESE!$F:$F,\"3\")","v":0},{"$f":"COUNTIFS(SYNTHESE!$D:$D,$F$1,SYNTHESE!$E:$E,A42,SYNTHESE!$F:$F,\"4\")","v":0},"","","","","",null,"",""]
["Etre efficace dans sa communication écrite","Qualité professionnelle des documents écrits dans le respect des règles (orthographiques, syntaxiques, éthiques, arugumentation), des usages et des valeurs de l'entreprise.",null,null,null,null,null,null,null,null,{"$f":"COUNTIFS(SYNTHESE!$D:$D,$F$1,SYNTHESE!$E:$E,A43,SYNTHESE!$F:$F,\"NE\")","v":0},{"$f":"COUNTIFS(SYNTHESE!$D:$D,$F$1,SYNTHESE!$E:$E,A43,SYNTHESE!$F:$F,\"1\")","v":0},{"$f":"COUNTIFS(SYNTHESE!$D:$D,$F$1,SYNTHESE!$E:$E,A43,SYNTHESE!$F:$F,\"2\")","v":0},{"$f":"COUNTIFS(SYNTHESE!$D:$D,$F$1,SYNTHESE!$E:$E,A43,SYNTHESE!$F:$F,\"3\")","v":0},{"$f":"COUNTIFS(SYNTHESE!$D:$D,$F$1,SYNTHESE!$E:$E,A43,SYNTHESE!$F:$F,\"4\")","v":0},"","","","","",null,"",""]
["Analyser des contextes de communication orale","Pertinence de l'analyse des contextes des situations de communication orale",null,null,null,null,null,null,null,null,{"$f":"COUNTIFS(SYNTHESE!$D:$D,$F$1,SYNTHESE!$E:$E,A44,SYNTHESE!$F:$F,\"NE\")","v":0},{"$f":"COUNTIFS(SYNTHESE!$D:$D,$F$1,SYNTHESE!$E:$E,A44,SYNTHESE!$F:$F,\"1\")","v":0},{"$f":"COUNTIFS(SYNTHESE!$D:$D,$F$1,SYNTHESE!$E:$E,A44,SYNTHESE!$F:$F,\"2\")","v":0},{"$f":"COUNTIFS(SYNTHESE!$D:$D,$F$1,SYNTHESE!$E:$E,A44,SYNTHESE!$F:$F,\"3\")","v":0},{"$f":"COUNTIFS(SYNTHESE!$D:$D,$F$1,SYNTHESE!$E:$E,A44,SYNTHESE!$F:$F,\"4\")","v":0},"","","","","",null,"",""]
["Etre efficace dans sa communication orale","Efficacité de la communication orale avec les partenaires internes et externes",null,null,null,null,null,null,null,null,{"$f":"COUNTIFS(SYNTHESE!$D:$D,$F$1,SYNTHESE!$E:$E,A45,SYNTHESE!$F:$F,\"NE\")","v":0},{"$f":"COUNTIFS(SYNTHESE!$D:$D,$F$1,SYNTHESE!$E:$E,A45,SYNTHESE!$F:$F,\"1\")","v":0},{"$f":"COUNTIFS(SYNTHESE!$D:$D,$F$1,SYNTHESE!$E:$E,A45,SYNTHESE!$F:$F,\"2\")","v":0},{"$f":"COUNTIFS(SYNTHESE!$D:$D,$F$1,SYNTHESE!$E:$E,A45,SYNTHESE!$F:$F,\"3\")","v":0},{"$f":"COUNTIFS(SYNTHESE!$D:$D,$F$1,SYNTHESE!$E:$E,A45,SYNTHESE!$F:$F,\"4\")","v":0},"","","","","",null,"",""]
[null,"NOTE SUR 14 POINTS - Situation A",null,null,null,null,null,null,null,null,null,null,null,null,null,null,null,null,null,null,{"$f":"IF(G46=\"\",\"<-- Saisissez la note à reporter au titre de la situation A\",\"\")","v":"<-- Saisissez la note à reporter au titre de la situation A"}]
[]
[]
[]
[]
[]
[]
[]
[]
[]
[]
[]
[]
[]
[]
[]
[]
[]
[]
[]
[]
[]
[]
[]
[]
[]
[]
[]
[]
[]
[]
[]
[]
[]
[]
[]
[]
[]
[]
[]
[]
[]
[]
[]
[]
[]
[]
[]
[null,null,null,null,null,null,null,null,null,null,null,null,null,null,null,null,null,null,null,null,null,null,null," "]

{"sheet":"CCF - E4 MANUEL","index":16,"n_rows":94,"n_cols":33,"rows_kept":94,"cut":false,"hidden":false,"merged":[[2,1,2,5],[2,6,2,18],[0,1,1,2],[0,3,0,4],[0,5,0,8],[0,9,1,18],[1,4,1,8],[3,1,3,5],[3,6,3,18],[5,1,5,8],[6,1,6,18],[6,25,8,26],[7,1,7,18],[8,1,8,4],[8,5,8,18],[13,28,14,30],[14,1,14,9],[15,1,15,9],[16,1,16,18],[17,1,17,9],[20,1,20,9],[9,1,9,4],[9,5,9,18],[10,1,10,18],[12,1,12,18],[13,1,13,18],[18,1,18,9],[19,1,19,18],[36,1,36,18],[37,1,37,9],[32,1,32,9],[21,1,21,9],[22,1,22,9],[23,1,23,18],[24,1,24,9],[25,1,25,9],[26,1,26,18],[27,1,27,9],[28,1,28,9],[29,1,29,9],[30,1,30,9],[31,1,31,18],[13,31,14,33],[10,28,12,30],[10,31,12,33],[44,1,44,9],[45,1,45,5],[45,6,45,18],[45,19,45,26],[38,1,38,9],[39,1,39,9],[40,1,40,9],[41,1,41,9],[42,1,42,9],[43,1,43,9],[33,1,33,9],[34,1,34,9],[35,1,35,9]]}
[null,"CANDIDAT(E) ",null,"Nom et Prénom :",null,null,null,null,null,{"$f":"IF(ISBLANK(PARAMETRES!A4),\"\",CONCATENATE(PARAMETRES!A4, \" - \",PARAMETRES!A6,\" - \",PARAMETRES!A8))","v":"Établissement de démo - DUNKERQUE - 2022"}]
[null,null,null,"Matricule :"]
[null,"Membres de la commission",null,null,null,null,"Signatures"]
[]
[]
[null,"SITUATION A - CONTRÔLE EN COURS DE FORMATION"]
[null,"Observations des formateurs sur le parcours de formation",null,null,null,null,null,null,null,null,null,null,null,null,null,null,null,null,null,null,null,null,null,null,null,"Retour Accueil"]
[null,"Notamment à partir des situations professionnelles professionnelles inscrites dans le tableau synoptique du candidat."]
[null,"En organisme de formation",null,null,null,"En milieu professionnel"]
[]
[null,"CRITÈRES DE PERFORMANCE DE LA SITUATION A - (CCF)",null,null,null,null,null,null,null,null,null,null,null,null,null,null,null,null,null,null,null,null,null,null,null,null,null,null,"Proposition de notation partielle",null,null,"Proposition de notation sur la grille"]
[null,null,null,null,null,null,null,null,null,null,"NT","TI","I","S","TS","TI","I","S","TS"]
[null,"Résultats liés à la gestion de la relation clients-fournisseurs",null,null,null,null,null,null,null,null,null,null,null,null,null,null,null,null,null,null,null,null,null,null,null,"Max TI","entre 0 et 3",{"$f":"IF(AA18=0,\"\",IF(AB18=MAX($AB$18:$AF$18),\"<--\",\"\"))","v":""}]
[null,"C1.1 Qualité de la prospection effectuée ou de la réponse à l'appel d'offres",null,null,null,null,null,null,null,null,null,null,null,null,null,null,null,null,null,null,null,null,null,null,null,"Max I","entre 4 et 7",{"$f":"IF(AA18=0,\"\",IF(AC18=MAX($AB$18:$AF$18),\"<--\",\"\"))","v":""},{"$f":"IFERROR(((AB18*1+$AC$18*1.5+$AD$18*3+$AE$18*4)/(AA18*4))*14,\"\")","v":""},null,null,{"$f":"IFERROR(((AB18*1+$AC$18*1.5+$AD$18*3+$AE$18*4)/(25*4))*14,\"\")","v":0}]
["C111 - Rechercher des clients par prospection","Une prospection efficace, ciblée et les outils de suivi adaptés",null,null,null,null,null,null,null,null,{"$f":"COUNTIFS(#REF!,$F$1,#REF!,A15,#REF!,\"NE\")","v":{"$error":"#REF!"}},{"$f":"COUNTIFS(#REF!,$F$1,#REF!,A15,#REF!,1)","v":{"$error":"#REF!"}},{"$f":"COUNTIFS(#REF!,$F$1,#REF!,A15,#REF!,2)","v":{"$error":"#REF!"}},{"$f":"COUNTIFS(#REF!,$F$1,#REF!,A15,#REF!,3)","v":{"$error":"#REF!"}},{"$f":"COUNTIFS(#REF!,$F$1,#REF!,A15,#REF!,4)","v":{"$error":"#REF!"}},null,null,null,null,null,{"$f":"IF(COUNTIF(P15:S15,\"x\")>1,\"pok\",\"\")","v":""},{"$f":"IF(#REF!=\"x\",\"NT\",IF(P15=\"x\",\"TI\",IF(Q15=\"x\",\"I\",IF(R15=\"x\",\"S\",IF(S15=\"x\",\"TS\",\"\")))))","v":{"$error":"#REF!"}},null,null,null,"Max S","entre 8 et 10",{"$f":"IF(AA18=0,\"\",IF(AD18=MAX($AB$18:$AF$18),\"<--\",\"\"))","v":""}]
["C112 - Rechercher des clients  pour répondre à un appel d'offres","Une réponse pertinente aux appels d'offre dans le champ de compétences de la PME et des outils de suivi adaptés",null,null,null,null,null,null,null,null,{"$f":"COUNTIFS(#REF!,$F$1,#REF!,A16,#REF!,\"NE\")","v":{"$error":"#REF!"}},{"$f":"COUNTIFS(#REF!,$F$1,#REF!,A16,#REF!,1)","v":{"$error":"#REF!"}},{"$f":"COUNTIFS(#REF!,$F$1,#REF!,A16,#REF!,2)","v":{"$error":"#REF!"}},{"$f":"COUNTIFS(#REF!,$F$1,#REF!,A16,#REF!,3)","v":{"$error":"#REF!"}},{"$f":"COUNTIFS(#REF!,$F$1,#REF!,A16,#REF!,4)","v":{"$error":"#REF!"}},null,null,null,null,null,{"$f":"IF(COUNTIF(P16:S16,\"x\")>1,\"pok\",\"\")","v":""},{"$f":"IF(#REF!=\"x\",\"NT\",IF(P16=\"x\",\"TI\",IF(Q16=\"x\",\"I\",IF(R16=\"x\",\"S\",IF(S16=\"x\",\"TS\",\"\")))))","v":{"$error":"#REF!"}},null,null,null,"Max TS","entre 10 et 14",{"$f":"IF(AA18=0,\"\",IF(AF18=MAX($AB$18:$AF$18),\"<--\",\"\"))","v":""}]
[null,"C1.2 Qualité du traitement de la demande du client (de la demande de devis jusqu'à la relance des éventuels impayés)",null,null,null,null,null,null,null,null,null,null,null,null,null,null,null,null,null,null,"",{"$f":"IF(#REF!=\"x\",\"NT\",IF(P17=\"x\",\"TI\",IF(Q17=\"x\",\"I\",IF(R17=\"x\",\"S\",IF(S17=\"x\",\"TS\",\"\")))))","v":{"$error":"#REF!"}},null,null,"nb critères","nb croix",null,"TI","I","S","TS"]
["C12.1 - Traiter la demande du client (de la demande de devis jusqu'à la facturation)","Qualité de la réponse apportée au client (du devis jusqu'à la facturation)",null,null,null,null,null,null,null,null,{"$f":"COUNTIFS(#REF!,$F$1,#REF!,A18,#REF!,\"NE\")","v":{"$error":"#REF!"}},{"$f":"COUNTIFS(#REF!,$F$1,#REF!,A18,#REF!,1)","v":{"$error":"#REF!"}},{"$f":"COUNTIFS(#REF!,$F$1,#REF!,A18,#REF!,2)","v":{"$error":"#REF!"}},{"$f":"COUNTIFS(#REF!,$F$1,#REF!,A18,#REF!,3)","v":{"$error":"#REF!"}},{"$f":"COUNTIFS(#REF!,$F$1,#REF!,A18,#REF!,4)","v":{"$error":"#REF!"}},null,null,null,null,null,"",{"$f":"IF(#REF!=\"x\",\"NT\",IF(P18=\"x\",\"TI\",IF(Q18=\"x\",\"I\",IF(R18=\"x\",\"S\",IF(S18=\"x\",\"TS\",\"\")))))","v":{"$error":"#REF!"}},null,null,{"$f":"COUNTA(P15:S16,P18:S19,P21:S23,P25:S26,P28:S31,P33:S36,P38:S45)","v":0},{"$f":"COUNTA(P15:S16,P18:S19,P21:S23,P25:S26,P28:S31,P33:S36,P38:S45)","v":0},{"$f":"SUM(AB18:AF18)","v":0},{"$f":"COUNTIF(P:P,\"x\")","v":0},{"$f":"COUNTIF(Q:Q,\"x\")","v":0},{"$f":"COUNTIF(R:R,\"x\")","v":0},{"$f":"COUNTIF(S:S,\"x\")","v":0},null,{"$f":"SUM(AB18:AF18)","v":0}]
["C12.2 - Relancer les éventuels impayés","Pertinence et qualité des relances pour impayés et leur suivi",null,null,null,null,null,null,null,null,{"$f":"COUNTIFS(#REF!,$F$1,#REF!,A19,#REF!,\"NE\")","v":{"$error":"#REF!"}},{"$f":"COUNTIFS(#REF!,$F$1,#REF!,A19,#REF!,1)","v":{"$error":"#REF!"}},{"$f":"COUNTIFS(#REF!,$F$1,#REF!,A19,#REF!,2)","v":{"$error":"#REF!"}},{"$f":"COUNTIFS(#REF!,$F$1,#REF!,A19,#REF!,3)","v":{"$error":"#REF!"}},{"$f":"COUNTIFS(#REF!,$F$1,#REF!,A19,#REF!,4)","v":{"$error":"#REF!"}},null,null,null,null,null,"",{"$f":"IF(#REF!=\"x\",\"NT\",IF(P19=\"x\",\"TI\",IF(Q19=\"x\",\"I\",IF(R19=\"x\",\"S\",IF(S19=\"x\",\"TS\",\"\")))))","v":{"$error":"#REF!"}}]
[null,"C1.3 Pertinence de l'information, du conseil et du traitement des réclamations",null,null,null,null,null,null,null,null,null,null,null,null,null,null,null,null,null,null,"",{"$f":"IF(#REF!=\"x\",\"NT\",IF(P20=\"x\",\"TI\",IF(Q20=\"x\",\"I\",IF(R20=\"x\",\"S\",IF(S20=\"x\",\"TS\",\"\")))))","v":{"$error":"#REF!"}}]
["C13.1 - Informer, conseiller, orienter","Qualité de l'accueil",null,null,null,null,null,null,null,null,{"$f":"COUNTIFS(#REF!,$F$1,#REF!,A21,#REF!,\"NE\")","v":{"$error":"#REF!"}},{"$f":"COUNTIFS(#REF!,$F$1,#REF!,A21,#REF!,1)","v":{"$error":"#REF!"}},{"$f":"COUNTIFS(#REF!,$F$1,#REF!,A21,#REF!,2)","v":{"$error":"#REF!"}},{"$f":"COUNTIFS(#REF!,$F$1,#REF!,A21,#REF!,3)","v":{"$error":"#REF!"}},{"$f":"COUNTIFS(#REF!,$F$1,#REF!,A21,#REF!,4)","v":{"$error":"#REF!"}},null,null,null,null,null,"",{"$f":"IF(#REF!=\"x\",\"NT\",IF(P21=\"x\",\"TI\",IF(Q21=\"x\",\"I\",IF(R21=\"x\",\"S\",IF(S21=\"x\",\"TS\",\"\")))))","v":{"$error":"#REF!"}}]
["C13.2 - Traiter les réclamations","Qualité et pertinence du traitement des réclamations",null,null,null,null,null,null,null,null,{"$f":"COUNTIFS(#REF!,$F$1,#REF!,A22,#REF!,\"NE\")","v":{"$error":"#REF!"}},{"$f":"COUNTIFS(#REF!,$F$1,#REF!,A22,#REF!,1)","v":{"$error":"#REF!"}},{"$f":"COUNTIFS(#REF!,$F$1,#REF!,A22,#REF!,2)","v":{"$error":"#REF!"}},{"$f":"COUNTIFS(#REF!,$F$1,#REF!,A22,#REF!,3)","v":{"$error":"#REF!"}},{"$f":"COUNTIFS(#REF!,$F$1,#REF!,A22,#REF!,4)","v":{"$error":"#REF!"}},null,null,null,null,null,"",{"$f":"IF(#REF!=\"x\",\"NT\",IF(P22=\"x\",\"TI\",IF(Q22=\"x\",\"I\",IF(R22=\"x\",\"S\",IF(S22=\"x\",\"TS\",\"\")))))","v":{"$error":"#REF!"}}]
["C14 - Rechercher et sélectionner les fournisseurs","C1.4 Pertinence du choix des fournisseurs",null,null,null,null,null,null,null,null,{"$f":"COUNTIFS(#REF!,$F$1,#REF!,A23,#REF!,\"NE\")","v":{"$error":"#REF!"}},{"$f":"COUNTIFS(#REF!,$F$1,#REF!,A23,#REF!,1)","v":{"$error":"#REF!"}},{"$f":"COUNTIFS(#REF!,$F$1,#REF!,A23,#REF!,2)","v":{"$error":"#REF!"}},{"$f":"COUNTIFS(#REF!,$F$1,#REF!,A23,#REF!,3)","v":{"$error":"#REF!"}},{"$f":"COUNTIFS(#REF!,$F$1,#REF!,A23,#REF!,4)","v":{"$error":"#REF!"}},null,null,null,null,null,"",{"$f":"IF(#REF!=\"x\",\"NT\",IF(P23=\"x\",\"TI\",IF(Q23=\"x\",\"I\",IF(R23=\"x\",\"S\",IF(S23=\"x\",\"TS\",\"\")))))","v":{"$error":"#REF!"}}]
[null,"C1.5 Qualité du suivi et du contrôle des opérations d'achats et d'investissement de la PME",null,null,null,null,null,null,null,null,null,null,null,null,null,null,null,null,null,null,"",{"$f":"IF(#REF!=\"x\",\"NT\",IF(P24=\"x\",\"TI\",IF(Q24=\"x\",\"I\",IF(R24=\"x\",\"S\",IF(S24=\"x\",\"TS\",\"\")))))","v":{"$error":"#REF!"}}]
["C15.1 - Passer des commandes d'achat et d'immobilisation et les contrôler, valider le règlement","Qualité du traitement du besoin d'achat ou d'investissement",null,null,null,null,null,null,null,null,{"$f":"COUNTIFS(#REF!,$F$1,#REF!,A25,#REF!,\"NE\")","v":{"$error":"#REF!"}},{"$f":"COUNTIFS(#REF!,$F$1,#REF!,A25,#REF!,1)","v":{"$error":"#REF!"}},{"$f":"COUNTIFS(#REF!,$F$1,#REF!,A25,#REF!,2)","v":{"$error":"#REF!"}},{"$f":"COUNTIFS(#REF!,$F$1,#REF!,A25,#REF!,3)","v":{"$error":"#REF!"}},{"$f":"COUNTIFS(#REF!,$F$1,#REF!,A25,#REF!,4)","v":{"$error":"#REF!"}},null,null,null,null,null,"",{"$f":"IF(#REF!=\"x\",\"NT\",IF(P25=\"x\",\"TI\",IF(Q25=\"x\",\"I\",IF(R25=\"x\",\"S\",IF(S25=\"x\",\"TS\",\"\")))))","v":{"$error":"#REF!"}}]
["C15.2 - Evaluer les fournisseurs","Qualité de l'évaluation des performances des fournisseurs",null,null,null,null,null,null,null,null,{"$f":"COUNTIFS(#REF!,$F$1,#REF!,A26,#REF!,\"NE\")","v":{"$error":"#REF!"}},{"$f":"COUNTIFS(#REF!,$F$1,#REF!,A26,#REF!,1)","v":{"$error":"#REF!"}},{"$f":"COUNTIFS(#REF!,$F$1,#REF!,A26,#REF!,2)","v":{"$error":"#REF!"}},{"$f":"COUNTIFS(#REF!,$F$1,#REF!,A26,#REF!,3)","v":{"$error":"#REF!"}},{"$f":"COUNTIFS(#REF!,$F$1,#REF!,A26,#REF!,4)","v":{"$error":"#REF!"}},null,null,null,null,null,"",{"$f":"IF(#REF!=\"x\",\"NT\",IF(P26=\"x\",\"TI\",IF(Q26=\"x\",\"I\",IF(R26=\"x\",\"S\",IF(S26=\"x\",\"TS\",\"\")))))","v":{"$error":"#REF!"}}]
[null,"C1.6 Pertinence du suivi comptable des opérations avec les clients et les fournisseurs",null,null,null,null,null,null,null,null,null,null,null,null,null,null,null,null,null,null,"",{"$f":"IF(#REF!=\"x\",\"NT\",IF(P27=\"x\",\"TI\",IF(Q27=\"x\",\"I\",IF(R27=\"x\",\"S\",IF(S27=\"x\",\"TS\",\"\")))))","v":{"$error":"#REF!"}}]
["C16.1 - Contrôler les enregistrements comptables","Qualité des contrôles des enregistrements",null,null,null,null,null,null,null,null,{"$f":"COUNTIFS(#REF!,$F$1,#REF!,A28,#REF!,\"NE\")","v":{"$error":"#REF!"}},{"$f":"COUNTIFS(#REF!,$F$1,#REF!,A28,#REF!,1)","v":{"$error":"#REF!"}},{"$f":"COUNTIFS(#REF!,$F$1,#REF!,A28,#REF!,2)","v":{"$error":"#REF!"}},{"$f":"COUNTIFS(#REF!,$F$1,#REF!,A28,#REF!,3)","v":{"$error":"#REF!"}},{"$f":"COUNTIFS(#REF!,$F$1,#REF!,A28,#REF!,4)","v":{"$error":"#REF!"}},null,null,null,null,null,"",{"$f":"IF(#REF!=\"x\",\"NT\",IF(P28=\"x\",\"TI\",IF(Q28=\"x\",\"I\",IF(R28=\"x\",\"S\",IF(S28=\"x\",\"TS\",\"\")))))","v":{"$error":"#REF!"}}]
["C16.2 - Analyser les comptes de tiers","Qualité de l'analyse des comptes de tiers",null,null,null,null,null,null,null,null,{"$f":"COUNTIFS(#REF!,$F$1,#REF!,A29,#REF!,\"NE\")","v":{"$error":"#REF!"}},{"$f":"COUNTIFS(#REF!,$F$1,#REF!,A29,#REF!,1)","v":{"$error":"#REF!"}},{"$f":"COUNTIFS(#REF!,$F$1,#REF!,A29,#REF!,2)","v":{"$error":"#REF!"}},{"$f":"COUNTIFS(#REF!,$F$1,#REF!,A29,#REF!,3)","v":{"$error":"#REF!"}},{"$f":"COUNTIFS(#REF!,$F$1,#REF!,A29,#REF!,4)","v":{"$error":"#REF!"}},null,null,null,null,null,"",{"$f":"IF(#REF!=\"x\",\"NT\",IF(P29=\"x\",\"TI\",IF(Q29=\"x\",\"I\",IF(R29=\"x\",\"S\",IF(S29=\"x\",\"TS\",\"\")))))","v":{"$error":"#REF!"}}]
["C16.4 - Réaliser un rapprochement bancaire","Qualité des opérations de rapprochement bancaire",null,null,null,null,null,null,null,null,{"$f":"COUNTIFS(#REF!,$F$1,#REF!,A30,#REF!,\"NE\")","v":{"$error":"#REF!"}},{"$f":"COUNTIFS(#REF!,$F$1,#REF!,A30,#REF!,1)","v":{"$error":"#REF!"}},{"$f":"COUNTIFS(#REF!,$F$1,#REF!,A30,#REF!,2)","v":{"$error":"#REF!"}},{"$f":"COUNTIFS(#REF!,$F$1,#REF!,A30,#REF!,3)","v":{"$error":"#REF!"}},{"$f":"COUNTIFS(#REF!,$F$1,#REF!,A30,#REF!,4)","v":{"$error":"#REF!"}},null,null,null,null,null,"",{"$f":"IF(#REF!=\"x\",\"NT\",IF(P30=\"x\",\"TI\",IF(Q30=\"x\",\"I\",IF(R30=\"x\",\"S\",IF(S30=\"x\",\"TS\",\"\")))))","v":{"$error":"#REF!"}}]
["C16.5- Calculer et déclarer la TVA","Qualité des opérations relatives à la déclaration de TVA",null,null,null,null,null,null,null,null,{"$f":"COUNTIFS(#REF!,$F$1,#REF!,A31,#REF!,\"NE\")","v":{"$error":"#REF!"}},{"$f":"COUNTIFS(#REF!,$F$1,#REF!,A31,#REF!,1)","v":{"$error":"#REF!"}},{"$f":"COUNTIFS(#REF!,$F$1,#REF!,A31,#REF!,2)","v":{"$error":"#REF!"}},{"$f":"COUNTIFS(#REF!,$F$1,#REF!,A31,#REF!,3)","v":{"$error":"#REF!"}},{"$f":"COUNTIFS(#REF!,$F$1,#REF!,A31,#REF!,4)","v":{"$error":"#REF!"}},null,null,null,null,null,"",{"$f":"IF(#REF!=\"x\",\"NT\",IF(P31=\"x\",\"TI\",IF(Q31=\"x\",\"I\",IF(R31=\"x\",\"S\",IF(S31=\"x\",\"TS\",\"\")))))","v":{"$error":"#REF!"}}]
[null,"Résultat liés à la mobilisation des ressources de l'environnement technologique",null,null,null,null,null,null,null,null,null,null,null,null,null,null,null,null,null,null,"",{"$f":"IF(#REF!=\"x\",\"NT\",IF(P32=\"x\",\"TI\",IF(Q32=\"x\",\"I\",IF(R32=\"x\",\"S\",IF(S32=\"x\",\"TS\",\"\")))))","v":{"$error":"#REF!"}}]
["Mettre en œuvre l'environnement numérique","Efficacité dans la mise en œuvre de l'environnement numérique",null,null,null,null,null,null,null,null,{"$f":"COUNTIFS(#REF!,$F$1,#REF!,A33,#REF!,\"NE\")","v":{"$error":"#REF!"}},{"$f":"COUNTIFS(#REF!,$F$1,#REF!,A33,#REF!,1)","v":{"$error":"#REF!"}},{"$f":"COUNTIFS(#REF!,$F$1,#REF!,A33,#REF!,2)","v":{"$error":"#REF!"}},{"$f":"COUNTIFS(#REF!,$F$1,#REF!,A33,#REF!,3)","v":{"$error":"#REF!"}},{"$f":"COUNTIFS(#REF!,$F$1,#REF!,A33,#REF!,4)","v":{"$error":"#REF!"}},null,null,null,null,null,"",{"$f":"IF(#REF!=\"x\",\"NT\",IF(P33=\"x\",\"TI\",IF(Q33=\"x\",\"I\",IF(R33=\"x\",\"S\",IF(S33=\"x\",\"TS\",\"\")))))","v":{"$error":"#REF!"}}]
["Sélectionner des outils ou services informatiques et numériques de communication adaptés au contexte et usages","Sélection des outils ou services informatiques et numériques de communication adaptés au contexte et usages",null,null,null,null,null,null,null,null,{"$f":"COUNTIFS(#REF!,$F$1,#REF!,A34,#REF!,\"NE\")","v":{"$error":"#REF!"}},{"$f":"COUNTIFS(#REF!,$F$1,#REF!,A34,#REF!,1)","v":{"$error":"#REF!"}},{"$f":"COUNTIFS(#REF!,$F$1,#REF!,A34,#REF!,2)","v":{"$error":"#REF!"}},{"$f":"COUNTIFS(#REF!,$F$1,#REF!,A34,#REF!,3)","v":{"$error":"#REF!"}},{"$f":"COUNTIFS(#REF!,$F$1,#REF!,A34,#REF!,4)","v":{"$error":"#REF!"}},null,null,null,null,null,"",{"$f":"IF(#REF!=\"x\",\"NT\",IF(P34=\"x\",\"TI\",IF(Q34=\"x\",\"I\",IF(R34=\"x\",\"S\",IF(S34=\"x\",\"TS\",\"\")))))","v":{"$error":"#REF!"}}]
["Maîtriser et utiliser des fonctionnalités du PGI et du tableur","Maîtrise et utilisation adaptée des fonctionnalités du PGI et du tableur",null,null,null,null,null,null,null,null,{"$f":"COUNTIFS(#REF!,$F$1,#REF!,A35,#REF!,\"NE\")","v":{"$error":"#REF!"}},{"$f":"COUNTIFS(#REF!,$F$1,#REF!,A35,#REF!,1)","v":{"$error":"#REF!"}},{"$f":"COUNTIFS(#REF!,$F$1,#REF!,A35,#REF!,2)","v":{"$error":"#REF!"}},{"$f":"COUNTIFS(#REF!,$F$1,#REF!,A35,#REF!,3)","v":{"$error":"#REF!"}},{"$f":"COUNTIFS(#REF!,$F$1,#REF!,A35,#REF!,4)","v":{"$error":"#REF!"}},null,null,null,null,null,"",{"$f":"IF(#REF!=\"x\",\"NT\",IF(P35=\"x\",\"TI\",IF(Q35=\"x\",\"I\",IF(R35=\"x\",\"S\",IF(S35=\"x\",\"TS\",\"\")))))","v":{"$error":"#REF!"}}]
["Maîtriser et utiliser des fonctionnalités des outils de messagerie, du traitement de texte et du logiciel de PREAO","Maîtrise et utilisation adaptée des fonctionnalités des outils de messagerie, du traitement de texte et du logiciel de PREAO",null,null,null,null,null,null,null,null,{"$f":"COUNTIFS(#REF!,$F$1,#REF!,A36,#REF!,\"NE\")","v":{"$error":"#REF!"}},{"$f":"COUNTIFS(#REF!,$F$1,#REF!,A36,#REF!,1)","v":{"$error":"#REF!"}},{"$f":"COUNTIFS(#REF!,$F$1,#REF!,A36,#REF!,2)","v":{"$error":"#REF!"}},{"$f":"COUNTIFS(#REF!,$F$1,#REF!,A36,#REF!,3)","v":{"$error":"#REF!"}},{"$f":"COUNTIFS(#REF!,$F$1,#REF!,A36,#REF!,4)","v":{"$error":"#REF!"}},null,null,null,null,null,"",{"$f":"IF(#REF!=\"x\",\"NT\",IF(P36=\"x\",\"TI\",IF(Q36=\"x\",\"I\",IF(R36=\"x\",\"S\",IF(S36=\"x\",\"TS\",\"\")))))","v":{"$error":"#REF!"}}]
[null,"Résulats en termes de communication",null,null,null,null,null,null,null,null,null,null,null,null,null,null,null,null,null,null,"",{"$f":"IF(#REF!=\"x\",\"NT\",IF(P37=\"x\",\"TI\",IF(Q37=\"x\",\"I\",IF(R37=\"x\",\"S\",IF(S37=\"x\",\"TS\",\"\")))))","v":{"$error":"#REF!"}}]
[null,"Diversité des situations de communication écrite et orale rencontrées"]
["Valoriser l'image de l'entreprise","Valorisation de l'image de l'entreprise dans la relation",null,null,null,null,null,null,null,null,{"$f":"COUNTIFS(#REF!,$F$1,#REF!,A39,#REF!,\"NE\")","v":{"$error":"#REF!"}},{"$f":"COUNTIFS(#REF!,$F$1,#REF!,A39,#REF!,1)","v":{"$error":"#REF!"}},{"$f":"COUNTIFS(#REF!,$F$1,#REF!,A39,#REF!,2)","v":{"$error":"#REF!"}},{"$f":"COUNTIFS(#REF!,$F$1,#REF!,A39,#REF!,3)","v":{"$error":"#REF!"}},{"$f":"COUNTIFS(#REF!,$F$1,#REF!,A39,#REF!,4)","v":{"$error":"#REF!"}},null,null,null,null,null,"",{"$f":"IF(#REF!=\"x\",\"NT\",IF(P39=\"x\",\"TI\",IF(Q39=\"x\",\"I\",IF(R39=\"x\",\"S\",IF(S39=\"x\",\"TS\",\"\")))))","v":{"$error":"#REF!"}}]
["Communiquer des informations fiables","Fiabilité des informations communiquées",null,null,null,null,null,null,null,null,{"$f":"COUNTIFS(#REF!,$F$1,#REF!,A40,#REF!,\"NE\")","v":{"$error":"#REF!"}},{"$f":"COUNTIFS(#REF!,$F$1,#REF!,A40,#REF!,1)","v":{"$error":"#REF!"}},{"$f":"COUNTIFS(#REF!,$F$1,#REF!,A40,#REF!,2)","v":{"$error":"#REF!"}},{"$f":"COUNTIFS(#REF!,$F$1,#REF!,A40,#REF!,3)","v":{"$error":"#REF!"}},{"$f":"COUNTIFS(#REF!,$F$1,#REF!,A40,#REF!,4)","v":{"$error":"#REF!"}},null,null,null,null,null,"",{"$f":"IF(#REF!=\"x\",\"NT\",IF(P40=\"x\",\"TI\",IF(Q40=\"x\",\"I\",IF(R40=\"x\",\"S\",IF(S40=\"x\",\"TS\",\"\")))))","v":{"$error":"#REF!"}}]
["Analyser des contextes de communication écrite","Pertinence de l'analyse des contextes de communication écrite",null,null,null,null,null,null,null,null,{"$f":"COUNTIFS(#REF!,$F$1,#REF!,A41,#REF!,\"NE\")","v":{"$error":"#REF!"}},{"$f":"COUNTIFS(#REF!,$F$1,#REF!,A41,#REF!,1)","v":{"$error":"#REF!"}},{"$f":"COUNTIFS(#REF!,$F$1,#REF!,A41,#REF!,2)","v":{"$error":"#REF!"}},{"$f":"COUNTIFS(#REF!,$F$1,#REF!,A41,#REF!,3)","v":{"$error":"#REF!"}},{"$f":"COUNTIFS(#REF!,$F$1,#REF!,A41,#REF!,4)","v":{"$error":"#REF!"}},null,null,null,null,null,"",{"$f":"IF(#REF!=\"x\",\"NT\",IF(P41=\"x\",\"TI\",IF(Q41=\"x\",\"I\",IF(R41=\"x\",\"S\",IF(S41=\"x\",\"TS\",\"\")))))","v":{"$error":"#REF!"}}]
["Produire des documents écrits de qualité professionnelle ","Efficacité de la communication écrite avec les partenaires internes et externes",null,null,null,null,null,null,null,null,{"$f":"COUNTIFS(#REF!,$F$1,#REF!,A42,#REF!,\"NE\")","v":{"$error":"#REF!"}},{"$f":"COUNTIFS(#REF!,$F$1,#REF!,A42,#REF!,1)","v":{"$error":"#REF!"}},{"$f":"COUNTIFS(#REF!,$F$1,#REF!,A42,#REF!,2)","v":{"$error":"#REF!"}},{"$f":"COUNTIFS(#REF!,$F$1,#REF!,A42,#REF!,3)","v":{"$error":"#REF!"}},{"$f":"COUNTIFS(#REF!,$F$1,#REF!,A42,#REF!,4)","v":{"$error":"#REF!"}},null,null,null,null,null,"",{"$f":"IF(#REF!=\"x\",\"NT\",IF(P42=\"x\",\"TI\",IF(Q42=\"x\",\"I\",IF(R42=\"x\",\"S\",IF(S42=\"x\",\"TS\",\"\")))))","v":{"$error":"#REF!"}}]
["Etre efficace dans sa communication écrite","Qualité professionnelle des documents écrits dans le respect des règles (orthographiques, syntaxiques, éthiques, arugumentation), des usages et des valeurs de l'entreprise.",null,null,null,null,null,null,null,null,{"$f":"COUNTIFS(#REF!,$F$1,#REF!,A43,#REF!,\"NE\")","v":{"$error":"#REF!"}},{"$f":"COUNTIFS(#REF!,$F$1,#REF!,A43,#REF!,1)","v":{"$error":"#REF!"}},{"$f":"COUNTIFS(#REF!,$F$1,#REF!,A43,#REF!,2)","v":{"$error":"#REF!"}},{"$f":"COUNTIFS(#REF!,$F$1,#REF!,A43,#REF!,3)","v":{"$error":"#REF!"}},{"$f":"COUNTIFS(#REF!,$F$1,#REF!,A43,#REF!,4)","v":{"$error":"#REF!"}},null,null,null,null,null,"",{"$f":"IF(#REF!=\"x\",\"NT\",IF(P43=\"x\",\"TI\",IF(Q43=\"x\",\"I\",IF(R43=\"x\",\"S\",IF(S43=\"x\",\"TS\",\"\")))))","v":{"$error":"#REF!"}}]
["Analyser des contextes de communication orale","Pertinence de l'analyse des contextes des situations de communication orale",null,null,null,null,null,null,null,null,{"$f":"COUNTIFS(#REF!,$F$1,#REF!,A44,#REF!,\"NE\")","v":{"$error":"#REF!"}},{"$f":"COUNTIFS(#REF!,$F$1,#REF!,A44,#REF!,1)","v":{"$error":"#REF!"}},{"$f":"COUNTIFS(#REF!,$F$1,#REF!,A44,#REF!,2)","v":{"$error":"#REF!"}},{"$f":"COUNTIFS(#REF!,$F$1,#REF!,A44,#REF!,3)","v":{"$error":"#REF!"}},{"$f":"COUNTIFS(#REF!,$F$1,#REF!,A44,#REF!,4)","v":{"$error":"#REF!"}},null,null,null,null,null,"",{"$f":"IF(#REF!=\"x\",\"NT\",IF(P44=\"x\",\"TI\",IF(Q44=\"x\",\"I\",IF(R44=\"x\",\"S\",IF(S44=\"x\",\"TS\",\"\")))))","v":{"$error":"#REF!"}}]
["Etre efficace dans sa communication orale","Efficacité de la communication orale avec les partenaires internes et externes",null,null,null,null,null,null,null,null,{"$f":"COUNTIFS(#REF!,$F$1,#REF!,A45,#REF!,\"NE\")","v":{"$error":"#REF!"}},{"$f":"COUNTIFS(#REF!,$F$1,#REF!,A45,#REF!,1)","v":{"$error":"#REF!"}},{"$f":"COUNTIFS(#REF!,$F$1,#REF!,A45,#REF!,2)","v":{"$error":"#REF!"}},{"$f":"COUNTIFS(#REF!,$F$1,#REF!,A45,#REF!,3)","v":{"$error":"#REF!"}},{"$f":"COUNTIFS(#REF!,$F$1,#REF!,A45,#REF!,4)","v":{"$error":"#REF!"}},null,null,null,null,null,"",{"$f":"IF(#REF!=\"x\",\"NT\",IF(P45=\"x\",\"TI\",IF(Q45=\"x\",\"I\",IF(R45=\"x\",\"S\",IF(S45=\"x\",\"TS\",\"\")))))","v":{"$error":"#REF!"}}]
[null,"NOTE SUR 14 POINTS - Situation A",null,null,null,null,null,null,null,null,null,null,null,null,null,null,null,null,null,{"$f":"IF(G46=\"\",\"<-- Saisissez la note à reporter au titre de la situation A\",\"\")","v":"<-- Saisissez la note à reporter au titre de la situation A"}]
[]
[]
[]
[]
[]
[]
[]
[]
[]
[]
[]
[]
[]
[]
[]
[]
[]
[]
[]
[]
[]
[]
[]
[]
[]
[]
[]
[]
[]
[]
[]
[]
[]
[]
[]
[]
[]
[]
[]
[]
[]
[]
[]
[]
[]
[]
[]
[null,null,null,null,null,null,null,null,null,null,null,null,null,null,null,null,null,null,null,null,null,null," "]

{"sheet":"NOTATIONS","index":17,"n_rows":6,"n_cols":35,"rows_kept":6,"cut":false,"hidden":false,"merged":[[1,1,2,2],[1,0,2,0]]}
[null,null,null,null,null,null,null,null,null,null,null,null,null,null,null,null,null,null,null,null,null,null,null,null,null,null,null,null,null,null,null,null,null,"NB DE CANDIDATS",{"$f":"COUNTA(A:A)-2","v":0}]
["RETOURNER À L'ACCUEIL","Retour Evaluation situation A BC1",null,null,null,null,null,null,null,null,null,null,null,null,null,null,null,null,null,null,null,null,null,null,null,null,null,null,null,null,null,null,null,"MOYENNE / 14",{"$f":"IFERROR(AVERAGE(AF:AF),\"\")","v":""}]
[null,null,null,null,null,null,null,null,null,null,null,null,null,null,null,null,null,null,null,null,null,null,null,null,null,null,null,null,null,null,null,null,null,"MIN",{"$f":"MIN(AF:AF)","v":0}]
[null,null,null,null,null,null,null,null,null,null,null,null,null,null,null,null,null,null,null,null,null,null,null,null,null,null,null,null,null,null,null,null,null,"MAX",{"$f":"MAX(AF:AF)","v":0}]
[null,null,null,null,null,null,null,null,null,null,null,null,null,null,null,null,null,null,null,null,null,null,null,null,null,null,null,null,null,null,null,null,null,"ECART TYPE",{"$f":"IFERROR(STDEVP(AF:AF),\"\")","v":""}]
["ETUDIANT","MATRICULE","Membres commission","obs ORG","obs PFMP","C1.1A","C1.1B","C1.2A","C1.2B","C1.3A","C1.3B","C1.4","C1.5A","C1.5B","C1.6A","C1.6B","C1.6C","C1.6D","ETA","ETB","ETC","ETD","ETE ","COMA","COMB","COMC","COMD","COME","COMF","COMG","COMH","NOTE / 14"]